{"text_format":"1","workbook":"xlsx","n_sheets":29,"sheets":["Home","Targets","Health","HealthSum","ThreatSum","1","2","3","4","5","6","7","8","9","10","11","12","ThreatAdd ","PivotRank","Pivot","Data","Strategies","ROI","KEADrop","Outcomes","XRay","ThreatNames","Scoring","Lists"],"not_rendered":{"charts":0,"images":2,"macros":1,"external_links":1,"defined_names":45,"comments":16,"pivot_tables":1},"unopened":[],"bounds":{"document_bytes":16777216,"sheet_cells":100000,"rows_first":2000,"rows_last":500,"rows_between":2000,"halvings":0,"cell_chars":16384,"cell_head_chars":4096},"cells_cut":0,"cells_raw":0,"read":"whole","date_system":"1900"}

{"sheet":"Home","index":0,"n_rows":48,"n_cols":27,"rows_kept":48,"cut":false,"hidden":false,"merged":[[28,3,28,5],[39,3,39,5],[1,4,1,5],[29,3,29,5],[14,2,14,3],[26,3,26,5],[24,3,24,5],[23,3,23,5],[25,3,25,5],[9,2,9,3],[10,2,10,3],[27,3,27,5],[38,3,38,5],[47,2,47,5],[18,1,18,5],[3,1,3,5],[4,1,4,3],[20,2,20,5],[11,2,11,3],[12,2,12,3],[5,2,5,3],[6,2,6,3],[7,2,7,3],[8,2,8,3],[15,2,15,3],[16,2,16,3],[13,2,13,3],[43,3,43,5],[30,3,30,5],[40,3,40,5],[41,3,41,5],[42,3,42,5],[31,3,31,5],[32,3,32,5],[33,3,33,5],[34,3,34,5],[35,3,35,5],[36,3,36,5],[37,3,37,5]]}
[]
[null,null,null,null,"Watershed Resource  Action Plan"]
[]
[null,"Chena River Watershed"]
[null,"Focal Resources / Conservation Targets"]
[null,{"$f":"IF(Targets!$B3=0,\"\",Targets!$B3)","v":1},{"$f":"IF(Targets!$C3=0,\"\",Targets!$C3)","v":"Alpine Tundra - Upper Chena"}]
[null,{"$f":"IF(Targets!$B9=0,\"\",Targets!$B9)","v":2},{"$f":"IF(Targets!$C9=0,\"\",Targets!$C9)","v":"Boreal Forests - Upper Chena"}]
[null,{"$f":"IF(Targets!$B15=0,\"\",Targets!$B15)","v":3},{"$f":"IF(Targets!$C15=0,\"\",Targets!$C15)","v":"Boreal Forests - Lower Chena"}]
[null,{"$f":"IF(Targets!$B19=0,\"\",Targets!$B19)","v":4},{"$f":"IF(Targets!$C19=0,\"\",Targets!$C19)","v":"Tributaries - Upper Chena"}]
[null,{"$f":"IF(Targets!$B26=0,\"\",Targets!$B26)","v":5},{"$f":"IF(Targets!$C26=0,\"\",Targets!$C26)","v":"Tributaries - Lower Chena"}]
[null,{"$f":"IF(Targets!$B31=0,\"\",Targets!$B31)","v":6},{"$f":"IF(Targets!$C31=0,\"\",Targets!$C31)","v":"Sloughs and Wetlands - Upper Chena"}]
[null,{"$f":"IF(Targets!$B38=0,\"\",Targets!$B38)","v":7},{"$f":"IF(Targets!$C38=0,\"\",Targets!$C38)","v":"Sloughs and Wetlands - Lower Chena"}]
[null,{"$f":"IF(Targets!$B43=0,\"\",Targets!$B43)","v":8},{"$f":"IF(Targets!$C43=0,\"\",Targets!$C43)","v":"Mainstem River & Major Forks - Upper Chena"}]
[null,{"$f":"IF(Targets!$B50=0,\"\",Targets!$B50)","v":9},{"$f":"IF(Targets!$C50=0,\"\",Targets!$C50)","v":"Mainstem River & Major Forks - Lower Chena"}]
[null,{"$f":"IF(Targets!$B55=0,\"\",Targets!$B55)","v":10},{"$f":"IF(Targets!$C55=0,\"\",Targets!$C55)","v":"Confluence with Tanana"}]
[null,{"$f":"IF(Targets!$B60=0,\"\",Targets!$B60)","v":11},{"$f":"IF(Targets!$C60=0,\"\",Targets!$C60)","v":""}]
[null,{"$f":"IF(Targets!$B61=0,\"\",Targets!$B61)","v":12},{"$f":"IF(Targets!$C61=0,\"\",Targets!$C61)","v":""}]
[]
[null,"Project Information"]
[null,null,"Project Area Description"]
[null,null,"The Chena River is a tributary of the Tanana River and originates in a mountainous area about 90 miles east of the city of Fairbanks in interior Alaska. The river flows southwest from its headwaters to its confluence with the Tanana River in Fairbanks. The Chena River Watershed encompasses 2,115 square miles.  The watershed is characterized by highlands, tapering to a broad plain near Fairbanks. The plain is a mosaic of wetlands with braided sloughs. Urban developments such as Fort Wainwright, the University of Alaska, North Pole, and several unincorporated suburbs are interspersed throughout the watershed. Fairbanks, Alaska's second largest city, lies at the northern edge of the broad Tanana River Valley on the banks of the Chena River.",null,null,null,null,null,null,null,null,null,null,null,null,null,null,null,null,null,null,null,null,null,null,null,{"$f":"C21","v":"The Chena River is a tributary of the Tanana River and originates in a mountainous area about 90 miles east of the city of Fairbanks in interior Alaska. The river flows southwest from its headwaters to its confluence with the Tanana River in Fairbanks. The Chena River Watershed encompasses 2,115 square miles.  The watershed is characterized by highlands, tapering to a broad plain near Fairbanks. The plain is a mosaic of wetlands with braided sloughs. Urban developments such as Fort Wainwright, the University of Alaska, North Pole, and several unincorporated suburbs are interspersed throughout the watershed. Fairbanks, Alaska's second largest city, lies at the northern edge of the broad Tanana River Valley on the banks of the Chena River."}]
[]
[null,null,"Planning Team"]
["T",null,"Jewelz Barker, co-sponsor","Tanana Valley Watershed Association (TVWA)"]
["T",null,"Jimmy Fox, co-sponsor","U.S. Fish and Wildlife Service"]
["T",null,"Irene Holak","TVWA"]
["T",null,"Greg Low, Facilitator","Applied Conservation "]
["T",null,"Aaron Martin","U.S. Fish and Wildlife Service"]
["T",null,"Aditi Brase","Fairbanks Cooperative Weed Mgmt Area"]
["T",null,"Audra Brase","Alaska Department of Fish and Game"]
["T",null,"Bob Henszey","U.S. Fish and Wildlife Service"]
["T",null,"Chandra McGee","Alaska Department of Environmental Conservation"]
["T",null,"Christy Everett","TVWA"]
["T",null,"David Wigglesworth","U.S. Fish and Wildlife Service"]
["T",null,"Gale Vick","Tanana Chiefs Conference "]
["T",null,"Jackson Fox","City of Fairbanks"]
["T",null,"James Savereide","Alaska Department of Fish and Game"]
["T",null,"Jeff Falke","University of Alaska Fairbanks"]
["T",null,"Jeff Adams","U.S. Fish and Wildlife Service"]
["T",null,"Jessica Guritz","Fairbanks Soil & Water Conservation District"]
["T",null,"Laura Jacobs","Alaska Department of Fish and Game"]
["T",null,"Melissa Riordan","U.S. Army of Corp. of Engineers"]
["T",null,"Roger Harding","Alaska Department of Fish and Game"]
["T",null,"Anna Plager","Chena Riverfront Commission"]
[]
[]
[null,null,"Planning Process"]
[null,null,"The project team produced a Conservation Action Plan (CAP) following the internationally-recognized Nature Conservancy CAP planning model. The CAP methodology has been deployed successfully by hundreds of teams working to conserve species, ecosystems, landscapes, watersheds and seascapes across the globe. From a political boundary perspective, CAP has been applied by projects with a global, multi/national, country-based, state, province, municipality, village or community focus. CAP is a relatively simple, straightforward, and proven approach for planning, implementing, and measuring success for conservation actions. The process included three, 2.5-day CAP workshops with the planning team to determine focal conservation resources in the Chena River Watershed (focusing on ecosystem-level resources), assess the current and projected future health of the resources, identify critical threats, and develop conservation strategies to enhance health and abate threats.  The workshops were held in November, 2014, February 2015 and April 2015.  The CAP was facilitated and assisted by Greg Low of Applied Conservation.",null,null,null,null,null,null,null,null,null,null,null,null,null,null,null,null,null,null,null,null,null,null,null,{"$f":"C48","v":"The project team produced a Conservation Action Plan (CAP) following the internationally-recognized Nature Conservancy CAP planning model. The CAP methodology has been deployed successfully by hundreds of teams working to conserve species, ecosystems, landscapes, watersheds and seascapes across the globe. From a political boundary perspective, CAP has been applied by projects with a global, multi/national, country-based, state, province, municipality, village or community focus. CAP is a relatively simple, straightforward, and proven approach for planning, implementing, and measuring success for conservation actions. The process included three, 2.5-day CAP workshops with the planning team to determine focal conservation resources in the Chena River Watershed (focusing on ecosystem-level resources), assess the current and projected future health of the resources, identify critical threats, and develop conservation strategies to enhance health and abate threats.  The workshops were held in November, 2014, February 2015 and April 2015.  The CAP was facilitated and assisted by Greg Low of Applied Conservation."}]

{"sheet":"Targets","index":1,"n_rows":61,"n_cols":3,"rows_kept":61,"cut":false,"hidden":false,"merged":[[0,1,0,2],[1,1,1,2]]}
["L",{"$f":"IF(Home!B4=\"\",\"\",Home!B4)","v":"Chena River Watershed"}]
["L","Focal Targets, Descriptions and Nested Targets"]
["T1",1,"Alpine Tundra - Upper Chena"]
["Y","Type","Terrestrial - Alpine Tundra"]
["D","Description","Alpine tundra climate is cold, windy, and icy/snowy, and characterized by rocky, rough to gentle terrain.  Alpine tundra has a low-growing season temperatures with very short frost-free period.  Alpine biome is generally treeless, and dominated by scrubfields/ shrubs (e.g. willows, birch), herbs, bryophytes, and lichens.  Few stunted trees are at the lower elevations (e.g. black spruce, aspen).  Dwarf scrubs and herb meadows dominate mid-elevation, while alpines grasses and herbfields reside in the higher elevations.  At the highest parts of the alpine zones are few vascular plants (i.e. cushion- or mat-formers), mosses, liverworts, and amble lichen populations.  Wildlife species diversity  (e.g. caribou, hoary marmot, and peregrine falcon) and density are low in the alpine tundra because of limiting factors of exposure to wind, solar radiation, soil temperature, and the distribution of snow and its meltwater. (Ecosystems of British Columbia 1991)"]
["N","Nested","Caribou"]
["N","Nested","Moose"]
["N","Nested","Rock Ptarmigan"]
["T2",2,"Boreal Forests - Upper Chena"]
["Y","Type","Terrestrial - Conifer Forest"]
["D","Description","Boreal forests, also known as taiga, form an extensive vegetation zone between the coastal forests to the northern limit of forests, extending in a broad circumpolar belt across the northern hemisphere.  They are the most extensive vegetation formation in North America.  Forests predominate, but there are also extensive mosaics of shrubs and herbaceous plant communities.  The forests on well drained uplands, flood plains, and stream terraces consists of pure and mixed stands of white spruce, paper birch, quaking aspen, and balsam poplar.  On lowlands, north-facing hillslopes, toeslopes, and stream terraces with permafrost, stunted forests of black spruce and occasional paper birch and tamarack occur.  Where fire has burned the forest, shrubs and herbaceous plants occur before the forest eventually return. (White et al. 1991; U.S. Department of Agriculture et al. 1992; Johnson et al. 1995; Wikipdeia 2015)"]
["N","Nested","Marten"]
["N","Nested","Moose"]
["N","Nested","Little Brown Bat?"]
["T3",3,"Boreal Forests - Lower Chena"]
["N","Nested","Marten"]
["N","Nested","Moose"]
["N","Nested","Little Brown Bat"]
["T4",4,"Tributaries - Upper Chena"]
["Y","Type","Freswater - River/Stream "]
["D","Description","Tributaries are defined as all perennial streams and their adjacent riparian forest, not including the mainstem and major forks (defined separately).  Tributary streams in the Chena River basin originate from hill slopes, where they are relatively high gradient, with coarse substrates and forced pool-riffle sequences.  Often when tributaries flow onto the floodplain of the mainstem or major forks they transition to having lower gradients, slower velocity, with fine substrates and pool or run habitats.  Many tributaries meet sloughs or off-channel habitats prior to meeting the mainstem or major fork.  The surrounding riparian area is a complex mosaic of black and white spruce, with groves of aspen and birch trees mixed with small meadows. Common shrubs and ground cover plants include willow, alder, mosses, lichens, and grasses. "]
["N","Nested","Rearing Juvenile Salmon/Fish Assemblage"]
["N","Nested","Rearing Juvenile Grayling/Fish Assemblage"]
["N","Nested","Moose"]
["N","Nested","Olive-Sided Flycatcher"]
["T5",5,"Tributaries - Lower Chena"]
["N","Nested","Rearing Juvenile Salmon/Fish Assemblage"]
["N","Nested","Rearing Juvenile Grayling/Fish Assemblage"]
["N","Nested","Moose"]
["N","Nested","Olive-Sided Flycatcher"]
["T6",6,"Sloughs and Wetlands - Upper Chena"]
["Y","Type","Freshwater Wetlands"]
["D","Description","Wetlands are the transitional areas between terrestrial and aquatic environments where the water table is usually at or near the land surface.  These areas are saturated by water at a frequency and duration sufficient to support, and that under normal conditions do support, a prevalence of vegetation, typically adapted for life in saturated soil conditions.  Wetlands are also commonly referred to as swamps, marshes, and bogs.  (U.S. Army Corps of Engineers n.d.; Environmental Proteciton Agency & U.S. Army Corps of Engineers 2014).  Sloughs are sluggish channels of water connected to the main stem or side channel of a stream that flow slowly through low, swampy ground.  Most sloughs are old streambed channels that contain water most of the year and only carry stream current under high water conditions.   However, some sloughs may only have a season connection to the main stem or side channel. (Alaska Legal Resource Center n.d.)"]
["N","Nested","Rearing Juvenile Fish Assemblage (e.g. Salmon)"]
["N","Nested","Rusty Blackbird"]
["N","Nested","Olive-Sided Flycatcher"]
["N","Nested","Moose"]
["T7",7,"Sloughs and Wetlands - Lower Chena"]
["N","Nested","Rearing Juvenile Fish Assemblage (e.g. Salmon)"]
["N","Nested","Rusty Blackbird"]
["N","Nested","Olive-Sided Flycatcher"]
["N","Nested","Moose"]
["T8",8,"Mainstem River & Major Forks - Upper Chena"]
["Y","Type","Freswater - River/Stream "]
["D","Description","The mainstem will define the Chena River to include the major forks (North, South, Middle, West, and Little Chena River).  Mainstem of the Chena River are characterized as clear water runoff streams fed by the combined input of surface and subsurface water from the surrounding valley. They are permanently flowing streams with established streambeds (channels) and banks. The river forks are 4th and 5th order streams with relatively high gradient, small gravel bars, and a series of riffle-pool sequences; the mainstem is a meandering river with moderate gradient, prominent gravel bars, riffle-pool sequences, and numerous off-channel habitats. The surrounding riparian area is a complex mosaic of black and white spruce, with groves of aspen and birch trees mixed with small meadows. Common shrubs and ground cover plants include willow, alder, mosses, lichens, and grasses. (Note: Specific extent of major forks: North Fork to Monument Creek, South Fork to Beaver Creek, Middle Fork to Munson Creek, West Fork to Frozenfoot Creek, and Little Chena River to Anaconda Creek. The stream network and adjacent riparian forest upstream of these locations would fall under Chena River Tributaries.) "]
["N","Nested","Adult and Juvenile Salmon"]
["N","Nested","Adult and Juvenile Arctic Grayling"]
["N","Nested","Moose"]
["N","Nested","Osprey"]
["T9",9,"Mainstem River & Major Forks - Lower Chena"]
["N","Nested","Adult and Juvenile Salmon"]
["N","Nested","Adult and Juvenile Arctic Grayling"]
["N","Nested","Moose"]
["N","Nested","Osprey"]
["T10",10,"Confluence with Tanana"]
["D","Description","Confluence is the junction of two or more water bodies, described by complex hydrodynamic conditions that feature: 1) stagnant flow upstream of the junction; 2) a shear layer between the merging flows; 3) converging cells on each side of the shear layer; and 4) divergent flow downstream of the junction (Rhoads & Kenworthy 1995).  The main influences on these areas are the: 1) junction angle; 2) ratio of discharges between the channels (Best 1987; Boyer et al. 2006); and 3) form and composition of the channel beds (Constantinescu et al. 2011) i.e. stream mouth.  Confluences provide greater habitat complexity (Benda et al. 2004) that are important for western Washington sculpin, juvenile bull, rainbow, and cutthroat trout, and Chinook, sockeye, coho, and pink salmon (Kiffney et al. 2006).  Fish species richness and abundance are found to be greater at confluences than at other sites in streams of the mid-Atlantic Highlands of the eastern U.S. (Angermeier & Hitt 2008).  Migrating fish like burbot use the confluence , as documentation shows at the Chena-Tanana confluence in the early 1990s (Evenson 1993).  "]
["N","Nested","Burbot"]
["N","Nested","Bald Eagle"]
["N","Nested","Moose"]
["T11",11]
["T12",12]

{"sheet":"Health","index":2,"n_rows":121,"n_cols":32,"rows_kept":121,"cut":false,"hidden":false,"merged":[]}
["UID"," ID","Target Name","Category","Key Attribute","Indicator","Poor","Fair","Good","Very Good","Current Rating","Projected Future Rating w No Action","Projected Future Rating w Strategies",null,null,null,null,null,null,null,null,null,null,null,null,null,"Current","Threat",null,"Threat Delta","Change","Concern Rank"]
[104,1,"Alpine Tundra - Upper Chena","Landscape Context","Fire regime","Frequency, size, type of fires, severity","Highly altered regime","Moderately altered regime","Mostly natural regime","Mother Nature","Good","Good",{"$f":"IFERROR(INDEX(Outcomes!F:F,MATCH(A2,Outcomes!H:H,0)),\"\")","v":""},null,null,null,null,null,null,null,null,null,null,{"$f":"C2 & \"|\" &E2","v":"Alpine Tundra - Upper Chena|Fire regime"},null,null,{"$f":"IF(K2=Scoring!$A$45,Scoring!$B$45,IF(K2=Scoring!$A$46,Scoring!$B$46,IF(K2=Scoring!$A$47,Scoring!$B$47,IF(K2=Scoring!$A$48,Scoring!$B$48,IF(K2=Scoring!$A$49,Scoring!$B$49,IF(K2=Scoring!$A$50,Scoring!$B$50))))))","v":80.03},{"$f":"IF(L2=Scoring!$A$45,Scoring!$B$45,IF(L2=Scoring!$A$46,Scoring!$B$46,IF(L2=Scoring!$A$47,Scoring!$B$47,IF(L2=Scoring!$A$48,Scoring!$B$48,IF(L2=Scoring!$A$49,Scoring!$B$49,IF(L2=Scoring!$A$50,Scoring!$B$50))))))","v":80.03},null,{"$f":"AA2-AB2","v":0},{"$f":"IF(AD2>Scoring!$B$134,Scoring!$A$134,IF(AD2>Scoring!$B$135,Scoring!$A$135,IF(AD2>Scoring!$B$136,Scoring!$A$136,IF(AD2>Scoring!$B$137,Scoring!$A$137,IF(AD2>Scoring!$B$138,Scoring!$A$138,IF(AD2>Scoring!$B$139,Scoring!$A$139,IF(AD2>Scoring!$B$140,Scoring!$A$140,IF(AD2>Scoring!$B$141,Scoring!$A$141,IF(AD2>=Scoring!$B$142,Scoring!$A$142,IF(AD2>Scoring!$B$143,Scoring!$A$143))))))))))","v":"None"},{"$f":"IFERROR(INDEX(StrategicActionMatrix,MATCH(K2,Rating,0),MATCH(AE2,Change,0)),\"\")","v":10}]
[105,1,"Alpine Tundra - Upper Chena","Landscape Context","Habitat connectivity","Movement of species","Most species are isolated ","Some species are isolated"," Most species are mostly able to move freely among most habitats   "," Mother Nature","Very Good","Very Good",{"$f":"IFERROR(INDEX(Outcomes!F:F,MATCH(A3,Outcomes!H:H,0)),\"\")","v":""},null,null,null,null,null,null,null,null,null,null,"Alpine Tundra - Upper Chena|Habitat connectivity",null,null,{"$f":"IF(K3=Scoring!$A$45,Scoring!$B$45,IF(K3=Scoring!$A$46,Scoring!$B$46,IF(K3=Scoring!$A$47,Scoring!$B$47,IF(K3=Scoring!$A$48,Scoring!$B$48,IF(K3=Scoring!$A$49,Scoring!$B$49,IF(K3=Scoring!$A$50,Scoring!$B$50))))))","v":100},{"$f":"IF(L3=Scoring!$A$45,Scoring!$B$45,IF(L3=Scoring!$A$46,Scoring!$B$46,IF(L3=Scoring!$A$47,Scoring!$B$47,IF(L3=Scoring!$A$48,Scoring!$B$48,IF(L3=Scoring!$A$49,Scoring!$B$49,IF(L3=Scoring!$A$50,Scoring!$B$50))))))","v":100},null,0,{"$f":"IF(AD3>Scoring!$B$134,Scoring!$A$134,IF(AD3>Scoring!$B$135,Scoring!$A$135,IF(AD3>Scoring!$B$136,Scoring!$A$136,IF(AD3>Scoring!$B$137,Scoring!$A$137,IF(AD3>Scoring!$B$138,Scoring!$A$138,IF(AD3>Scoring!$B$139,Scoring!$A$139,IF(AD3>Scoring!$B$140,Scoring!$A$140,IF(AD3>Scoring!$B$141,Scoring!$A$141,IF(AD3>=Scoring!$B$142,Scoring!$A$142,IF(AD3>Scoring!$B$143,Scoring!$A$143))))))))))","v":"None"},10]
[106,1,"Alpine Tundra - Upper Chena","Landscape Context","Hydrologic regime","Natural fluctuations of surface and ground water -amount, frequency, timing, duration","Water levels, flows or fluctuations are too high or too low, not related to the precipitation, and unlikely to maintain nested targets in many habitats within the target area and downstream","Water levels, flows or fluctuations in relationship to precipitation and ground water are likely to maintain nested targets in some habitats within the target and downstream","Water levels, flows or fluctuations in relationship to precipitation and ground water are likely to maintain nested targets in most habitats within the target area and downstream","Water levels, flows or fluctuations in relationship to precipitation and ground water are likely to maintain nested targets in almost all habitats within the target area and downstream","Very Good","Very Good",{"$f":"IFERROR(INDEX(Outcomes!F:F,MATCH(A4,Outcomes!H:H,0)),\"\")","v":""},null,null,null,null,null,null,null,null,null,null,"Alpine Tundra - Upper Chena|Hydrologic regime",null,null,{"$f":"IF(K4=Scoring!$A$45,Scoring!$B$45,IF(K4=Scoring!$A$46,Scoring!$B$46,IF(K4=Scoring!$A$47,Scoring!$B$47,IF(K4=Scoring!$A$48,Scoring!$B$48,IF(K4=Scoring!$A$49,Scoring!$B$49,IF(K4=Scoring!$A$50,Scoring!$B$50))))))","v":100},{"$f":"IF(L4=Scoring!$A$45,Scoring!$B$45,IF(L4=Scoring!$A$46,Scoring!$B$46,IF(L4=Scoring!$A$47,Scoring!$B$47,IF(L4=Scoring!$A$48,Scoring!$B$48,IF(L4=Scoring!$A$49,Scoring!$B$49,IF(L4=Scoring!$A$50,Scoring!$B$50))))))","v":100},null,0,{"$f":"IF(AD4>Scoring!$B$134,Scoring!$A$134,IF(AD4>Scoring!$B$135,Scoring!$A$135,IF(AD4>Scoring!$B$136,Scoring!$A$136,IF(AD4>Scoring!$B$137,Scoring!$A$137,IF(AD4>Scoring!$B$138,Scoring!$A$138,IF(AD4>Scoring!$B$139,Scoring!$A$139,IF(AD4>Scoring!$B$140,Scoring!$A$140,IF(AD4>Scoring!$B$141,Scoring!$A$141,IF(AD4>=Scoring!$B$142,Scoring!$A$142,IF(AD4>Scoring!$B$143,Scoring!$A$143))))))))))","v":"None"},10]
[107,1,"Alpine Tundra - Upper Chena","Condition","Characteristic native community","Presence of characteristic native communities within habitats","Few habitats have the characteristic native communities to accom-modate most nested targets in abundance","Some habitats have the characteristic native communities to accom-modate most nested targets in abundance","Most habitats have the characteristic native communities to accom-modate most nested targets in abundance","Almost all habitats have the characteristic native communities to accom­modate almost all nested targets in abundance","Good","Fair",{"$f":"IFERROR(INDEX(Outcomes!F:F,MATCH(A5,Outcomes!H:H,0)),\"\")","v":""},null,null,null,null,null,null,null,null,null,null,"Alpine Tundra - Upper Chena|Characteristic native community",null,null,{"$f":"IF(K5=Scoring!$A$45,Scoring!$B$45,IF(K5=Scoring!$A$46,Scoring!$B$46,IF(K5=Scoring!$A$47,Scoring!$B$47,IF(K5=Scoring!$A$48,Scoring!$B$48,IF(K5=Scoring!$A$49,Scoring!$B$49,IF(K5=Scoring!$A$50,Scoring!$B$50))))))","v":80.03},{"$f":"IF(L5=Scoring!$A$45,Scoring!$B$45,IF(L5=Scoring!$A$46,Scoring!$B$46,IF(L5=Scoring!$A$47,Scoring!$B$47,IF(L5=Scoring!$A$48,Scoring!$B$48,IF(L5=Scoring!$A$49,Scoring!$B$49,IF(L5=Scoring!$A$50,Scoring!$B$50))))))","v":40.04},null,39.99,{"$f":"IF(AD5>Scoring!$B$134,Scoring!$A$134,IF(AD5>Scoring!$B$135,Scoring!$A$135,IF(AD5>Scoring!$B$136,Scoring!$A$136,IF(AD5>Scoring!$B$137,Scoring!$A$137,IF(AD5>Scoring!$B$138,Scoring!$A$138,IF(AD5>Scoring!$B$139,Scoring!$A$139,IF(AD5>Scoring!$B$140,Scoring!$A$140,IF(AD5>Scoring!$B$141,Scoring!$A$141,IF(AD5>=Scoring!$B$142,Scoring!$A$142,IF(AD5>Scoring!$B$143,Scoring!$A$143))))))))))","v":"Very Severe"},2]
[108,1,"Alpine Tundra - Upper Chena","Condition","Vegetation composition & structure - mosaic","Diversity of species and age classes","Low diversity of species and age classes"," Moderate diversity of species and age classes","Good diversity of species and age classes","High diversity of species and age class","Good","Good",{"$f":"IFERROR(INDEX(Outcomes!F:F,MATCH(A6,Outcomes!H:H,0)),\"\")","v":""},null,null,null,null,null,null,null,null,null,null,"Alpine Tundra - Upper Chena|Vegetation composition & structure - mosaic",null,null,{"$f":"IF(K6=Scoring!$A$45,Scoring!$B$45,IF(K6=Scoring!$A$46,Scoring!$B$46,IF(K6=Scoring!$A$47,Scoring!$B$47,IF(K6=Scoring!$A$48,Scoring!$B$48,IF(K6=Scoring!$A$49,Scoring!$B$49,IF(K6=Scoring!$A$50,Scoring!$B$50))))))","v":80.03},{"$f":"IF(L6=Scoring!$A$45,Scoring!$B$45,IF(L6=Scoring!$A$46,Scoring!$B$46,IF(L6=Scoring!$A$47,Scoring!$B$47,IF(L6=Scoring!$A$48,Scoring!$B$48,IF(L6=Scoring!$A$49,Scoring!$B$49,IF(L6=Scoring!$A$50,Scoring!$B$50))))))","v":80.03},null,0,{"$f":"IF(AD6>Scoring!$B$134,Scoring!$A$134,IF(AD6>Scoring!$B$135,Scoring!$A$135,IF(AD6>Scoring!$B$136,Scoring!$A$136,IF(AD6>Scoring!$B$137,Scoring!$A$137,IF(AD6>Scoring!$B$138,Scoring!$A$138,IF(AD6>Scoring!$B$139,Scoring!$A$139,IF(AD6>Scoring!$B$140,Scoring!$A$140,IF(AD6>Scoring!$B$141,Scoring!$A$141,IF(AD6>=Scoring!$B$142,Scoring!$A$142,IF(AD6>Scoring!$B$143,Scoring!$A$143))))))))))","v":"None"},10]
[109,1,"Alpine Tundra - Upper Chena","Size","Extent of area","Extent, patch size, and/or distribution","Severe, mostly gone","Moderate to substantial loss","Minimal loss","Mother Nature","Very Good","Good",{"$f":"IFERROR(INDEX(Outcomes!F:F,MATCH(A7,Outcomes!H:H,0)),\"\")","v":""},null,null,null,null,null,null,null,null,null,null,"Alpine Tundra - Upper Chena|Extent of area",null,null,{"$f":"IF(K7=Scoring!$A$45,Scoring!$B$45,IF(K7=Scoring!$A$46,Scoring!$B$46,IF(K7=Scoring!$A$47,Scoring!$B$47,IF(K7=Scoring!$A$48,Scoring!$B$48,IF(K7=Scoring!$A$49,Scoring!$B$49,IF(K7=Scoring!$A$50,Scoring!$B$50))))))","v":100},{"$f":"IF(L7=Scoring!$A$45,Scoring!$B$45,IF(L7=Scoring!$A$46,Scoring!$B$46,IF(L7=Scoring!$A$47,Scoring!$B$47,IF(L7=Scoring!$A$48,Scoring!$B$48,IF(L7=Scoring!$A$49,Scoring!$B$49,IF(L7=Scoring!$A$50,Scoring!$B$50))))))","v":80.03},null,19.97,{"$f":"IF(AD7>Scoring!$B$134,Scoring!$A$134,IF(AD7>Scoring!$B$135,Scoring!$A$135,IF(AD7>Scoring!$B$136,Scoring!$A$136,IF(AD7>Scoring!$B$137,Scoring!$A$137,IF(AD7>Scoring!$B$138,Scoring!$A$138,IF(AD7>Scoring!$B$139,Scoring!$A$139,IF(AD7>Scoring!$B$140,Scoring!$A$140,IF(AD7>Scoring!$B$141,Scoring!$A$141,IF(AD7>=Scoring!$B$142,Scoring!$A$142,IF(AD7>Scoring!$B$143,Scoring!$A$143))))))))))","v":"Moderate"},6]
[110,1,"Alpine Tundra - Upper Chena",null,null,null,null,null,null,null,null,null,{"$f":"IFERROR(INDEX(Outcomes!F:F,MATCH(A8,Outcomes!H:H,0)),\"\")","v":""},null,null,null,null,null,null,null,null,null,null,"Alpine Tundra - Upper Chena|",null,null,{"$f":"IF(K8=Scoring!$A$45,Scoring!$B$45,IF(K8=Scoring!$A$46,Scoring!$B$46,IF(K8=Scoring!$A$47,Scoring!$B$47,IF(K8=Scoring!$A$48,Scoring!$B$48,IF(K8=Scoring!$A$49,Scoring!$B$49,IF(K8=Scoring!$A$50,Scoring!$B$50))))))","v":false},{"$f":"IF(L8=Scoring!$A$45,Scoring!$B$45,IF(L8=Scoring!$A$46,Scoring!$B$46,IF(L8=Scoring!$A$47,Scoring!$B$47,IF(L8=Scoring!$A$48,Scoring!$B$48,IF(L8=Scoring!$A$49,Scoring!$B$49,IF(L8=Scoring!$A$50,Scoring!$B$50))))))","v":false},null,0,{"$f":"IF(AD8>Scoring!$B$134,Scoring!$A$134,IF(AD8>Scoring!$B$135,Scoring!$A$135,IF(AD8>Scoring!$B$136,Scoring!$A$136,IF(AD8>Scoring!$B$137,Scoring!$A$137,IF(AD8>Scoring!$B$138,Scoring!$A$138,IF(AD8>Scoring!$B$139,Scoring!$A$139,IF(AD8>Scoring!$B$140,Scoring!$A$140,IF(AD8>Scoring!$B$141,Scoring!$A$141,IF(AD8>=Scoring!$B$142,Scoring!$A$142,IF(AD8>Scoring!$B$143,Scoring!$A$143))))))))))","v":"None"},""]
[111,1,"Alpine Tundra - Upper Chena",null,null,null,null,null,null,null,null,null,{"$f":"IFERROR(INDEX(Outcomes!F:F,MATCH(A9,Outcomes!H:H,0)),\"\")","v":""},null,null,null,null,null,null,null,null,null,null,"Alpine Tundra - Upper Chena|",null,null,{"$f":"IF(K9=Scoring!$A$45,Scoring!$B$45,IF(K9=Scoring!$A$46,Scoring!$B$46,IF(K9=Scoring!$A$47,Scoring!$B$47,IF(K9=Scoring!$A$48,Scoring!$B$48,IF(K9=Scoring!$A$49,Scoring!$B$49,IF(K9=Scoring!$A$50,Scoring!$B$50))))))","v":false},{"$f":"IF(L9=Scoring!$A$45,Scoring!$B$45,IF(L9=Scoring!$A$46,Scoring!$B$46,IF(L9=Scoring!$A$47,Scoring!$B$47,IF(L9=Scoring!$A$48,Scoring!$B$48,IF(L9=Scoring!$A$49,Scoring!$B$49,IF(L9=Scoring!$A$50,Scoring!$B$50))))))","v":false},null,0,{"$f":"IF(AD9>Scoring!$B$134,Scoring!$A$134,IF(AD9>Scoring!$B$135,Scoring!$A$135,IF(AD9>Scoring!$B$136,Scoring!$A$136,IF(AD9>Scoring!$B$137,Scoring!$A$137,IF(AD9>Scoring!$B$138,Scoring!$A$138,IF(AD9>Scoring!$B$139,Scoring!$A$139,IF(AD9>Scoring!$B$140,Scoring!$A$140,IF(AD9>Scoring!$B$141,Scoring!$A$141,IF(AD9>=Scoring!$B$142,Scoring!$A$142,IF(AD9>Scoring!$B$143,Scoring!$A$143))))))))))","v":"None"},""]
[112,1,"Alpine Tundra - Upper Chena",null,null,null,null,null,null,null,null,null,{"$f":"IFERROR(INDEX(Outcomes!F:F,MATCH(A10,Outcomes!H:H,0)),\"\")","v":""},null,null,null,null,null,null,null,null,null,null,"Alpine Tundra - Upper Chena|",null,null,{"$f":"IF(K10=Scoring!$A$45,Scoring!$B$45,IF(K10=Scoring!$A$46,Scoring!$B$46,IF(K10=Scoring!$A$47,Scoring!$B$47,IF(K10=Scoring!$A$48,Scoring!$B$48,IF(K10=Scoring!$A$49,Scoring!$B$49,IF(K10=Scoring!$A$50,Scoring!$B$50))))))","v":false},{"$f":"IF(L10=Scoring!$A$45,Scoring!$B$45,IF(L10=Scoring!$A$46,Scoring!$B$46,IF(L10=Scoring!$A$47,Scoring!$B$47,IF(L10=Scoring!$A$48,Scoring!$B$48,IF(L10=Scoring!$A$49,Scoring!$B$49,IF(L10=Scoring!$A$50,Scoring!$B$50))))))","v":false},null,0,{"$f":"IF(AD10>Scoring!$B$134,Scoring!$A$134,IF(AD10>Scoring!$B$135,Scoring!$A$135,IF(AD10>Scoring!$B$136,Scoring!$A$136,IF(AD10>Scoring!$B$137,Scoring!$A$137,IF(AD10>Scoring!$B$138,Scoring!$A$138,IF(AD10>Scoring!$B$139,Scoring!$A$139,IF(AD10>Scoring!$B$140,Scoring!$A$140,IF(AD10>Scoring!$B$141,Scoring!$A$141,IF(AD10>=Scoring!$B$142,Scoring!$A$142,IF(AD10>Scoring!$B$143,Scoring!$A$143))))))))))","v":"None"},""]
[113,1,"Alpine Tundra - Upper Chena",null,null,null,null,null,null,null,null,null,{"$f":"IFERROR(INDEX(Outcomes!F:F,MATCH(A11,Outcomes!H:H,0)),\"\")","v":""},null,null,null,null,null,null,null,null,null,null,"Alpine Tundra - Upper Chena|",null,null,{"$f":"IF(K11=Scoring!$A$45,Scoring!$B$45,IF(K11=Scoring!$A$46,Scoring!$B$46,IF(K11=Scoring!$A$47,Scoring!$B$47,IF(K11=Scoring!$A$48,Scoring!$B$48,IF(K11=Scoring!$A$49,Scoring!$B$49,IF(K11=Scoring!$A$50,Scoring!$B$50))))))","v":false},{"$f":"IF(L11=Scoring!$A$45,Scoring!$B$45,IF(L11=Scoring!$A$46,Scoring!$B$46,IF(L11=Scoring!$A$47,Scoring!$B$47,IF(L11=Scoring!$A$48,Scoring!$B$48,IF(L11=Scoring!$A$49,Scoring!$B$49,IF(L11=Scoring!$A$50,Scoring!$B$50))))))","v":false},null,0,{"$f":"IF(AD11>Scoring!$B$134,Scoring!$A$134,IF(AD11>Scoring!$B$135,Scoring!$A$135,IF(AD11>Scoring!$B$136,Scoring!$A$136,IF(AD11>Scoring!$B$137,Scoring!$A$137,IF(AD11>Scoring!$B$138,Scoring!$A$138,IF(AD11>Scoring!$B$139,Scoring!$A$139,IF(AD11>Scoring!$B$140,Scoring!$A$140,IF(AD11>Scoring!$B$141,Scoring!$A$141,IF(AD11>=Scoring!$B$142,Scoring!$A$142,IF(AD11>Scoring!$B$143,Scoring!$A$143))))))))))","v":"None"},""]
[204,2,"Boreal Forests - Upper Chena","Landscape Context","Fire regime","Frequency, size, type of fires, severity","Highly altered regime","Moderately altered regime","Mostly natural regime","Mother Nature","Good","Fair",{"$f":"IFERROR(INDEX(Outcomes!F:F,MATCH(A12,Outcomes!H:H,0)),\"\")","v":""},null,null,null,null,null,null,null,null,null,null,"Boreal Forests - Upper Chena|Fire regime",null,null,{"$f":"IF(K12=Scoring!$A$45,Scoring!$B$45,IF(K12=Scoring!$A$46,Scoring!$B$46,IF(K12=Scoring!$A$47,Scoring!$B$47,IF(K12=Scoring!$A$48,Scoring!$B$48,IF(K12=Scoring!$A$49,Scoring!$B$49,IF(K12=Scoring!$A$50,Scoring!$B$50))))))","v":80.03},{"$f":"IF(L12=Scoring!$A$45,Scoring!$B$45,IF(L12=Scoring!$A$46,Scoring!$B$46,IF(L12=Scoring!$A$47,Scoring!$B$47,IF(L12=Scoring!$A$48,Scoring!$B$48,IF(L12=Scoring!$A$49,Scoring!$B$49,IF(L12=Scoring!$A$50,Scoring!$B$50))))))","v":40.04},null,39.99,{"$f":"IF(AD12>Scoring!$B$134,Scoring!$A$134,IF(AD12>Scoring!$B$135,Scoring!$A$135,IF(AD12>Scoring!$B$136,Scoring!$A$136,IF(AD12>Scoring!$B$137,Scoring!$A$137,IF(AD12>Scoring!$B$138,Scoring!$A$138,IF(AD12>Scoring!$B$139,Scoring!$A$139,IF(AD12>Scoring!$B$140,Scoring!$A$140,IF(AD12>Scoring!$B$141,Scoring!$A$141,IF(AD12>=Scoring!$B$142,Scoring!$A$142,IF(AD12>Scoring!$B$143,Scoring!$A$143))))))))))","v":"Very Severe"},2]
[205,2,"Boreal Forests - Upper Chena","Landscape Context","Habitat connectivity","Movement of species","Most species are isolated ","Some species are isolated"," Most species are mostly able to move freely among most habitats   "," Mother Nature","Good","Good -",{"$f":"IFERROR(INDEX(Outcomes!F:F,MATCH(A13,Outcomes!H:H,0)),\"\")","v":"Good -"},null,null,null,null,null,null,null,null,null,null,"Boreal Forests - Upper Chena|Habitat connectivity",null,null,{"$f":"IF(K13=Scoring!$A$45,Scoring!$B$45,IF(K13=Scoring!$A$46,Scoring!$B$46,IF(K13=Scoring!$A$47,Scoring!$B$47,IF(K13=Scoring!$A$48,Scoring!$B$48,IF(K13=Scoring!$A$49,Scoring!$B$49,IF(K13=Scoring!$A$50,Scoring!$B$50))))))","v":80.03},{"$f":"IF(L13=Scoring!$A$45,Scoring!$B$45,IF(L13=Scoring!$A$46,Scoring!$B$46,IF(L13=Scoring!$A$47,Scoring!$B$47,IF(L13=Scoring!$A$48,Scoring!$B$48,IF(L13=Scoring!$A$49,Scoring!$B$49,IF(L13=Scoring!$A$50,Scoring!$B$50))))))","v":60.04},null,19.990000000000002,{"$f":"IF(AD13>Scoring!$B$134,Scoring!$A$134,IF(AD13>Scoring!$B$135,Scoring!$A$135,IF(AD13>Scoring!$B$136,Scoring!$A$136,IF(AD13>Scoring!$B$137,Scoring!$A$137,IF(AD13>Scoring!$B$138,Scoring!$A$138,IF(AD13>Scoring!$B$139,Scoring!$A$139,IF(AD13>Scoring!$B$140,Scoring!$A$140,IF(AD13>Scoring!$B$141,Scoring!$A$141,IF(AD13>=Scoring!$B$142,Scoring!$A$142,IF(AD13>Scoring!$B$143,Scoring!$A$143))))))))))","v":"Moderate"},6]
[206,2,"Boreal Forests - Upper Chena","Landscape Context","Hydrologic regime","Natural fluctuations of surface and ground water -amount, frequency, timing, duration","Water levels, flows or fluctuations are too high or too low, not related to the precipitation, and unlikely to maintain nested targets in many habitats within the target area and downstream","Water levels, flows or fluctuations in relationship to precipitation and ground water are likely to maintain nested targets in some habitats within the target and downstream","Water levels, flows or fluctuations in relationship to precipitation and ground water are likely to maintain nested targets in most habitats within the target area and downstream","Water levels, flows or fluctuations in relationship to precipitation and ground water are likely to maintain nested targets in almost all habitats within the target area and downstream","Good","Good -",{"$f":"IFERROR(INDEX(Outcomes!F:F,MATCH(A14,Outcomes!H:H,0)),\"\")","v":""},null,null,null,null,null,null,null,null,null,null,"Boreal Forests - Upper Chena|Hydrologic regime",null,null,{"$f":"IF(K14=Scoring!$A$45,Scoring!$B$45,IF(K14=Scoring!$A$46,Scoring!$B$46,IF(K14=Scoring!$A$47,Scoring!$B$47,IF(K14=Scoring!$A$48,Scoring!$B$48,IF(K14=Scoring!$A$49,Scoring!$B$49,IF(K14=Scoring!$A$50,Scoring!$B$50))))))","v":80.03},{"$f":"IF(L14=Scoring!$A$45,Scoring!$B$45,IF(L14=Scoring!$A$46,Scoring!$B$46,IF(L14=Scoring!$A$47,Scoring!$B$47,IF(L14=Scoring!$A$48,Scoring!$B$48,IF(L14=Scoring!$A$49,Scoring!$B$49,IF(L14=Scoring!$A$50,Scoring!$B$50))))))","v":60.04},null,19.990000000000002,{"$f":"IF(AD14>Scoring!$B$134,Scoring!$A$134,IF(AD14>Scoring!$B$135,Scoring!$A$135,IF(AD14>Scoring!$B$136,Scoring!$A$136,IF(AD14>Scoring!$B$137,Scoring!$A$137,IF(AD14>Scoring!$B$138,Scoring!$A$138,IF(AD14>Scoring!$B$139,Scoring!$A$139,IF(AD14>Scoring!$B$140,Scoring!$A$140,IF(AD14>Scoring!$B$141,Scoring!$A$141,IF(AD14>=Scoring!$B$142,Scoring!$A$142,IF(AD14>Scoring!$B$143,Scoring!$A$143))))))))))","v":"Moderate"},6]
[207,2,"Boreal Forests - Upper Chena","Condition","Characteristic native community","Presence of characteristic native communities within habitats","Few habitats have the characteristic native communities to accom-modate most nested targets in abundance","Some habitats have the characteristic native communities to accom-modate most nested targets in abundance","Most habitats have the characteristic native communities to accom-modate most nested targets in abundance","Almost all habitats have the characteristic native communities to accom­modate almost all nested targets in abundance","Good","Good -",{"$f":"IFERROR(INDEX(Outcomes!F:F,MATCH(A15,Outcomes!H:H,0)),\"\")","v":""},null,null,null,null,null,null,null,null,null,null,"Boreal Forests - Upper Chena|Characteristic native community",null,null,{"$f":"IF(K15=Scoring!$A$45,Scoring!$B$45,IF(K15=Scoring!$A$46,Scoring!$B$46,IF(K15=Scoring!$A$47,Scoring!$B$47,IF(K15=Scoring!$A$48,Scoring!$B$48,IF(K15=Scoring!$A$49,Scoring!$B$49,IF(K15=Scoring!$A$50,Scoring!$B$50))))))","v":80.03},{"$f":"IF(L15=Scoring!$A$45,Scoring!$B$45,IF(L15=Scoring!$A$46,Scoring!$B$46,IF(L15=Scoring!$A$47,Scoring!$B$47,IF(L15=Scoring!$A$48,Scoring!$B$48,IF(L15=Scoring!$A$49,Scoring!$B$49,IF(L15=Scoring!$A$50,Scoring!$B$50))))))","v":60.04},null,19.990000000000002,{"$f":"IF(AD15>Scoring!$B$134,Scoring!$A$134,IF(AD15>Scoring!$B$135,Scoring!$A$135,IF(AD15>Scoring!$B$136,Scoring!$A$136,IF(AD15>Scoring!$B$137,Scoring!$A$137,IF(AD15>Scoring!$B$138,Scoring!$A$138,IF(AD15>Scoring!$B$139,Scoring!$A$139,IF(AD15>Scoring!$B$140,Scoring!$A$140,IF(AD15>Scoring!$B$141,Scoring!$A$141,IF(AD15>=Scoring!$B$142,Scoring!$A$142,IF(AD15>Scoring!$B$143,Scoring!$A$143))))))))))","v":"Moderate"},6]
[208,2,"Boreal Forests - Upper Chena","Condition","Vegetation composition & structure - mosaic","Diversity of species and age classes","Low diversity of species and age classes"," Moderate diversity of species and age classes","Good diversity of species and age classes","High diversity of species and age class","Good","Good -",{"$f":"IFERROR(INDEX(Outcomes!F:F,MATCH(A16,Outcomes!H:H,0)),\"\")","v":"Good"},null,null,null,null,null,null,null,null,null,null,"Boreal Forests - Upper Chena|Vegetation composition & structure - mosaic",null,null,{"$f":"IF(K16=Scoring!$A$45,Scoring!$B$45,IF(K16=Scoring!$A$46,Scoring!$B$46,IF(K16=Scoring!$A$47,Scoring!$B$47,IF(K16=Scoring!$A$48,Scoring!$B$48,IF(K16=Scoring!$A$49,Scoring!$B$49,IF(K16=Scoring!$A$50,Scoring!$B$50))))))","v":80.03},{"$f":"IF(L16=Scoring!$A$45,Scoring!$B$45,IF(L16=Scoring!$A$46,Scoring!$B$46,IF(L16=Scoring!$A$47,Scoring!$B$47,IF(L16=Scoring!$A$48,Scoring!$B$48,IF(L16=Scoring!$A$49,Scoring!$B$49,IF(L16=Scoring!$A$50,Scoring!$B$50))))))","v":60.04},null,19.990000000000002,{"$f":"IF(AD16>Scoring!$B$134,Scoring!$A$134,IF(AD16>Scoring!$B$135,Scoring!$A$135,IF(AD16>Scoring!$B$136,Scoring!$A$136,IF(AD16>Scoring!$B$137,Scoring!$A$137,IF(AD16>Scoring!$B$138,Scoring!$A$138,IF(AD16>Scoring!$B$139,Scoring!$A$139,IF(AD16>Scoring!$B$140,Scoring!$A$140,IF(AD16>Scoring!$B$141,Scoring!$A$141,IF(AD16>=Scoring!$B$142,Scoring!$A$142,IF(AD16>Scoring!$B$143,Scoring!$A$143))))))))))","v":"Moderate"},6]
[209,2,"Boreal Forests - Upper Chena","Size","Extent of area","Extent, patch size, and/or distribution","Severe, mostly gone","Moderate to substantial loss","Minimal loss","Mother Nature","Good","Good -",{"$f":"IFERROR(INDEX(Outcomes!F:F,MATCH(A17,Outcomes!H:H,0)),\"\")","v":""},null,null,null,null,null,null,null,null,null,null,"Boreal Forests - Upper Chena|Extent of area",null,null,{"$f":"IF(K17=Scoring!$A$45,Scoring!$B$45,IF(K17=Scoring!$A$46,Scoring!$B$46,IF(K17=Scoring!$A$47,Scoring!$B$47,IF(K17=Scoring!$A$48,Scoring!$B$48,IF(K17=Scoring!$A$49,Scoring!$B$49,IF(K17=Scoring!$A$50,Scoring!$B$50))))))","v":80.03},{"$f":"IF(L17=Scoring!$A$45,Scoring!$B$45,IF(L17=Scoring!$A$46,Scoring!$B$46,IF(L17=Scoring!$A$47,Scoring!$B$47,IF(L17=Scoring!$A$48,Scoring!$B$48,IF(L17=Scoring!$A$49,Scoring!$B$49,IF(L17=Scoring!$A$50,Scoring!$B$50))))))","v":60.04},null,19.990000000000002,{"$f":"IF(AD17>Scoring!$B$134,Scoring!$A$134,IF(AD17>Scoring!$B$135,Scoring!$A$135,IF(AD17>Scoring!$B$136,Scoring!$A$136,IF(AD17>Scoring!$B$137,Scoring!$A$137,IF(AD17>Scoring!$B$138,Scoring!$A$138,IF(AD17>Scoring!$B$139,Scoring!$A$139,IF(AD17>Scoring!$B$140,Scoring!$A$140,IF(AD17>Scoring!$B$141,Scoring!$A$141,IF(AD17>=Scoring!$B$142,Scoring!$A$142,IF(AD17>Scoring!$B$143,Scoring!$A$143))))))))))","v":"Moderate"},6]
[210,2,"Boreal Forests - Upper Chena",null,null,null,null,null,null,null,null,null,{"$f":"IFERROR(INDEX(Outcomes!F:F,MATCH(A18,Outcomes!H:H,0)),\"\")","v":""},null,null,null,null,null,null,null,null,null,null,"Boreal Forests - Upper Chena|",null,null,{"$f":"IF(K18=Scoring!$A$45,Scoring!$B$45,IF(K18=Scoring!$A$46,Scoring!$B$46,IF(K18=Scoring!$A$47,Scoring!$B$47,IF(K18=Scoring!$A$48,Scoring!$B$48,IF(K18=Scoring!$A$49,Scoring!$B$49,IF(K18=Scoring!$A$50,Scoring!$B$50))))))","v":false},{"$f":"IF(L18=Scoring!$A$45,Scoring!$B$45,IF(L18=Scoring!$A$46,Scoring!$B$46,IF(L18=Scoring!$A$47,Scoring!$B$47,IF(L18=Scoring!$A$48,Scoring!$B$48,IF(L18=Scoring!$A$49,Scoring!$B$49,IF(L18=Scoring!$A$50,Scoring!$B$50))))))","v":false},null,0,{"$f":"IF(AD18>Scoring!$B$134,Scoring!$A$134,IF(AD18>Scoring!$B$135,Scoring!$A$135,IF(AD18>Scoring!$B$136,Scoring!$A$136,IF(AD18>Scoring!$B$137,Scoring!$A$137,IF(AD18>Scoring!$B$138,Scoring!$A$138,IF(AD18>Scoring!$B$139,Scoring!$A$139,IF(AD18>Scoring!$B$140,Scoring!$A$140,IF(AD18>Scoring!$B$141,Scoring!$A$141,IF(AD18>=Scoring!$B$142,Scoring!$A$142,IF(AD18>Scoring!$B$143,Scoring!$A$143))))))))))","v":"None"},""]
[211,2,"Boreal Forests - Upper Chena",null,null,null,null,null,null,null,null,null,{"$f":"IFERROR(INDEX(Outcomes!F:F,MATCH(A19,Outcomes!H:H,0)),\"\")","v":""},null,null,null,null,null,null,null,null,null,null,"Boreal Forests - Upper Chena|",null,null,{"$f":"IF(K19=Scoring!$A$45,Scoring!$B$45,IF(K19=Scoring!$A$46,Scoring!$B$46,IF(K19=Scoring!$A$47,Scoring!$B$47,IF(K19=Scoring!$A$48,Scoring!$B$48,IF(K19=Scoring!$A$49,Scoring!$B$49,IF(K19=Scoring!$A$50,Scoring!$B$50))))))","v":false},{"$f":"IF(L19=Scoring!$A$45,Scoring!$B$45,IF(L19=Scoring!$A$46,Scoring!$B$46,IF(L19=Scoring!$A$47,Scoring!$B$47,IF(L19=Scoring!$A$48,Scoring!$B$48,IF(L19=Scoring!$A$49,Scoring!$B$49,IF(L19=Scoring!$A$50,Scoring!$B$50))))))","v":false},null,0,{"$f":"IF(AD19>Scoring!$B$134,Scoring!$A$134,IF(AD19>Scoring!$B$135,Scoring!$A$135,IF(AD19>Scoring!$B$136,Scoring!$A$136,IF(AD19>Scoring!$B$137,Scoring!$A$137,IF(AD19>Scoring!$B$138,Scoring!$A$138,IF(AD19>Scoring!$B$139,Scoring!$A$139,IF(AD19>Scoring!$B$140,Scoring!$A$140,IF(AD19>Scoring!$B$141,Scoring!$A$141,IF(AD19>=Scoring!$B$142,Scoring!$A$142,IF(AD19>Scoring!$B$143,Scoring!$A$143))))))))))","v":"None"},""]
[212,2,"Boreal Forests - Upper Chena",null,null,null,null,null,null,null,null,null,{"$f":"IFERROR(INDEX(Outcomes!F:F,MATCH(A20,Outcomes!H:H,0)),\"\")","v":""},null,null,null,null,null,null,null,null,null,null,"Boreal Forests - Upper Chena|",null,null,{"$f":"IF(K20=Scoring!$A$45,Scoring!$B$45,IF(K20=Scoring!$A$46,Scoring!$B$46,IF(K20=Scoring!$A$47,Scoring!$B$47,IF(K20=Scoring!$A$48,Scoring!$B$48,IF(K20=Scoring!$A$49,Scoring!$B$49,IF(K20=Scoring!$A$50,Scoring!$B$50))))))","v":false},{"$f":"IF(L20=Scoring!$A$45,Scoring!$B$45,IF(L20=Scoring!$A$46,Scoring!$B$46,IF(L20=Scoring!$A$47,Scoring!$B$47,IF(L20=Scoring!$A$48,Scoring!$B$48,IF(L20=Scoring!$A$49,Scoring!$B$49,IF(L20=Scoring!$A$50,Scoring!$B$50))))))","v":false},null,0,{"$f":"IF(AD20>Scoring!$B$134,Scoring!$A$134,IF(AD20>Scoring!$B$135,Scoring!$A$135,IF(AD20>Scoring!$B$136,Scoring!$A$136,IF(AD20>Scoring!$B$137,Scoring!$A$137,IF(AD20>Scoring!$B$138,Scoring!$A$138,IF(AD20>Scoring!$B$139,Scoring!$A$139,IF(AD20>Scoring!$B$140,Scoring!$A$140,IF(AD20>Scoring!$B$141,Scoring!$A$141,IF(AD20>=Scoring!$B$142,Scoring!$A$142,IF(AD20>Scoring!$B$143,Scoring!$A$143))))))))))","v":"None"},""]
[213,2,"Boreal Forests - Upper Chena",null,null,null,null,null,null,null,null,null,{"$f":"IFERROR(INDEX(Outcomes!F:F,MATCH(A21,Outcomes!H:H,0)),\"\")","v":""},null,null,null,null,null,null,null,null,null,null,"Boreal Forests - Upper Chena|",null,null,{"$f":"IF(K21=Scoring!$A$45,Scoring!$B$45,IF(K21=Scoring!$A$46,Scoring!$B$46,IF(K21=Scoring!$A$47,Scoring!$B$47,IF(K21=Scoring!$A$48,Scoring!$B$48,IF(K21=Scoring!$A$49,Scoring!$B$49,IF(K21=Scoring!$A$50,Scoring!$B$50))))))","v":false},{"$f":"IF(L21=Scoring!$A$45,Scoring!$B$45,IF(L21=Scoring!$A$46,Scoring!$B$46,IF(L21=Scoring!$A$47,Scoring!$B$47,IF(L21=Scoring!$A$48,Scoring!$B$48,IF(L21=Scoring!$A$49,Scoring!$B$49,IF(L21=Scoring!$A$50,Scoring!$B$50))))))","v":false},null,0,{"$f":"IF(AD21>Scoring!$B$134,Scoring!$A$134,IF(AD21>Scoring!$B$135,Scoring!$A$135,IF(AD21>Scoring!$B$136,Scoring!$A$136,IF(AD21>Scoring!$B$137,Scoring!$A$137,IF(AD21>Scoring!$B$138,Scoring!$A$138,IF(AD21>Scoring!$B$139,Scoring!$A$139,IF(AD21>Scoring!$B$140,Scoring!$A$140,IF(AD21>Scoring!$B$141,Scoring!$A$141,IF(AD21>=Scoring!$B$142,Scoring!$A$142,IF(AD21>Scoring!$B$143,Scoring!$A$143))))))))))","v":"None"},""]
[304,3,"Boreal Forests - Lower Chena","Landscape Context","Fire regime","Frequency, size, type of fires, severity","Highly altered regime","Moderately altered regime","Mostly natural regime","Mother Nature","Fair","Fair",{"$f":"IFERROR(INDEX(Outcomes!F:F,MATCH(A22,Outcomes!H:H,0)),\"\")","v":""},null,null,null,null,null,null,null,null,null,null,"Boreal Forests - Lower Chena|Fire regime",null,null,{"$f":"IF(K22=Scoring!$A$45,Scoring!$B$45,IF(K22=Scoring!$A$46,Scoring!$B$46,IF(K22=Scoring!$A$47,Scoring!$B$47,IF(K22=Scoring!$A$48,Scoring!$B$48,IF(K22=Scoring!$A$49,Scoring!$B$49,IF(K22=Scoring!$A$50,Scoring!$B$50))))))","v":40.04},{"$f":"IF(L22=Scoring!$A$45,Scoring!$B$45,IF(L22=Scoring!$A$46,Scoring!$B$46,IF(L22=Scoring!$A$47,Scoring!$B$47,IF(L22=Scoring!$A$48,Scoring!$B$48,IF(L22=Scoring!$A$49,Scoring!$B$49,IF(L22=Scoring!$A$50,Scoring!$B$50))))))","v":40.04},null,0,{"$f":"IF(AD22>Scoring!$B$134,Scoring!$A$134,IF(AD22>Scoring!$B$135,Scoring!$A$135,IF(AD22>Scoring!$B$136,Scoring!$A$136,IF(AD22>Scoring!$B$137,Scoring!$A$137,IF(AD22>Scoring!$B$138,Scoring!$A$138,IF(AD22>Scoring!$B$139,Scoring!$A$139,IF(AD22>Scoring!$B$140,Scoring!$A$140,IF(AD22>Scoring!$B$141,Scoring!$A$141,IF(AD22>=Scoring!$B$142,Scoring!$A$142,IF(AD22>Scoring!$B$143,Scoring!$A$143))))))))))","v":"None"},7]
[305,3,"Boreal Forests - Lower Chena","Landscape Context","Habitat connectivity","Movement of species","Most species are isolated ","Some species are isolated"," Most species are mostly able to move freely among most habitats   "," Mother Nature","Fair","Fair -",{"$f":"IFERROR(INDEX(Outcomes!F:F,MATCH(A23,Outcomes!H:H,0)),\"\")","v":"Fair -"},null,null,null,null,null,null,null,null,null,null,"Boreal Forests - Lower Chena|Habitat connectivity",null,null,{"$f":"IF(K23=Scoring!$A$45,Scoring!$B$45,IF(K23=Scoring!$A$46,Scoring!$B$46,IF(K23=Scoring!$A$47,Scoring!$B$47,IF(K23=Scoring!$A$48,Scoring!$B$48,IF(K23=Scoring!$A$49,Scoring!$B$49,IF(K23=Scoring!$A$50,Scoring!$B$50))))))","v":40.04},{"$f":"IF(L23=Scoring!$A$45,Scoring!$B$45,IF(L23=Scoring!$A$46,Scoring!$B$46,IF(L23=Scoring!$A$47,Scoring!$B$47,IF(L23=Scoring!$A$48,Scoring!$B$48,IF(L23=Scoring!$A$49,Scoring!$B$49,IF(L23=Scoring!$A$50,Scoring!$B$50))))))","v":20.03},null,20.009999999999998,{"$f":"IF(AD23>Scoring!$B$134,Scoring!$A$134,IF(AD23>Scoring!$B$135,Scoring!$A$135,IF(AD23>Scoring!$B$136,Scoring!$A$136,IF(AD23>Scoring!$B$137,Scoring!$A$137,IF(AD23>Scoring!$B$138,Scoring!$A$138,IF(AD23>Scoring!$B$139,Scoring!$A$139,IF(AD23>Scoring!$B$140,Scoring!$A$140,IF(AD23>Scoring!$B$141,Scoring!$A$141,IF(AD23>=Scoring!$B$142,Scoring!$A$142,IF(AD23>Scoring!$B$143,Scoring!$A$143))))))))))","v":"High"},3]
[306,3,"Boreal Forests - Lower Chena","Landscape Context","Hydrologic regime","Natural fluctuations of surface and ground water -amount, frequency, timing, duration","Water levels, flows or fluctuations are too high or too low, not related to the precipitation, and unlikely to maintain nested targets in many habitats within the target area and downstream","Water levels, flows or fluctuations in relationship to precipitation and ground water are likely to maintain nested targets in some habitats within the target and downstream","Water levels, flows or fluctuations in relationship to precipitation and ground water are likely to maintain nested targets in most habitats within the target area and downstream","Water levels, flows or fluctuations in relationship to precipitation and ground water are likely to maintain nested targets in almost all habitats within the target area and downstream","Fair","Fair -",{"$f":"IFERROR(INDEX(Outcomes!F:F,MATCH(A24,Outcomes!H:H,0)),\"\")","v":"Fair"},null,null,null,null,null,null,null,null,null,null,"Boreal Forests - Lower Chena|Hydrologic regime",null,null,{"$f":"IF(K24=Scoring!$A$45,Scoring!$B$45,IF(K24=Scoring!$A$46,Scoring!$B$46,IF(K24=Scoring!$A$47,Scoring!$B$47,IF(K24=Scoring!$A$48,Scoring!$B$48,IF(K24=Scoring!$A$49,Scoring!$B$49,IF(K24=Scoring!$A$50,Scoring!$B$50))))))","v":40.04},{"$f":"IF(L24=Scoring!$A$45,Scoring!$B$45,IF(L24=Scoring!$A$46,Scoring!$B$46,IF(L24=Scoring!$A$47,Scoring!$B$47,IF(L24=Scoring!$A$48,Scoring!$B$48,IF(L24=Scoring!$A$49,Scoring!$B$49,IF(L24=Scoring!$A$50,Scoring!$B$50))))))","v":20.03},null,20.009999999999998,{"$f":"IF(AD24>Scoring!$B$134,Scoring!$A$134,IF(AD24>Scoring!$B$135,Scoring!$A$135,IF(AD24>Scoring!$B$136,Scoring!$A$136,IF(AD24>Scoring!$B$137,Scoring!$A$137,IF(AD24>Scoring!$B$138,Scoring!$A$138,IF(AD24>Scoring!$B$139,Scoring!$A$139,IF(AD24>Scoring!$B$140,Scoring!$A$140,IF(AD24>Scoring!$B$141,Scoring!$A$141,IF(AD24>=Scoring!$B$142,Scoring!$A$142,IF(AD24>Scoring!$B$143,Scoring!$A$143))))))))))","v":"High"},3]
[307,3,"Boreal Forests - Lower Chena","Condition","Characteristic native community","Presence of characteristic native communities within habitats","Few habitats have the characteristic native communities to accom-modate most nested targets in abundance","Some habitats have the characteristic native communities to accom-modate most nested targets in abundance","Most habitats have the characteristic native communities to accom-modate most nested targets in abundance","Almost all habitats have the characteristic native communities to accom­modate almost all nested targets in abundance","Good","Good -",{"$f":"IFERROR(INDEX(Outcomes!F:F,MATCH(A25,Outcomes!H:H,0)),\"\")","v":""},null,null,null,null,null,null,null,null,null,null,"Boreal Forests - Lower Chena|Characteristic native community",null,null,{"$f":"IF(K25=Scoring!$A$45,Scoring!$B$45,IF(K25=Scoring!$A$46,Scoring!$B$46,IF(K25=Scoring!$A$47,Scoring!$B$47,IF(K25=Scoring!$A$48,Scoring!$B$48,IF(K25=Scoring!$A$49,Scoring!$B$49,IF(K25=Scoring!$A$50,Scoring!$B$50))))))","v":80.03},{"$f":"IF(L25=Scoring!$A$45,Scoring!$B$45,IF(L25=Scoring!$A$46,Scoring!$B$46,IF(L25=Scoring!$A$47,Scoring!$B$47,IF(L25=Scoring!$A$48,Scoring!$B$48,IF(L25=Scoring!$A$49,Scoring!$B$49,IF(L25=Scoring!$A$50,Scoring!$B$50))))))","v":60.04},null,19.990000000000002,{"$f":"IF(AD25>Scoring!$B$134,Scoring!$A$134,IF(AD25>Scoring!$B$135,Scoring!$A$135,IF(AD25>Scoring!$B$136,Scoring!$A$136,IF(AD25>Scoring!$B$137,Scoring!$A$137,IF(AD25>Scoring!$B$138,Scoring!$A$138,IF(AD25>Scoring!$B$139,Scoring!$A$139,IF(AD25>Scoring!$B$140,Scoring!$A$140,IF(AD25>Scoring!$B$141,Scoring!$A$141,IF(AD25>=Scoring!$B$142,Scoring!$A$142,IF(AD25>Scoring!$B$143,Scoring!$A$143))))))))))","v":"Moderate"},6]
[308,3,"Boreal Forests - Lower Chena","Condition","Vegetation composition & structure - mosaic","Diversity of species and age classes","Low diversity of species and age classes"," Moderate diversity of species and age classes","Good diversity of species and age classes","High diversity of species and age class","Good","Good -",{"$f":"IFERROR(INDEX(Outcomes!F:F,MATCH(A26,Outcomes!H:H,0)),\"\")","v":"Good"},null,null,null,null,null,null,null,null,null,null,"Boreal Forests - Lower Chena|Vegetation composition & structure - mosaic",null,null,{"$f":"IF(K26=Scoring!$A$45,Scoring!$B$45,IF(K26=Scoring!$A$46,Scoring!$B$46,IF(K26=Scoring!$A$47,Scoring!$B$47,IF(K26=Scoring!$A$48,Scoring!$B$48,IF(K26=Scoring!$A$49,Scoring!$B$49,IF(K26=Scoring!$A$50,Scoring!$B$50))))))","v":80.03},{"$f":"IF(L26=Scoring!$A$45,Scoring!$B$45,IF(L26=Scoring!$A$46,Scoring!$B$46,IF(L26=Scoring!$A$47,Scoring!$B$47,IF(L26=Scoring!$A$48,Scoring!$B$48,IF(L26=Scoring!$A$49,Scoring!$B$49,IF(L26=Scoring!$A$50,Scoring!$B$50))))))","v":60.04},null,19.990000000000002,{"$f":"IF(AD26>Scoring!$B$134,Scoring!$A$134,IF(AD26>Scoring!$B$135,Scoring!$A$135,IF(AD26>Scoring!$B$136,Scoring!$A$136,IF(AD26>Scoring!$B$137,Scoring!$A$137,IF(AD26>Scoring!$B$138,Scoring!$A$138,IF(AD26>Scoring!$B$139,Scoring!$A$139,IF(AD26>Scoring!$B$140,Scoring!$A$140,IF(AD26>Scoring!$B$141,Scoring!$A$141,IF(AD26>=Scoring!$B$142,Scoring!$A$142,IF(AD26>Scoring!$B$143,Scoring!$A$143))))))))))","v":"Moderate"},6]
[309,3,"Boreal Forests - Lower Chena","Size","Extent of area","Extent, patch size, distribution","Severe, mostly gone","Moderate to substantial loss","Minimal loss","Mother Nature","Fair","Fair -",{"$f":"IFERROR(INDEX(Outcomes!F:F,MATCH(A27,Outcomes!H:H,0)),\"\")","v":"Fair"},null,null,null,null,null,null,null,null,null,null,"Boreal Forests - Lower Chena|Extent of area",null,null,{"$f":"IF(K27=Scoring!$A$45,Scoring!$B$45,IF(K27=Scoring!$A$46,Scoring!$B$46,IF(K27=Scoring!$A$47,Scoring!$B$47,IF(K27=Scoring!$A$48,Scoring!$B$48,IF(K27=Scoring!$A$49,Scoring!$B$49,IF(K27=Scoring!$A$50,Scoring!$B$50))))))","v":40.04},{"$f":"IF(L27=Scoring!$A$45,Scoring!$B$45,IF(L27=Scoring!$A$46,Scoring!$B$46,IF(L27=Scoring!$A$47,Scoring!$B$47,IF(L27=Scoring!$A$48,Scoring!$B$48,IF(L27=Scoring!$A$49,Scoring!$B$49,IF(L27=Scoring!$A$50,Scoring!$B$50))))))","v":20.03},null,20.009999999999998,{"$f":"IF(AD27>Scoring!$B$134,Scoring!$A$134,IF(AD27>Scoring!$B$135,Scoring!$A$135,IF(AD27>Scoring!$B$136,Scoring!$A$136,IF(AD27>Scoring!$B$137,Scoring!$A$137,IF(AD27>Scoring!$B$138,Scoring!$A$138,IF(AD27>Scoring!$B$139,Scoring!$A$139,IF(AD27>Scoring!$B$140,Scoring!$A$140,IF(AD27>Scoring!$B$141,Scoring!$A$141,IF(AD27>=Scoring!$B$142,Scoring!$A$142,IF(AD27>Scoring!$B$143,Scoring!$A$143))))))))))","v":"High"},3]
[310,3,"Boreal Forests - Lower Chena",null,null,null,null,null,null,null,null,null,{"$f":"IFERROR(INDEX(Outcomes!F:F,MATCH(A28,Outcomes!H:H,0)),\"\")","v":""},null,null,null,null,null,null,null,null,null,null,"Boreal Forests - Lower Chena|",null,null,{"$f":"IF(K28=Scoring!$A$45,Scoring!$B$45,IF(K28=Scoring!$A$46,Scoring!$B$46,IF(K28=Scoring!$A$47,Scoring!$B$47,IF(K28=Scoring!$A$48,Scoring!$B$48,IF(K28=Scoring!$A$49,Scoring!$B$49,IF(K28=Scoring!$A$50,Scoring!$B$50))))))","v":false},{"$f":"IF(L28=Scoring!$A$45,Scoring!$B$45,IF(L28=Scoring!$A$46,Scoring!$B$46,IF(L28=Scoring!$A$47,Scoring!$B$47,IF(L28=Scoring!$A$48,Scoring!$B$48,IF(L28=Scoring!$A$49,Scoring!$B$49,IF(L28=Scoring!$A$50,Scoring!$B$50))))))","v":false},null,0,{"$f":"IF(AD28>Scoring!$B$134,Scoring!$A$134,IF(AD28>Scoring!$B$135,Scoring!$A$135,IF(AD28>Scoring!$B$136,Scoring!$A$136,IF(AD28>Scoring!$B$137,Scoring!$A$137,IF(AD28>Scoring!$B$138,Scoring!$A$138,IF(AD28>Scoring!$B$139,Scoring!$A$139,IF(AD28>Scoring!$B$140,Scoring!$A$140,IF(AD28>Scoring!$B$141,Scoring!$A$141,IF(AD28>=Scoring!$B$142,Scoring!$A$142,IF(AD28>Scoring!$B$143,Scoring!$A$143))))))))))","v":"None"},""]
[311,3,"Boreal Forests - Lower Chena",null,null,null,null,null,null,null,null,null,{"$f":"IFERROR(INDEX(Outcomes!F:F,MATCH(A29,Outcomes!H:H,0)),\"\")","v":""},null,null,null,null,null,null,null,null,null,null,"Boreal Forests - Lower Chena|",null,null,{"$f":"IF(K29=Scoring!$A$45,Scoring!$B$45,IF(K29=Scoring!$A$46,Scoring!$B$46,IF(K29=Scoring!$A$47,Scoring!$B$47,IF(K29=Scoring!$A$48,Scoring!$B$48,IF(K29=Scoring!$A$49,Scoring!$B$49,IF(K29=Scoring!$A$50,Scoring!$B$50))))))","v":false},{"$f":"IF(L29=Scoring!$A$45,Scoring!$B$45,IF(L29=Scoring!$A$46,Scoring!$B$46,IF(L29=Scoring!$A$47,Scoring!$B$47,IF(L29=Scoring!$A$48,Scoring!$B$48,IF(L29=Scoring!$A$49,Scoring!$B$49,IF(L29=Scoring!$A$50,Scoring!$B$50))))))","v":false},null,0,{"$f":"IF(AD29>Scoring!$B$134,Scoring!$A$134,IF(AD29>Scoring!$B$135,Scoring!$A$135,IF(AD29>Scoring!$B$136,Scoring!$A$136,IF(AD29>Scoring!$B$137,Scoring!$A$137,IF(AD29>Scoring!$B$138,Scoring!$A$138,IF(AD29>Scoring!$B$139,Scoring!$A$139,IF(AD29>Scoring!$B$140,Scoring!$A$140,IF(AD29>Scoring!$B$141,Scoring!$A$141,IF(AD29>=Scoring!$B$142,Scoring!$A$142,IF(AD29>Scoring!$B$143,Scoring!$A$143))))))))))","v":"None"},""]
[312,3,"Boreal Forests - Lower Chena",null,null,null,null,null,null,null,null,null,{"$f":"IFERROR(INDEX(Outcomes!F:F,MATCH(A30,Outcomes!H:H,0)),\"\")","v":""},null,null,null,null,null,null,null,null,null,null,"Boreal Forests - Lower Chena|",null,null,{"$f":"IF(K30=Scoring!$A$45,Scoring!$B$45,IF(K30=Scoring!$A$46,Scoring!$B$46,IF(K30=Scoring!$A$47,Scoring!$B$47,IF(K30=Scoring!$A$48,Scoring!$B$48,IF(K30=Scoring!$A$49,Scoring!$B$49,IF(K30=Scoring!$A$50,Scoring!$B$50))))))","v":false},{"$f":"IF(L30=Scoring!$A$45,Scoring!$B$45,IF(L30=Scoring!$A$46,Scoring!$B$46,IF(L30=Scoring!$A$47,Scoring!$B$47,IF(L30=Scoring!$A$48,Scoring!$B$48,IF(L30=Scoring!$A$49,Scoring!$B$49,IF(L30=Scoring!$A$50,Scoring!$B$50))))))","v":false},null,0,{"$f":"IF(AD30>Scoring!$B$134,Scoring!$A$134,IF(AD30>Scoring!$B$135,Scoring!$A$135,IF(AD30>Scoring!$B$136,Scoring!$A$136,IF(AD30>Scoring!$B$137,Scoring!$A$137,IF(AD30>Scoring!$B$138,Scoring!$A$138,IF(AD30>Scoring!$B$139,Scoring!$A$139,IF(AD30>Scoring!$B$140,Scoring!$A$140,IF(AD30>Scoring!$B$141,Scoring!$A$141,IF(AD30>=Scoring!$B$142,Scoring!$A$142,IF(AD30>Scoring!$B$143,Scoring!$A$143))))))))))","v":"None"},""]
[313,3,"Boreal Forests - Lower Chena",null,null,null,null,null,null,null,null,null,{"$f":"IFERROR(INDEX(Outcomes!F:F,MATCH(A31,Outcomes!H:H,0)),\"\")","v":""},null,null,null,null,null,null,null,null,null,null,"Boreal Forests - Lower Chena|",null,null,{"$f":"IF(K31=Scoring!$A$45,Scoring!$B$45,IF(K31=Scoring!$A$46,Scoring!$B$46,IF(K31=Scoring!$A$47,Scoring!$B$47,IF(K31=Scoring!$A$48,Scoring!$B$48,IF(K31=Scoring!$A$49,Scoring!$B$49,IF(K31=Scoring!$A$50,Scoring!$B$50))))))","v":false},{"$f":"IF(L31=Scoring!$A$45,Scoring!$B$45,IF(L31=Scoring!$A$46,Scoring!$B$46,IF(L31=Scoring!$A$47,Scoring!$B$47,IF(L31=Scoring!$A$48,Scoring!$B$48,IF(L31=Scoring!$A$49,Scoring!$B$49,IF(L31=Scoring!$A$50,Scoring!$B$50))))))","v":false},null,0,{"$f":"IF(AD31>Scoring!$B$134,Scoring!$A$134,IF(AD31>Scoring!$B$135,Scoring!$A$135,IF(AD31>Scoring!$B$136,Scoring!$A$136,IF(AD31>Scoring!$B$137,Scoring!$A$137,IF(AD31>Scoring!$B$138,Scoring!$A$138,IF(AD31>Scoring!$B$139,Scoring!$A$139,IF(AD31>Scoring!$B$140,Scoring!$A$140,IF(AD31>Scoring!$B$141,Scoring!$A$141,IF(AD31>=Scoring!$B$142,Scoring!$A$142,IF(AD31>Scoring!$B$143,Scoring!$A$143))))))))))","v":"None"},""]
[404,4,"Tributaries - Upper Chena","Landscape Context","Connectivity to tributaries and within mainstem","Number, extent, & type of barriers","Many widespread or complete manmade or natural blockages, Where culverts exist % of red barriers based on ADFG fish passage inventory"," Some widespread or complete manmade or natural blockages, Where culverts exist % of red barriers based on ADFG fish passage inventory","Few widespread or complete manmade or natural blockages, Where culverts exist % of green barriers based on ADFG fish passage inventory"," No widespread or complete manmade or natural blockages,","Good","Good -",{"$f":"IFERROR(INDEX(Outcomes!F:F,MATCH(A32,Outcomes!H:H,0)),\"\")","v":"Good"},null,null,null,null,null,null,null,null,null,null,"Tributaries - Upper Chena|Connectivity to tributaries and within mainstem",null,null,{"$f":"IF(K32=Scoring!$A$45,Scoring!$B$45,IF(K32=Scoring!$A$46,Scoring!$B$46,IF(K32=Scoring!$A$47,Scoring!$B$47,IF(K32=Scoring!$A$48,Scoring!$B$48,IF(K32=Scoring!$A$49,Scoring!$B$49,IF(K32=Scoring!$A$50,Scoring!$B$50))))))","v":80.03},{"$f":"IF(L32=Scoring!$A$45,Scoring!$B$45,IF(L32=Scoring!$A$46,Scoring!$B$46,IF(L32=Scoring!$A$47,Scoring!$B$47,IF(L32=Scoring!$A$48,Scoring!$B$48,IF(L32=Scoring!$A$49,Scoring!$B$49,IF(L32=Scoring!$A$50,Scoring!$B$50))))))","v":60.04},null,19.990000000000002,{"$f":"IF(AD32>Scoring!$B$134,Scoring!$A$134,IF(AD32>Scoring!$B$135,Scoring!$A$135,IF(AD32>Scoring!$B$136,Scoring!$A$136,IF(AD32>Scoring!$B$137,Scoring!$A$137,IF(AD32>Scoring!$B$138,Scoring!$A$138,IF(AD32>Scoring!$B$139,Scoring!$A$139,IF(AD32>Scoring!$B$140,Scoring!$A$140,IF(AD32>Scoring!$B$141,Scoring!$A$141,IF(AD32>=Scoring!$B$142,Scoring!$A$142,IF(AD32>Scoring!$B$143,Scoring!$A$143))))))))))","v":"Moderate"},6]
[405,4,"Tributaries - Upper Chena","Landscape Context","Hydrologic regime","Natural fluctuations of surface and ground water -amount, frequency, timing, duration","Water levels, flows or fluctuations are too high or too low, not related to the precipitation, and unlikely to maintain nested targets in many habitats within the target area and downstream","Water levels, flows or fluctuations in relationship to precipitation and ground water are likely to maintain nested targets in some habitats within the target and downstream","Water levels, flows or fluctuations in relationship to precipitation and ground water are likely to maintain nested targets in most habitats within the target area and downstream","Water levels, flows or fluctuations in relationship to precipitation and ground water are likely to maintain nested targets in almost all habitats within the target area and downstream","Good","Good -",{"$f":"IFERROR(INDEX(Outcomes!F:F,MATCH(A33,Outcomes!H:H,0)),\"\")","v":"Good"},null,null,null,null,null,null,null,null,null,null,"Tributaries - Upper Chena|Hydrologic regime",null,null,{"$f":"IF(K33=Scoring!$A$45,Scoring!$B$45,IF(K33=Scoring!$A$46,Scoring!$B$46,IF(K33=Scoring!$A$47,Scoring!$B$47,IF(K33=Scoring!$A$48,Scoring!$B$48,IF(K33=Scoring!$A$49,Scoring!$B$49,IF(K33=Scoring!$A$50,Scoring!$B$50))))))","v":80.03},{"$f":"IF(L33=Scoring!$A$45,Scoring!$B$45,IF(L33=Scoring!$A$46,Scoring!$B$46,IF(L33=Scoring!$A$47,Scoring!$B$47,IF(L33=Scoring!$A$48,Scoring!$B$48,IF(L33=Scoring!$A$49,Scoring!$B$49,IF(L33=Scoring!$A$50,Scoring!$B$50))))))","v":60.04},null,19.990000000000002,{"$f":"IF(AD33>Scoring!$B$134,Scoring!$A$134,IF(AD33>Scoring!$B$135,Scoring!$A$135,IF(AD33>Scoring!$B$136,Scoring!$A$136,IF(AD33>Scoring!$B$137,Scoring!$A$137,IF(AD33>Scoring!$B$138,Scoring!$A$138,IF(AD33>Scoring!$B$139,Scoring!$A$139,IF(AD33>Scoring!$B$140,Scoring!$A$140,IF(AD33>Scoring!$B$141,Scoring!$A$141,IF(AD33>=Scoring!$B$142,Scoring!$A$142,IF(AD33>Scoring!$B$143,Scoring!$A$143))))))))))","v":"Moderate"},6]
[406,4,"Tributaries - Upper Chena","Landscape Context","Substrate and banks","Amount, type, size, availability of, & distribution","Low diversity of and abundance of suitable substrates in most habitats"," Moderate diversity of abundance of suitable substrates/material in most habitats","Diversity and abundance of suitable substrates/ material in most habitat for aquatic species"," High diversity and abundance of suitable substrates/ material in most habitat for aquatic species","Good","Fair",{"$f":"IFERROR(INDEX(Outcomes!F:F,MATCH(A34,Outcomes!H:H,0)),\"\")","v":"Good"},null,null,null,null,null,null,null,null,null,null,{"$f":"C34 & \"|\" &E34","v":"Tributaries - Upper Chena|Substrate and banks"},null,null,{"$f":"IF(K34=Scoring!$A$45,Scoring!$B$45,IF(K34=Scoring!$A$46,Scoring!$B$46,IF(K34=Scoring!$A$47,Scoring!$B$47,IF(K34=Scoring!$A$48,Scoring!$B$48,IF(K34=Scoring!$A$49,Scoring!$B$49,IF(K34=Scoring!$A$50,Scoring!$B$50))))))","v":80.03},{"$f":"IF(L34=Scoring!$A$45,Scoring!$B$45,IF(L34=Scoring!$A$46,Scoring!$B$46,IF(L34=Scoring!$A$47,Scoring!$B$47,IF(L34=Scoring!$A$48,Scoring!$B$48,IF(L34=Scoring!$A$49,Scoring!$B$49,IF(L34=Scoring!$A$50,Scoring!$B$50))))))","v":40.04},null,{"$f":"AA34-AB34","v":39.99},{"$f":"IF(AD34>Scoring!$B$134,Scoring!$A$134,IF(AD34>Scoring!$B$135,Scoring!$A$135,IF(AD34>Scoring!$B$136,Scoring!$A$136,IF(AD34>Scoring!$B$137,Scoring!$A$137,IF(AD34>Scoring!$B$138,Scoring!$A$138,IF(AD34>Scoring!$B$139,Scoring!$A$139,IF(AD34>Scoring!$B$140,Scoring!$A$140,IF(AD34>Scoring!$B$141,Scoring!$A$141,IF(AD34>=Scoring!$B$142,Scoring!$A$142,IF(AD34>Scoring!$B$143,Scoring!$A$143))))))))))","v":"Very Severe"},{"$f":"IFERROR(INDEX(StrategicActionMatrix,MATCH(K34,Rating,0),MATCH(AE34,Change,0)),\"\")","v":2}]
[407,4,"Tributaries - Upper Chena","Condition","Characteristic native communities","Presence of characteristic native communities within habitats","Few habitats have the characteristic native communities to accom-modate most nested targets in abundance","Some habitats have the characteristic native communities to accom-modate most nested targets in abundance","Most habitats have the characteristic native communities to accom-modate most nested targets in abundance","Almost all habitats have the characteristic native communities to accom­modate almost all nested targets in abundance","Good","Good -",{"$f":"IFERROR(INDEX(Outcomes!F:F,MATCH(A35,Outcomes!H:H,0)),\"\")","v":""},null,null,null,null,null,null,null,null,null,null,"Tributaries - Upper Chena|Characteristic native communities",null,null,{"$f":"IF(K35=Scoring!$A$45,Scoring!$B$45,IF(K35=Scoring!$A$46,Scoring!$B$46,IF(K35=Scoring!$A$47,Scoring!$B$47,IF(K35=Scoring!$A$48,Scoring!$B$48,IF(K35=Scoring!$A$49,Scoring!$B$49,IF(K35=Scoring!$A$50,Scoring!$B$50))))))","v":80.03},{"$f":"IF(L35=Scoring!$A$45,Scoring!$B$45,IF(L35=Scoring!$A$46,Scoring!$B$46,IF(L35=Scoring!$A$47,Scoring!$B$47,IF(L35=Scoring!$A$48,Scoring!$B$48,IF(L35=Scoring!$A$49,Scoring!$B$49,IF(L35=Scoring!$A$50,Scoring!$B$50))))))","v":60.04},null,19.990000000000002,{"$f":"IF(AD35>Scoring!$B$134,Scoring!$A$134,IF(AD35>Scoring!$B$135,Scoring!$A$135,IF(AD35>Scoring!$B$136,Scoring!$A$136,IF(AD35>Scoring!$B$137,Scoring!$A$137,IF(AD35>Scoring!$B$138,Scoring!$A$138,IF(AD35>Scoring!$B$139,Scoring!$A$139,IF(AD35>Scoring!$B$140,Scoring!$A$140,IF(AD35>Scoring!$B$141,Scoring!$A$141,IF(AD35>=Scoring!$B$142,Scoring!$A$142,IF(AD35>Scoring!$B$143,Scoring!$A$143))))))))))","v":"Moderate"},6]
[408,4,"Tributaries - Upper Chena","Condition","Species composition","Presence/absence, extent of invasive species"," High abundance of  invasive/non-native species in most habitats"," Moderate abundance of  invasive/non-native species in most habitats","Low presence of existing invasive/non-native species in most habitats with NO new invasive species  "," Mimimal to no abundance of  invasive/non-native species in most habitats","Good","Good -",{"$f":"IFERROR(INDEX(Outcomes!F:F,MATCH(A36,Outcomes!H:H,0)),\"\")","v":"Good"},null,null,null,null,null,null,null,null,null,null,"Tributaries - Upper Chena|Species composition",null,null,{"$f":"IF(K36=Scoring!$A$45,Scoring!$B$45,IF(K36=Scoring!$A$46,Scoring!$B$46,IF(K36=Scoring!$A$47,Scoring!$B$47,IF(K36=Scoring!$A$48,Scoring!$B$48,IF(K36=Scoring!$A$49,Scoring!$B$49,IF(K36=Scoring!$A$50,Scoring!$B$50))))))","v":80.03},{"$f":"IF(L36=Scoring!$A$45,Scoring!$B$45,IF(L36=Scoring!$A$46,Scoring!$B$46,IF(L36=Scoring!$A$47,Scoring!$B$47,IF(L36=Scoring!$A$48,Scoring!$B$48,IF(L36=Scoring!$A$49,Scoring!$B$49,IF(L36=Scoring!$A$50,Scoring!$B$50))))))","v":60.04},null,19.990000000000002,{"$f":"IF(AD36>Scoring!$B$134,Scoring!$A$134,IF(AD36>Scoring!$B$135,Scoring!$A$135,IF(AD36>Scoring!$B$136,Scoring!$A$136,IF(AD36>Scoring!$B$137,Scoring!$A$137,IF(AD36>Scoring!$B$138,Scoring!$A$138,IF(AD36>Scoring!$B$139,Scoring!$A$139,IF(AD36>Scoring!$B$140,Scoring!$A$140,IF(AD36>Scoring!$B$141,Scoring!$A$141,IF(AD36>=Scoring!$B$142,Scoring!$A$142,IF(AD36>Scoring!$B$143,Scoring!$A$143))))))))))","v":"Moderate"},6]
[409,4,"Tributaries - Upper Chena","Condition","Water quality","Sediment, temperature, DO, toxins, or litter/trash/residues","High % (TBD) not meeting most ADEC's standards "," Moderate habitats meet most ADEC’s standards","Most habitats are meeting most ADEC's standards","Majority to all habitats meet most ADEC’s standards","Good","Fair",{"$f":"IFERROR(INDEX(Outcomes!F:F,MATCH(A37,Outcomes!H:H,0)),\"\")","v":"Good"},null,null,null,null,null,null,null,null,null,null,"Tributaries - Upper Chena|Water quality",null,null,{"$f":"IF(K37=Scoring!$A$45,Scoring!$B$45,IF(K37=Scoring!$A$46,Scoring!$B$46,IF(K37=Scoring!$A$47,Scoring!$B$47,IF(K37=Scoring!$A$48,Scoring!$B$48,IF(K37=Scoring!$A$49,Scoring!$B$49,IF(K37=Scoring!$A$50,Scoring!$B$50))))))","v":80.03},{"$f":"IF(L37=Scoring!$A$45,Scoring!$B$45,IF(L37=Scoring!$A$46,Scoring!$B$46,IF(L37=Scoring!$A$47,Scoring!$B$47,IF(L37=Scoring!$A$48,Scoring!$B$48,IF(L37=Scoring!$A$49,Scoring!$B$49,IF(L37=Scoring!$A$50,Scoring!$B$50))))))","v":40.04},null,39.99,{"$f":"IF(AD37>Scoring!$B$134,Scoring!$A$134,IF(AD37>Scoring!$B$135,Scoring!$A$135,IF(AD37>Scoring!$B$136,Scoring!$A$136,IF(AD37>Scoring!$B$137,Scoring!$A$137,IF(AD37>Scoring!$B$138,Scoring!$A$138,IF(AD37>Scoring!$B$139,Scoring!$A$139,IF(AD37>Scoring!$B$140,Scoring!$A$140,IF(AD37>Scoring!$B$141,Scoring!$A$141,IF(AD37>=Scoring!$B$142,Scoring!$A$142,IF(AD37>Scoring!$B$143,Scoring!$A$143))))))))))","v":"Very Severe"},2]
[410,4,"Tributaries - Upper Chena","Size","Extent of area","Riparian area and river length","Severe, mostly gone","Moderate to substantial loss","Minimal loss","Mother Nature","Good","Good -",{"$f":"IFERROR(INDEX(Outcomes!F:F,MATCH(A38,Outcomes!H:H,0)),\"\")","v":""},null,null,null,null,null,null,null,null,null,null,"Tributaries - Upper Chena|Extent of area",null,null,{"$f":"IF(K38=Scoring!$A$45,Scoring!$B$45,IF(K38=Scoring!$A$46,Scoring!$B$46,IF(K38=Scoring!$A$47,Scoring!$B$47,IF(K38=Scoring!$A$48,Scoring!$B$48,IF(K38=Scoring!$A$49,Scoring!$B$49,IF(K38=Scoring!$A$50,Scoring!$B$50))))))","v":80.03},{"$f":"IF(L38=Scoring!$A$45,Scoring!$B$45,IF(L38=Scoring!$A$46,Scoring!$B$46,IF(L38=Scoring!$A$47,Scoring!$B$47,IF(L38=Scoring!$A$48,Scoring!$B$48,IF(L38=Scoring!$A$49,Scoring!$B$49,IF(L38=Scoring!$A$50,Scoring!$B$50))))))","v":60.04},null,19.990000000000002,{"$f":"IF(AD38>Scoring!$B$134,Scoring!$A$134,IF(AD38>Scoring!$B$135,Scoring!$A$135,IF(AD38>Scoring!$B$136,Scoring!$A$136,IF(AD38>Scoring!$B$137,Scoring!$A$137,IF(AD38>Scoring!$B$138,Scoring!$A$138,IF(AD38>Scoring!$B$139,Scoring!$A$139,IF(AD38>Scoring!$B$140,Scoring!$A$140,IF(AD38>Scoring!$B$141,Scoring!$A$141,IF(AD38>=Scoring!$B$142,Scoring!$A$142,IF(AD38>Scoring!$B$143,Scoring!$A$143))))))))))","v":"Moderate"},6]
[411,4,"Tributaries - Upper Chena",null,null,null,null,null,null,null,null,null,{"$f":"IFERROR(INDEX(Outcomes!F:F,MATCH(A39,Outcomes!H:H,0)),\"\")","v":""},null,null,null,null,null,null,null,null,null,null,"Tributaries - Upper Chena|",null,null,{"$f":"IF(K39=Scoring!$A$45,Scoring!$B$45,IF(K39=Scoring!$A$46,Scoring!$B$46,IF(K39=Scoring!$A$47,Scoring!$B$47,IF(K39=Scoring!$A$48,Scoring!$B$48,IF(K39=Scoring!$A$49,Scoring!$B$49,IF(K39=Scoring!$A$50,Scoring!$B$50))))))","v":false},{"$f":"IF(L39=Scoring!$A$45,Scoring!$B$45,IF(L39=Scoring!$A$46,Scoring!$B$46,IF(L39=Scoring!$A$47,Scoring!$B$47,IF(L39=Scoring!$A$48,Scoring!$B$48,IF(L39=Scoring!$A$49,Scoring!$B$49,IF(L39=Scoring!$A$50,Scoring!$B$50))))))","v":false},null,0,{"$f":"IF(AD39>Scoring!$B$134,Scoring!$A$134,IF(AD39>Scoring!$B$135,Scoring!$A$135,IF(AD39>Scoring!$B$136,Scoring!$A$136,IF(AD39>Scoring!$B$137,Scoring!$A$137,IF(AD39>Scoring!$B$138,Scoring!$A$138,IF(AD39>Scoring!$B$139,Scoring!$A$139,IF(AD39>Scoring!$B$140,Scoring!$A$140,IF(AD39>Scoring!$B$141,Scoring!$A$141,IF(AD39>=Scoring!$B$142,Scoring!$A$142,IF(AD39>Scoring!$B$143,Scoring!$A$143))))))))))","v":"None"},""]
[412,4,"Tributaries - Upper Chena",null,null,null,null,null,null,null,null,null,{"$f":"IFERROR(INDEX(Outcomes!F:F,MATCH(A40,Outcomes!H:H,0)),\"\")","v":""},null,null,null,null,null,null,null,null,null,null,"Tributaries - Upper Chena|",null,null,{"$f":"IF(K40=Scoring!$A$45,Scoring!$B$45,IF(K40=Scoring!$A$46,Scoring!$B$46,IF(K40=Scoring!$A$47,Scoring!$B$47,IF(K40=Scoring!$A$48,Scoring!$B$48,IF(K40=Scoring!$A$49,Scoring!$B$49,IF(K40=Scoring!$A$50,Scoring!$B$50))))))","v":false},{"$f":"IF(L40=Scoring!$A$45,Scoring!$B$45,IF(L40=Scoring!$A$46,Scoring!$B$46,IF(L40=Scoring!$A$47,Scoring!$B$47,IF(L40=Scoring!$A$48,Scoring!$B$48,IF(L40=Scoring!$A$49,Scoring!$B$49,IF(L40=Scoring!$A$50,Scoring!$B$50))))))","v":false},null,0,{"$f":"IF(AD40>Scoring!$B$134,Scoring!$A$134,IF(AD40>Scoring!$B$135,Scoring!$A$135,IF(AD40>Scoring!$B$136,Scoring!$A$136,IF(AD40>Scoring!$B$137,Scoring!$A$137,IF(AD40>Scoring!$B$138,Scoring!$A$138,IF(AD40>Scoring!$B$139,Scoring!$A$139,IF(AD40>Scoring!$B$140,Scoring!$A$140,IF(AD40>Scoring!$B$141,Scoring!$A$141,IF(AD40>=Scoring!$B$142,Scoring!$A$142,IF(AD40>Scoring!$B$143,Scoring!$A$143))))))))))","v":"None"},""]
[413,4,"Tributaries - Upper Chena",null,null,null,null,null,null,null,null,null,{"$f":"IFERROR(INDEX(Outcomes!F:F,MATCH(A41,Outcomes!H:H,0)),\"\")","v":""},null,null,null,null,null,null,null,null,null,null,"Tributaries - Upper Chena|",null,null,{"$f":"IF(K41=Scoring!$A$45,Scoring!$B$45,IF(K41=Scoring!$A$46,Scoring!$B$46,IF(K41=Scoring!$A$47,Scoring!$B$47,IF(K41=Scoring!$A$48,Scoring!$B$48,IF(K41=Scoring!$A$49,Scoring!$B$49,IF(K41=Scoring!$A$50,Scoring!$B$50))))))","v":false},{"$f":"IF(L41=Scoring!$A$45,Scoring!$B$45,IF(L41=Scoring!$A$46,Scoring!$B$46,IF(L41=Scoring!$A$47,Scoring!$B$47,IF(L41=Scoring!$A$48,Scoring!$B$48,IF(L41=Scoring!$A$49,Scoring!$B$49,IF(L41=Scoring!$A$50,Scoring!$B$50))))))","v":false},null,0,{"$f":"IF(AD41>Scoring!$B$134,Scoring!$A$134,IF(AD41>Scoring!$B$135,Scoring!$A$135,IF(AD41>Scoring!$B$136,Scoring!$A$136,IF(AD41>Scoring!$B$137,Scoring!$A$137,IF(AD41>Scoring!$B$138,Scoring!$A$138,IF(AD41>Scoring!$B$139,Scoring!$A$139,IF(AD41>Scoring!$B$140,Scoring!$A$140,IF(AD41>Scoring!$B$141,Scoring!$A$141,IF(AD41>=Scoring!$B$142,Scoring!$A$142,IF(AD41>Scoring!$B$143,Scoring!$A$143))))))))))","v":"None"},""]
[504,5,"Tributaries - Lower Chena","Landscape Context","Connectivity to mainstem river and within tributaries","Number, extent, & type of barriers","Many widespread or complete manmade or natural blockages, Where culverts exist % of red barriers based on ADFG fish passage inventory"," Some widespread or complete manmade or natural blockages, Where culverts exist % of red barriers based on ADFG fish passage inventory","Few widespread or complete manmade or natural blockages, Where culverts exist % of green barriers based on ADFG fish passage inventory"," No widespread or complete manmade or natural blockages,","Fair","Fair -",{"$f":"IFERROR(INDEX(Outcomes!F:F,MATCH(A42,Outcomes!H:H,0)),\"\")","v":"Good -"},null,null,null,null,null,null,null,null,null,null,"Tributaries - Lower Chena|Connectivity to mainstem river and within tributaries",null,null,{"$f":"IF(K42=Scoring!$A$45,Scoring!$B$45,IF(K42=Scoring!$A$46,Scoring!$B$46,IF(K42=Scoring!$A$47,Scoring!$B$47,IF(K42=Scoring!$A$48,Scoring!$B$48,IF(K42=Scoring!$A$49,Scoring!$B$49,IF(K42=Scoring!$A$50,Scoring!$B$50))))))","v":40.04},{"$f":"IF(L42=Scoring!$A$45,Scoring!$B$45,IF(L42=Scoring!$A$46,Scoring!$B$46,IF(L42=Scoring!$A$47,Scoring!$B$47,IF(L42=Scoring!$A$48,Scoring!$B$48,IF(L42=Scoring!$A$49,Scoring!$B$49,IF(L42=Scoring!$A$50,Scoring!$B$50))))))","v":20.03},null,20.009999999999998,{"$f":"IF(AD42>Scoring!$B$134,Scoring!$A$134,IF(AD42>Scoring!$B$135,Scoring!$A$135,IF(AD42>Scoring!$B$136,Scoring!$A$136,IF(AD42>Scoring!$B$137,Scoring!$A$137,IF(AD42>Scoring!$B$138,Scoring!$A$138,IF(AD42>Scoring!$B$139,Scoring!$A$139,IF(AD42>Scoring!$B$140,Scoring!$A$140,IF(AD42>Scoring!$B$141,Scoring!$A$141,IF(AD42>=Scoring!$B$142,Scoring!$A$142,IF(AD42>Scoring!$B$143,Scoring!$A$143))))))))))","v":"High"},3]
[505,5,"Tributaries - Lower Chena","Landscape Context","Hydrologic regime","Natural fluctuations of surface and ground water -amount, frequency, timing, duration","Water levels, flows or fluctuations are too high or too low, not related to the precipitation, and unlikely to maintain nested targets in many habitats within the target area and downstream","Water levels, flows or fluctuations in relationship to precipitation and ground water are likely to maintain nested targets in some habitats within the target and downstream","Water levels, flows or fluctuations in relationship to precipitation and ground water are likely to maintain nested targets in most habitats within the target area and downstream","Water levels, flows or fluctuations in relationship to precipitation and ground water are likely to maintain nested targets in almost all habitats within the target area and downstream","Fair","Fair -",{"$f":"IFERROR(INDEX(Outcomes!F:F,MATCH(A43,Outcomes!H:H,0)),\"\")","v":"Good -"},null,null,null,null,null,null,null,null,null,null,"Tributaries - Lower Chena|Hydrologic regime",null,null,{"$f":"IF(K43=Scoring!$A$45,Scoring!$B$45,IF(K43=Scoring!$A$46,Scoring!$B$46,IF(K43=Scoring!$A$47,Scoring!$B$47,IF(K43=Scoring!$A$48,Scoring!$B$48,IF(K43=Scoring!$A$49,Scoring!$B$49,IF(K43=Scoring!$A$50,Scoring!$B$50))))))","v":40.04},{"$f":"IF(L43=Scoring!$A$45,Scoring!$B$45,IF(L43=Scoring!$A$46,Scoring!$B$46,IF(L43=Scoring!$A$47,Scoring!$B$47,IF(L43=Scoring!$A$48,Scoring!$B$48,IF(L43=Scoring!$A$49,Scoring!$B$49,IF(L43=Scoring!$A$50,Scoring!$B$50))))))","v":20.03},null,20.009999999999998,{"$f":"IF(AD43>Scoring!$B$134,Scoring!$A$134,IF(AD43>Scoring!$B$135,Scoring!$A$135,IF(AD43>Scoring!$B$136,Scoring!$A$136,IF(AD43>Scoring!$B$137,Scoring!$A$137,IF(AD43>Scoring!$B$138,Scoring!$A$138,IF(AD43>Scoring!$B$139,Scoring!$A$139,IF(AD43>Scoring!$B$140,Scoring!$A$140,IF(AD43>Scoring!$B$141,Scoring!$A$141,IF(AD43>=Scoring!$B$142,Scoring!$A$142,IF(AD43>Scoring!$B$143,Scoring!$A$143))))))))))","v":"High"},3]
[506,5,"Tributaries - Lower Chena","Landscape Context","Substrate and banks","Amount, type, size, availability of, & distribution","Low diversity of and abundance of suitable substrates in most habitats"," Moderate diversity of abundance of suitable substrates/material in most habitats","Diversity and abundance of suitable substrates/ material in most habitat for aquatic - "," High diversity and abundance of suitable substrates/ material in most habitat for aquatic species","Fair","Fair",{"$f":"IFERROR(INDEX(Outcomes!F:F,MATCH(A44,Outcomes!H:H,0)),\"\")","v":"Good"},null,null,null,null,null,null,null,null,null,null,"Tributaries - Lower Chena|Substrate and banks",null,null,{"$f":"IF(K44=Scoring!$A$45,Scoring!$B$45,IF(K44=Scoring!$A$46,Scoring!$B$46,IF(K44=Scoring!$A$47,Scoring!$B$47,IF(K44=Scoring!$A$48,Scoring!$B$48,IF(K44=Scoring!$A$49,Scoring!$B$49,IF(K44=Scoring!$A$50,Scoring!$B$50))))))","v":40.04},{"$f":"IF(L44=Scoring!$A$45,Scoring!$B$45,IF(L44=Scoring!$A$46,Scoring!$B$46,IF(L44=Scoring!$A$47,Scoring!$B$47,IF(L44=Scoring!$A$48,Scoring!$B$48,IF(L44=Scoring!$A$49,Scoring!$B$49,IF(L44=Scoring!$A$50,Scoring!$B$50))))))","v":40.04},null,0,{"$f":"IF(AD44>Scoring!$B$134,Scoring!$A$134,IF(AD44>Scoring!$B$135,Scoring!$A$135,IF(AD44>Scoring!$B$136,Scoring!$A$136,IF(AD44>Scoring!$B$137,Scoring!$A$137,IF(AD44>Scoring!$B$138,Scoring!$A$138,IF(AD44>Scoring!$B$139,Scoring!$A$139,IF(AD44>Scoring!$B$140,Scoring!$A$140,IF(AD44>Scoring!$B$141,Scoring!$A$141,IF(AD44>=Scoring!$B$142,Scoring!$A$142,IF(AD44>Scoring!$B$143,Scoring!$A$143))))))))))","v":"None"},7]
[507,5,"Tributaries - Lower Chena","Condition","Characteristic native communities","Presence of characteristic native communities within habitats","Few habitats have the characteristic native communities to accom-modate most nested targets in abundance","Some habitats have the characteristic native communities to accom-modate most nested targets in abundance","Most habitats have the characteristic native communities to accom-modate most nested targets in abundance","Almost all habitats have the characteristic native communities to accom­modate almost all nested targets in abundance","Good","Good -",{"$f":"IFERROR(INDEX(Outcomes!F:F,MATCH(A45,Outcomes!H:H,0)),\"\")","v":"Good -"},null,null,null,null,null,null,null,null,null,null,"Tributaries - Lower Chena|Characteristic native communities",null,null,{"$f":"IF(K45=Scoring!$A$45,Scoring!$B$45,IF(K45=Scoring!$A$46,Scoring!$B$46,IF(K45=Scoring!$A$47,Scoring!$B$47,IF(K45=Scoring!$A$48,Scoring!$B$48,IF(K45=Scoring!$A$49,Scoring!$B$49,IF(K45=Scoring!$A$50,Scoring!$B$50))))))","v":80.03},{"$f":"IF(L45=Scoring!$A$45,Scoring!$B$45,IF(L45=Scoring!$A$46,Scoring!$B$46,IF(L45=Scoring!$A$47,Scoring!$B$47,IF(L45=Scoring!$A$48,Scoring!$B$48,IF(L45=Scoring!$A$49,Scoring!$B$49,IF(L45=Scoring!$A$50,Scoring!$B$50))))))","v":60.04},null,19.990000000000002,{"$f":"IF(AD45>Scoring!$B$134,Scoring!$A$134,IF(AD45>Scoring!$B$135,Scoring!$A$135,IF(AD45>Scoring!$B$136,Scoring!$A$136,IF(AD45>Scoring!$B$137,Scoring!$A$137,IF(AD45>Scoring!$B$138,Scoring!$A$138,IF(AD45>Scoring!$B$139,Scoring!$A$139,IF(AD45>Scoring!$B$140,Scoring!$A$140,IF(AD45>Scoring!$B$141,Scoring!$A$141,IF(AD45>=Scoring!$B$142,Scoring!$A$142,IF(AD45>Scoring!$B$143,Scoring!$A$143))))))))))","v":"Moderate"},6]
[508,5,"Tributaries - Lower Chena","Condition","Species composition","Presence/absence, extent of invasive species","High abundance of  invasive/non-native species in most habitats"," Moderate abundance of  invasive/non-native species in most habitats","Low presence of existing invasive/non-native species in most habitats with NO new invasive species  "," Mimimal to no abundance of  invasive/non-native species in most habitats","Good","Good -",{"$f":"IFERROR(INDEX(Outcomes!F:F,MATCH(A46,Outcomes!H:H,0)),\"\")","v":"Good"},null,null,null,null,null,null,null,null,null,null,"Tributaries - Lower Chena|Species composition",null,null,{"$f":"IF(K46=Scoring!$A$45,Scoring!$B$45,IF(K46=Scoring!$A$46,Scoring!$B$46,IF(K46=Scoring!$A$47,Scoring!$B$47,IF(K46=Scoring!$A$48,Scoring!$B$48,IF(K46=Scoring!$A$49,Scoring!$B$49,IF(K46=Scoring!$A$50,Scoring!$B$50))))))","v":80.03},{"$f":"IF(L46=Scoring!$A$45,Scoring!$B$45,IF(L46=Scoring!$A$46,Scoring!$B$46,IF(L46=Scoring!$A$47,Scoring!$B$47,IF(L46=Scoring!$A$48,Scoring!$B$48,IF(L46=Scoring!$A$49,Scoring!$B$49,IF(L46=Scoring!$A$50,Scoring!$B$50))))))","v":60.04},null,19.990000000000002,{"$f":"IF(AD46>Scoring!$B$134,Scoring!$A$134,IF(AD46>Scoring!$B$135,Scoring!$A$135,IF(AD46>Scoring!$B$136,Scoring!$A$136,IF(AD46>Scoring!$B$137,Scoring!$A$137,IF(AD46>Scoring!$B$138,Scoring!$A$138,IF(AD46>Scoring!$B$139,Scoring!$A$139,IF(AD46>Scoring!$B$140,Scoring!$A$140,IF(AD46>Scoring!$B$141,Scoring!$A$141,IF(AD46>=Scoring!$B$142,Scoring!$A$142,IF(AD46>Scoring!$B$143,Scoring!$A$143))))))))))","v":"Moderate"},6]
[509,5,"Tributaries - Lower Chena","Condition","Water quality","Sediment, temperature, DO, toxins, or litter/trash/residues","High % (TBD) not meeting most ADEC's standards "," Moderate habitats meet most ADEC’s standards","Most habitats are meeting most ADEC's standards","Majority to all habitats meet most ADEC’s standards","Fair","Fair -",{"$f":"IFERROR(INDEX(Outcomes!F:F,MATCH(A47,Outcomes!H:H,0)),\"\")","v":"Good -"},null,null,null,null,null,null,null,null,null,null,"Tributaries - Lower Chena|Water quality",null,null,{"$f":"IF(K47=Scoring!$A$45,Scoring!$B$45,IF(K47=Scoring!$A$46,Scoring!$B$46,IF(K47=Scoring!$A$47,Scoring!$B$47,IF(K47=Scoring!$A$48,Scoring!$B$48,IF(K47=Scoring!$A$49,Scoring!$B$49,IF(K47=Scoring!$A$50,Scoring!$B$50))))))","v":40.04},{"$f":"IF(L47=Scoring!$A$45,Scoring!$B$45,IF(L47=Scoring!$A$46,Scoring!$B$46,IF(L47=Scoring!$A$47,Scoring!$B$47,IF(L47=Scoring!$A$48,Scoring!$B$48,IF(L47=Scoring!$A$49,Scoring!$B$49,IF(L47=Scoring!$A$50,Scoring!$B$50))))))","v":20.03},null,20.009999999999998,{"$f":"IF(AD47>Scoring!$B$134,Scoring!$A$134,IF(AD47>Scoring!$B$135,Scoring!$A$135,IF(AD47>Scoring!$B$136,Scoring!$A$136,IF(AD47>Scoring!$B$137,Scoring!$A$137,IF(AD47>Scoring!$B$138,Scoring!$A$138,IF(AD47>Scoring!$B$139,Scoring!$A$139,IF(AD47>Scoring!$B$140,Scoring!$A$140,IF(AD47>Scoring!$B$141,Scoring!$A$141,IF(AD47>=Scoring!$B$142,Scoring!$A$142,IF(AD47>Scoring!$B$143,Scoring!$A$143))))))))))","v":"High"},3]
[510,5,"Tributaries - Lower Chena","Size","Extent of area","Riparian area and river length","Severe, mostly gone","Moderate to substantial loss","Minimal loss","Mother Nature","Fair","Fair -",{"$f":"IFERROR(INDEX(Outcomes!F:F,MATCH(A48,Outcomes!H:H,0)),\"\")","v":"Good -"},null,null,null,null,null,null,null,null,null,null,"Tributaries - Lower Chena|Extent of area",null,null,{"$f":"IF(K48=Scoring!$A$45,Scoring!$B$45,IF(K48=Scoring!$A$46,Scoring!$B$46,IF(K48=Scoring!$A$47,Scoring!$B$47,IF(K48=Scoring!$A$48,Scoring!$B$48,IF(K48=Scoring!$A$49,Scoring!$B$49,IF(K48=Scoring!$A$50,Scoring!$B$50))))))","v":40.04},{"$f":"IF(L48=Scoring!$A$45,Scoring!$B$45,IF(L48=Scoring!$A$46,Scoring!$B$46,IF(L48=Scoring!$A$47,Scoring!$B$47,IF(L48=Scoring!$A$48,Scoring!$B$48,IF(L48=Scoring!$A$49,Scoring!$B$49,IF(L48=Scoring!$A$50,Scoring!$B$50))))))","v":20.03},null,20.009999999999998,{"$f":"IF(AD48>Scoring!$B$134,Scoring!$A$134,IF(AD48>Scoring!$B$135,Scoring!$A$135,IF(AD48>Scoring!$B$136,Scoring!$A$136,IF(AD48>Scoring!$B$137,Scoring!$A$137,IF(AD48>Scoring!$B$138,Scoring!$A$138,IF(AD48>Scoring!$B$139,Scoring!$A$139,IF(AD48>Scoring!$B$140,Scoring!$A$140,IF(AD48>Scoring!$B$141,Scoring!$A$141,IF(AD48>=Scoring!$B$142,Scoring!$A$142,IF(AD48>Scoring!$B$143,Scoring!$A$143))))))))))","v":"High"},3]
[511,5,"Tributaries - Lower Chena",null,null,null,null,null,null,null,null,null,{"$f":"IFERROR(INDEX(Outcomes!F:F,MATCH(A49,Outcomes!H:H,0)),\"\")","v":""},null,null,null,null,null,null,null,null,null,null,"Tributaries - Lower Chena|",null,null,{"$f":"IF(K49=Scoring!$A$45,Scoring!$B$45,IF(K49=Scoring!$A$46,Scoring!$B$46,IF(K49=Scoring!$A$47,Scoring!$B$47,IF(K49=Scoring!$A$48,Scoring!$B$48,IF(K49=Scoring!$A$49,Scoring!$B$49,IF(K49=Scoring!$A$50,Scoring!$B$50))))))","v":false},{"$f":"IF(L49=Scoring!$A$45,Scoring!$B$45,IF(L49=Scoring!$A$46,Scoring!$B$46,IF(L49=Scoring!$A$47,Scoring!$B$47,IF(L49=Scoring!$A$48,Scoring!$B$48,IF(L49=Scoring!$A$49,Scoring!$B$49,IF(L49=Scoring!$A$50,Scoring!$B$50))))))","v":false},null,0,{"$f":"IF(AD49>Scoring!$B$134,Scoring!$A$134,IF(AD49>Scoring!$B$135,Scoring!$A$135,IF(AD49>Scoring!$B$136,Scoring!$A$136,IF(AD49>Scoring!$B$137,Scoring!$A$137,IF(AD49>Scoring!$B$138,Scoring!$A$138,IF(AD49>Scoring!$B$139,Scoring!$A$139,IF(AD49>Scoring!$B$140,Scoring!$A$140,IF(AD49>Scoring!$B$141,Scoring!$A$141,IF(AD49>=Scoring!$B$142,Scoring!$A$142,IF(AD49>Scoring!$B$143,Scoring!$A$143))))))))))","v":"None"},""]
[512,5,"Tributaries - Lower Chena",null,null,null,null,null,null,null,null,null,{"$f":"IFERROR(INDEX(Outcomes!F:F,MATCH(A50,Outcomes!H:H,0)),\"\")","v":""},null,null,null,null,null,null,null,null,null,null,"Tributaries - Lower Chena|",null,null,{"$f":"IF(K50=Scoring!$A$45,Scoring!$B$45,IF(K50=Scoring!$A$46,Scoring!$B$46,IF(K50=Scoring!$A$47,Scoring!$B$47,IF(K50=Scoring!$A$48,Scoring!$B$48,IF(K50=Scoring!$A$49,Scoring!$B$49,IF(K50=Scoring!$A$50,Scoring!$B$50))))))","v":false},{"$f":"IF(L50=Scoring!$A$45,Scoring!$B$45,IF(L50=Scoring!$A$46,Scoring!$B$46,IF(L50=Scoring!$A$47,Scoring!$B$47,IF(L50=Scoring!$A$48,Scoring!$B$48,IF(L50=Scoring!$A$49,Scoring!$B$49,IF(L50=Scoring!$A$50,Scoring!$B$50))))))","v":false},null,0,{"$f":"IF(AD50>Scoring!$B$134,Scoring!$A$134,IF(AD50>Scoring!$B$135,Scoring!$A$135,IF(AD50>Scoring!$B$136,Scoring!$A$136,IF(AD50>Scoring!$B$137,Scoring!$A$137,IF(AD50>Scoring!$B$138,Scoring!$A$138,IF(AD50>Scoring!$B$139,Scoring!$A$139,IF(AD50>Scoring!$B$140,Scoring!$A$140,IF(AD50>Scoring!$B$141,Scoring!$A$141,IF(AD50>=Scoring!$B$142,Scoring!$A$142,IF(AD50>Scoring!$B$143,Scoring!$A$143))))))))))","v":"None"},""]
[513,5,"Tributaries - Lower Chena",null,null,null,null,null,null,null,null,null,{"$f":"IFERROR(INDEX(Outcomes!F:F,MATCH(A51,Outcomes!H:H,0)),\"\")","v":""},null,null,null,null,null,null,null,null,null,null,"Tributaries - Lower Chena|",null,null,{"$f":"IF(K51=Scoring!$A$45,Scoring!$B$45,IF(K51=Scoring!$A$46,Scoring!$B$46,IF(K51=Scoring!$A$47,Scoring!$B$47,IF(K51=Scoring!$A$48,Scoring!$B$48,IF(K51=Scoring!$A$49,Scoring!$B$49,IF(K51=Scoring!$A$50,Scoring!$B$50))))))","v":false},{"$f":"IF(L51=Scoring!$A$45,Scoring!$B$45,IF(L51=Scoring!$A$46,Scoring!$B$46,IF(L51=Scoring!$A$47,Scoring!$B$47,IF(L51=Scoring!$A$48,Scoring!$B$48,IF(L51=Scoring!$A$49,Scoring!$B$49,IF(L51=Scoring!$A$50,Scoring!$B$50))))))","v":false},null,0,{"$f":"IF(AD51>Scoring!$B$134,Scoring!$A$134,IF(AD51>Scoring!$B$135,Scoring!$A$135,IF(AD51>Scoring!$B$136,Scoring!$A$136,IF(AD51>Scoring!$B$137,Scoring!$A$137,IF(AD51>Scoring!$B$138,Scoring!$A$138,IF(AD51>Scoring!$B$139,Scoring!$A$139,IF(AD51>Scoring!$B$140,Scoring!$A$140,IF(AD51>Scoring!$B$141,Scoring!$A$141,IF(AD51>=Scoring!$B$142,Scoring!$A$142,IF(AD51>Scoring!$B$143,Scoring!$A$143))))))))))","v":"None"},""]
[604,6,"Sloughs and Wetlands - Upper Chena","Landscape Context","Connectivity to mainstem river and tributaries","Number, extent, & type of barriers","Many widespread or complete manmade or natural blockages, Where culverts exist % of red barriers based on ADFG fish passage inventory"," Some widespread or complete manmade or natural blockages, Where culverts exist % of red barriers based on ADFG fish passage inventory","Few widespread or complete manmade or natural blockages, Where culverts exist % of green barriers based on ADFG fish passage inventory"," No widespread or complete manmade or natural blockages,","Fair","Fair -",{"$f":"IFERROR(INDEX(Outcomes!F:F,MATCH(A52,Outcomes!H:H,0)),\"\")","v":"Good -"},null,null,null,null,null,null,null,null,null,null,"Sloughs and Wetlands - Upper Chena|Connectivity to mainstem river and tributaries",null,null,{"$f":"IF(K52=Scoring!$A$45,Scoring!$B$45,IF(K52=Scoring!$A$46,Scoring!$B$46,IF(K52=Scoring!$A$47,Scoring!$B$47,IF(K52=Scoring!$A$48,Scoring!$B$48,IF(K52=Scoring!$A$49,Scoring!$B$49,IF(K52=Scoring!$A$50,Scoring!$B$50))))))","v":40.04},{"$f":"IF(L52=Scoring!$A$45,Scoring!$B$45,IF(L52=Scoring!$A$46,Scoring!$B$46,IF(L52=Scoring!$A$47,Scoring!$B$47,IF(L52=Scoring!$A$48,Scoring!$B$48,IF(L52=Scoring!$A$49,Scoring!$B$49,IF(L52=Scoring!$A$50,Scoring!$B$50))))))","v":20.03},null,20.009999999999998,{"$f":"IF(AD52>Scoring!$B$134,Scoring!$A$134,IF(AD52>Scoring!$B$135,Scoring!$A$135,IF(AD52>Scoring!$B$136,Scoring!$A$136,IF(AD52>Scoring!$B$137,Scoring!$A$137,IF(AD52>Scoring!$B$138,Scoring!$A$138,IF(AD52>Scoring!$B$139,Scoring!$A$139,IF(AD52>Scoring!$B$140,Scoring!$A$140,IF(AD52>Scoring!$B$141,Scoring!$A$141,IF(AD52>=Scoring!$B$142,Scoring!$A$142,IF(AD52>Scoring!$B$143,Scoring!$A$143))))))))))","v":"High"},3]
[605,6,"Sloughs and Wetlands - Upper Chena","Landscape Context","Hydrologic regime","Natural fluctuations of surface and ground water -amount, frequency, timing, duration","Water levels, flows or fluctuations are too high or too low, not related to the precipitation, and unlikely to maintain nested targets in many habitats within the target area and downstream","Water levels, flows or fluctuations in relationship to precipitation and ground water are likely to maintain nested targets in some habitats within the target and downstream","Water levels, flows or fluctuations in relationship to precipitation and ground water are likely to maintain nested targets in most habitats within the target area and downstream","Water levels, flows or fluctuations in relationship to precipitation and ground water are likely to maintain nested targets in almost all habitats within the target area and downstream","Good","Good -",{"$f":"IFERROR(INDEX(Outcomes!F:F,MATCH(A53,Outcomes!H:H,0)),\"\")","v":"Good"},null,null,null,null,null,null,null,null,null,null,"Sloughs and Wetlands - Upper Chena|Hydrologic regime",null,null,{"$f":"IF(K53=Scoring!$A$45,Scoring!$B$45,IF(K53=Scoring!$A$46,Scoring!$B$46,IF(K53=Scoring!$A$47,Scoring!$B$47,IF(K53=Scoring!$A$48,Scoring!$B$48,IF(K53=Scoring!$A$49,Scoring!$B$49,IF(K53=Scoring!$A$50,Scoring!$B$50))))))","v":80.03},{"$f":"IF(L53=Scoring!$A$45,Scoring!$B$45,IF(L53=Scoring!$A$46,Scoring!$B$46,IF(L53=Scoring!$A$47,Scoring!$B$47,IF(L53=Scoring!$A$48,Scoring!$B$48,IF(L53=Scoring!$A$49,Scoring!$B$49,IF(L53=Scoring!$A$50,Scoring!$B$50))))))","v":60.04},null,19.990000000000002,{"$f":"IF(AD53>Scoring!$B$134,Scoring!$A$134,IF(AD53>Scoring!$B$135,Scoring!$A$135,IF(AD53>Scoring!$B$136,Scoring!$A$136,IF(AD53>Scoring!$B$137,Scoring!$A$137,IF(AD53>Scoring!$B$138,Scoring!$A$138,IF(AD53>Scoring!$B$139,Scoring!$A$139,IF(AD53>Scoring!$B$140,Scoring!$A$140,IF(AD53>Scoring!$B$141,Scoring!$A$141,IF(AD53>=Scoring!$B$142,Scoring!$A$142,IF(AD53>Scoring!$B$143,Scoring!$A$143))))))))))","v":"Moderate"},6]
[606,6,"Sloughs and Wetlands - Upper Chena","Landscape Context","Substrate and banks","Amount, type, size, availability of, & distribution","Low diversity of and abundance of suitable substrates in most habitats"," Moderate diversity of abundance of suitable substrates/material in most habitats","Diversity and abundance of suitable substrates/ material in most habitat for aquatic - "," High diversity and abundance of suitable substrates/ material in most habitat for aquatic species","Good","Good -",{"$f":"IFERROR(INDEX(Outcomes!F:F,MATCH(A54,Outcomes!H:H,0)),\"\")","v":""},null,null,null,null,null,null,null,null,null,null,"Sloughs and Wetlands - Upper Chena|Substrate and banks",null,null,{"$f":"IF(K54=Scoring!$A$45,Scoring!$B$45,IF(K54=Scoring!$A$46,Scoring!$B$46,IF(K54=Scoring!$A$47,Scoring!$B$47,IF(K54=Scoring!$A$48,Scoring!$B$48,IF(K54=Scoring!$A$49,Scoring!$B$49,IF(K54=Scoring!$A$50,Scoring!$B$50))))))","v":80.03},{"$f":"IF(L54=Scoring!$A$45,Scoring!$B$45,IF(L54=Scoring!$A$46,Scoring!$B$46,IF(L54=Scoring!$A$47,Scoring!$B$47,IF(L54=Scoring!$A$48,Scoring!$B$48,IF(L54=Scoring!$A$49,Scoring!$B$49,IF(L54=Scoring!$A$50,Scoring!$B$50))))))","v":60.04},null,19.990000000000002,{"$f":"IF(AD54>Scoring!$B$134,Scoring!$A$134,IF(AD54>Scoring!$B$135,Scoring!$A$135,IF(AD54>Scoring!$B$136,Scoring!$A$136,IF(AD54>Scoring!$B$137,Scoring!$A$137,IF(AD54>Scoring!$B$138,Scoring!$A$138,IF(AD54>Scoring!$B$139,Scoring!$A$139,IF(AD54>Scoring!$B$140,Scoring!$A$140,IF(AD54>Scoring!$B$141,Scoring!$A$141,IF(AD54>=Scoring!$B$142,Scoring!$A$142,IF(AD54>Scoring!$B$143,Scoring!$A$143))))))))))","v":"Moderate"},6]
[607,6,"Sloughs and Wetlands - Upper Chena","Condition","Characteristic native communities","Presence of characteristic native communities within habitats","Few habitats have the characteristic native communities to accom-modate most nested targets in abundance","Some habitats have the characteristic native communities to accom-modate most nested targets in abundance","Most habitats have the characteristic native communities to accom-modate most nested targets in abundance","Almost all habitats have the characteristic native communities to accom­modate almost all nested targets in abundance","Good","Good -",{"$f":"IFERROR(INDEX(Outcomes!F:F,MATCH(A55,Outcomes!H:H,0)),\"\")","v":""},null,null,null,null,null,null,null,null,null,null,"Sloughs and Wetlands - Upper Chena|Characteristic native communities",null,null,{"$f":"IF(K55=Scoring!$A$45,Scoring!$B$45,IF(K55=Scoring!$A$46,Scoring!$B$46,IF(K55=Scoring!$A$47,Scoring!$B$47,IF(K55=Scoring!$A$48,Scoring!$B$48,IF(K55=Scoring!$A$49,Scoring!$B$49,IF(K55=Scoring!$A$50,Scoring!$B$50))))))","v":80.03},{"$f":"IF(L55=Scoring!$A$45,Scoring!$B$45,IF(L55=Scoring!$A$46,Scoring!$B$46,IF(L55=Scoring!$A$47,Scoring!$B$47,IF(L55=Scoring!$A$48,Scoring!$B$48,IF(L55=Scoring!$A$49,Scoring!$B$49,IF(L55=Scoring!$A$50,Scoring!$B$50))))))","v":60.04},null,19.990000000000002,{"$f":"IF(AD55>Scoring!$B$134,Scoring!$A$134,IF(AD55>Scoring!$B$135,Scoring!$A$135,IF(AD55>Scoring!$B$136,Scoring!$A$136,IF(AD55>Scoring!$B$137,Scoring!$A$137,IF(AD55>Scoring!$B$138,Scoring!$A$138,IF(AD55>Scoring!$B$139,Scoring!$A$139,IF(AD55>Scoring!$B$140,Scoring!$A$140,IF(AD55>Scoring!$B$141,Scoring!$A$141,IF(AD55>=Scoring!$B$142,Scoring!$A$142,IF(AD55>Scoring!$B$143,Scoring!$A$143))))))))))","v":"Moderate"},6]
[608,6,"Sloughs and Wetlands - Upper Chena","Condition","Species composition","Presence/absence, extent of invasive species"," High abundance of  invasive/non-native species in most habitats"," Moderate abundance of  invasive/non-native species in most habitats","Low presence of existing invasive/non-native species in most habitats with NO new invasive species  "," Mimimal to no abundance of  invasive/non-native species in most habitats","Good","Good -",{"$f":"IFERROR(INDEX(Outcomes!F:F,MATCH(A56,Outcomes!H:H,0)),\"\")","v":"Good"},null,null,null,null,null,null,null,null,null,null,"Sloughs and Wetlands - Upper Chena|Species composition",null,null,{"$f":"IF(K56=Scoring!$A$45,Scoring!$B$45,IF(K56=Scoring!$A$46,Scoring!$B$46,IF(K56=Scoring!$A$47,Scoring!$B$47,IF(K56=Scoring!$A$48,Scoring!$B$48,IF(K56=Scoring!$A$49,Scoring!$B$49,IF(K56=Scoring!$A$50,Scoring!$B$50))))))","v":80.03},{"$f":"IF(L56=Scoring!$A$45,Scoring!$B$45,IF(L56=Scoring!$A$46,Scoring!$B$46,IF(L56=Scoring!$A$47,Scoring!$B$47,IF(L56=Scoring!$A$48,Scoring!$B$48,IF(L56=Scoring!$A$49,Scoring!$B$49,IF(L56=Scoring!$A$50,Scoring!$B$50))))))","v":60.04},null,19.990000000000002,{"$f":"IF(AD56>Scoring!$B$134,Scoring!$A$134,IF(AD56>Scoring!$B$135,Scoring!$A$135,IF(AD56>Scoring!$B$136,Scoring!$A$136,IF(AD56>Scoring!$B$137,Scoring!$A$137,IF(AD56>Scoring!$B$138,Scoring!$A$138,IF(AD56>Scoring!$B$139,Scoring!$A$139,IF(AD56>Scoring!$B$140,Scoring!$A$140,IF(AD56>Scoring!$B$141,Scoring!$A$141,IF(AD56>=Scoring!$B$142,Scoring!$A$142,IF(AD56>Scoring!$B$143,Scoring!$A$143))))))))))","v":"Moderate"},6]
[609,6,"Sloughs and Wetlands - Upper Chena","Condition","Water quality","Temperature, DO, toxins, or litter/trash/residues","High % (TBD) not meeting most ADEC's standards "," Moderate habitats meet most ADEC’s standards","Most habitats are meeting most ADEC's standards","Majority to all habitats meet most ADEC’s standards","Good","Good -",{"$f":"IFERROR(INDEX(Outcomes!F:F,MATCH(A57,Outcomes!H:H,0)),\"\")","v":"Good -"},null,null,null,null,null,null,null,null,null,null,"Sloughs and Wetlands - Upper Chena|Water quality",null,null,{"$f":"IF(K57=Scoring!$A$45,Scoring!$B$45,IF(K57=Scoring!$A$46,Scoring!$B$46,IF(K57=Scoring!$A$47,Scoring!$B$47,IF(K57=Scoring!$A$48,Scoring!$B$48,IF(K57=Scoring!$A$49,Scoring!$B$49,IF(K57=Scoring!$A$50,Scoring!$B$50))))))","v":80.03},{"$f":"IF(L57=Scoring!$A$45,Scoring!$B$45,IF(L57=Scoring!$A$46,Scoring!$B$46,IF(L57=Scoring!$A$47,Scoring!$B$47,IF(L57=Scoring!$A$48,Scoring!$B$48,IF(L57=Scoring!$A$49,Scoring!$B$49,IF(L57=Scoring!$A$50,Scoring!$B$50))))))","v":60.04},null,19.990000000000002,{"$f":"IF(AD57>Scoring!$B$134,Scoring!$A$134,IF(AD57>Scoring!$B$135,Scoring!$A$135,IF(AD57>Scoring!$B$136,Scoring!$A$136,IF(AD57>Scoring!$B$137,Scoring!$A$137,IF(AD57>Scoring!$B$138,Scoring!$A$138,IF(AD57>Scoring!$B$139,Scoring!$A$139,IF(AD57>Scoring!$B$140,Scoring!$A$140,IF(AD57>Scoring!$B$141,Scoring!$A$141,IF(AD57>=Scoring!$B$142,Scoring!$A$142,IF(AD57>Scoring!$B$143,Scoring!$A$143))))))))))","v":"Moderate"},6]
[610,6,"Sloughs and Wetlands - Upper Chena","Size","Extent of area","Acres of habitat types","Severe, mostly gone","Moderate to substantial loss","Minimal loss","Mother Nature","Good","Fair",{"$f":"IFERROR(INDEX(Outcomes!F:F,MATCH(A58,Outcomes!H:H,0)),\"\")","v":"Good"},null,null,null,null,null,null,null,null,null,null,"Sloughs and Wetlands - Upper Chena|Extent of area",null,null,{"$f":"IF(K58=Scoring!$A$45,Scoring!$B$45,IF(K58=Scoring!$A$46,Scoring!$B$46,IF(K58=Scoring!$A$47,Scoring!$B$47,IF(K58=Scoring!$A$48,Scoring!$B$48,IF(K58=Scoring!$A$49,Scoring!$B$49,IF(K58=Scoring!$A$50,Scoring!$B$50))))))","v":80.03},{"$f":"IF(L58=Scoring!$A$45,Scoring!$B$45,IF(L58=Scoring!$A$46,Scoring!$B$46,IF(L58=Scoring!$A$47,Scoring!$B$47,IF(L58=Scoring!$A$48,Scoring!$B$48,IF(L58=Scoring!$A$49,Scoring!$B$49,IF(L58=Scoring!$A$50,Scoring!$B$50))))))","v":40.04},null,39.99,{"$f":"IF(AD58>Scoring!$B$134,Scoring!$A$134,IF(AD58>Scoring!$B$135,Scoring!$A$135,IF(AD58>Scoring!$B$136,Scoring!$A$136,IF(AD58>Scoring!$B$137,Scoring!$A$137,IF(AD58>Scoring!$B$138,Scoring!$A$138,IF(AD58>Scoring!$B$139,Scoring!$A$139,IF(AD58>Scoring!$B$140,Scoring!$A$140,IF(AD58>Scoring!$B$141,Scoring!$A$141,IF(AD58>=Scoring!$B$142,Scoring!$A$142,IF(AD58>Scoring!$B$143,Scoring!$A$143))))))))))","v":"Very Severe"},2]
[611,6,"Sloughs and Wetlands - Upper Chena",null,null,null,null,null,null,null,null,null,{"$f":"IFERROR(INDEX(Outcomes!F:F,MATCH(A59,Outcomes!H:H,0)),\"\")","v":""},null,null,null,null,null,null,null,null,null,null,"Sloughs and Wetlands - Upper Chena|",null,null,{"$f":"IF(K59=Scoring!$A$45,Scoring!$B$45,IF(K59=Scoring!$A$46,Scoring!$B$46,IF(K59=Scoring!$A$47,Scoring!$B$47,IF(K59=Scoring!$A$48,Scoring!$B$48,IF(K59=Scoring!$A$49,Scoring!$B$49,IF(K59=Scoring!$A$50,Scoring!$B$50))))))","v":false},{"$f":"IF(L59=Scoring!$A$45,Scoring!$B$45,IF(L59=Scoring!$A$46,Scoring!$B$46,IF(L59=Scoring!$A$47,Scoring!$B$47,IF(L59=Scoring!$A$48,Scoring!$B$48,IF(L59=Scoring!$A$49,Scoring!$B$49,IF(L59=Scoring!$A$50,Scoring!$B$50))))))","v":false},null,0,{"$f":"IF(AD59>Scoring!$B$134,Scoring!$A$134,IF(AD59>Scoring!$B$135,Scoring!$A$135,IF(AD59>Scoring!$B$136,Scoring!$A$136,IF(AD59>Scoring!$B$137,Scoring!$A$137,IF(AD59>Scoring!$B$138,Scoring!$A$138,IF(AD59>Scoring!$B$139,Scoring!$A$139,IF(AD59>Scoring!$B$140,Scoring!$A$140,IF(AD59>Scoring!$B$141,Scoring!$A$141,IF(AD59>=Scoring!$B$142,Scoring!$A$142,IF(AD59>Scoring!$B$143,Scoring!$A$143))))))))))","v":"None"},""]
[612,6,"Sloughs and Wetlands - Upper Chena",null,null,null,null,null,null,null,null,null,{"$f":"IFERROR(INDEX(Outcomes!F:F,MATCH(A60,Outcomes!H:H,0)),\"\")","v":""},null,null,null,null,null,null,null,null,null,null,"Sloughs and Wetlands - Upper Chena|",null,null,{"$f":"IF(K60=Scoring!$A$45,Scoring!$B$45,IF(K60=Scoring!$A$46,Scoring!$B$46,IF(K60=Scoring!$A$47,Scoring!$B$47,IF(K60=Scoring!$A$48,Scoring!$B$48,IF(K60=Scoring!$A$49,Scoring!$B$49,IF(K60=Scoring!$A$50,Scoring!$B$50))))))","v":false},{"$f":"IF(L60=Scoring!$A$45,Scoring!$B$45,IF(L60=Scoring!$A$46,Scoring!$B$46,IF(L60=Scoring!$A$47,Scoring!$B$47,IF(L60=Scoring!$A$48,Scoring!$B$48,IF(L60=Scoring!$A$49,Scoring!$B$49,IF(L60=Scoring!$A$50,Scoring!$B$50))))))","v":false},null,0,{"$f":"IF(AD60>Scoring!$B$134,Scoring!$A$134,IF(AD60>Scoring!$B$135,Scoring!$A$135,IF(AD60>Scoring!$B$136,Scoring!$A$136,IF(AD60>Scoring!$B$137,Scoring!$A$137,IF(AD60>Scoring!$B$138,Scoring!$A$138,IF(AD60>Scoring!$B$139,Scoring!$A$139,IF(AD60>Scoring!$B$140,Scoring!$A$140,IF(AD60>Scoring!$B$141,Scoring!$A$141,IF(AD60>=Scoring!$B$142,Scoring!$A$142,IF(AD60>Scoring!$B$143,Scoring!$A$143))))))))))","v":"None"},""]
[613,6,"Sloughs and Wetlands - Upper Chena",null,null,null,null,null,null,null,null,null,{"$f":"IFERROR(INDEX(Outcomes!F:F,MATCH(A61,Outcomes!H:H,0)),\"\")","v":""},null,null,null,null,null,null,null,null,null,null,"Sloughs and Wetlands - Upper Chena|",null,null,{"$f":"IF(K61=Scoring!$A$45,Scoring!$B$45,IF(K61=Scoring!$A$46,Scoring!$B$46,IF(K61=Scoring!$A$47,Scoring!$B$47,IF(K61=Scoring!$A$48,Scoring!$B$48,IF(K61=Scoring!$A$49,Scoring!$B$49,IF(K61=Scoring!$A$50,Scoring!$B$50))))))","v":false},{"$f":"IF(L61=Scoring!$A$45,Scoring!$B$45,IF(L61=Scoring!$A$46,Scoring!$B$46,IF(L61=Scoring!$A$47,Scoring!$B$47,IF(L61=Scoring!$A$48,Scoring!$B$48,IF(L61=Scoring!$A$49,Scoring!$B$49,IF(L61=Scoring!$A$50,Scoring!$B$50))))))","v":false},null,0,{"$f":"IF(AD61>Scoring!$B$134,Scoring!$A$134,IF(AD61>Scoring!$B$135,Scoring!$A$135,IF(AD61>Scoring!$B$136,Scoring!$A$136,IF(AD61>Scoring!$B$137,Scoring!$A$137,IF(AD61>Scoring!$B$138,Scoring!$A$138,IF(AD61>Scoring!$B$139,Scoring!$A$139,IF(AD61>Scoring!$B$140,Scoring!$A$140,IF(AD61>Scoring!$B$141,Scoring!$A$141,IF(AD61>=Scoring!$B$142,Scoring!$A$142,IF(AD61>Scoring!$B$143,Scoring!$A$143))))))))))","v":"None"},""]
[704,7,"Sloughs and Wetlands - Lower Chena","Landscape Context","Connectivity to mainstem river and tributaries","Number, extent, & type of barriers","Many widespread or complete manmade or natural blockages, Where culverts exist % of red barriers based on ADFG fish passage inventory"," Some widespread or complete manmade or natural blockages, Where culverts exist % of red barriers based on ADFG fish passage inventory","Few widespread or complete manmade or natural blockages, Where culverts exist % of green barriers based on ADFG fish passage inventory"," No widespread or complete manmade or natural blockages,","Fair","Fair -",{"$f":"IFERROR(INDEX(Outcomes!F:F,MATCH(A62,Outcomes!H:H,0)),\"\")","v":"Good -"},null,null,null,null,null,null,null,null,null,null,"Sloughs and Wetlands - Lower Chena|Connectivity to mainstem river and tributaries",null,null,{"$f":"IF(K62=Scoring!$A$45,Scoring!$B$45,IF(K62=Scoring!$A$46,Scoring!$B$46,IF(K62=Scoring!$A$47,Scoring!$B$47,IF(K62=Scoring!$A$48,Scoring!$B$48,IF(K62=Scoring!$A$49,Scoring!$B$49,IF(K62=Scoring!$A$50,Scoring!$B$50))))))","v":40.04},{"$f":"IF(L62=Scoring!$A$45,Scoring!$B$45,IF(L62=Scoring!$A$46,Scoring!$B$46,IF(L62=Scoring!$A$47,Scoring!$B$47,IF(L62=Scoring!$A$48,Scoring!$B$48,IF(L62=Scoring!$A$49,Scoring!$B$49,IF(L62=Scoring!$A$50,Scoring!$B$50))))))","v":20.03},null,20.009999999999998,{"$f":"IF(AD62>Scoring!$B$134,Scoring!$A$134,IF(AD62>Scoring!$B$135,Scoring!$A$135,IF(AD62>Scoring!$B$136,Scoring!$A$136,IF(AD62>Scoring!$B$137,Scoring!$A$137,IF(AD62>Scoring!$B$138,Scoring!$A$138,IF(AD62>Scoring!$B$139,Scoring!$A$139,IF(AD62>Scoring!$B$140,Scoring!$A$140,IF(AD62>Scoring!$B$141,Scoring!$A$141,IF(AD62>=Scoring!$B$142,Scoring!$A$142,IF(AD62>Scoring!$B$143,Scoring!$A$143))))))))))","v":"High"},3]
[705,7,"Sloughs and Wetlands - Lower Chena","Landscape Context","Hydrologic regime","Natural fluctuations of surface and ground water -amount, frequency, timing, duration","Water levels, flows or fluctuations are too high or too low, not related to the precipitation, and unlikely to maintain nested targets in many habitats within the target area and downstream","Water levels, flows or fluctuations in relationship to precipitation and ground water are likely to maintain nested targets in some habitats within the target and downstream","Water levels, flows or fluctuations in relationship to precipitation and ground water are likely to maintain nested targets in most habitats within the target area and downstream","Water levels, flows or fluctuations in relationship to precipitation and ground water are likely to maintain nested targets in almost all habitats within the target area and downstream","Fair","Fair -",{"$f":"IFERROR(INDEX(Outcomes!F:F,MATCH(A63,Outcomes!H:H,0)),\"\")","v":"Good -"},null,null,null,null,null,null,null,null,null,null,"Sloughs and Wetlands - Lower Chena|Hydrologic regime",null,null,{"$f":"IF(K63=Scoring!$A$45,Scoring!$B$45,IF(K63=Scoring!$A$46,Scoring!$B$46,IF(K63=Scoring!$A$47,Scoring!$B$47,IF(K63=Scoring!$A$48,Scoring!$B$48,IF(K63=Scoring!$A$49,Scoring!$B$49,IF(K63=Scoring!$A$50,Scoring!$B$50))))))","v":40.04},{"$f":"IF(L63=Scoring!$A$45,Scoring!$B$45,IF(L63=Scoring!$A$46,Scoring!$B$46,IF(L63=Scoring!$A$47,Scoring!$B$47,IF(L63=Scoring!$A$48,Scoring!$B$48,IF(L63=Scoring!$A$49,Scoring!$B$49,IF(L63=Scoring!$A$50,Scoring!$B$50))))))","v":20.03},null,20.009999999999998,{"$f":"IF(AD63>Scoring!$B$134,Scoring!$A$134,IF(AD63>Scoring!$B$135,Scoring!$A$135,IF(AD63>Scoring!$B$136,Scoring!$A$136,IF(AD63>Scoring!$B$137,Scoring!$A$137,IF(AD63>Scoring!$B$138,Scoring!$A$138,IF(AD63>Scoring!$B$139,Scoring!$A$139,IF(AD63>Scoring!$B$140,Scoring!$A$140,IF(AD63>Scoring!$B$141,Scoring!$A$141,IF(AD63>=Scoring!$B$142,Scoring!$A$142,IF(AD63>Scoring!$B$143,Scoring!$A$143))))))))))","v":"High"},3]
[706,7,"Sloughs and Wetlands - Lower Chena","Landscape Context","Substrate and banks","Amount, type, size, availability of, & distribution","Low diversity of and abundance of suitable substrates in most habitats"," Moderate diversity of abundance of suitable substrates/material in most habitats","Diversity and abundance of suitable substrates/ material in most habitat for aquatic - "," High diversity and abundance of suitable substrates/ material in most habitat for aquatic species","Fair","Fair",{"$f":"IFERROR(INDEX(Outcomes!F:F,MATCH(A64,Outcomes!H:H,0)),\"\")","v":"Good"},null,null,null,null,null,null,null,null,null,null,"Sloughs and Wetlands - Lower Chena|Substrate and banks",null,null,{"$f":"IF(K64=Scoring!$A$45,Scoring!$B$45,IF(K64=Scoring!$A$46,Scoring!$B$46,IF(K64=Scoring!$A$47,Scoring!$B$47,IF(K64=Scoring!$A$48,Scoring!$B$48,IF(K64=Scoring!$A$49,Scoring!$B$49,IF(K64=Scoring!$A$50,Scoring!$B$50))))))","v":40.04},{"$f":"IF(L64=Scoring!$A$45,Scoring!$B$45,IF(L64=Scoring!$A$46,Scoring!$B$46,IF(L64=Scoring!$A$47,Scoring!$B$47,IF(L64=Scoring!$A$48,Scoring!$B$48,IF(L64=Scoring!$A$49,Scoring!$B$49,IF(L64=Scoring!$A$50,Scoring!$B$50))))))","v":40.04},null,0,{"$f":"IF(AD64>Scoring!$B$134,Scoring!$A$134,IF(AD64>Scoring!$B$135,Scoring!$A$135,IF(AD64>Scoring!$B$136,Scoring!$A$136,IF(AD64>Scoring!$B$137,Scoring!$A$137,IF(AD64>Scoring!$B$138,Scoring!$A$138,IF(AD64>Scoring!$B$139,Scoring!$A$139,IF(AD64>Scoring!$B$140,Scoring!$A$140,IF(AD64>Scoring!$B$141,Scoring!$A$141,IF(AD64>=Scoring!$B$142,Scoring!$A$142,IF(AD64>Scoring!$B$143,Scoring!$A$143))))))))))","v":"None"},7]
[707,7,"Sloughs and Wetlands - Lower Chena","Condition","Characteristic native communities","Presence of characteristic native communities within habitats","Few habitats have the characteristic native communities to accom-modate most nested targets in abundance","Some habitats have the characteristic native communities to accom-modate most nested targets in abundance","Most habitats have the characteristic native communities to accom-modate most nested targets in abundance","Almost all habitats have the characteristic native communities to accom­modate almost all nested targets in abundance","Fair","Fair",{"$f":"IFERROR(INDEX(Outcomes!F:F,MATCH(A65,Outcomes!H:H,0)),\"\")","v":"Good -"},null,null,null,null,null,null,null,null,null,null,"Sloughs and Wetlands - Lower Chena|Characteristic native communities",null,null,{"$f":"IF(K65=Scoring!$A$45,Scoring!$B$45,IF(K65=Scoring!$A$46,Scoring!$B$46,IF(K65=Scoring!$A$47,Scoring!$B$47,IF(K65=Scoring!$A$48,Scoring!$B$48,IF(K65=Scoring!$A$49,Scoring!$B$49,IF(K65=Scoring!$A$50,Scoring!$B$50))))))","v":40.04},{"$f":"IF(L65=Scoring!$A$45,Scoring!$B$45,IF(L65=Scoring!$A$46,Scoring!$B$46,IF(L65=Scoring!$A$47,Scoring!$B$47,IF(L65=Scoring!$A$48,Scoring!$B$48,IF(L65=Scoring!$A$49,Scoring!$B$49,IF(L65=Scoring!$A$50,Scoring!$B$50))))))","v":40.04},null,0,{"$f":"IF(AD65>Scoring!$B$134,Scoring!$A$134,IF(AD65>Scoring!$B$135,Scoring!$A$135,IF(AD65>Scoring!$B$136,Scoring!$A$136,IF(AD65>Scoring!$B$137,Scoring!$A$137,IF(AD65>Scoring!$B$138,Scoring!$A$138,IF(AD65>Scoring!$B$139,Scoring!$A$139,IF(AD65>Scoring!$B$140,Scoring!$A$140,IF(AD65>Scoring!$B$141,Scoring!$A$141,IF(AD65>=Scoring!$B$142,Scoring!$A$142,IF(AD65>Scoring!$B$143,Scoring!$A$143))))))))))","v":"None"},7]
[708,7,"Sloughs and Wetlands - Lower Chena","Condition","Species composition","Presence/absence, extent of invasive species"," High abundance of  invasive/non-native species in most habitats"," Moderate abundance of  invasive/non-native species in most habitats","Low presence of existing invasive/non-native species in most habitats with NO new invasive species  "," Mimimal to no abundance of  invasive/non-native species in most habitats","Fair","Fair -",{"$f":"IFERROR(INDEX(Outcomes!F:F,MATCH(A66,Outcomes!H:H,0)),\"\")","v":"Fair"},null,null,null,null,null,null,null,null,null,null,{"$f":"C66 & \"|\" &E66","v":"Sloughs and Wetlands - Lower Chena|Species composition"},null,null,{"$f":"IF(K66=Scoring!$A$45,Scoring!$B$45,IF(K66=Scoring!$A$46,Scoring!$B$46,IF(K66=Scoring!$A$47,Scoring!$B$47,IF(K66=Scoring!$A$48,Scoring!$B$48,IF(K66=Scoring!$A$49,Scoring!$B$49,IF(K66=Scoring!$A$50,Scoring!$B$50))))))","v":40.04},{"$f":"IF(L66=Scoring!$A$45,Scoring!$B$45,IF(L66=Scoring!$A$46,Scoring!$B$46,IF(L66=Scoring!$A$47,Scoring!$B$47,IF(L66=Scoring!$A$48,Scoring!$B$48,IF(L66=Scoring!$A$49,Scoring!$B$49,IF(L66=Scoring!$A$50,Scoring!$B$50))))))","v":20.03},null,{"$f":"AA66-AB66","v":20.009999999999998},{"$f":"IF(AD66>Scoring!$B$134,Scoring!$A$134,IF(AD66>Scoring!$B$135,Scoring!$A$135,IF(AD66>Scoring!$B$136,Scoring!$A$136,IF(AD66>Scoring!$B$137,Scoring!$A$137,IF(AD66>Scoring!$B$138,Scoring!$A$138,IF(AD66>Scoring!$B$139,Scoring!$A$139,IF(AD66>Scoring!$B$140,Scoring!$A$140,IF(AD66>Scoring!$B$141,Scoring!$A$141,IF(AD66>=Scoring!$B$142,Scoring!$A$142,IF(AD66>Scoring!$B$143,Scoring!$A$143))))))))))","v":"High"},{"$f":"IFERROR(INDEX(StrategicActionMatrix,MATCH(K66,Rating,0),MATCH(AE66,Change,0)),\"\")","v":3}]
[709,7,"Sloughs and Wetlands - Lower Chena","Condition","Water quality","Temperature, DO, toxins, or litter/trash/residues","High % (TBD) not meeting most ADEC's standards "," Moderate habitats meet most ADEC’s standards","Most habitats are meeting most ADEC's standards","Majority to all habitats meet most ADEC’s standards","Fair","Fair",{"$f":"IFERROR(INDEX(Outcomes!F:F,MATCH(A67,Outcomes!H:H,0)),\"\")","v":"Good -"},null,null,null,null,null,null,null,null,null,null,"Sloughs and Wetlands - Lower Chena|Water quality",null,null,{"$f":"IF(K67=Scoring!$A$45,Scoring!$B$45,IF(K67=Scoring!$A$46,Scoring!$B$46,IF(K67=Scoring!$A$47,Scoring!$B$47,IF(K67=Scoring!$A$48,Scoring!$B$48,IF(K67=Scoring!$A$49,Scoring!$B$49,IF(K67=Scoring!$A$50,Scoring!$B$50))))))","v":40.04},{"$f":"IF(L67=Scoring!$A$45,Scoring!$B$45,IF(L67=Scoring!$A$46,Scoring!$B$46,IF(L67=Scoring!$A$47,Scoring!$B$47,IF(L67=Scoring!$A$48,Scoring!$B$48,IF(L67=Scoring!$A$49,Scoring!$B$49,IF(L67=Scoring!$A$50,Scoring!$B$50))))))","v":40.04},null,0,{"$f":"IF(AD67>Scoring!$B$134,Scoring!$A$134,IF(AD67>Scoring!$B$135,Scoring!$A$135,IF(AD67>Scoring!$B$136,Scoring!$A$136,IF(AD67>Scoring!$B$137,Scoring!$A$137,IF(AD67>Scoring!$B$138,Scoring!$A$138,IF(AD67>Scoring!$B$139,Scoring!$A$139,IF(AD67>Scoring!$B$140,Scoring!$A$140,IF(AD67>Scoring!$B$141,Scoring!$A$141,IF(AD67>=Scoring!$B$142,Scoring!$A$142,IF(AD67>Scoring!$B$143,Scoring!$A$143))))))))))","v":"None"},7]
[710,7,"Sloughs and Wetlands - Lower Chena","Size","Extent of area","Acres of habitat types","Severe, mostly gone","Moderate to substantial loss","Minimal loss","Mother Nature","Fair","Fair",{"$f":"IFERROR(INDEX(Outcomes!F:F,MATCH(A68,Outcomes!H:H,0)),\"\")","v":"Good -"},null,null,null,null,null,null,null,null,null,null,"Sloughs and Wetlands - Lower Chena|Extent of area",null,null,{"$f":"IF(K68=Scoring!$A$45,Scoring!$B$45,IF(K68=Scoring!$A$46,Scoring!$B$46,IF(K68=Scoring!$A$47,Scoring!$B$47,IF(K68=Scoring!$A$48,Scoring!$B$48,IF(K68=Scoring!$A$49,Scoring!$B$49,IF(K68=Scoring!$A$50,Scoring!$B$50))))))","v":40.04},{"$f":"IF(L68=Scoring!$A$45,Scoring!$B$45,IF(L68=Scoring!$A$46,Scoring!$B$46,IF(L68=Scoring!$A$47,Scoring!$B$47,IF(L68=Scoring!$A$48,Scoring!$B$48,IF(L68=Scoring!$A$49,Scoring!$B$49,IF(L68=Scoring!$A$50,Scoring!$B$50))))))","v":40.04},null,0,{"$f":"IF(AD68>Scoring!$B$134,Scoring!$A$134,IF(AD68>Scoring!$B$135,Scoring!$A$135,IF(AD68>Scoring!$B$136,Scoring!$A$136,IF(AD68>Scoring!$B$137,Scoring!$A$137,IF(AD68>Scoring!$B$138,Scoring!$A$138,IF(AD68>Scoring!$B$139,Scoring!$A$139,IF(AD68>Scoring!$B$140,Scoring!$A$140,IF(AD68>Scoring!$B$141,Scoring!$A$141,IF(AD68>=Scoring!$B$142,Scoring!$A$142,IF(AD68>Scoring!$B$143,Scoring!$A$143))))))))))","v":"None"},7]
[711,7,"Sloughs and Wetlands - Lower Chena",null,null,null,null,null,null,null,null,null,{"$f":"IFERROR(INDEX(Outcomes!F:F,MATCH(A69,Outcomes!H:H,0)),\"\")","v":""},null,null,null,null,null,null,null,null,null,null,"Sloughs and Wetlands - Lower Chena|",null,null,{"$f":"IF(K69=Scoring!$A$45,Scoring!$B$45,IF(K69=Scoring!$A$46,Scoring!$B$46,IF(K69=Scoring!$A$47,Scoring!$B$47,IF(K69=Scoring!$A$48,Scoring!$B$48,IF(K69=Scoring!$A$49,Scoring!$B$49,IF(K69=Scoring!$A$50,Scoring!$B$50))))))","v":false},{"$f":"IF(L69=Scoring!$A$45,Scoring!$B$45,IF(L69=Scoring!$A$46,Scoring!$B$46,IF(L69=Scoring!$A$47,Scoring!$B$47,IF(L69=Scoring!$A$48,Scoring!$B$48,IF(L69=Scoring!$A$49,Scoring!$B$49,IF(L69=Scoring!$A$50,Scoring!$B$50))))))","v":false},null,0,{"$f":"IF(AD69>Scoring!$B$134,Scoring!$A$134,IF(AD69>Scoring!$B$135,Scoring!$A$135,IF(AD69>Scoring!$B$136,Scoring!$A$136,IF(AD69>Scoring!$B$137,Scoring!$A$137,IF(AD69>Scoring!$B$138,Scoring!$A$138,IF(AD69>Scoring!$B$139,Scoring!$A$139,IF(AD69>Scoring!$B$140,Scoring!$A$140,IF(AD69>Scoring!$B$141,Scoring!$A$141,IF(AD69>=Scoring!$B$142,Scoring!$A$142,IF(AD69>Scoring!$B$143,Scoring!$A$143))))))))))","v":"None"},""]
[712,7,"Sloughs and Wetlands - Lower Chena",null,null,null,null,null,null,null,null,null,{"$f":"IFERROR(INDEX(Outcomes!F:F,MATCH(A70,Outcomes!H:H,0)),\"\")","v":""},null,null,null,null,null,null,null,null,null,null,"Sloughs and Wetlands - Lower Chena|",null,null,{"$f":"IF(K70=Scoring!$A$45,Scoring!$B$45,IF(K70=Scoring!$A$46,Scoring!$B$46,IF(K70=Scoring!$A$47,Scoring!$B$47,IF(K70=Scoring!$A$48,Scoring!$B$48,IF(K70=Scoring!$A$49,Scoring!$B$49,IF(K70=Scoring!$A$50,Scoring!$B$50))))))","v":false},{"$f":"IF(L70=Scoring!$A$45,Scoring!$B$45,IF(L70=Scoring!$A$46,Scoring!$B$46,IF(L70=Scoring!$A$47,Scoring!$B$47,IF(L70=Scoring!$A$48,Scoring!$B$48,IF(L70=Scoring!$A$49,Scoring!$B$49,IF(L70=Scoring!$A$50,Scoring!$B$50))))))","v":false},null,0,{"$f":"IF(AD70>Scoring!$B$134,Scoring!$A$134,IF(AD70>Scoring!$B$135,Scoring!$A$135,IF(AD70>Scoring!$B$136,Scoring!$A$136,IF(AD70>Scoring!$B$137,Scoring!$A$137,IF(AD70>Scoring!$B$138,Scoring!$A$138,IF(AD70>Scoring!$B$139,Scoring!$A$139,IF(AD70>Scoring!$B$140,Scoring!$A$140,IF(AD70>Scoring!$B$141,Scoring!$A$141,IF(AD70>=Scoring!$B$142,Scoring!$A$142,IF(AD70>Scoring!$B$143,Scoring!$A$143))))))))))","v":"None"},""]
[713,7,"Sloughs and Wetlands - Lower Chena",null,null,null,null,null,null,null,null,null,{"$f":"IFERROR(INDEX(Outcomes!F:F,MATCH(A71,Outcomes!H:H,0)),\"\")","v":""},null,null,null,null,null,null,null,null,null,null,"Sloughs and Wetlands - Lower Chena|",null,null,{"$f":"IF(K71=Scoring!$A$45,Scoring!$B$45,IF(K71=Scoring!$A$46,Scoring!$B$46,IF(K71=Scoring!$A$47,Scoring!$B$47,IF(K71=Scoring!$A$48,Scoring!$B$48,IF(K71=Scoring!$A$49,Scoring!$B$49,IF(K71=Scoring!$A$50,Scoring!$B$50))))))","v":false},{"$f":"IF(L71=Scoring!$A$45,Scoring!$B$45,IF(L71=Scoring!$A$46,Scoring!$B$46,IF(L71=Scoring!$A$47,Scoring!$B$47,IF(L71=Scoring!$A$48,Scoring!$B$48,IF(L71=Scoring!$A$49,Scoring!$B$49,IF(L71=Scoring!$A$50,Scoring!$B$50))))))","v":false},null,0,{"$f":"IF(AD71>Scoring!$B$134,Scoring!$A$134,IF(AD71>Scoring!$B$135,Scoring!$A$135,IF(AD71>Scoring!$B$136,Scoring!$A$136,IF(AD71>Scoring!$B$137,Scoring!$A$137,IF(AD71>Scoring!$B$138,Scoring!$A$138,IF(AD71>Scoring!$B$139,Scoring!$A$139,IF(AD71>Scoring!$B$140,Scoring!$A$140,IF(AD71>Scoring!$B$141,Scoring!$A$141,IF(AD71>=Scoring!$B$142,Scoring!$A$142,IF(AD71>Scoring!$B$143,Scoring!$A$143))))))))))","v":"None"},""]
[804,8,"Mainstem River & Major Forks - Upper Chena","Landscape Context","Connectivity to tributaries and within mainstem","Number, extent, & type of barriers","Many widespread or complete manmade or natural blockages, Where culverts exist % of red barriers based on ADFG fish passage inventory"," Some widespread or complete manmade or natural blockages, Where culverts exist % of red barriers based on ADFG fish passage inventory","Few widespread or complete manmade or natural blockages, Where culverts exist % of green barriers based on ADFG fish passage inventory"," No widespread or complete manmade or natural blockages,","Good","Good -",{"$f":"IFERROR(INDEX(Outcomes!F:F,MATCH(A72,Outcomes!H:H,0)),\"\")","v":""},null,null,null,null,null,null,null,null,null,null,"Mainstem River & Major Forks - Upper Chena|Connectivity to tributaries and within mainstem",null,null,{"$f":"IF(K72=Scoring!$A$45,Scoring!$B$45,IF(K72=Scoring!$A$46,Scoring!$B$46,IF(K72=Scoring!$A$47,Scoring!$B$47,IF(K72=Scoring!$A$48,Scoring!$B$48,IF(K72=Scoring!$A$49,Scoring!$B$49,IF(K72=Scoring!$A$50,Scoring!$B$50))))))","v":80.03},{"$f":"IF(L72=Scoring!$A$45,Scoring!$B$45,IF(L72=Scoring!$A$46,Scoring!$B$46,IF(L72=Scoring!$A$47,Scoring!$B$47,IF(L72=Scoring!$A$48,Scoring!$B$48,IF(L72=Scoring!$A$49,Scoring!$B$49,IF(L72=Scoring!$A$50,Scoring!$B$50))))))","v":60.04},null,19.990000000000002,{"$f":"IF(AD72>Scoring!$B$134,Scoring!$A$134,IF(AD72>Scoring!$B$135,Scoring!$A$135,IF(AD72>Scoring!$B$136,Scoring!$A$136,IF(AD72>Scoring!$B$137,Scoring!$A$137,IF(AD72>Scoring!$B$138,Scoring!$A$138,IF(AD72>Scoring!$B$139,Scoring!$A$139,IF(AD72>Scoring!$B$140,Scoring!$A$140,IF(AD72>Scoring!$B$141,Scoring!$A$141,IF(AD72>=Scoring!$B$142,Scoring!$A$142,IF(AD72>Scoring!$B$143,Scoring!$A$143))))))))))","v":"Moderate"},6]
[805,8,"Mainstem River & Major Forks - Upper Chena","Landscape Context","Hydrologic regime","Natural fluctuations of surface and ground water -amount, frequency, timing, duration","Water levels, flows or fluctuations are too high or too low, not related to the precipitation, and unlikely to maintain nested targets in many habitats within the target area and downstream","Water levels, flows or fluctuations in relationship to precipitation and ground water are likely to maintain nested targets in some habitats within the target and downstream","Water levels, flows or fluctuations in relationship to precipitation and ground water are likely to maintain nested targets in most habitats within the target area and downstream","Water levels, flows or fluctuations in relationship to precipitation and ground water are likely to maintain nested targets in almost all habitats within the target area and downstream","Very Good","Very Good",{"$f":"IFERROR(INDEX(Outcomes!F:F,MATCH(A73,Outcomes!H:H,0)),\"\")","v":""},null,null,null,null,null,null,null,null,null,null,"Mainstem River & Major Forks - Upper Chena|Hydrologic regime",null,null,{"$f":"IF(K73=Scoring!$A$45,Scoring!$B$45,IF(K73=Scoring!$A$46,Scoring!$B$46,IF(K73=Scoring!$A$47,Scoring!$B$47,IF(K73=Scoring!$A$48,Scoring!$B$48,IF(K73=Scoring!$A$49,Scoring!$B$49,IF(K73=Scoring!$A$50,Scoring!$B$50))))))","v":100},{"$f":"IF(L73=Scoring!$A$45,Scoring!$B$45,IF(L73=Scoring!$A$46,Scoring!$B$46,IF(L73=Scoring!$A$47,Scoring!$B$47,IF(L73=Scoring!$A$48,Scoring!$B$48,IF(L73=Scoring!$A$49,Scoring!$B$49,IF(L73=Scoring!$A$50,Scoring!$B$50))))))","v":100},null,0,{"$f":"IF(AD73>Scoring!$B$134,Scoring!$A$134,IF(AD73>Scoring!$B$135,Scoring!$A$135,IF(AD73>Scoring!$B$136,Scoring!$A$136,IF(AD73>Scoring!$B$137,Scoring!$A$137,IF(AD73>Scoring!$B$138,Scoring!$A$138,IF(AD73>Scoring!$B$139,Scoring!$A$139,IF(AD73>Scoring!$B$140,Scoring!$A$140,IF(AD73>Scoring!$B$141,Scoring!$A$141,IF(AD73>=Scoring!$B$142,Scoring!$A$142,IF(AD73>Scoring!$B$143,Scoring!$A$143))))))))))","v":"None"},10]
[806,8,"Mainstem River & Major Forks - Upper Chena","Landscape Context","Substrate and banks (in channel habitat?)","Amount, type, size, availability of, & distribution, including woody debris","Low diversity of and abundance of suitable substrates and woody material in most habitats"," Moderate diversity of and abundance of suitable substrates and woody material in most habitats","Diversity and abundance of suitable substrates and woody debrus material in most habitat "," High diversity and abundance of suitable substrates and woody debrus material in most habitat","Good -","Fair",{"$f":"IFERROR(INDEX(Outcomes!F:F,MATCH(A74,Outcomes!H:H,0)),\"\")","v":""},null,null,null,null,null,null,null,null,null,null,"Mainstem River & Major Forks - Upper Chena|Substrate and banks (in channel habitat?)",null,null,{"$f":"IF(K74=Scoring!$A$45,Scoring!$B$45,IF(K74=Scoring!$A$46,Scoring!$B$46,IF(K74=Scoring!$A$47,Scoring!$B$47,IF(K74=Scoring!$A$48,Scoring!$B$48,IF(K74=Scoring!$A$49,Scoring!$B$49,IF(K74=Scoring!$A$50,Scoring!$B$50))))))","v":60.04},{"$f":"IF(L74=Scoring!$A$45,Scoring!$B$45,IF(L74=Scoring!$A$46,Scoring!$B$46,IF(L74=Scoring!$A$47,Scoring!$B$47,IF(L74=Scoring!$A$48,Scoring!$B$48,IF(L74=Scoring!$A$49,Scoring!$B$49,IF(L74=Scoring!$A$50,Scoring!$B$50))))))","v":40.04},null,20,{"$f":"IF(AD74>Scoring!$B$134,Scoring!$A$134,IF(AD74>Scoring!$B$135,Scoring!$A$135,IF(AD74>Scoring!$B$136,Scoring!$A$136,IF(AD74>Scoring!$B$137,Scoring!$A$137,IF(AD74>Scoring!$B$138,Scoring!$A$138,IF(AD74>Scoring!$B$139,Scoring!$A$139,IF(AD74>Scoring!$B$140,Scoring!$A$140,IF(AD74>Scoring!$B$141,Scoring!$A$141,IF(AD74>=Scoring!$B$142,Scoring!$A$142,IF(AD74>Scoring!$B$143,Scoring!$A$143))))))))))","v":"Moderate"},6]
[807,8,"Mainstem River & Major Forks - Upper Chena","Condition","Characteristic native communities","Presence of characteristic native communities within habitats","Few habitats have the characteristic native communities to accom-modate most nested targets in abundance","Some habitats have the characteristic native communities to accom-modate most nested targets in abundance","Most habitats have the characteristic native communities to accom-modate most nested targets in abundance","Almost all habitats have the characteristic native communities to accom­modate almost all nested targets in abundance","Very Good","Very Good",{"$f":"IFERROR(INDEX(Outcomes!F:F,MATCH(A75,Outcomes!H:H,0)),\"\")","v":""},null,null,null,null,null,null,null,null,null,null,"Mainstem River & Major Forks - Upper Chena|Characteristic native communities",null,null,{"$f":"IF(K75=Scoring!$A$45,Scoring!$B$45,IF(K75=Scoring!$A$46,Scoring!$B$46,IF(K75=Scoring!$A$47,Scoring!$B$47,IF(K75=Scoring!$A$48,Scoring!$B$48,IF(K75=Scoring!$A$49,Scoring!$B$49,IF(K75=Scoring!$A$50,Scoring!$B$50))))))","v":100},{"$f":"IF(L75=Scoring!$A$45,Scoring!$B$45,IF(L75=Scoring!$A$46,Scoring!$B$46,IF(L75=Scoring!$A$47,Scoring!$B$47,IF(L75=Scoring!$A$48,Scoring!$B$48,IF(L75=Scoring!$A$49,Scoring!$B$49,IF(L75=Scoring!$A$50,Scoring!$B$50))))))","v":100},null,0,{"$f":"IF(AD75>Scoring!$B$134,Scoring!$A$134,IF(AD75>Scoring!$B$135,Scoring!$A$135,IF(AD75>Scoring!$B$136,Scoring!$A$136,IF(AD75>Scoring!$B$137,Scoring!$A$137,IF(AD75>Scoring!$B$138,Scoring!$A$138,IF(AD75>Scoring!$B$139,Scoring!$A$139,IF(AD75>Scoring!$B$140,Scoring!$A$140,IF(AD75>Scoring!$B$141,Scoring!$A$141,IF(AD75>=Scoring!$B$142,Scoring!$A$142,IF(AD75>Scoring!$B$143,Scoring!$A$143))))))))))","v":"None"},10]
[808,8,"Mainstem River & Major Forks - Upper Chena","Condition","Species composition","Presence/absence, extent of invasive species"," High abundance of  invasive/non-native species in most habitats"," Moderate abundance of  invasive/non-native species in most habitats","Low presence of existing invasive/non-native species in most habitats with NO new invasive species  "," Mimimal to no abundance of  invasive/non-native species in most habitats","Good","Good -",{"$f":"IFERROR(INDEX(Outcomes!F:F,MATCH(A76,Outcomes!H:H,0)),\"\")","v":"Good"},null,null,null,null,null,null,null,null,null,null,"Mainstem River & Major Forks - Upper Chena|Species composition",null,null,{"$f":"IF(K76=Scoring!$A$45,Scoring!$B$45,IF(K76=Scoring!$A$46,Scoring!$B$46,IF(K76=Scoring!$A$47,Scoring!$B$47,IF(K76=Scoring!$A$48,Scoring!$B$48,IF(K76=Scoring!$A$49,Scoring!$B$49,IF(K76=Scoring!$A$50,Scoring!$B$50))))))","v":80.03},{"$f":"IF(L76=Scoring!$A$45,Scoring!$B$45,IF(L76=Scoring!$A$46,Scoring!$B$46,IF(L76=Scoring!$A$47,Scoring!$B$47,IF(L76=Scoring!$A$48,Scoring!$B$48,IF(L76=Scoring!$A$49,Scoring!$B$49,IF(L76=Scoring!$A$50,Scoring!$B$50))))))","v":60.04},null,19.990000000000002,{"$f":"IF(AD76>Scoring!$B$134,Scoring!$A$134,IF(AD76>Scoring!$B$135,Scoring!$A$135,IF(AD76>Scoring!$B$136,Scoring!$A$136,IF(AD76>Scoring!$B$137,Scoring!$A$137,IF(AD76>Scoring!$B$138,Scoring!$A$138,IF(AD76>Scoring!$B$139,Scoring!$A$139,IF(AD76>Scoring!$B$140,Scoring!$A$140,IF(AD76>Scoring!$B$141,Scoring!$A$141,IF(AD76>=Scoring!$B$142,Scoring!$A$142,IF(AD76>Scoring!$B$143,Scoring!$A$143))))))))))","v":"Moderate"},6]
[809,8,"Mainstem River & Major Forks - Upper Chena","Condition","Water quality","Sediment, temperature, DO, toxins, or litter/trash/residues","High % (TBD) not meeting most ADEC's standards "," Moderate habitats meet most ADEC’s standards","Most habitats are meeting most ADEC's standards","Majority to all habitats meet most ADEC’s standards","Good","Good",{"$f":"IFERROR(INDEX(Outcomes!F:F,MATCH(A77,Outcomes!H:H,0)),\"\")","v":""},null,null,null,null,null,null,null,null,null,null,"Mainstem River & Major Forks - Upper Chena|Water quality",null,null,{"$f":"IF(K77=Scoring!$A$45,Scoring!$B$45,IF(K77=Scoring!$A$46,Scoring!$B$46,IF(K77=Scoring!$A$47,Scoring!$B$47,IF(K77=Scoring!$A$48,Scoring!$B$48,IF(K77=Scoring!$A$49,Scoring!$B$49,IF(K77=Scoring!$A$50,Scoring!$B$50))))))","v":80.03},{"$f":"IF(L77=Scoring!$A$45,Scoring!$B$45,IF(L77=Scoring!$A$46,Scoring!$B$46,IF(L77=Scoring!$A$47,Scoring!$B$47,IF(L77=Scoring!$A$48,Scoring!$B$48,IF(L77=Scoring!$A$49,Scoring!$B$49,IF(L77=Scoring!$A$50,Scoring!$B$50))))))","v":80.03},null,0,{"$f":"IF(AD77>Scoring!$B$134,Scoring!$A$134,IF(AD77>Scoring!$B$135,Scoring!$A$135,IF(AD77>Scoring!$B$136,Scoring!$A$136,IF(AD77>Scoring!$B$137,Scoring!$A$137,IF(AD77>Scoring!$B$138,Scoring!$A$138,IF(AD77>Scoring!$B$139,Scoring!$A$139,IF(AD77>Scoring!$B$140,Scoring!$A$140,IF(AD77>Scoring!$B$141,Scoring!$A$141,IF(AD77>=Scoring!$B$142,Scoring!$A$142,IF(AD77>Scoring!$B$143,Scoring!$A$143))))))))))","v":"None"},10]
[810,8,"Mainstem River & Major Forks - Upper Chena","Size","Extent of area","Riparian area and river length","Severe, mostly gone","Moderate to substantial loss","Minimal loss","Mother Nature","Good","Good",{"$f":"IFERROR(INDEX(Outcomes!F:F,MATCH(A78,Outcomes!H:H,0)),\"\")","v":""},null,null,null,null,null,null,null,null,null,null,"Mainstem River & Major Forks - Upper Chena|Extent of area",null,null,{"$f":"IF(K78=Scoring!$A$45,Scoring!$B$45,IF(K78=Scoring!$A$46,Scoring!$B$46,IF(K78=Scoring!$A$47,Scoring!$B$47,IF(K78=Scoring!$A$48,Scoring!$B$48,IF(K78=Scoring!$A$49,Scoring!$B$49,IF(K78=Scoring!$A$50,Scoring!$B$50))))))","v":80.03},{"$f":"IF(L78=Scoring!$A$45,Scoring!$B$45,IF(L78=Scoring!$A$46,Scoring!$B$46,IF(L78=Scoring!$A$47,Scoring!$B$47,IF(L78=Scoring!$A$48,Scoring!$B$48,IF(L78=Scoring!$A$49,Scoring!$B$49,IF(L78=Scoring!$A$50,Scoring!$B$50))))))","v":80.03},null,0,{"$f":"IF(AD78>Scoring!$B$134,Scoring!$A$134,IF(AD78>Scoring!$B$135,Scoring!$A$135,IF(AD78>Scoring!$B$136,Scoring!$A$136,IF(AD78>Scoring!$B$137,Scoring!$A$137,IF(AD78>Scoring!$B$138,Scoring!$A$138,IF(AD78>Scoring!$B$139,Scoring!$A$139,IF(AD78>Scoring!$B$140,Scoring!$A$140,IF(AD78>Scoring!$B$141,Scoring!$A$141,IF(AD78>=Scoring!$B$142,Scoring!$A$142,IF(AD78>Scoring!$B$143,Scoring!$A$143))))))))))","v":"None"},10]
[811,8,"Mainstem River & Major Forks - Upper Chena",null,null,null,null,null,null,null,null,null,{"$f":"IFERROR(INDEX(Outcomes!F:F,MATCH(A79,Outcomes!H:H,0)),\"\")","v":""},null,null,null,null,null,null,null,null,null,null,"Mainstem River & Major Forks - Upper Chena|",null,null,{"$f":"IF(K79=Scoring!$A$45,Scoring!$B$45,IF(K79=Scoring!$A$46,Scoring!$B$46,IF(K79=Scoring!$A$47,Scoring!$B$47,IF(K79=Scoring!$A$48,Scoring!$B$48,IF(K79=Scoring!$A$49,Scoring!$B$49,IF(K79=Scoring!$A$50,Scoring!$B$50))))))","v":false},{"$f":"IF(L79=Scoring!$A$45,Scoring!$B$45,IF(L79=Scoring!$A$46,Scoring!$B$46,IF(L79=Scoring!$A$47,Scoring!$B$47,IF(L79=Scoring!$A$48,Scoring!$B$48,IF(L79=Scoring!$A$49,Scoring!$B$49,IF(L79=Scoring!$A$50,Scoring!$B$50))))))","v":false},null,0,{"$f":"IF(AD79>Scoring!$B$134,Scoring!$A$134,IF(AD79>Scoring!$B$135,Scoring!$A$135,IF(AD79>Scoring!$B$136,Scoring!$A$136,IF(AD79>Scoring!$B$137,Scoring!$A$137,IF(AD79>Scoring!$B$138,Scoring!$A$138,IF(AD79>Scoring!$B$139,Scoring!$A$139,IF(AD79>Scoring!$B$140,Scoring!$A$140,IF(AD79>Scoring!$B$141,Scoring!$A$141,IF(AD79>=Scoring!$B$142,Scoring!$A$142,IF(AD79>Scoring!$B$143,Scoring!$A$143))))))))))","v":"None"},""]
[812,8,"Mainstem River & Major Forks - Upper Chena",null,null,null,null,null,null,null,null,null,{"$f":"IFERROR(INDEX(Outcomes!F:F,MATCH(A80,Outcomes!H:H,0)),\"\")","v":""},null,null,null,null,null,null,null,null,null,null,"Mainstem River & Major Forks - Upper Chena|",null,null,{"$f":"IF(K80=Scoring!$A$45,Scoring!$B$45,IF(K80=Scoring!$A$46,Scoring!$B$46,IF(K80=Scoring!$A$47,Scoring!$B$47,IF(K80=Scoring!$A$48,Scoring!$B$48,IF(K80=Scoring!$A$49,Scoring!$B$49,IF(K80=Scoring!$A$50,Scoring!$B$50))))))","v":false},{"$f":"IF(L80=Scoring!$A$45,Scoring!$B$45,IF(L80=Scoring!$A$46,Scoring!$B$46,IF(L80=Scoring!$A$47,Scoring!$B$47,IF(L80=Scoring!$A$48,Scoring!$B$48,IF(L80=Scoring!$A$49,Scoring!$B$49,IF(L80=Scoring!$A$50,Scoring!$B$50))))))","v":false},null,0,{"$f":"IF(AD80>Scoring!$B$134,Scoring!$A$134,IF(AD80>Scoring!$B$135,Scoring!$A$135,IF(AD80>Scoring!$B$136,Scoring!$A$136,IF(AD80>Scoring!$B$137,Scoring!$A$137,IF(AD80>Scoring!$B$138,Scoring!$A$138,IF(AD80>Scoring!$B$139,Scoring!$A$139,IF(AD80>Scoring!$B$140,Scoring!$A$140,IF(AD80>Scoring!$B$141,Scoring!$A$141,IF(AD80>=Scoring!$B$142,Scoring!$A$142,IF(AD80>Scoring!$B$143,Scoring!$A$143))))))))))","v":"None"},""]
[813,8,"Mainstem River & Major Forks - Upper Chena",null,null,null,null,null,null,null,null,null,{"$f":"IFERROR(INDEX(Outcomes!F:F,MATCH(A81,Outcomes!H:H,0)),\"\")","v":""},null,null,null,null,null,null,null,null,null,null,"Mainstem River & Major Forks - Upper Chena|",null,null,{"$f":"IF(K81=Scoring!$A$45,Scoring!$B$45,IF(K81=Scoring!$A$46,Scoring!$B$46,IF(K81=Scoring!$A$47,Scoring!$B$47,IF(K81=Scoring!$A$48,Scoring!$B$48,IF(K81=Scoring!$A$49,Scoring!$B$49,IF(K81=Scoring!$A$50,Scoring!$B$50))))))","v":false},{"$f":"IF(L81=Scoring!$A$45,Scoring!$B$45,IF(L81=Scoring!$A$46,Scoring!$B$46,IF(L81=Scoring!$A$47,Scoring!$B$47,IF(L81=Scoring!$A$48,Scoring!$B$48,IF(L81=Scoring!$A$49,Scoring!$B$49,IF(L81=Scoring!$A$50,Scoring!$B$50))))))","v":false},null,0,{"$f":"IF(AD81>Scoring!$B$134,Scoring!$A$134,IF(AD81>Scoring!$B$135,Scoring!$A$135,IF(AD81>Scoring!$B$136,Scoring!$A$136,IF(AD81>Scoring!$B$137,Scoring!$A$137,IF(AD81>Scoring!$B$138,Scoring!$A$138,IF(AD81>Scoring!$B$139,Scoring!$A$139,IF(AD81>Scoring!$B$140,Scoring!$A$140,IF(AD81>Scoring!$B$141,Scoring!$A$141,IF(AD81>=Scoring!$B$142,Scoring!$A$142,IF(AD81>Scoring!$B$143,Scoring!$A$143))))))))))","v":"None"},""]
[904,9,"Mainstem River & Major Forks - Lower Chena","Landscape Context","Connectivity to tributaries and within mainstem","Number, extent, & type of barriers","Many widespread or complete manmade or natural blockages, Where culverts exist % of red barriers based on ADFG fish passage inventory"," Some widespread or complete manmade or natural blockages, Where culverts exist % of red barriers based on ADFG fish passage inventory","Few widespread or complete manmade or natural blockages, Where culverts exist % of green barriers based on ADFG fish passage inventory"," No widespread or complete manmade or natural blockages,","Good","Good",{"$f":"IFERROR(INDEX(Outcomes!F:F,MATCH(A82,Outcomes!H:H,0)),\"\")","v":""},null,null,null,null,null,null,null,null,null,null,"Mainstem River & Major Forks - Lower Chena|Connectivity to tributaries and within mainstem",null,null,{"$f":"IF(K82=Scoring!$A$45,Scoring!$B$45,IF(K82=Scoring!$A$46,Scoring!$B$46,IF(K82=Scoring!$A$47,Scoring!$B$47,IF(K82=Scoring!$A$48,Scoring!$B$48,IF(K82=Scoring!$A$49,Scoring!$B$49,IF(K82=Scoring!$A$50,Scoring!$B$50))))))","v":80.03},{"$f":"IF(L82=Scoring!$A$45,Scoring!$B$45,IF(L82=Scoring!$A$46,Scoring!$B$46,IF(L82=Scoring!$A$47,Scoring!$B$47,IF(L82=Scoring!$A$48,Scoring!$B$48,IF(L82=Scoring!$A$49,Scoring!$B$49,IF(L82=Scoring!$A$50,Scoring!$B$50))))))","v":80.03},null,0,{"$f":"IF(AD82>Scoring!$B$134,Scoring!$A$134,IF(AD82>Scoring!$B$135,Scoring!$A$135,IF(AD82>Scoring!$B$136,Scoring!$A$136,IF(AD82>Scoring!$B$137,Scoring!$A$137,IF(AD82>Scoring!$B$138,Scoring!$A$138,IF(AD82>Scoring!$B$139,Scoring!$A$139,IF(AD82>Scoring!$B$140,Scoring!$A$140,IF(AD82>Scoring!$B$141,Scoring!$A$141,IF(AD82>=Scoring!$B$142,Scoring!$A$142,IF(AD82>Scoring!$B$143,Scoring!$A$143))))))))))","v":"None"},10]
[905,9,"Mainstem River & Major Forks - Lower Chena","Landscape Context","Hydrologic regime","Natural fluctuations of surface and ground water -amount, frequency, timing, duration","Water levels, flows or fluctuations are too high or too low, not related to the precipitation, and unlikely to maintain nested targets in many habitats within the target area and downstream","Water levels, flows or fluctuations in relationship to precipitation and ground water are likely to maintain nested targets in some habitats within the target and downstream","Water levels, flows or fluctuations in relationship to precipitation and ground water are likely to maintain nested targets in most habitats within the target area and downstream","Water levels, flows or fluctuations in relationship to precipitation and ground water are likely to maintain nested targets in almost all habitats within the target area and downstream","Good","Good",{"$f":"IFERROR(INDEX(Outcomes!F:F,MATCH(A83,Outcomes!H:H,0)),\"\")","v":""},null,null,null,null,null,null,null,null,null,null,"Mainstem River & Major Forks - Lower Chena|Hydrologic regime",null,null,{"$f":"IF(K83=Scoring!$A$45,Scoring!$B$45,IF(K83=Scoring!$A$46,Scoring!$B$46,IF(K83=Scoring!$A$47,Scoring!$B$47,IF(K83=Scoring!$A$48,Scoring!$B$48,IF(K83=Scoring!$A$49,Scoring!$B$49,IF(K83=Scoring!$A$50,Scoring!$B$50))))))","v":80.03},{"$f":"IF(L83=Scoring!$A$45,Scoring!$B$45,IF(L83=Scoring!$A$46,Scoring!$B$46,IF(L83=Scoring!$A$47,Scoring!$B$47,IF(L83=Scoring!$A$48,Scoring!$B$48,IF(L83=Scoring!$A$49,Scoring!$B$49,IF(L83=Scoring!$A$50,Scoring!$B$50))))))","v":80.03},null,0,{"$f":"IF(AD83>Scoring!$B$134,Scoring!$A$134,IF(AD83>Scoring!$B$135,Scoring!$A$135,IF(AD83>Scoring!$B$136,Scoring!$A$136,IF(AD83>Scoring!$B$137,Scoring!$A$137,IF(AD83>Scoring!$B$138,Scoring!$A$138,IF(AD83>Scoring!$B$139,Scoring!$A$139,IF(AD83>Scoring!$B$140,Scoring!$A$140,IF(AD83>Scoring!$B$141,Scoring!$A$141,IF(AD83>=Scoring!$B$142,Scoring!$A$142,IF(AD83>Scoring!$B$143,Scoring!$A$143))))))))))","v":"None"},10]
[906,9,"Mainstem River & Major Forks - Lower Chena","Landscape Context","Substrate and banks (in channel habitat?)","Amount, type, size, availability of, & distribution, including woody debris","Low diversity of and abundance of suitable substrates and woody material in most habitats"," Moderate diversity of and abundance of suitable substrates and woody material in most habitats","Diversity and abundance of suitable substrates and woody debrus material in most habitat "," High diversity and abundance of suitable substrates and woody debrus material in most habitat","Good -","Fair",{"$f":"IFERROR(INDEX(Outcomes!F:F,MATCH(A84,Outcomes!H:H,0)),\"\")","v":"Good -"},null,null,null,null,null,null,null,null,null,null,"Mainstem River & Major Forks - Lower Chena|Substrate and banks (in channel habitat?)",null,null,{"$f":"IF(K84=Scoring!$A$45,Scoring!$B$45,IF(K84=Scoring!$A$46,Scoring!$B$46,IF(K84=Scoring!$A$47,Scoring!$B$47,IF(K84=Scoring!$A$48,Scoring!$B$48,IF(K84=Scoring!$A$49,Scoring!$B$49,IF(K84=Scoring!$A$50,Scoring!$B$50))))))","v":60.04},{"$f":"IF(L84=Scoring!$A$45,Scoring!$B$45,IF(L84=Scoring!$A$46,Scoring!$B$46,IF(L84=Scoring!$A$47,Scoring!$B$47,IF(L84=Scoring!$A$48,Scoring!$B$48,IF(L84=Scoring!$A$49,Scoring!$B$49,IF(L84=Scoring!$A$50,Scoring!$B$50))))))","v":40.04},null,20,{"$f":"IF(AD84>Scoring!$B$134,Scoring!$A$134,IF(AD84>Scoring!$B$135,Scoring!$A$135,IF(AD84>Scoring!$B$136,Scoring!$A$136,IF(AD84>Scoring!$B$137,Scoring!$A$137,IF(AD84>Scoring!$B$138,Scoring!$A$138,IF(AD84>Scoring!$B$139,Scoring!$A$139,IF(AD84>Scoring!$B$140,Scoring!$A$140,IF(AD84>Scoring!$B$141,Scoring!$A$141,IF(AD84>=Scoring!$B$142,Scoring!$A$142,IF(AD84>Scoring!$B$143,Scoring!$A$143))))))))))","v":"Moderate"},6]
[907,9,"Mainstem River & Major Forks - Lower Chena","Condition","Characteristic native communities","Presence of characteristic native communities within habitats","Few habitats have the characteristic native communities to accom-modate most nested targets in abundance","Some habitats have the characteristic native communities to accom-modate most nested targets in abundance","Most habitats have the characteristic native communities to accom-modate most nested targets in abundance","Almost all habitats have the characteristic native communities to accom­modate almost all nested targets in abundance","Good -","Fair",{"$f":"IFERROR(INDEX(Outcomes!F:F,MATCH(A85,Outcomes!H:H,0)),\"\")","v":"Good -"},null,null,null,null,null,null,null,null,null,null,"Mainstem River & Major Forks - Lower Chena|Characteristic native communities",null,null,{"$f":"IF(K85=Scoring!$A$45,Scoring!$B$45,IF(K85=Scoring!$A$46,Scoring!$B$46,IF(K85=Scoring!$A$47,Scoring!$B$47,IF(K85=Scoring!$A$48,Scoring!$B$48,IF(K85=Scoring!$A$49,Scoring!$B$49,IF(K85=Scoring!$A$50,Scoring!$B$50))))))","v":60.04},{"$f":"IF(L85=Scoring!$A$45,Scoring!$B$45,IF(L85=Scoring!$A$46,Scoring!$B$46,IF(L85=Scoring!$A$47,Scoring!$B$47,IF(L85=Scoring!$A$48,Scoring!$B$48,IF(L85=Scoring!$A$49,Scoring!$B$49,IF(L85=Scoring!$A$50,Scoring!$B$50))))))","v":40.04},null,20,{"$f":"IF(AD85>Scoring!$B$134,Scoring!$A$134,IF(AD85>Scoring!$B$135,Scoring!$A$135,IF(AD85>Scoring!$B$136,Scoring!$A$136,IF(AD85>Scoring!$B$137,Scoring!$A$137,IF(AD85>Scoring!$B$138,Scoring!$A$138,IF(AD85>Scoring!$B$139,Scoring!$A$139,IF(AD85>Scoring!$B$140,Scoring!$A$140,IF(AD85>Scoring!$B$141,Scoring!$A$141,IF(AD85>=Scoring!$B$142,Scoring!$A$142,IF(AD85>Scoring!$B$143,Scoring!$A$143))))))))))","v":"Moderate"},6]
[908,9,"Mainstem River & Major Forks - Lower Chena","Condition","Species composition","Presence/absence, extent of invasive species"," High abundance of  invasive/non-native species in most habitats"," Moderate abundance of  invasive/non-native species in most habitats","Low presence of existing invasive/non-native species in most habitats with NO new invasive species  "," Mimimal to no abundance of  invasive/non-native species in most habitats","Good -","Fair -",{"$f":"IFERROR(INDEX(Outcomes!F:F,MATCH(A86,Outcomes!H:H,0)),\"\")","v":"Good -"},null,null,null,null,null,null,null,null,null,null,"Mainstem River & Major Forks - Lower Chena|Species composition",null,null,{"$f":"IF(K86=Scoring!$A$45,Scoring!$B$45,IF(K86=Scoring!$A$46,Scoring!$B$46,IF(K86=Scoring!$A$47,Scoring!$B$47,IF(K86=Scoring!$A$48,Scoring!$B$48,IF(K86=Scoring!$A$49,Scoring!$B$49,IF(K86=Scoring!$A$50,Scoring!$B$50))))))","v":60.04},{"$f":"IF(L86=Scoring!$A$45,Scoring!$B$45,IF(L86=Scoring!$A$46,Scoring!$B$46,IF(L86=Scoring!$A$47,Scoring!$B$47,IF(L86=Scoring!$A$48,Scoring!$B$48,IF(L86=Scoring!$A$49,Scoring!$B$49,IF(L86=Scoring!$A$50,Scoring!$B$50))))))","v":20.03},null,40.01,{"$f":"IF(AD86>Scoring!$B$134,Scoring!$A$134,IF(AD86>Scoring!$B$135,Scoring!$A$135,IF(AD86>Scoring!$B$136,Scoring!$A$136,IF(AD86>Scoring!$B$137,Scoring!$A$137,IF(AD86>Scoring!$B$138,Scoring!$A$138,IF(AD86>Scoring!$B$139,Scoring!$A$139,IF(AD86>Scoring!$B$140,Scoring!$A$140,IF(AD86>Scoring!$B$141,Scoring!$A$141,IF(AD86>=Scoring!$B$142,Scoring!$A$142,IF(AD86>Scoring!$B$143,Scoring!$A$143))))))))))","v":"Extreme"},2]
[909,9,"Mainstem River & Major Forks - Lower Chena","Condition","Water quality","Sediment, temperature, DO, toxins, or litter/trash/residues","High % (TBD) not meeting most ADEC's standards "," Moderate habitats meet most ADEC’s standards","Most habitats are meeting most ADEC's standards","Majority to all habitats meet most ADEC’s standards","Fair","Fair -",{"$f":"IFERROR(INDEX(Outcomes!F:F,MATCH(A87,Outcomes!H:H,0)),\"\")","v":"Good -"},null,null,null,null,null,null,null,null,null,null,"Mainstem River & Major Forks - Lower Chena|Water quality",null,null,{"$f":"IF(K87=Scoring!$A$45,Scoring!$B$45,IF(K87=Scoring!$A$46,Scoring!$B$46,IF(K87=Scoring!$A$47,Scoring!$B$47,IF(K87=Scoring!$A$48,Scoring!$B$48,IF(K87=Scoring!$A$49,Scoring!$B$49,IF(K87=Scoring!$A$50,Scoring!$B$50))))))","v":40.04},{"$f":"IF(L87=Scoring!$A$45,Scoring!$B$45,IF(L87=Scoring!$A$46,Scoring!$B$46,IF(L87=Scoring!$A$47,Scoring!$B$47,IF(L87=Scoring!$A$48,Scoring!$B$48,IF(L87=Scoring!$A$49,Scoring!$B$49,IF(L87=Scoring!$A$50,Scoring!$B$50))))))","v":20.03},null,20.009999999999998,{"$f":"IF(AD87>Scoring!$B$134,Scoring!$A$134,IF(AD87>Scoring!$B$135,Scoring!$A$135,IF(AD87>Scoring!$B$136,Scoring!$A$136,IF(AD87>Scoring!$B$137,Scoring!$A$137,IF(AD87>Scoring!$B$138,Scoring!$A$138,IF(AD87>Scoring!$B$139,Scoring!$A$139,IF(AD87>Scoring!$B$140,Scoring!$A$140,IF(AD87>Scoring!$B$141,Scoring!$A$141,IF(AD87>=Scoring!$B$142,Scoring!$A$142,IF(AD87>Scoring!$B$143,Scoring!$A$143))))))))))","v":"High"},3]
[910,9,"Mainstem River & Major Forks - Lower Chena","Size","Extent of area","Riparian area and river length","Severe, mostly gone","Moderate to substantial loss","Minimal loss","Mother Nature","Fair","Fair -",{"$f":"IFERROR(INDEX(Outcomes!F:F,MATCH(A88,Outcomes!H:H,0)),\"\")","v":"Good -"},null,null,null,null,null,null,null,null,null,null,"Mainstem River & Major Forks - Lower Chena|Extent of area",null,null,{"$f":"IF(K88=Scoring!$A$45,Scoring!$B$45,IF(K88=Scoring!$A$46,Scoring!$B$46,IF(K88=Scoring!$A$47,Scoring!$B$47,IF(K88=Scoring!$A$48,Scoring!$B$48,IF(K88=Scoring!$A$49,Scoring!$B$49,IF(K88=Scoring!$A$50,Scoring!$B$50))))))","v":40.04},{"$f":"IF(L88=Scoring!$A$45,Scoring!$B$45,IF(L88=Scoring!$A$46,Scoring!$B$46,IF(L88=Scoring!$A$47,Scoring!$B$47,IF(L88=Scoring!$A$48,Scoring!$B$48,IF(L88=Scoring!$A$49,Scoring!$B$49,IF(L88=Scoring!$A$50,Scoring!$B$50))))))","v":20.03},null,20.009999999999998,{"$f":"IF(AD88>Scoring!$B$134,Scoring!$A$134,IF(AD88>Scoring!$B$135,Scoring!$A$135,IF(AD88>Scoring!$B$136,Scoring!$A$136,IF(AD88>Scoring!$B$137,Scoring!$A$137,IF(AD88>Scoring!$B$138,Scoring!$A$138,IF(AD88>Scoring!$B$139,Scoring!$A$139,IF(AD88>Scoring!$B$140,Scoring!$A$140,IF(AD88>Scoring!$B$141,Scoring!$A$141,IF(AD88>=Scoring!$B$142,Scoring!$A$142,IF(AD88>Scoring!$B$143,Scoring!$A$143))))))))))","v":"High"},3]
[911,9,"Mainstem River & Major Forks - Lower Chena",null,null,null,null,null,null,null,null,null,{"$f":"IFERROR(INDEX(Outcomes!F:F,MATCH(A89,Outcomes!H:H,0)),\"\")","v":""},null,null,null,null,null,null,null,null,null,null,"Mainstem River & Major Forks - Lower Chena|",null,null,{"$f":"IF(K89=Scoring!$A$45,Scoring!$B$45,IF(K89=Scoring!$A$46,Scoring!$B$46,IF(K89=Scoring!$A$47,Scoring!$B$47,IF(K89=Scoring!$A$48,Scoring!$B$48,IF(K89=Scoring!$A$49,Scoring!$B$49,IF(K89=Scoring!$A$50,Scoring!$B$50))))))","v":false},{"$f":"IF(L89=Scoring!$A$45,Scoring!$B$45,IF(L89=Scoring!$A$46,Scoring!$B$46,IF(L89=Scoring!$A$47,Scoring!$B$47,IF(L89=Scoring!$A$48,Scoring!$B$48,IF(L89=Scoring!$A$49,Scoring!$B$49,IF(L89=Scoring!$A$50,Scoring!$B$50))))))","v":false},null,0,{"$f":"IF(AD89>Scoring!$B$134,Scoring!$A$134,IF(AD89>Scoring!$B$135,Scoring!$A$135,IF(AD89>Scoring!$B$136,Scoring!$A$136,IF(AD89>Scoring!$B$137,Scoring!$A$137,IF(AD89>Scoring!$B$138,Scoring!$A$138,IF(AD89>Scoring!$B$139,Scoring!$A$139,IF(AD89>Scoring!$B$140,Scoring!$A$140,IF(AD89>Scoring!$B$141,Scoring!$A$141,IF(AD89>=Scoring!$B$142,Scoring!$A$142,IF(AD89>Scoring!$B$143,Scoring!$A$143))))))))))","v":"None"},""]
[912,9,"Mainstem River & Major Forks - Lower Chena",null,null,null,null,null,null,null,null,null,{"$f":"IFERROR(INDEX(Outcomes!F:F,MATCH(A90,Outcomes!H:H,0)),\"\")","v":""},null,null,null,null,null,null,null,null,null,null,"Mainstem River & Major Forks - Lower Chena|",null,null,{"$f":"IF(K90=Scoring!$A$45,Scoring!$B$45,IF(K90=Scoring!$A$46,Scoring!$B$46,IF(K90=Scoring!$A$47,Scoring!$B$47,IF(K90=Scoring!$A$48,Scoring!$B$48,IF(K90=Scoring!$A$49,Scoring!$B$49,IF(K90=Scoring!$A$50,Scoring!$B$50))))))","v":false},{"$f":"IF(L90=Scoring!$A$45,Scoring!$B$45,IF(L90=Scoring!$A$46,Scoring!$B$46,IF(L90=Scoring!$A$47,Scoring!$B$47,IF(L90=Scoring!$A$48,Scoring!$B$48,IF(L90=Scoring!$A$49,Scoring!$B$49,IF(L90=Scoring!$A$50,Scoring!$B$50))))))","v":false},null,0,{"$f":"IF(AD90>Scoring!$B$134,Scoring!$A$134,IF(AD90>Scoring!$B$135,Scoring!$A$135,IF(AD90>Scoring!$B$136,Scoring!$A$136,IF(AD90>Scoring!$B$137,Scoring!$A$137,IF(AD90>Scoring!$B$138,Scoring!$A$138,IF(AD90>Scoring!$B$139,Scoring!$A$139,IF(AD90>Scoring!$B$140,Scoring!$A$140,IF(AD90>Scoring!$B$141,Scoring!$A$141,IF(AD90>=Scoring!$B$142,Scoring!$A$142,IF(AD90>Scoring!$B$143,Scoring!$A$143))))))))))","v":"None"},""]
[913,9,"Mainstem River & Major Forks - Lower Chena",null,null,null,null,null,null,null,null,null,{"$f":"IFERROR(INDEX(Outcomes!F:F,MATCH(A91,Outcomes!H:H,0)),\"\")","v":""},null,null,null,null,null,null,null,null,null,null,"Mainstem River & Major Forks - Lower Chena|",null,null,{"$f":"IF(K91=Scoring!$A$45,Scoring!$B$45,IF(K91=Scoring!$A$46,Scoring!$B$46,IF(K91=Scoring!$A$47,Scoring!$B$47,IF(K91=Scoring!$A$48,Scoring!$B$48,IF(K91=Scoring!$A$49,Scoring!$B$49,IF(K91=Scoring!$A$50,Scoring!$B$50))))))","v":false},{"$f":"IF(L91=Scoring!$A$45,Scoring!$B$45,IF(L91=Scoring!$A$46,Scoring!$B$46,IF(L91=Scoring!$A$47,Scoring!$B$47,IF(L91=Scoring!$A$48,Scoring!$B$48,IF(L91=Scoring!$A$49,Scoring!$B$49,IF(L91=Scoring!$A$50,Scoring!$B$50))))))","v":false},null,0,{"$f":"IF(AD91>Scoring!$B$134,Scoring!$A$134,IF(AD91>Scoring!$B$135,Scoring!$A$135,IF(AD91>Scoring!$B$136,Scoring!$A$136,IF(AD91>Scoring!$B$137,Scoring!$A$137,IF(AD91>Scoring!$B$138,Scoring!$A$138,IF(AD91>Scoring!$B$139,Scoring!$A$139,IF(AD91>Scoring!$B$140,Scoring!$A$140,IF(AD91>Scoring!$B$141,Scoring!$A$141,IF(AD91>=Scoring!$B$142,Scoring!$A$142,IF(AD91>Scoring!$B$143,Scoring!$A$143))))))))))","v":"None"},""]
[1004,10,"Confluence with Tanana","Landscape Context","Delta dynamics","Natural channel complexity","Confined | Unnatural Restricted Channel"," Some channels are confined or restricted","Unrestricted channel(s) "," Some channels are confined or restricted","Good","Good",{"$f":"IFERROR(INDEX(Outcomes!F:F,MATCH(A92,Outcomes!H:H,0)),\"\")","v":""},null,null,null,null,null,null,null,null,null,null,"Confluence with Tanana|Delta dynamics",null,null,{"$f":"IF(K92=Scoring!$A$45,Scoring!$B$45,IF(K92=Scoring!$A$46,Scoring!$B$46,IF(K92=Scoring!$A$47,Scoring!$B$47,IF(K92=Scoring!$A$48,Scoring!$B$48,IF(K92=Scoring!$A$49,Scoring!$B$49,IF(K92=Scoring!$A$50,Scoring!$B$50))))))","v":80.03},{"$f":"IF(L92=Scoring!$A$45,Scoring!$B$45,IF(L92=Scoring!$A$46,Scoring!$B$46,IF(L92=Scoring!$A$47,Scoring!$B$47,IF(L92=Scoring!$A$48,Scoring!$B$48,IF(L92=Scoring!$A$49,Scoring!$B$49,IF(L92=Scoring!$A$50,Scoring!$B$50))))))","v":80.03},null,0,{"$f":"IF(AD92>Scoring!$B$134,Scoring!$A$134,IF(AD92>Scoring!$B$135,Scoring!$A$135,IF(AD92>Scoring!$B$136,Scoring!$A$136,IF(AD92>Scoring!$B$137,Scoring!$A$137,IF(AD92>Scoring!$B$138,Scoring!$A$138,IF(AD92>Scoring!$B$139,Scoring!$A$139,IF(AD92>Scoring!$B$140,Scoring!$A$140,IF(AD92>Scoring!$B$141,Scoring!$A$141,IF(AD92>=Scoring!$B$142,Scoring!$A$142,IF(AD92>Scoring!$B$143,Scoring!$A$143))))))))))","v":"None"},10]
[1005,10,"Confluence with Tanana","Landscape Context","In channel habitat","Amount, type, size, availability of, distribution, dynamic equilibrium (in)stability, large woody debris, substrate and banks","Low diversity of and abundance of suitable substrates/ material in most habitats"," Moderate diversity of abundance of suitable substrates/material in most habitats","Diversity and abundance of suitable substrates/ material in most habitat for aquatic - "," High diversity and abundance of suitable substrates/ material in most habitat for aquatic species","Good","Good",{"$f":"IFERROR(INDEX(Outcomes!F:F,MATCH(A93,Outcomes!H:H,0)),\"\")","v":""},null,null,null,null,null,null,null,null,null,null,"Confluence with Tanana|In channel habitat",null,null,{"$f":"IF(K93=Scoring!$A$45,Scoring!$B$45,IF(K93=Scoring!$A$46,Scoring!$B$46,IF(K93=Scoring!$A$47,Scoring!$B$47,IF(K93=Scoring!$A$48,Scoring!$B$48,IF(K93=Scoring!$A$49,Scoring!$B$49,IF(K93=Scoring!$A$50,Scoring!$B$50))))))","v":80.03},{"$f":"IF(L93=Scoring!$A$45,Scoring!$B$45,IF(L93=Scoring!$A$46,Scoring!$B$46,IF(L93=Scoring!$A$47,Scoring!$B$47,IF(L93=Scoring!$A$48,Scoring!$B$48,IF(L93=Scoring!$A$49,Scoring!$B$49,IF(L93=Scoring!$A$50,Scoring!$B$50))))))","v":80.03},null,0,{"$f":"IF(AD93>Scoring!$B$134,Scoring!$A$134,IF(AD93>Scoring!$B$135,Scoring!$A$135,IF(AD93>Scoring!$B$136,Scoring!$A$136,IF(AD93>Scoring!$B$137,Scoring!$A$137,IF(AD93>Scoring!$B$138,Scoring!$A$138,IF(AD93>Scoring!$B$139,Scoring!$A$139,IF(AD93>Scoring!$B$140,Scoring!$A$140,IF(AD93>Scoring!$B$141,Scoring!$A$141,IF(AD93>=Scoring!$B$142,Scoring!$A$142,IF(AD93>Scoring!$B$143,Scoring!$A$143))))))))))","v":"None"},10]
[1006,10,"Confluence with Tanana","Condition","Charactersitic native community","Presence of characteristic native communities within habitats","Few habitats have the characteristic native communities to accom-modate most nested targets in abundance","Some habitats have the characteristic native communities to accom-modate most nested targets in abundance","Most habitats have the characteristic native communities to accom-modate most nested targets in abundance","Almost all habitats have the characteristic native communities to accom­modate almost all nested targets in abundance","Good","Good -",{"$f":"IFERROR(INDEX(Outcomes!F:F,MATCH(A94,Outcomes!H:H,0)),\"\")","v":""},null,null,null,null,null,null,null,null,null,null,"Confluence with Tanana|Charactersitic native community",null,null,{"$f":"IF(K94=Scoring!$A$45,Scoring!$B$45,IF(K94=Scoring!$A$46,Scoring!$B$46,IF(K94=Scoring!$A$47,Scoring!$B$47,IF(K94=Scoring!$A$48,Scoring!$B$48,IF(K94=Scoring!$A$49,Scoring!$B$49,IF(K94=Scoring!$A$50,Scoring!$B$50))))))","v":80.03},{"$f":"IF(L94=Scoring!$A$45,Scoring!$B$45,IF(L94=Scoring!$A$46,Scoring!$B$46,IF(L94=Scoring!$A$47,Scoring!$B$47,IF(L94=Scoring!$A$48,Scoring!$B$48,IF(L94=Scoring!$A$49,Scoring!$B$49,IF(L94=Scoring!$A$50,Scoring!$B$50))))))","v":60.04},null,19.990000000000002,{"$f":"IF(AD94>Scoring!$B$134,Scoring!$A$134,IF(AD94>Scoring!$B$135,Scoring!$A$135,IF(AD94>Scoring!$B$136,Scoring!$A$136,IF(AD94>Scoring!$B$137,Scoring!$A$137,IF(AD94>Scoring!$B$138,Scoring!$A$138,IF(AD94>Scoring!$B$139,Scoring!$A$139,IF(AD94>Scoring!$B$140,Scoring!$A$140,IF(AD94>Scoring!$B$141,Scoring!$A$141,IF(AD94>=Scoring!$B$142,Scoring!$A$142,IF(AD94>Scoring!$B$143,Scoring!$A$143))))))))))","v":"Moderate"},6]
[1007,10,"Confluence with Tanana","Condition","Species composition","Presence/absence, extent of invasive species"," High abundance of  invasive/non-native species in most habitats"," Moderate abundance of  invasive/non-native species in most habitats","Low presence of existing invasive/non-native species in most habitats with NO new invasive species  "," Mimimal to no abundance of  invasive/non-native species in most habitats","Good","Good -",{"$f":"IFERROR(INDEX(Outcomes!F:F,MATCH(A95,Outcomes!H:H,0)),\"\")","v":"Good"},null,null,null,null,null,null,null,null,null,null,"Confluence with Tanana|Species composition",null,null,{"$f":"IF(K95=Scoring!$A$45,Scoring!$B$45,IF(K95=Scoring!$A$46,Scoring!$B$46,IF(K95=Scoring!$A$47,Scoring!$B$47,IF(K95=Scoring!$A$48,Scoring!$B$48,IF(K95=Scoring!$A$49,Scoring!$B$49,IF(K95=Scoring!$A$50,Scoring!$B$50))))))","v":80.03},{"$f":"IF(L95=Scoring!$A$45,Scoring!$B$45,IF(L95=Scoring!$A$46,Scoring!$B$46,IF(L95=Scoring!$A$47,Scoring!$B$47,IF(L95=Scoring!$A$48,Scoring!$B$48,IF(L95=Scoring!$A$49,Scoring!$B$49,IF(L95=Scoring!$A$50,Scoring!$B$50))))))","v":60.04},null,19.990000000000002,{"$f":"IF(AD95>Scoring!$B$134,Scoring!$A$134,IF(AD95>Scoring!$B$135,Scoring!$A$135,IF(AD95>Scoring!$B$136,Scoring!$A$136,IF(AD95>Scoring!$B$137,Scoring!$A$137,IF(AD95>Scoring!$B$138,Scoring!$A$138,IF(AD95>Scoring!$B$139,Scoring!$A$139,IF(AD95>Scoring!$B$140,Scoring!$A$140,IF(AD95>Scoring!$B$141,Scoring!$A$141,IF(AD95>=Scoring!$B$142,Scoring!$A$142,IF(AD95>Scoring!$B$143,Scoring!$A$143))))))))))","v":"Moderate"},6]
[1008,10,"Confluence with Tanana","Condition","Water quality","Temperature, DO, toxins, or litter/trash/residues","High TBD% not meeting most ADEC’s standards "," Moderate habitats meet most ADEC’s standards","Most habitats are meeting most ADEC's standards","Majority to all habitats meet most ADEC’s standards","Good","Good -",{"$f":"IFERROR(INDEX(Outcomes!F:F,MATCH(A96,Outcomes!H:H,0)),\"\")","v":""},null,null,null,null,null,null,null,null,null,null,"Confluence with Tanana|Water quality",null,null,{"$f":"IF(K96=Scoring!$A$45,Scoring!$B$45,IF(K96=Scoring!$A$46,Scoring!$B$46,IF(K96=Scoring!$A$47,Scoring!$B$47,IF(K96=Scoring!$A$48,Scoring!$B$48,IF(K96=Scoring!$A$49,Scoring!$B$49,IF(K96=Scoring!$A$50,Scoring!$B$50))))))","v":80.03},{"$f":"IF(L96=Scoring!$A$45,Scoring!$B$45,IF(L96=Scoring!$A$46,Scoring!$B$46,IF(L96=Scoring!$A$47,Scoring!$B$47,IF(L96=Scoring!$A$48,Scoring!$B$48,IF(L96=Scoring!$A$49,Scoring!$B$49,IF(L96=Scoring!$A$50,Scoring!$B$50))))))","v":60.04},null,19.990000000000002,{"$f":"IF(AD96>Scoring!$B$134,Scoring!$A$134,IF(AD96>Scoring!$B$135,Scoring!$A$135,IF(AD96>Scoring!$B$136,Scoring!$A$136,IF(AD96>Scoring!$B$137,Scoring!$A$137,IF(AD96>Scoring!$B$138,Scoring!$A$138,IF(AD96>Scoring!$B$139,Scoring!$A$139,IF(AD96>Scoring!$B$140,Scoring!$A$140,IF(AD96>Scoring!$B$141,Scoring!$A$141,IF(AD96>=Scoring!$B$142,Scoring!$A$142,IF(AD96>Scoring!$B$143,Scoring!$A$143))))))))))","v":"Moderate"},6]
[1009,10,"Confluence with Tanana","Size","Extent includes floodplain/riparian and river area","Acres","Severe loss","Moderate to substantial loss","Minimal loss","Mother Nature","Good","Good -",{"$f":"IFERROR(INDEX(Outcomes!F:F,MATCH(A97,Outcomes!H:H,0)),\"\")","v":""},null,null,null,null,null,null,null,null,null,null,"Confluence with Tanana|Extent includes floodplain/riparian and river area",null,null,{"$f":"IF(K97=Scoring!$A$45,Scoring!$B$45,IF(K97=Scoring!$A$46,Scoring!$B$46,IF(K97=Scoring!$A$47,Scoring!$B$47,IF(K97=Scoring!$A$48,Scoring!$B$48,IF(K97=Scoring!$A$49,Scoring!$B$49,IF(K97=Scoring!$A$50,Scoring!$B$50))))))","v":80.03},{"$f":"IF(L97=Scoring!$A$45,Scoring!$B$45,IF(L97=Scoring!$A$46,Scoring!$B$46,IF(L97=Scoring!$A$47,Scoring!$B$47,IF(L97=Scoring!$A$48,Scoring!$B$48,IF(L97=Scoring!$A$49,Scoring!$B$49,IF(L97=Scoring!$A$50,Scoring!$B$50))))))","v":60.04},null,19.990000000000002,{"$f":"IF(AD97>Scoring!$B$134,Scoring!$A$134,IF(AD97>Scoring!$B$135,Scoring!$A$135,IF(AD97>Scoring!$B$136,Scoring!$A$136,IF(AD97>Scoring!$B$137,Scoring!$A$137,IF(AD97>Scoring!$B$138,Scoring!$A$138,IF(AD97>Scoring!$B$139,Scoring!$A$139,IF(AD97>Scoring!$B$140,Scoring!$A$140,IF(AD97>Scoring!$B$141,Scoring!$A$141,IF(AD97>=Scoring!$B$142,Scoring!$A$142,IF(AD97>Scoring!$B$143,Scoring!$A$143))))))))))","v":"Moderate"},6]
[1010,10,"Confluence with Tanana",null,null,null,null,null,null,null,null,null,{"$f":"IFERROR(INDEX(Outcomes!F:F,MATCH(A98,Outcomes!H:H,0)),\"\")","v":""},null,null,null,null,null,null,null,null,null,null,{"$f":"C98 & \"|\" &E98","v":"Confluence with Tanana|"},null,null,{"$f":"IF(K98=Scoring!$A$45,Scoring!$B$45,IF(K98=Scoring!$A$46,Scoring!$B$46,IF(K98=Scoring!$A$47,Scoring!$B$47,IF(K98=Scoring!$A$48,Scoring!$B$48,IF(K98=Scoring!$A$49,Scoring!$B$49,IF(K98=Scoring!$A$50,Scoring!$B$50))))))","v":false},{"$f":"IF(L98=Scoring!$A$45,Scoring!$B$45,IF(L98=Scoring!$A$46,Scoring!$B$46,IF(L98=Scoring!$A$47,Scoring!$B$47,IF(L98=Scoring!$A$48,Scoring!$B$48,IF(L98=Scoring!$A$49,Scoring!$B$49,IF(L98=Scoring!$A$50,Scoring!$B$50))))))","v":false},null,{"$f":"AA98-AB98","v":0},{"$f":"IF(AD98>Scoring!$B$134,Scoring!$A$134,IF(AD98>Scoring!$B$135,Scoring!$A$135,IF(AD98>Scoring!$B$136,Scoring!$A$136,IF(AD98>Scoring!$B$137,Scoring!$A$137,IF(AD98>Scoring!$B$138,Scoring!$A$138,IF(AD98>Scoring!$B$139,Scoring!$A$139,IF(AD98>Scoring!$B$140,Scoring!$A$140,IF(AD98>Scoring!$B$141,Scoring!$A$141,IF(AD98>=Scoring!$B$142,Scoring!$A$142,IF(AD98>Scoring!$B$143,Scoring!$A$143))))))))))","v":"None"},{"$f":"IFERROR(INDEX(StrategicActionMatrix,MATCH(K98,Rating,0),MATCH(AE98,Change,0)),\"\")","v":""}]
[1011,10,"Confluence with Tanana",null,null,null,null,null,null,null,null,null,{"$f":"IFERROR(INDEX(Outcomes!F:F,MATCH(A99,Outcomes!H:H,0)),\"\")","v":""},null,null,null,null,null,null,null,null,null,null,"Confluence with Tanana|",null,null,{"$f":"IF(K99=Scoring!$A$45,Scoring!$B$45,IF(K99=Scoring!$A$46,Scoring!$B$46,IF(K99=Scoring!$A$47,Scoring!$B$47,IF(K99=Scoring!$A$48,Scoring!$B$48,IF(K99=Scoring!$A$49,Scoring!$B$49,IF(K99=Scoring!$A$50,Scoring!$B$50))))))","v":false},{"$f":"IF(L99=Scoring!$A$45,Scoring!$B$45,IF(L99=Scoring!$A$46,Scoring!$B$46,IF(L99=Scoring!$A$47,Scoring!$B$47,IF(L99=Scoring!$A$48,Scoring!$B$48,IF(L99=Scoring!$A$49,Scoring!$B$49,IF(L99=Scoring!$A$50,Scoring!$B$50))))))","v":false},null,0,{"$f":"IF(AD99>Scoring!$B$134,Scoring!$A$134,IF(AD99>Scoring!$B$135,Scoring!$A$135,IF(AD99>Scoring!$B$136,Scoring!$A$136,IF(AD99>Scoring!$B$137,Scoring!$A$137,IF(AD99>Scoring!$B$138,Scoring!$A$138,IF(AD99>Scoring!$B$139,Scoring!$A$139,IF(AD99>Scoring!$B$140,Scoring!$A$140,IF(AD99>Scoring!$B$141,Scoring!$A$141,IF(AD99>=Scoring!$B$142,Scoring!$A$142,IF(AD99>Scoring!$B$143,Scoring!$A$143))))))))))","v":"None"},""]
[1012,10,"Confluence with Tanana",null,null,null,null,null,null,null,null,null,{"$f":"IFERROR(INDEX(Outcomes!F:F,MATCH(A100,Outcomes!H:H,0)),\"\")","v":""},null,null,null,null,null,null,null,null,null,null,"Confluence with Tanana|",null,null,{"$f":"IF(K100=Scoring!$A$45,Scoring!$B$45,IF(K100=Scoring!$A$46,Scoring!$B$46,IF(K100=Scoring!$A$47,Scoring!$B$47,IF(K100=Scoring!$A$48,Scoring!$B$48,IF(K100=Scoring!$A$49,Scoring!$B$49,IF(K100=Scoring!$A$50,Scoring!$B$50))))))","v":false},{"$f":"IF(L100=Scoring!$A$45,Scoring!$B$45,IF(L100=Scoring!$A$46,Scoring!$B$46,IF(L100=Scoring!$A$47,Scoring!$B$47,IF(L100=Scoring!$A$48,Scoring!$B$48,IF(L100=Scoring!$A$49,Scoring!$B$49,IF(L100=Scoring!$A$50,Scoring!$B$50))))))","v":false},null,0,{"$f":"IF(AD100>Scoring!$B$134,Scoring!$A$134,IF(AD100>Scoring!$B$135,Scoring!$A$135,IF(AD100>Scoring!$B$136,Scoring!$A$136,IF(AD100>Scoring!$B$137,Scoring!$A$137,IF(AD100>Scoring!$B$138,Scoring!$A$138,IF(AD100>Scoring!$B$139,Scoring!$A$139,IF(AD100>Scoring!$B$140,Scoring!$A$140,IF(AD100>Scoring!$B$141,Scoring!$A$141,IF(AD100>=Scoring!$B$142,Scoring!$A$142,IF(AD100>Scoring!$B$143,Scoring!$A$143))))))))))","v":"None"},""]
[1013,10,"Confluence with Tanana",null,null,null,null,null,null,null,null,null,{"$f":"IFERROR(INDEX(Outcomes!F:F,MATCH(A101,Outcomes!H:H,0)),\"\")","v":""},null,null,null,null,null,null,null,null,null,null,"Confluence with Tanana|",null,null,{"$f":"IF(K101=Scoring!$A$45,Scoring!$B$45,IF(K101=Scoring!$A$46,Scoring!$B$46,IF(K101=Scoring!$A$47,Scoring!$B$47,IF(K101=Scoring!$A$48,Scoring!$B$48,IF(K101=Scoring!$A$49,Scoring!$B$49,IF(K101=Scoring!$A$50,Scoring!$B$50))))))","v":false},{"$f":"IF(L101=Scoring!$A$45,Scoring!$B$45,IF(L101=Scoring!$A$46,Scoring!$B$46,IF(L101=Scoring!$A$47,Scoring!$B$47,IF(L101=Scoring!$A$48,Scoring!$B$48,IF(L101=Scoring!$A$49,Scoring!$B$49,IF(L101=Scoring!$A$50,Scoring!$B$50))))))","v":false},null,0,{"$f":"IF(AD101>Scoring!$B$134,Scoring!$A$134,IF(AD101>Scoring!$B$135,Scoring!$A$135,IF(AD101>Scoring!$B$136,Scoring!$A$136,IF(AD101>Scoring!$B$137,Scoring!$A$137,IF(AD101>Scoring!$B$138,Scoring!$A$138,IF(AD101>Scoring!$B$139,Scoring!$A$139,IF(AD101>Scoring!$B$140,Scoring!$A$140,IF(AD101>Scoring!$B$141,Scoring!$A$141,IF(AD101>=Scoring!$B$142,Scoring!$A$142,IF(AD101>Scoring!$B$143,Scoring!$A$143))))))))))","v":"None"},""]
[1104,11,"",null,null,null,null,null,null,null,null,null,{"$f":"IFERROR(INDEX(Outcomes!F:F,MATCH(A102,Outcomes!H:H,0)),\"\")","v":""},null,null,null,null,null,null,null,null,null,null,"|",null,null,{"$f":"IF(K102=Scoring!$A$45,Scoring!$B$45,IF(K102=Scoring!$A$46,Scoring!$B$46,IF(K102=Scoring!$A$47,Scoring!$B$47,IF(K102=Scoring!$A$48,Scoring!$B$48,IF(K102=Scoring!$A$49,Scoring!$B$49,IF(K102=Scoring!$A$50,Scoring!$B$50))))))","v":false},{"$f":"IF(L102=Scoring!$A$45,Scoring!$B$45,IF(L102=Scoring!$A$46,Scoring!$B$46,IF(L102=Scoring!$A$47,Scoring!$B$47,IF(L102=Scoring!$A$48,Scoring!$B$48,IF(L102=Scoring!$A$49,Scoring!$B$49,IF(L102=Scoring!$A$50,Scoring!$B$50))))))","v":false},null,0,{"$f":"IF(AD102>Scoring!$B$134,Scoring!$A$134,IF(AD102>Scoring!$B$135,Scoring!$A$135,IF(AD102>Scoring!$B$136,Scoring!$A$136,IF(AD102>Scoring!$B$137,Scoring!$A$137,IF(AD102>Scoring!$B$138,Scoring!$A$138,IF(AD102>Scoring!$B$139,Scoring!$A$139,IF(AD102>Scoring!$B$140,Scoring!$A$140,IF(AD102>Scoring!$B$141,Scoring!$A$141,IF(AD102>=Scoring!$B$142,Scoring!$A$142,IF(AD102>Scoring!$B$143,Scoring!$A$143))))))))))","v":"None"},""]
[1105,11,"",null,null,null,null,null,null,null,null,null,{"$f":"IFERROR(INDEX(Outcomes!F:F,MATCH(A103,Outcomes!H:H,0)),\"\")","v":""},null,null,null,null,null,null,null,null,null,null,"|",null,null,{"$f":"IF(K103=Scoring!$A$45,Scoring!$B$45,IF(K103=Scoring!$A$46,Scoring!$B$46,IF(K103=Scoring!$A$47,Scoring!$B$47,IF(K103=Scoring!$A$48,Scoring!$B$48,IF(K103=Scoring!$A$49,Scoring!$B$49,IF(K103=Scoring!$A$50,Scoring!$B$50))))))","v":false},{"$f":"IF(L103=Scoring!$A$45,Scoring!$B$45,IF(L103=Scoring!$A$46,Scoring!$B$46,IF(L103=Scoring!$A$47,Scoring!$B$47,IF(L103=Scoring!$A$48,Scoring!$B$48,IF(L103=Scoring!$A$49,Scoring!$B$49,IF(L103=Scoring!$A$50,Scoring!$B$50))))))","v":false},null,0,{"$f":"IF(AD103>Scoring!$B$134,Scoring!$A$134,IF(AD103>Scoring!$B$135,Scoring!$A$135,IF(AD103>Scoring!$B$136,Scoring!$A$136,IF(AD103>Scoring!$B$137,Scoring!$A$137,IF(AD103>Scoring!$B$138,Scoring!$A$138,IF(AD103>Scoring!$B$139,Scoring!$A$139,IF(AD103>Scoring!$B$140,Scoring!$A$140,IF(AD103>Scoring!$B$141,Scoring!$A$141,IF(AD103>=Scoring!$B$142,Scoring!$A$142,IF(AD103>Scoring!$B$143,Scoring!$A$143))))))))))","v":"None"},""]
[1106,11,"",null,null,null,null,null,null,null,null,null,{"$f":"IFERROR(INDEX(Outcomes!F:F,MATCH(A104,Outcomes!H:H,0)),\"\")","v":""},null,null,null,null,null,null,null,null,null,null,"|",null,null,{"$f":"IF(K104=Scoring!$A$45,Scoring!$B$45,IF(K104=Scoring!$A$46,Scoring!$B$46,IF(K104=Scoring!$A$47,Scoring!$B$47,IF(K104=Scoring!$A$48,Scoring!$B$48,IF(K104=Scoring!$A$49,Scoring!$B$49,IF(K104=Scoring!$A$50,Scoring!$B$50))))))","v":false},{"$f":"IF(L104=Scoring!$A$45,Scoring!$B$45,IF(L104=Scoring!$A$46,Scoring!$B$46,IF(L104=Scoring!$A$47,Scoring!$B$47,IF(L104=Scoring!$A$48,Scoring!$B$48,IF(L104=Scoring!$A$49,Scoring!$B$49,IF(L104=Scoring!$A$50,Scoring!$B$50))))))","v":false},null,0,{"$f":"IF(AD104>Scoring!$B$134,Scoring!$A$134,IF(AD104>Scoring!$B$135,Scoring!$A$135,IF(AD104>Scoring!$B$136,Scoring!$A$136,IF(AD104>Scoring!$B$137,Scoring!$A$137,IF(AD104>Scoring!$B$138,Scoring!$A$138,IF(AD104>Scoring!$B$139,Scoring!$A$139,IF(AD104>Scoring!$B$140,Scoring!$A$140,IF(AD104>Scoring!$B$141,Scoring!$A$141,IF(AD104>=Scoring!$B$142,Scoring!$A$142,IF(AD104>Scoring!$B$143,Scoring!$A$143))))))))))","v":"None"},""]
[1107,11,"",null,null,null,null,null,null,null,null,null,{"$f":"IFERROR(INDEX(Outcomes!F:F,MATCH(A105,Outcomes!H:H,0)),\"\")","v":""},null,null,null,null,null,null,null,null,null,null,"|",null,null,{"$f":"IF(K105=Scoring!$A$45,Scoring!$B$45,IF(K105=Scoring!$A$46,Scoring!$B$46,IF(K105=Scoring!$A$47,Scoring!$B$47,IF(K105=Scoring!$A$48,Scoring!$B$48,IF(K105=Scoring!$A$49,Scoring!$B$49,IF(K105=Scoring!$A$50,Scoring!$B$50))))))","v":false},{"$f":"IF(L105=Scoring!$A$45,Scoring!$B$45,IF(L105=Scoring!$A$46,Scoring!$B$46,IF(L105=Scoring!$A$47,Scoring!$B$47,IF(L105=Scoring!$A$48,Scoring!$B$48,IF(L105=Scoring!$A$49,Scoring!$B$49,IF(L105=Scoring!$A$50,Scoring!$B$50))))))","v":false},null,0,{"$f":"IF(AD105>Scoring!$B$134,Scoring!$A$134,IF(AD105>Scoring!$B$135,Scoring!$A$135,IF(AD105>Scoring!$B$136,Scoring!$A$136,IF(AD105>Scoring!$B$137,Scoring!$A$137,IF(AD105>Scoring!$B$138,Scoring!$A$138,IF(AD105>Scoring!$B$139,Scoring!$A$139,IF(AD105>Scoring!$B$140,Scoring!$A$140,IF(AD105>Scoring!$B$141,Scoring!$A$141,IF(AD105>=Scoring!$B$142,Scoring!$A$142,IF(AD105>Scoring!$B$143,Scoring!$A$143))))))))))","v":"None"},""]
[1108,11,"",null,null,null,null,null,null,null,null,null,{"$f":"IFERROR(INDEX(Outcomes!F:F,MATCH(A106,Outcomes!H:H,0)),\"\")","v":""},null,null,null,null,null,null,null,null,null,null,"|",null,null,{"$f":"IF(K106=Scoring!$A$45,Scoring!$B$45,IF(K106=Scoring!$A$46,Scoring!$B$46,IF(K106=Scoring!$A$47,Scoring!$B$47,IF(K106=Scoring!$A$48,Scoring!$B$48,IF(K106=Scoring!$A$49,Scoring!$B$49,IF(K106=Scoring!$A$50,Scoring!$B$50))))))","v":false},{"$f":"IF(L106=Scoring!$A$45,Scoring!$B$45,IF(L106=Scoring!$A$46,Scoring!$B$46,IF(L106=Scoring!$A$47,Scoring!$B$47,IF(L106=Scoring!$A$48,Scoring!$B$48,IF(L106=Scoring!$A$49,Scoring!$B$49,IF(L106=Scoring!$A$50,Scoring!$B$50))))))","v":false},null,0,{"$f":"IF(AD106>Scoring!$B$134,Scoring!$A$134,IF(AD106>Scoring!$B$135,Scoring!$A$135,IF(AD106>Scoring!$B$136,Scoring!$A$136,IF(AD106>Scoring!$B$137,Scoring!$A$137,IF(AD106>Scoring!$B$138,Scoring!$A$138,IF(AD106>Scoring!$B$139,Scoring!$A$139,IF(AD106>Scoring!$B$140,Scoring!$A$140,IF(AD106>Scoring!$B$141,Scoring!$A$141,IF(AD106>=Scoring!$B$142,Scoring!$A$142,IF(AD106>Scoring!$B$143,Scoring!$A$143))))))))))","v":"None"},""]
[1109,11,"",null,null,null,null,null,null,null,null,null,{"$f":"IFERROR(INDEX(Outcomes!F:F,MATCH(A107,Outcomes!H:H,0)),\"\")","v":""},null,null,null,null,null,null,null,null,null,null,"|",null,null,{"$f":"IF(K107=Scoring!$A$45,Scoring!$B$45,IF(K107=Scoring!$A$46,Scoring!$B$46,IF(K107=Scoring!$A$47,Scoring!$B$47,IF(K107=Scoring!$A$48,Scoring!$B$48,IF(K107=Scoring!$A$49,Scoring!$B$49,IF(K107=Scoring!$A$50,Scoring!$B$50))))))","v":false},{"$f":"IF(L107=Scoring!$A$45,Scoring!$B$45,IF(L107=Scoring!$A$46,Scoring!$B$46,IF(L107=Scoring!$A$47,Scoring!$B$47,IF(L107=Scoring!$A$48,Scoring!$B$48,IF(L107=Scoring!$A$49,Scoring!$B$49,IF(L107=Scoring!$A$50,Scoring!$B$50))))))","v":false},null,0,{"$f":"IF(AD107>Scoring!$B$134,Scoring!$A$134,IF(AD107>Scoring!$B$135,Scoring!$A$135,IF(AD107>Scoring!$B$136,Scoring!$A$136,IF(AD107>Scoring!$B$137,Scoring!$A$137,IF(AD107>Scoring!$B$138,Scoring!$A$138,IF(AD107>Scoring!$B$139,Scoring!$A$139,IF(AD107>Scoring!$B$140,Scoring!$A$140,IF(AD107>Scoring!$B$141,Scoring!$A$141,IF(AD107>=Scoring!$B$142,Scoring!$A$142,IF(AD107>Scoring!$B$143,Scoring!$A$143))))))))))","v":"None"},""]
[1110,11,"",null,null,null,null,null,null,null,null,null,{"$f":"IFERROR(INDEX(Outcomes!F:F,MATCH(A108,Outcomes!H:H,0)),\"\")","v":""},null,null,null,null,null,null,null,null,null,null,"|",null,null,{"$f":"IF(K108=Scoring!$A$45,Scoring!$B$45,IF(K108=Scoring!$A$46,Scoring!$B$46,IF(K108=Scoring!$A$47,Scoring!$B$47,IF(K108=Scoring!$A$48,Scoring!$B$48,IF(K108=Scoring!$A$49,Scoring!$B$49,IF(K108=Scoring!$A$50,Scoring!$B$50))))))","v":false},{"$f":"IF(L108=Scoring!$A$45,Scoring!$B$45,IF(L108=Scoring!$A$46,Scoring!$B$46,IF(L108=Scoring!$A$47,Scoring!$B$47,IF(L108=Scoring!$A$48,Scoring!$B$48,IF(L108=Scoring!$A$49,Scoring!$B$49,IF(L108=Scoring!$A$50,Scoring!$B$50))))))","v":false},null,0,{"$f":"IF(AD108>Scoring!$B$134,Scoring!$A$134,IF(AD108>Scoring!$B$135,Scoring!$A$135,IF(AD108>Scoring!$B$136,Scoring!$A$136,IF(AD108>Scoring!$B$137,Scoring!$A$137,IF(AD108>Scoring!$B$138,Scoring!$A$138,IF(AD108>Scoring!$B$139,Scoring!$A$139,IF(AD108>Scoring!$B$140,Scoring!$A$140,IF(AD108>Scoring!$B$141,Scoring!$A$141,IF(AD108>=Scoring!$B$142,Scoring!$A$142,IF(AD108>Scoring!$B$143,Scoring!$A$143))))))))))","v":"None"},""]
[1111,11,"",null,null,null,null,null,null,null,null,null,{"$f":"IFERROR(INDEX(Outcomes!F:F,MATCH(A109,Outcomes!H:H,0)),\"\")","v":""},null,null,null,null,null,null,null,null,null,null,"|",null,null,{"$f":"IF(K109=Scoring!$A$45,Scoring!$B$45,IF(K109=Scoring!$A$46,Scoring!$B$46,IF(K109=Scoring!$A$47,Scoring!$B$47,IF(K109=Scoring!$A$48,Scoring!$B$48,IF(K109=Scoring!$A$49,Scoring!$B$49,IF(K109=Scoring!$A$50,Scoring!$B$50))))))","v":false},{"$f":"IF(L109=Scoring!$A$45,Scoring!$B$45,IF(L109=Scoring!$A$46,Scoring!$B$46,IF(L109=Scoring!$A$47,Scoring!$B$47,IF(L109=Scoring!$A$48,Scoring!$B$48,IF(L109=Scoring!$A$49,Scoring!$B$49,IF(L109=Scoring!$A$50,Scoring!$B$50))))))","v":false},null,0,{"$f":"IF(AD109>Scoring!$B$134,Scoring!$A$134,IF(AD109>Scoring!$B$135,Scoring!$A$135,IF(AD109>Scoring!$B$136,Scoring!$A$136,IF(AD109>Scoring!$B$137,Scoring!$A$137,IF(AD109>Scoring!$B$138,Scoring!$A$138,IF(AD109>Scoring!$B$139,Scoring!$A$139,IF(AD109>Scoring!$B$140,Scoring!$A$140,IF(AD109>Scoring!$B$141,Scoring!$A$141,IF(AD109>=Scoring!$B$142,Scoring!$A$142,IF(AD109>Scoring!$B$143,Scoring!$A$143))))))))))","v":"None"},""]
[1112,11,"",null,null,null,null,null,null,null,null,null,{"$f":"IFERROR(INDEX(Outcomes!F:F,MATCH(A110,Outcomes!H:H,0)),\"\")","v":""},null,null,null,null,null,null,null,null,null,null,"|",null,null,{"$f":"IF(K110=Scoring!$A$45,Scoring!$B$45,IF(K110=Scoring!$A$46,Scoring!$B$46,IF(K110=Scoring!$A$47,Scoring!$B$47,IF(K110=Scoring!$A$48,Scoring!$B$48,IF(K110=Scoring!$A$49,Scoring!$B$49,IF(K110=Scoring!$A$50,Scoring!$B$50))))))","v":false},{"$f":"IF(L110=Scoring!$A$45,Scoring!$B$45,IF(L110=Scoring!$A$46,Scoring!$B$46,IF(L110=Scoring!$A$47,Scoring!$B$47,IF(L110=Scoring!$A$48,Scoring!$B$48,IF(L110=Scoring!$A$49,Scoring!$B$49,IF(L110=Scoring!$A$50,Scoring!$B$50))))))","v":false},null,0,{"$f":"IF(AD110>Scoring!$B$134,Scoring!$A$134,IF(AD110>Scoring!$B$135,Scoring!$A$135,IF(AD110>Scoring!$B$136,Scoring!$A$136,IF(AD110>Scoring!$B$137,Scoring!$A$137,IF(AD110>Scoring!$B$138,Scoring!$A$138,IF(AD110>Scoring!$B$139,Scoring!$A$139,IF(AD110>Scoring!$B$140,Scoring!$A$140,IF(AD110>Scoring!$B$141,Scoring!$A$141,IF(AD110>=Scoring!$B$142,Scoring!$A$142,IF(AD110>Scoring!$B$143,Scoring!$A$143))))))))))","v":"None"},""]
[1113,11,"",null,null,null,null,null,null,null,null,null,{"$f":"IFERROR(INDEX(Outcomes!F:F,MATCH(A111,Outcomes!H:H,0)),\"\")","v":""},null,null,null,null,null,null,null,null,null,null,"|",null,null,{"$f":"IF(K111=Scoring!$A$45,Scoring!$B$45,IF(K111=Scoring!$A$46,Scoring!$B$46,IF(K111=Scoring!$A$47,Scoring!$B$47,IF(K111=Scoring!$A$48,Scoring!$B$48,IF(K111=Scoring!$A$49,Scoring!$B$49,IF(K111=Scoring!$A$50,Scoring!$B$50))))))","v":false},{"$f":"IF(L111=Scoring!$A$45,Scoring!$B$45,IF(L111=Scoring!$A$46,Scoring!$B$46,IF(L111=Scoring!$A$47,Scoring!$B$47,IF(L111=Scoring!$A$48,Scoring!$B$48,IF(L111=Scoring!$A$49,Scoring!$B$49,IF(L111=Scoring!$A$50,Scoring!$B$50))))))","v":false},null,0,{"$f":"IF(AD111>Scoring!$B$134,Scoring!$A$134,IF(AD111>Scoring!$B$135,Scoring!$A$135,IF(AD111>Scoring!$B$136,Scoring!$A$136,IF(AD111>Scoring!$B$137,Scoring!$A$137,IF(AD111>Scoring!$B$138,Scoring!$A$138,IF(AD111>Scoring!$B$139,Scoring!$A$139,IF(AD111>Scoring!$B$140,Scoring!$A$140,IF(AD111>Scoring!$B$141,Scoring!$A$141,IF(AD111>=Scoring!$B$142,Scoring!$A$142,IF(AD111>Scoring!$B$143,Scoring!$A$143))))))))))","v":"None"},""]
[1204,12,"",null,null,null,null,null,null,null,null,null,{"$f":"IFERROR(INDEX(Outcomes!F:F,MATCH(A112,Outcomes!H:H,0)),\"\")","v":""},null,null,null,null,null,null,null,null,null,null,"|",null,null,{"$f":"IF(K112=Scoring!$A$45,Scoring!$B$45,IF(K112=Scoring!$A$46,Scoring!$B$46,IF(K112=Scoring!$A$47,Scoring!$B$47,IF(K112=Scoring!$A$48,Scoring!$B$48,IF(K112=Scoring!$A$49,Scoring!$B$49,IF(K112=Scoring!$A$50,Scoring!$B$50))))))","v":false},{"$f":"IF(L112=Scoring!$A$45,Scoring!$B$45,IF(L112=Scoring!$A$46,Scoring!$B$46,IF(L112=Scoring!$A$47,Scoring!$B$47,IF(L112=Scoring!$A$48,Scoring!$B$48,IF(L112=Scoring!$A$49,Scoring!$B$49,IF(L112=Scoring!$A$50,Scoring!$B$50))))))","v":false},null,0,{"$f":"IF(AD112>Scoring!$B$134,Scoring!$A$134,IF(AD112>Scoring!$B$135,Scoring!$A$135,IF(AD112>Scoring!$B$136,Scoring!$A$136,IF(AD112>Scoring!$B$137,Scoring!$A$137,IF(AD112>Scoring!$B$138,Scoring!$A$138,IF(AD112>Scoring!$B$139,Scoring!$A$139,IF(AD112>Scoring!$B$140,Scoring!$A$140,IF(AD112>Scoring!$B$141,Scoring!$A$141,IF(AD112>=Scoring!$B$142,Scoring!$A$142,IF(AD112>Scoring!$B$143,Scoring!$A$143))))))))))","v":"None"},""]
[1205,12,"",null,null,null,null,null,null,null,null,null,{"$f":"IFERROR(INDEX(Outcomes!F:F,MATCH(A113,Outcomes!H:H,0)),\"\")","v":""},null,null,null,null,null,null,null,null,null,null,"|",null,null,{"$f":"IF(K113=Scoring!$A$45,Scoring!$B$45,IF(K113=Scoring!$A$46,Scoring!$B$46,IF(K113=Scoring!$A$47,Scoring!$B$47,IF(K113=Scoring!$A$48,Scoring!$B$48,IF(K113=Scoring!$A$49,Scoring!$B$49,IF(K113=Scoring!$A$50,Scoring!$B$50))))))","v":false},{"$f":"IF(L113=Scoring!$A$45,Scoring!$B$45,IF(L113=Scoring!$A$46,Scoring!$B$46,IF(L113=Scoring!$A$47,Scoring!$B$47,IF(L113=Scoring!$A$48,Scoring!$B$48,IF(L113=Scoring!$A$49,Scoring!$B$49,IF(L113=Scoring!$A$50,Scoring!$B$50))))))","v":false},null,0,{"$f":"IF(AD113>Scoring!$B$134,Scoring!$A$134,IF(AD113>Scoring!$B$135,Scoring!$A$135,IF(AD113>Scoring!$B$136,Scoring!$A$136,IF(AD113>Scoring!$B$137,Scoring!$A$137,IF(AD113>Scoring!$B$138,Scoring!$A$138,IF(AD113>Scoring!$B$139,Scoring!$A$139,IF(AD113>Scoring!$B$140,Scoring!$A$140,IF(AD113>Scoring!$B$141,Scoring!$A$141,IF(AD113>=Scoring!$B$142,Scoring!$A$142,IF(AD113>Scoring!$B$143,Scoring!$A$143))))))))))","v":"None"},""]
[1206,12,"",null,null,null,null,null,null,null,null,null,{"$f":"IFERROR(INDEX(Outcomes!F:F,MATCH(A114,Outcomes!H:H,0)),\"\")","v":""},null,null,null,null,null,null,null,null,null,null,"|",null,null,{"$f":"IF(K114=Scoring!$A$45,Scoring!$B$45,IF(K114=Scoring!$A$46,Scoring!$B$46,IF(K114=Scoring!$A$47,Scoring!$B$47,IF(K114=Scoring!$A$48,Scoring!$B$48,IF(K114=Scoring!$A$49,Scoring!$B$49,IF(K114=Scoring!$A$50,Scoring!$B$50))))))","v":false},{"$f":"IF(L114=Scoring!$A$45,Scoring!$B$45,IF(L114=Scoring!$A$46,Scoring!$B$46,IF(L114=Scoring!$A$47,Scoring!$B$47,IF(L114=Scoring!$A$48,Scoring!$B$48,IF(L114=Scoring!$A$49,Scoring!$B$49,IF(L114=Scoring!$A$50,Scoring!$B$50))))))","v":false},null,0,{"$f":"IF(AD114>Scoring!$B$134,Scoring!$A$134,IF(AD114>Scoring!$B$135,Scoring!$A$135,IF(AD114>Scoring!$B$136,Scoring!$A$136,IF(AD114>Scoring!$B$137,Scoring!$A$137,IF(AD114>Scoring!$B$138,Scoring!$A$138,IF(AD114>Scoring!$B$139,Scoring!$A$139,IF(AD114>Scoring!$B$140,Scoring!$A$140,IF(AD114>Scoring!$B$141,Scoring!$A$141,IF(AD114>=Scoring!$B$142,Scoring!$A$142,IF(AD114>Scoring!$B$143,Scoring!$A$143))))))))))","v":"None"},""]
[1207,12,"",null,null,null,null,null,null,null,null,null,{"$f":"IFERROR(INDEX(Outcomes!F:F,MATCH(A115,Outcomes!H:H,0)),\"\")","v":""},null,null,null,null,null,null,null,null,null,null,"|",null,null,{"$f":"IF(K115=Scoring!$A$45,Scoring!$B$45,IF(K115=Scoring!$A$46,Scoring!$B$46,IF(K115=Scoring!$A$47,Scoring!$B$47,IF(K115=Scoring!$A$48,Scoring!$B$48,IF(K115=Scoring!$A$49,Scoring!$B$49,IF(K115=Scoring!$A$50,Scoring!$B$50))))))","v":false},{"$f":"IF(L115=Scoring!$A$45,Scoring!$B$45,IF(L115=Scoring!$A$46,Scoring!$B$46,IF(L115=Scoring!$A$47,Scoring!$B$47,IF(L115=Scoring!$A$48,Scoring!$B$48,IF(L115=Scoring!$A$49,Scoring!$B$49,IF(L115=Scoring!$A$50,Scoring!$B$50))))))","v":false},null,0,{"$f":"IF(AD115>Scoring!$B$134,Scoring!$A$134,IF(AD115>Scoring!$B$135,Scoring!$A$135,IF(AD115>Scoring!$B$136,Scoring!$A$136,IF(AD115>Scoring!$B$137,Scoring!$A$137,IF(AD115>Scoring!$B$138,Scoring!$A$138,IF(AD115>Scoring!$B$139,Scoring!$A$139,IF(AD115>Scoring!$B$140,Scoring!$A$140,IF(AD115>Scoring!$B$141,Scoring!$A$141,IF(AD115>=Scoring!$B$142,Scoring!$A$142,IF(AD115>Scoring!$B$143,Scoring!$A$143))))))))))","v":"None"},""]
[1208,12,"",null,null,null,null,null,null,null,null,null,{"$f":"IFERROR(INDEX(Outcomes!F:F,MATCH(A116,Outcomes!H:H,0)),\"\")","v":""},null,null,null,null,null,null,null,null,null,null,"|",null,null,{"$f":"IF(K116=Scoring!$A$45,Scoring!$B$45,IF(K116=Scoring!$A$46,Scoring!$B$46,IF(K116=Scoring!$A$47,Scoring!$B$47,IF(K116=Scoring!$A$48,Scoring!$B$48,IF(K116=Scoring!$A$49,Scoring!$B$49,IF(K116=Scoring!$A$50,Scoring!$B$50))))))","v":false},{"$f":"IF(L116=Scoring!$A$45,Scoring!$B$45,IF(L116=Scoring!$A$46,Scoring!$B$46,IF(L116=Scoring!$A$47,Scoring!$B$47,IF(L116=Scoring!$A$48,Scoring!$B$48,IF(L116=Scoring!$A$49,Scoring!$B$49,IF(L116=Scoring!$A$50,Scoring!$B$50))))))","v":false},null,0,{"$f":"IF(AD116>Scoring!$B$134,Scoring!$A$134,IF(AD116>Scoring!$B$135,Scoring!$A$135,IF(AD116>Scoring!$B$136,Scoring!$A$136,IF(AD116>Scoring!$B$137,Scoring!$A$137,IF(AD116>Scoring!$B$138,Scoring!$A$138,IF(AD116>Scoring!$B$139,Scoring!$A$139,IF(AD116>Scoring!$B$140,Scoring!$A$140,IF(AD116>Scoring!$B$141,Scoring!$A$141,IF(AD116>=Scoring!$B$142,Scoring!$A$142,IF(AD116>Scoring!$B$143,Scoring!$A$143))))))))))","v":"None"},""]
[1209,12,"",null,null,null,null,null,null,null,null,null,{"$f":"IFERROR(INDEX(Outcomes!F:F,MATCH(A117,Outcomes!H:H,0)),\"\")","v":""},null,null,null,null,null,null,null,null,null,null,"|",null,null,{"$f":"IF(K117=Scoring!$A$45,Scoring!$B$45,IF(K117=Scoring!$A$46,Scoring!$B$46,IF(K117=Scoring!$A$47,Scoring!$B$47,IF(K117=Scoring!$A$48,Scoring!$B$48,IF(K117=Scoring!$A$49,Scoring!$B$49,IF(K117=Scoring!$A$50,Scoring!$B$50))))))","v":false},{"$f":"IF(L117=Scoring!$A$45,Scoring!$B$45,IF(L117=Scoring!$A$46,Scoring!$B$46,IF(L117=Scoring!$A$47,Scoring!$B$47,IF(L117=Scoring!$A$48,Scoring!$B$48,IF(L117=Scoring!$A$49,Scoring!$B$49,IF(L117=Scoring!$A$50,Scoring!$B$50))))))","v":false},null,0,{"$f":"IF(AD117>Scoring!$B$134,Scoring!$A$134,IF(AD117>Scoring!$B$135,Scoring!$A$135,IF(AD117>Scoring!$B$136,Scoring!$A$136,IF(AD117>Scoring!$B$137,Scoring!$A$137,IF(AD117>Scoring!$B$138,Scoring!$A$138,IF(AD117>Scoring!$B$139,Scoring!$A$139,IF(AD117>Scoring!$B$140,Scoring!$A$140,IF(AD117>Scoring!$B$141,Scoring!$A$141,IF(AD117>=Scoring!$B$142,Scoring!$A$142,IF(AD117>Scoring!$B$143,Scoring!$A$143))))))))))","v":"None"},""]
[1210,12,"",null,null,null,null,null,null,null,null,null,{"$f":"IFERROR(INDEX(Outcomes!F:F,MATCH(A118,Outcomes!H:H,0)),\"\")","v":""},null,null,null,null,null,null,null,null,null,null,"|",null,null,{"$f":"IF(K118=Scoring!$A$45,Scoring!$B$45,IF(K118=Scoring!$A$46,Scoring!$B$46,IF(K118=Scoring!$A$47,Scoring!$B$47,IF(K118=Scoring!$A$48,Scoring!$B$48,IF(K118=Scoring!$A$49,Scoring!$B$49,IF(K118=Scoring!$A$50,Scoring!$B$50))))))","v":false},{"$f":"IF(L118=Scoring!$A$45,Scoring!$B$45,IF(L118=Scoring!$A$46,Scoring!$B$46,IF(L118=Scoring!$A$47,Scoring!$B$47,IF(L118=Scoring!$A$48,Scoring!$B$48,IF(L118=Scoring!$A$49,Scoring!$B$49,IF(L118=Scoring!$A$50,Scoring!$B$50))))))","v":false},null,0,{"$f":"IF(AD118>Scoring!$B$134,Scoring!$A$134,IF(AD118>Scoring!$B$135,Scoring!$A$135,IF(AD118>Scoring!$B$136,Scoring!$A$136,IF(AD118>Scoring!$B$137,Scoring!$A$137,IF(AD118>Scoring!$B$138,Scoring!$A$138,IF(AD118>Scoring!$B$139,Scoring!$A$139,IF(AD118>Scoring!$B$140,Scoring!$A$140,IF(AD118>Scoring!$B$141,Scoring!$A$141,IF(AD118>=Scoring!$B$142,Scoring!$A$142,IF(AD118>Scoring!$B$143,Scoring!$A$143))))))))))","v":"None"},""]
[1211,12,"",null,null,null,null,null,null,null,null,null,{"$f":"IFERROR(INDEX(Outcomes!F:F,MATCH(A119,Outcomes!H:H,0)),\"\")","v":""},null,null,null,null,null,null,null,null,null,null,"|",null,null,{"$f":"IF(K119=Scoring!$A$45,Scoring!$B$45,IF(K119=Scoring!$A$46,Scoring!$B$46,IF(K119=Scoring!$A$47,Scoring!$B$47,IF(K119=Scoring!$A$48,Scoring!$B$48,IF(K119=Scoring!$A$49,Scoring!$B$49,IF(K119=Scoring!$A$50,Scoring!$B$50))))))","v":false},{"$f":"IF(L119=Scoring!$A$45,Scoring!$B$45,IF(L119=Scoring!$A$46,Scoring!$B$46,IF(L119=Scoring!$A$47,Scoring!$B$47,IF(L119=Scoring!$A$48,Scoring!$B$48,IF(L119=Scoring!$A$49,Scoring!$B$49,IF(L119=Scoring!$A$50,Scoring!$B$50))))))","v":false},null,0,{"$f":"IF(AD119>Scoring!$B$134,Scoring!$A$134,IF(AD119>Scoring!$B$135,Scoring!$A$135,IF(AD119>Scoring!$B$136,Scoring!$A$136,IF(AD119>Scoring!$B$137,Scoring!$A$137,IF(AD119>Scoring!$B$138,Scoring!$A$138,IF(AD119>Scoring!$B$139,Scoring!$A$139,IF(AD119>Scoring!$B$140,Scoring!$A$140,IF(AD119>Scoring!$B$141,Scoring!$A$141,IF(AD119>=Scoring!$B$142,Scoring!$A$142,IF(AD119>Scoring!$B$143,Scoring!$A$143))))))))))","v":"None"},""]
[1212,12,"",null,null,null,null,null,null,null,null,null,{"$f":"IFERROR(INDEX(Outcomes!F:F,MATCH(A120,Outcomes!H:H,0)),\"\")","v":""},null,null,null,null,null,null,null,null,null,null,"|",null,null,{"$f":"IF(K120=Scoring!$A$45,Scoring!$B$45,IF(K120=Scoring!$A$46,Scoring!$B$46,IF(K120=Scoring!$A$47,Scoring!$B$47,IF(K120=Scoring!$A$48,Scoring!$B$48,IF(K120=Scoring!$A$49,Scoring!$B$49,IF(K120=Scoring!$A$50,Scoring!$B$50))))))","v":false},{"$f":"IF(L120=Scoring!$A$45,Scoring!$B$45,IF(L120=Scoring!$A$46,Scoring!$B$46,IF(L120=Scoring!$A$47,Scoring!$B$47,IF(L120=Scoring!$A$48,Scoring!$B$48,IF(L120=Scoring!$A$49,Scoring!$B$49,IF(L120=Scoring!$A$50,Scoring!$B$50))))))","v":false},null,0,{"$f":"IF(AD120>Scoring!$B$134,Scoring!$A$134,IF(AD120>Scoring!$B$135,Scoring!$A$135,IF(AD120>Scoring!$B$136,Scoring!$A$136,IF(AD120>Scoring!$B$137,Scoring!$A$137,IF(AD120>Scoring!$B$138,Scoring!$A$138,IF(AD120>Scoring!$B$139,Scoring!$A$139,IF(AD120>Scoring!$B$140,Scoring!$A$140,IF(AD120>Scoring!$B$141,Scoring!$A$141,IF(AD120>=Scoring!$B$142,Scoring!$A$142,IF(AD120>Scoring!$B$143,Scoring!$A$143))))))))))","v":"None"},""]
[1213,12,"",null,null,null,null,null,null,null,null,null,{"$f":"IFERROR(INDEX(Outcomes!F:F,MATCH(A121,Outcomes!H:H,0)),\"\")","v":""},null,null,null,null,null,null,null,null,null,null,"|",null,null,{"$f":"IF(K121=Scoring!$A$45,Scoring!$B$45,IF(K121=Scoring!$A$46,Scoring!$B$46,IF(K121=Scoring!$A$47,Scoring!$B$47,IF(K121=Scoring!$A$48,Scoring!$B$48,IF(K121=Scoring!$A$49,Scoring!$B$49,IF(K121=Scoring!$A$50,Scoring!$B$50))))))","v":false},{"$f":"IF(L121=Scoring!$A$45,Scoring!$B$45,IF(L121=Scoring!$A$46,Scoring!$B$46,IF(L121=Scoring!$A$47,Scoring!$B$47,IF(L121=Scoring!$A$48,Scoring!$B$48,IF(L121=Scoring!$A$49,Scoring!$B$49,IF(L121=Scoring!$A$50,Scoring!$B$50))))))","v":false},null,0,{"$f":"IF(AD121>Scoring!$B$134,Scoring!$A$134,IF(AD121>Scoring!$B$135,Scoring!$A$135,IF(AD121>Scoring!$B$136,Scoring!$A$136,IF(AD121>Scoring!$B$137,Scoring!$A$137,IF(AD121>Scoring!$B$138,Scoring!$A$138,IF(AD121>Scoring!$B$139,Scoring!$A$139,IF(AD121>Scoring!$B$140,Scoring!$A$140,IF(AD121>Scoring!$B$141,Scoring!$A$141,IF(AD121>=Scoring!$B$142,Scoring!$A$142,IF(AD121>Scoring!$B$143,Scoring!$A$143))))))))))","v":"None"},""]

{"sheet":"HealthSum","index":3,"n_rows":20,"n_cols":35,"rows_kept":20,"cut":false,"hidden":false,"merged":[[0,2,1,2]]}
[null,null,"Summary of Health"]
[null,null,null,null,null,1]
[null,"#","Conservation Target","Current Rating","Projected Future Rating With No Action","Projected Future Rating With Strategies",null,null,"Strategic Action Required",null,null,null,null,null,null,null,null,null,null,null,null,null,null,"Current","Future","Threat Delta %","Threat Delta Points","Strategy Delta",null,"Current Status","Future Status","Change","Change Level Ave. Pts/%","Strategic Action Score","Strategic Action"]
[null,1,{"$f":"IF(Targets!$C3=0,\"\",Targets!$C3)","v":"Alpine Tundra - Upper Chena"},{"$f":"'1'!$K$14","v":89.205405405405415},{"$f":"'1'!$L$14","v":78.970175438596485},{"$f":"IF($F$2=2,\"\",IF('1'!$T$14=0,\"\",'1'!$T$14))","v":78.970175438596485},null,null,{"$f":"AI4","v":"Abate any High threats; consider addressing Medium threats or improving Fair attributes if low hanging fruit"},"x",null,null,null,null,null,null,null,null,null,null,null,null,null,{"$f":"D4","v":89.205405405405415},{"$f":"E4","v":78.970175438596485},{"$f":"IFERROR(AA4/X4*100,\"\")","v":11.473777760768659},{"$f":"IFERROR(D4-E4,\"\")","v":10.23522996680893},{"$f":"IFERROR(F4-E4,\"\")","v":0},null,{"$f":"IF(X4=\"\",\"\",IF(X4>Scoring!$F$45,Scoring!$A$45,IF(X4>Scoring!$F$46,Scoring!$A$46,IF(X4>Scoring!$F$47,Scoring!$A$47,IF(X4>Scoring!$F$48,Scoring!$A$48,IF(X4>Scoring!$F$49,Scoring!$A$49,IF(X4>Scoring!$F$50,Scoring!$A$50)))))))","v":"Good"},{"$f":"IF(Y4=\"\",\"\",IF(Y4>Scoring!$F$45,Scoring!$A$45,IF(Y4>Scoring!$F$46,Scoring!$A$46,IF(Y4>Scoring!$F$47,Scoring!$A$47,IF(Y4>Scoring!$F$48,Scoring!$A$48,IF(Y4>Scoring!$F$49,Scoring!$A$49,IF(Y4>=Scoring!$F$50,Scoring!$A$50)))))))","v":"Good"},{"$f":"IF(AG4=\"\",\"\",IF(AG4>Scoring!$B$134,Scoring!$A$134,IF(AG4>Scoring!$B$135,Scoring!$A$135,IF(AG4>Scoring!$B$136,Scoring!$A$136,IF(AG4>Scoring!$B$137,Scoring!$A$137,IF(AG4>Scoring!$B$138,Scoring!$A$138,IF(AG4>Scoring!$B$139,Scoring!$A$139,IF(AG4>Scoring!$B$140,Scoring!$A$140,IF(AG4>Scoring!$B$141,Scoring!$A$141,IF(AG4>=Scoring!$B$142,Scoring!$A$142,IF(AG4>Scoring!$B$143,Scoring!$A$143)))))))))))","v":"Low-Moderate"},{"$f":"(Z4+AA4)/2","v":10.854503863788795},{"$f":"IFERROR(INDEX(StrategicActionMatrix,MATCH(AD4,Rating,0),MATCH(AF4,Change,0)),\"\")","v":6},{"$f":"IFERROR(VLOOKUP(AH4,Scoring!$A$158:$B$167,2),\"\")","v":"Abate any High threats; consider addressing Medium threats or improving Fair attributes if low hanging fruit"}]
[null,2,{"$f":"IF(Targets!$C9=0,\"\",Targets!$C9)","v":"Boreal Forests - Upper Chena"},{"$f":"'2'!$K$14","v":80.029999999999987},{"$f":"'2'!$L$14","v":56.706666666666671},{"$f":"IF($F$2=2,\"\",IF('2'!$T$14=0,\"\",'2'!$T$14))","v":60.038333333333334},null,null,"Abate any High threats",null,null,null,null,null,null,null,null,null,null,null,null,null,null,80.029999999999987,56.706666666666671,29.143237952434486,23.323333333333316,3.3316666666666634,null,{"$f":"IF(X5=\"\",\"\",IF(X5>Scoring!$F$45,Scoring!$A$45,IF(X5>Scoring!$F$46,Scoring!$A$46,IF(X5>Scoring!$F$47,Scoring!$A$47,IF(X5>Scoring!$F$48,Scoring!$A$48,IF(X5>Scoring!$F$49,Scoring!$A$49,IF(X5>Scoring!$F$50,Scoring!$A$50)))))))","v":"Good"},{"$f":"IF(Y5=\"\",\"\",IF(Y5>Scoring!$F$45,Scoring!$A$45,IF(Y5>Scoring!$F$46,Scoring!$A$46,IF(Y5>Scoring!$F$47,Scoring!$A$47,IF(Y5>Scoring!$F$48,Scoring!$A$48,IF(Y5>Scoring!$F$49,Scoring!$A$49,IF(Y5>=Scoring!$F$50,Scoring!$A$50)))))))","v":"Good -"},{"$f":"IF(AG5=\"\",\"\",IF(AG5>Scoring!$B$134,Scoring!$A$134,IF(AG5>Scoring!$B$135,Scoring!$A$135,IF(AG5>Scoring!$B$136,Scoring!$A$136,IF(AG5>Scoring!$B$137,Scoring!$A$137,IF(AG5>Scoring!$B$138,Scoring!$A$138,IF(AG5>Scoring!$B$139,Scoring!$A$139,IF(AG5>Scoring!$B$140,Scoring!$A$140,IF(AG5>Scoring!$B$141,Scoring!$A$141,IF(AG5>=Scoring!$B$142,Scoring!$A$142,IF(AG5>Scoring!$B$143,Scoring!$A$143)))))))))))","v":"Very High"},26.233285642883899,5,{"$f":"IFERROR(VLOOKUP(AH5,Scoring!$A$158:$B$167,2),\"\")","v":"Abate any High threats"}]
[null,3,{"$f":"IF(Targets!$C15=0,\"\",Targets!$C15)","v":"Boreal Forests - Lower Chena"},{"$f":"'3'!$K$14","v":53.370000000000005},{"$f":"'3'!$L$14","v":36.701666666666661},{"$f":"IF($F$2=2,\"\",IF('3'!$T$14=0,\"\",'3'!$T$14))","v":46.70333333333334},null,null,"Abate High threats; improve any currently Poor or Fair- attributes",null,null,null,null,null,null,null,null,null,null,null,null,null,null,53.370000000000005,36.701666666666661,31.231653238398614,16.668333333333344,10.001666666666679,null,{"$f":"IF(X6=\"\",\"\",IF(X6>Scoring!$F$45,Scoring!$A$45,IF(X6>Scoring!$F$46,Scoring!$A$46,IF(X6>Scoring!$F$47,Scoring!$A$47,IF(X6>Scoring!$F$48,Scoring!$A$48,IF(X6>Scoring!$F$49,Scoring!$A$49,IF(X6>Scoring!$F$50,Scoring!$A$50)))))))","v":"Fair"},{"$f":"IF(Y6=\"\",\"\",IF(Y6>Scoring!$F$45,Scoring!$A$45,IF(Y6>Scoring!$F$46,Scoring!$A$46,IF(Y6>Scoring!$F$47,Scoring!$A$47,IF(Y6>Scoring!$F$48,Scoring!$A$48,IF(Y6>Scoring!$F$49,Scoring!$A$49,IF(Y6>=Scoring!$F$50,Scoring!$A$50)))))))","v":"Fair"},{"$f":"IF(AG6=\"\",\"\",IF(AG6>Scoring!$B$134,Scoring!$A$134,IF(AG6>Scoring!$B$135,Scoring!$A$135,IF(AG6>Scoring!$B$136,Scoring!$A$136,IF(AG6>Scoring!$B$137,Scoring!$A$137,IF(AG6>Scoring!$B$138,Scoring!$A$138,IF(AG6>Scoring!$B$139,Scoring!$A$139,IF(AG6>Scoring!$B$140,Scoring!$A$140,IF(AG6>Scoring!$B$141,Scoring!$A$141,IF(AG6>=Scoring!$B$142,Scoring!$A$142,IF(AG6>Scoring!$B$143,Scoring!$A$143)))))))))))","v":"High"},23.949993285865979,3,{"$f":"IFERROR(VLOOKUP(AH6,Scoring!$A$158:$B$167,2),\"\")","v":"Abate High threats; improve any currently Poor or Fair- attributes"}]
[null,4,{"$f":"IF(Targets!$C19=0,\"\",Targets!$C19)","v":"Tributaries - Upper Chena"},{"$f":"'4'!$K$14","v":80.029999999999987},{"$f":"'4'!$L$14","v":54.325714285714291},{"$f":"IF($F$2=2,\"\",IF('4'!$T$14=0,\"\",'4'!$T$14))","v":74.318571428571417},null,null,"Abate any High threats",null,null,null,null,null,null,null,null,null,null,null,null,null,null,80.029999999999987,54.325714285714291,32.118312775566288,25.704285714285696,19.992857142857126,null,{"$f":"IF(X7=\"\",\"\",IF(X7>Scoring!$F$45,Scoring!$A$45,IF(X7>Scoring!$F$46,Scoring!$A$46,IF(X7>Scoring!$F$47,Scoring!$A$47,IF(X7>Scoring!$F$48,Scoring!$A$48,IF(X7>Scoring!$F$49,Scoring!$A$49,IF(X7>Scoring!$F$50,Scoring!$A$50)))))))","v":"Good"},{"$f":"IF(Y7=\"\",\"\",IF(Y7>Scoring!$F$45,Scoring!$A$45,IF(Y7>Scoring!$F$46,Scoring!$A$46,IF(Y7>Scoring!$F$47,Scoring!$A$47,IF(Y7>Scoring!$F$48,Scoring!$A$48,IF(Y7>Scoring!$F$49,Scoring!$A$49,IF(Y7>=Scoring!$F$50,Scoring!$A$50)))))))","v":"Good -"},{"$f":"IF(AG7=\"\",\"\",IF(AG7>Scoring!$B$134,Scoring!$A$134,IF(AG7>Scoring!$B$135,Scoring!$A$135,IF(AG7>Scoring!$B$136,Scoring!$A$136,IF(AG7>Scoring!$B$137,Scoring!$A$137,IF(AG7>Scoring!$B$138,Scoring!$A$138,IF(AG7>Scoring!$B$139,Scoring!$A$139,IF(AG7>Scoring!$B$140,Scoring!$A$140,IF(AG7>Scoring!$B$141,Scoring!$A$141,IF(AG7>=Scoring!$B$142,Scoring!$A$142,IF(AG7>Scoring!$B$143,Scoring!$A$143)))))))))))","v":"Very High"},28.911299244925992,5,{"$f":"IFERROR(VLOOKUP(AH7,Scoring!$A$158:$B$167,2),\"\")","v":"Abate any High threats"}]
[null,5,{"$f":"IF(Targets!$C26=0,\"\",Targets!$C26)","v":"Tributaries - Lower Chena"},{"$f":"'5'!$K$14","v":51.465714285714292},{"$f":"'5'!$L$14","v":34.32},{"$f":"IF($F$2=2,\"\",IF('5'!$T$14=0,\"\",'5'!$T$14))","v":65.75142857142859},null,null,"Abate High threats; improve any currently Poor or Fair- attributes",null,null,null,null,null,null,null,null,null,null,null,null,null,null,51.465714285714292,34.32,33.314828179648039,17.145714285714291,31.43142857142859,null,{"$f":"IF(X8=\"\",\"\",IF(X8>Scoring!$F$45,Scoring!$A$45,IF(X8>Scoring!$F$46,Scoring!$A$46,IF(X8>Scoring!$F$47,Scoring!$A$47,IF(X8>Scoring!$F$48,Scoring!$A$48,IF(X8>Scoring!$F$49,Scoring!$A$49,IF(X8>Scoring!$F$50,Scoring!$A$50)))))))","v":"Fair"},{"$f":"IF(Y8=\"\",\"\",IF(Y8>Scoring!$F$45,Scoring!$A$45,IF(Y8>Scoring!$F$46,Scoring!$A$46,IF(Y8>Scoring!$F$47,Scoring!$A$47,IF(Y8>Scoring!$F$48,Scoring!$A$48,IF(Y8>Scoring!$F$49,Scoring!$A$49,IF(Y8>=Scoring!$F$50,Scoring!$A$50)))))))","v":"Fair -"},{"$f":"IF(AG8=\"\",\"\",IF(AG8>Scoring!$B$134,Scoring!$A$134,IF(AG8>Scoring!$B$135,Scoring!$A$135,IF(AG8>Scoring!$B$136,Scoring!$A$136,IF(AG8>Scoring!$B$137,Scoring!$A$137,IF(AG8>Scoring!$B$138,Scoring!$A$138,IF(AG8>Scoring!$B$139,Scoring!$A$139,IF(AG8>Scoring!$B$140,Scoring!$A$140,IF(AG8>Scoring!$B$141,Scoring!$A$141,IF(AG8>=Scoring!$B$142,Scoring!$A$142,IF(AG8>Scoring!$B$143,Scoring!$A$143)))))))))))","v":"Very High"},25.230271232681165,3,{"$f":"IFERROR(VLOOKUP(AH8,Scoring!$A$158:$B$167,2),\"\")","v":"Abate High threats; improve any currently Poor or Fair- attributes"}]
[null,6,{"$f":"IF(Targets!$C31=0,\"\",Targets!$C31)","v":"Sloughs and Wetlands - Upper Chena"},{"$f":"'6'!$K$14","v":74.317142857142841},{"$f":"'6'!$L$14","v":51.467142857142861},{"$f":"IF($F$2=2,\"\",IF('6'!$T$14=0,\"\",'6'!$T$14))","v":68.607142857142861},null,null,"Abate any High threats",null,null,null,null,null,null,null,null,null,null,null,null,null,null,74.317142857142841,51.467142857142861,30.746607204644167,22.84999999999998,17.14,null,{"$f":"IF(X9=\"\",\"\",IF(X9>Scoring!$F$45,Scoring!$A$45,IF(X9>Scoring!$F$46,Scoring!$A$46,IF(X9>Scoring!$F$47,Scoring!$A$47,IF(X9>Scoring!$F$48,Scoring!$A$48,IF(X9>Scoring!$F$49,Scoring!$A$49,IF(X9>Scoring!$F$50,Scoring!$A$50)))))))","v":"Good"},{"$f":"IF(Y9=\"\",\"\",IF(Y9>Scoring!$F$45,Scoring!$A$45,IF(Y9>Scoring!$F$46,Scoring!$A$46,IF(Y9>Scoring!$F$47,Scoring!$A$47,IF(Y9>Scoring!$F$48,Scoring!$A$48,IF(Y9>Scoring!$F$49,Scoring!$A$49,IF(Y9>=Scoring!$F$50,Scoring!$A$50)))))))","v":"Fair"},{"$f":"IF(AG9=\"\",\"\",IF(AG9>Scoring!$B$134,Scoring!$A$134,IF(AG9>Scoring!$B$135,Scoring!$A$135,IF(AG9>Scoring!$B$136,Scoring!$A$136,IF(AG9>Scoring!$B$137,Scoring!$A$137,IF(AG9>Scoring!$B$138,Scoring!$A$138,IF(AG9>Scoring!$B$139,Scoring!$A$139,IF(AG9>Scoring!$B$140,Scoring!$A$140,IF(AG9>Scoring!$B$141,Scoring!$A$141,IF(AG9>=Scoring!$B$142,Scoring!$A$142,IF(AG9>Scoring!$B$143,Scoring!$A$143)))))))))))","v":"Very High"},26.798303602322072,5,{"$f":"IFERROR(VLOOKUP(AH9,Scoring!$A$158:$B$167,2),\"\")","v":"Abate any High threats"}]
[null,7,{"$f":"IF(Targets!$C38=0,\"\",Targets!$C38)","v":"Sloughs and Wetlands - Lower Chena"},{"$f":"'7'!$K$14","v":40.04},{"$f":"'7'!$L$14","v":31.464285714285712},{"$f":"IF($F$2=2,\"\",IF('7'!$T$14=0,\"\",'7'!$T$14))","v":60.038571428571444},null,null,"Abate High threats; improve any currently Poor or Fair- attributes",null,null,null,null,null,null,null,null,null,null,null,null,null,null,40.04,31.464285714285712,21.417867846439279,8.5757142857142874,28.574285714285732,null,{"$f":"IF(X10=\"\",\"\",IF(X10>Scoring!$F$45,Scoring!$A$45,IF(X10>Scoring!$F$46,Scoring!$A$46,IF(X10>Scoring!$F$47,Scoring!$A$47,IF(X10>Scoring!$F$48,Scoring!$A$48,IF(X10>Scoring!$F$49,Scoring!$A$49,IF(X10>Scoring!$F$50,Scoring!$A$50)))))))","v":"Fair"},{"$f":"IF(Y10=\"\",\"\",IF(Y10>Scoring!$F$45,Scoring!$A$45,IF(Y10>Scoring!$F$46,Scoring!$A$46,IF(Y10>Scoring!$F$47,Scoring!$A$47,IF(Y10>Scoring!$F$48,Scoring!$A$48,IF(Y10>Scoring!$F$49,Scoring!$A$49,IF(Y10>=Scoring!$F$50,Scoring!$A$50)))))))","v":"Fair -"},{"$f":"IF(AG10=\"\",\"\",IF(AG10>Scoring!$B$134,Scoring!$A$134,IF(AG10>Scoring!$B$135,Scoring!$A$135,IF(AG10>Scoring!$B$136,Scoring!$A$136,IF(AG10>Scoring!$B$137,Scoring!$A$137,IF(AG10>Scoring!$B$138,Scoring!$A$138,IF(AG10>Scoring!$B$139,Scoring!$A$139,IF(AG10>Scoring!$B$140,Scoring!$A$140,IF(AG10>Scoring!$B$141,Scoring!$A$141,IF(AG10>=Scoring!$B$142,Scoring!$A$142,IF(AG10>Scoring!$B$143,Scoring!$A$143)))))))))))","v":"Low-Moderate"},14.996791066076783,3,{"$f":"IFERROR(VLOOKUP(AH10,Scoring!$A$158:$B$167,2),\"\")","v":"Abate High threats; improve any currently Poor or Fair- attributes"}]
[null,8,{"$f":"IF(Targets!$C43=0,\"\",Targets!$C43)","v":"Mainstem River & Major Forks - Upper Chena"},{"$f":"'8'!$K$14","v":82.113432835820888},{"$f":"'8'!$L$14","v":73.161194029850734},{"$f":"IF($F$2=2,\"\",IF('8'!$T$14=0,\"\",'8'!$T$14))","v":76.144776119402977},null,null,"Consider addressing Medium threats if low hanging fruit",null,null,null,null,null,null,null,null,null,null,null,null,null,null,82.113432835820888,73.161194029850734,10.902282972226269,8.9522388059701541,2.9835820895522431,null,{"$f":"IF(X11=\"\",\"\",IF(X11>Scoring!$F$45,Scoring!$A$45,IF(X11>Scoring!$F$46,Scoring!$A$46,IF(X11>Scoring!$F$47,Scoring!$A$47,IF(X11>Scoring!$F$48,Scoring!$A$48,IF(X11>Scoring!$F$49,Scoring!$A$49,IF(X11>Scoring!$F$50,Scoring!$A$50)))))))","v":"Good"},{"$f":"IF(Y11=\"\",\"\",IF(Y11>Scoring!$F$45,Scoring!$A$45,IF(Y11>Scoring!$F$46,Scoring!$A$46,IF(Y11>Scoring!$F$47,Scoring!$A$47,IF(Y11>Scoring!$F$48,Scoring!$A$48,IF(Y11>Scoring!$F$49,Scoring!$A$49,IF(Y11>=Scoring!$F$50,Scoring!$A$50)))))))","v":"Good"},{"$f":"IF(AG11=\"\",\"\",IF(AG11>Scoring!$B$134,Scoring!$A$134,IF(AG11>Scoring!$B$135,Scoring!$A$135,IF(AG11>Scoring!$B$136,Scoring!$A$136,IF(AG11>Scoring!$B$137,Scoring!$A$137,IF(AG11>Scoring!$B$138,Scoring!$A$138,IF(AG11>Scoring!$B$139,Scoring!$A$139,IF(AG11>Scoring!$B$140,Scoring!$A$140,IF(AG11>Scoring!$B$141,Scoring!$A$141,IF(AG11>=Scoring!$B$142,Scoring!$A$142,IF(AG11>Scoring!$B$143,Scoring!$A$143)))))))))))","v":"Low"},9.9272608890982106,9,{"$f":"IFERROR(VLOOKUP(AH11,Scoring!$A$158:$B$167,2),\"\")","v":"Consider addressing Medium threats if low hanging fruit"}]
[null,9,{"$f":"IF(Targets!$C50=0,\"\",Targets!$C50)","v":"Mainstem River & Major Forks - Lower Chena"},{"$f":"'9'!$K$14","v":60.037142857142861},{"$f":"'9'!$L$14","v":42.889999999999986},{"$f":"IF($F$2=2,\"\",IF('9'!$T$14=0,\"\",'9'!$T$14))","v":65.751428571428576},null,null,"Abate any High threats",null,null,null,null,null,null,null,null,null,null,null,null,null,null,60.037142857142861,42.889999999999986,28.560890877076123,17.147142857142875,22.86142857142859,null,{"$f":"IF(X12=\"\",\"\",IF(X12>Scoring!$F$45,Scoring!$A$45,IF(X12>Scoring!$F$46,Scoring!$A$46,IF(X12>Scoring!$F$47,Scoring!$A$47,IF(X12>Scoring!$F$48,Scoring!$A$48,IF(X12>Scoring!$F$49,Scoring!$A$49,IF(X12>Scoring!$F$50,Scoring!$A$50)))))))","v":"Good -"},{"$f":"IF(Y12=\"\",\"\",IF(Y12>Scoring!$F$45,Scoring!$A$45,IF(Y12>Scoring!$F$46,Scoring!$A$46,IF(Y12>Scoring!$F$47,Scoring!$A$47,IF(Y12>Scoring!$F$48,Scoring!$A$48,IF(Y12>Scoring!$F$49,Scoring!$A$49,IF(Y12>=Scoring!$F$50,Scoring!$A$50)))))))","v":"Fair"},{"$f":"IF(AG12=\"\",\"\",IF(AG12>Scoring!$B$134,Scoring!$A$134,IF(AG12>Scoring!$B$135,Scoring!$A$135,IF(AG12>Scoring!$B$136,Scoring!$A$136,IF(AG12>Scoring!$B$137,Scoring!$A$137,IF(AG12>Scoring!$B$138,Scoring!$A$138,IF(AG12>Scoring!$B$139,Scoring!$A$139,IF(AG12>Scoring!$B$140,Scoring!$A$140,IF(AG12>Scoring!$B$141,Scoring!$A$141,IF(AG12>=Scoring!$B$142,Scoring!$A$142,IF(AG12>Scoring!$B$143,Scoring!$A$143)))))))))))","v":"High"},22.8540168671095,5,{"$f":"IFERROR(VLOOKUP(AH12,Scoring!$A$158:$B$167,2),\"\")","v":"Abate any High threats"}]
[null,10,{"$f":"IF(Targets!$C55=0,\"\",Targets!$C55)","v":"Confluence with Tanana"},{"$f":"'10'!$K$14","v":80.029999999999987},{"$f":"'10'!$L$14","v":66.703333333333333},{"$f":"IF($F$2=2,\"\",IF('10'!$T$14=0,\"\",'10'!$T$14))","v":70.035000000000011},null,null,"Abate any High threats; consider addressing Medium threats or improving Fair attributes if low hanging fruit",null,null,null,null,null,null,null,null,null,null,null,null,null,null,80.029999999999987,66.703333333333333,16.652088800033308,13.326666666666654,3.3316666666666777,null,{"$f":"IF(X13=\"\",\"\",IF(X13>Scoring!$F$45,Scoring!$A$45,IF(X13>Scoring!$F$46,Scoring!$A$46,IF(X13>Scoring!$F$47,Scoring!$A$47,IF(X13>Scoring!$F$48,Scoring!$A$48,IF(X13>Scoring!$F$49,Scoring!$A$49,IF(X13>Scoring!$F$50,Scoring!$A$50)))))))","v":"Good"},{"$f":"IF(Y13=\"\",\"\",IF(Y13>Scoring!$F$45,Scoring!$A$45,IF(Y13>Scoring!$F$46,Scoring!$A$46,IF(Y13>Scoring!$F$47,Scoring!$A$47,IF(Y13>Scoring!$F$48,Scoring!$A$48,IF(Y13>Scoring!$F$49,Scoring!$A$49,IF(Y13>=Scoring!$F$50,Scoring!$A$50)))))))","v":"Good -"},{"$f":"IF(AG13=\"\",\"\",IF(AG13>Scoring!$B$134,Scoring!$A$134,IF(AG13>Scoring!$B$135,Scoring!$A$135,IF(AG13>Scoring!$B$136,Scoring!$A$136,IF(AG13>Scoring!$B$137,Scoring!$A$137,IF(AG13>Scoring!$B$138,Scoring!$A$138,IF(AG13>Scoring!$B$139,Scoring!$A$139,IF(AG13>Scoring!$B$140,Scoring!$A$140,IF(AG13>Scoring!$B$141,Scoring!$A$141,IF(AG13>=Scoring!$B$142,Scoring!$A$142,IF(AG13>Scoring!$B$143,Scoring!$A$143)))))))))))","v":"Low-Moderate"},14.989377733349981,6,{"$f":"IFERROR(VLOOKUP(AH13,Scoring!$A$158:$B$167,2),\"\")","v":"Abate any High threats; consider addressing Medium threats or improving Fair attributes if low hanging fruit"}]
[null,11,{"$f":"IF(Targets!$C60=0,\"\",Targets!$C60)","v":""},{"$f":"'11'!$K$14","v":""},{"$f":"'11'!$L$14","v":""},{"$f":"IF($F$2=2,\"\",IF('11'!$T$14=0,\"\",'11'!$T$14))","v":""},null,null,{"$f":"AI14","v":""},null,null,null,null,null,null,null,null,null,null,null,null,null,null,{"$f":"D14","v":""},{"$f":"E14","v":""},{"$f":"IFERROR(AA14/X14*100,\"\")","v":""},{"$f":"IFERROR(D14-E14,\"\")","v":""},{"$f":"IFERROR(F14-E14,\"\")","v":""},null,{"$f":"IF(X14=\"\",\"\",IF(X14>Scoring!$F$45,Scoring!$A$45,IF(X14>Scoring!$F$46,Scoring!$A$46,IF(X14>Scoring!$F$47,Scoring!$A$47,IF(X14>Scoring!$F$48,Scoring!$A$48,IF(X14>Scoring!$F$49,Scoring!$A$49,IF(X14>Scoring!$F$50,Scoring!$A$50)))))))","v":""},{"$f":"IF(Y14=\"\",\"\",IF(Y14>Scoring!$F$45,Scoring!$A$45,IF(Y14>Scoring!$F$46,Scoring!$A$46,IF(Y14>Scoring!$F$47,Scoring!$A$47,IF(Y14>Scoring!$F$48,Scoring!$A$48,IF(Y14>Scoring!$F$49,Scoring!$A$49,IF(Y14>=Scoring!$F$50,Scoring!$A$50)))))))","v":""},{"$f":"IF(AG14=\"\",\"\",IF(AG14>Scoring!$B$134,Scoring!$A$134,IF(AG14>Scoring!$B$135,Scoring!$A$135,IF(AG14>Scoring!$B$136,Scoring!$A$136,IF(AG14>Scoring!$B$137,Scoring!$A$137,IF(AG14>Scoring!$B$138,Scoring!$A$138,IF(AG14>Scoring!$B$139,Scoring!$A$139,IF(AG14>Scoring!$B$140,Scoring!$A$140,IF(AG14>Scoring!$B$141,Scoring!$A$141,IF(AG14>=Scoring!$B$142,Scoring!$A$142,IF(AG14>Scoring!$B$143,Scoring!$A$143)))))))))))","v":{"$error":"#VALUE!"}},{"$f":"(Z14+AA14)/2","v":{"$error":"#VALUE!"}},{"$f":"IFERROR(INDEX(StrategicActionMatrix,MATCH(AD14,Rating,0),MATCH(AF14,Change,0)),\"\")","v":""},{"$f":"IFERROR(VLOOKUP(AH14,Scoring!$A$158:$B$167,2),\"\")","v":""}]
[null,12,{"$f":"IF(Targets!$C61=0,\"\",Targets!$C61)","v":""},{"$f":"'12'!$K$14","v":""},{"$f":"'12'!$L$14","v":""},{"$f":"IF($F$2=2,\"\",IF('12'!$T$14=0,\"\",'12'!$T$14))","v":""},null,null,"",null,null,null,null,null,null,null,null,null,null,null,null,null,null,"","","","","",null,{"$f":"IF(X15=\"\",\"\",IF(X15>Scoring!$F$45,Scoring!$A$45,IF(X15>Scoring!$F$46,Scoring!$A$46,IF(X15>Scoring!$F$47,Scoring!$A$47,IF(X15>Scoring!$F$48,Scoring!$A$48,IF(X15>Scoring!$F$49,Scoring!$A$49,IF(X15>Scoring!$F$50,Scoring!$A$50)))))))","v":""},{"$f":"IF(Y15=\"\",\"\",IF(Y15>Scoring!$F$45,Scoring!$A$45,IF(Y15>Scoring!$F$46,Scoring!$A$46,IF(Y15>Scoring!$F$47,Scoring!$A$47,IF(Y15>Scoring!$F$48,Scoring!$A$48,IF(Y15>Scoring!$F$49,Scoring!$A$49,IF(Y15>=Scoring!$F$50,Scoring!$A$50)))))))","v":""},{"$f":"IF(AG15=\"\",\"\",IF(AG15>Scoring!$B$134,Scoring!$A$134,IF(AG15>Scoring!$B$135,Scoring!$A$135,IF(AG15>Scoring!$B$136,Scoring!$A$136,IF(AG15>Scoring!$B$137,Scoring!$A$137,IF(AG15>Scoring!$B$138,Scoring!$A$138,IF(AG15>Scoring!$B$139,Scoring!$A$139,IF(AG15>Scoring!$B$140,Scoring!$A$140,IF(AG15>Scoring!$B$141,Scoring!$A$141,IF(AG15>=Scoring!$B$142,Scoring!$A$142,IF(AG15>Scoring!$B$143,Scoring!$A$143)))))))))))","v":{"$error":"#VALUE!"}},{"$error":"#VALUE!"},"",{"$f":"IFERROR(VLOOKUP(AH15,Scoring!$A$158:$B$167,2),\"\")","v":""}]
[]
[null,null,null,null,null,null,null,null,null,null,null,null,null,null,null,null,null,null,null,null,null,null,null,null,null,null,null,null,null,null,null,null,null,{"$f":"MIN(AH4:AH15)","v":3},"MIN"]
[null,null,null,null,null,null,null,null,null,null,null,null,null,null,null,null,null,null,null,null,null,null,null,null,null,null,null,null,null,null,null,null,null,{"$f":"MAX(AH4:AH15)","v":9},"MAX"]
[null,null,null,null,null,null,null,null,null,null,null,null,null,null,null,null,null,null,null,null,null,null,null,null,null,null,null,null,null,null,null,null,null,{"$f":"AVERAGE(AH4:AH15)","v":5},"AVE"]
[null,null,null,null,null,null,null,null,null,null,null,null,null,null,null,null,null,null,null,null,null,null,null,null,null,null,null,null,null,null,null,null,null,{"$f":"IF(AH19>5,AH19,5)","v":5},"Higher of AVE or 5"]

{"sheet":"ThreatSum","index":4,"n_rows":46,"n_cols":17,"rows_kept":46,"cut":false,"hidden":false,"merged":[[2,1,3,1],[2,15,3,15]]}
[null,"Summary of Threats",{"$f":"IF(Home!B4=0,\"\",Home!B4)","v":"Chena River Watershed"}]
[]
[null,"Threats Across Targets",{"$f":"IF(C4=\"\",\"\",IF('1'!D1=0,\"\",'1'!D1))","v":"Alpine Tundra - Upper Chena"},{"$f":"IF(D4=\"\",\"\",IF('2'!D1=0,\"\",'2'!D1))","v":"Boreal Forests - Upper Chena"},{"$f":"IF(E4=\"\",\"\",IF('3'!D1=0,\"\",'3'!D1))","v":"Boreal Forests - Lower Chena"},{"$f":"IF(F4=\"\",\"\",IF('4'!D1=0,\"\",'4'!D1))","v":"Tributaries - Upper Chena"},{"$f":"IF(G4=\"\",\"\",IF('5'!D1=0,\"\",'5'!D1))","v":"Tributaries - Lower Chena"},{"$f":"IF(H4=\"\",\"\",IF('6'!D1=0,\"\",'6'!D1))","v":"Sloughs and Wetlands - Upper Chena"},{"$f":"IF(I4=\"\",\"\",IF('7'!D1=0,\"\",'7'!D1))","v":"Sloughs and Wetlands - Lower Chena"},{"$f":"IF(J4=\"\",\"\",IF('8'!D1=0,\"\",'8'!D1))","v":"Mainstem River & Major Forks - Upper Chena"},{"$f":"IF(K4=\"\",\"\",IF('9'!D1=0,\"\",'9'!D1))","v":"Mainstem River & Major Forks - Lower Chena"},{"$f":"IF(L4=\"\",\"\",IF('10'!D1=0,\"\",'10'!D1))","v":"Confluence with Tanana"},{"$f":"IF(M4=\"\",\"\",IF('11'!D1=0,\"\",'11'!D1))","v":""},{"$f":"IF(N4=\"\",\"\",IF('12'!D1=0,\"\",'12'!D1))","v":""},null,"Overall Threat Rank"]
[null,null,{"$f":"IF(PivotRank!B1=0,\"\",PivotRank!B1)","v":1},{"$f":"IF(PivotRank!C1=0,\"\",PivotRank!C1)","v":2},{"$f":"IF(PivotRank!D1=0,\"\",PivotRank!D1)","v":3},{"$f":"IF(PivotRank!E1=0,\"\",PivotRank!E1)","v":4},{"$f":"IF(PivotRank!F1=0,\"\",PivotRank!F1)","v":5},{"$f":"IF(PivotRank!G1=0,\"\",PivotRank!G1)","v":6},{"$f":"IF(PivotRank!H1=0,\"\",PivotRank!H1)","v":7},{"$f":"IF(PivotRank!I1=0,\"\",PivotRank!I1)","v":8},{"$f":"IF(PivotRank!J1=0,\"\",PivotRank!J1)","v":9},{"$f":"IF(PivotRank!K1=0,\"\",PivotRank!K1)","v":10},{"$f":"IF(PivotRank!L1=0,\"\",PivotRank!L1)","v":11},{"$f":"IF(PivotRank!M1=0,\"\",PivotRank!M1)","v":12},null,null,"Overall Threat Score"]
[null,{"$f":"IF(PivotRank!A2=0,\"\",PivotRank!A2)","v":"Residential / commercial development"},{"$f":"IF(PivotRank!B2=0,\"\",PivotRank!B2)","v":""},{"$f":"IF(PivotRank!C2=0,\"\",PivotRank!C2)","v":"Low"},{"$f":"IF(PivotRank!D2=0,\"\",PivotRank!D2)","v":"Very High"},{"$f":"IF(PivotRank!E2=0,\"\",PivotRank!E2)","v":"Medium"},{"$f":"IF(PivotRank!F2=0,\"\",PivotRank!F2)","v":"High"},{"$f":"IF(PivotRank!G2=0,\"\",PivotRank!G2)","v":"High"},{"$f":"IF(PivotRank!H2=0,\"\",PivotRank!H2)","v":"High"},{"$f":"IF(PivotRank!I2=0,\"\",PivotRank!I2)","v":""},{"$f":"IF(PivotRank!J2=0,\"\",PivotRank!J2)","v":"High"},{"$f":"IF(PivotRank!K2=0,\"\",PivotRank!K2)","v":"Low"},{"$f":"IF(PivotRank!L2=0,\"\",PivotRank!L2)","v":""},{"$f":"IF(PivotRank!M2=0,\"\",PivotRank!M2)","v":""},null,{"$f":"'ThreatAdd '!A2","v":"Very High"},{"$f":"'ThreatAdd '!B2","v":254}]
[null,{"$f":"IF(PivotRank!A3=0,\"\",PivotRank!A3)","v":"Incompatible road design / maintenance"},{"$f":"IF(PivotRank!B3=0,\"\",PivotRank!B3)","v":"Medium"},{"$f":"IF(PivotRank!C3=0,\"\",PivotRank!C3)","v":"Medium"},{"$f":"IF(PivotRank!D3=0,\"\",PivotRank!D3)","v":"High"},{"$f":"IF(PivotRank!E3=0,\"\",PivotRank!E3)","v":"Medium"},{"$f":"IF(PivotRank!F3=0,\"\",PivotRank!F3)","v":"Medium"},{"$f":"IF(PivotRank!G3=0,\"\",PivotRank!G3)","v":"High"},{"$f":"IF(PivotRank!H3=0,\"\",PivotRank!H3)","v":"High"},{"$f":"IF(PivotRank!I3=0,\"\",PivotRank!I3)","v":"Medium"},{"$f":"IF(PivotRank!J3=0,\"\",PivotRank!J3)","v":"High"},{"$f":"IF(PivotRank!K3=0,\"\",PivotRank!K3)","v":"Low"},{"$f":"IF(PivotRank!L3=0,\"\",PivotRank!L3)","v":""},{"$f":"IF(PivotRank!M3=0,\"\",PivotRank!M3)","v":""},null,{"$f":"'ThreatAdd '!A3","v":"High"},{"$f":"'ThreatAdd '!B3","v":176}]
[null,{"$f":"IF(PivotRank!A4=0,\"\",PivotRank!A4)","v":"Filling in sloughs or wetlands"},{"$f":"IF(PivotRank!B4=0,\"\",PivotRank!B4)","v":""},{"$f":"IF(PivotRank!C4=0,\"\",PivotRank!C4)","v":""},{"$f":"IF(PivotRank!D4=0,\"\",PivotRank!D4)","v":""},{"$f":"IF(PivotRank!E4=0,\"\",PivotRank!E4)","v":""},{"$f":"IF(PivotRank!F4=0,\"\",PivotRank!F4)","v":""},{"$f":"IF(PivotRank!G4=0,\"\",PivotRank!G4)","v":"High"},{"$f":"IF(PivotRank!H4=0,\"\",PivotRank!H4)","v":"Very High"},{"$f":"IF(PivotRank!I4=0,\"\",PivotRank!I4)","v":""},{"$f":"IF(PivotRank!J4=0,\"\",PivotRank!J4)","v":""},{"$f":"IF(PivotRank!K4=0,\"\",PivotRank!K4)","v":""},{"$f":"IF(PivotRank!L4=0,\"\",PivotRank!L4)","v":""},{"$f":"IF(PivotRank!M4=0,\"\",PivotRank!M4)","v":""},null,{"$f":"'ThreatAdd '!A4","v":"High"},{"$f":"'ThreatAdd '!B4","v":140}]
[null,{"$f":"IF(PivotRank!A5=0,\"\",PivotRank!A5)","v":"Removal of native vegetation from riparian zone"},{"$f":"IF(PivotRank!B5=0,\"\",PivotRank!B5)","v":""},{"$f":"IF(PivotRank!C5=0,\"\",PivotRank!C5)","v":""},{"$f":"IF(PivotRank!D5=0,\"\",PivotRank!D5)","v":""},{"$f":"IF(PivotRank!E5=0,\"\",PivotRank!E5)","v":"Medium"},{"$f":"IF(PivotRank!F5=0,\"\",PivotRank!F5)","v":"High"},{"$f":"IF(PivotRank!G5=0,\"\",PivotRank!G5)","v":""},{"$f":"IF(PivotRank!H5=0,\"\",PivotRank!H5)","v":"High"},{"$f":"IF(PivotRank!I5=0,\"\",PivotRank!I5)","v":""},{"$f":"IF(PivotRank!J5=0,\"\",PivotRank!J5)","v":"High"},{"$f":"IF(PivotRank!K5=0,\"\",PivotRank!K5)","v":"Low"},{"$f":"IF(PivotRank!L5=0,\"\",PivotRank!L5)","v":""},{"$f":"IF(PivotRank!M5=0,\"\",PivotRank!M5)","v":""},null,{"$f":"'ThreatAdd '!A5","v":"High"},{"$f":"'ThreatAdd '!B5","v":113}]
[null,{"$f":"IF(PivotRank!A6=0,\"\",PivotRank!A6)","v":"Invasive terrestrial species/pests/pathogens"},{"$f":"IF(PivotRank!B6=0,\"\",PivotRank!B6)","v":""},{"$f":"IF(PivotRank!C6=0,\"\",PivotRank!C6)","v":"Medium"},{"$f":"IF(PivotRank!D6=0,\"\",PivotRank!D6)","v":"Low"},{"$f":"IF(PivotRank!E6=0,\"\",PivotRank!E6)","v":""},{"$f":"IF(PivotRank!F6=0,\"\",PivotRank!F6)","v":"Medium"},{"$f":"IF(PivotRank!G6=0,\"\",PivotRank!G6)","v":""},{"$f":"IF(PivotRank!H6=0,\"\",PivotRank!H6)","v":"High"},{"$f":"IF(PivotRank!I6=0,\"\",PivotRank!I6)","v":"Low"},{"$f":"IF(PivotRank!J6=0,\"\",PivotRank!J6)","v":"High"},{"$f":"IF(PivotRank!K6=0,\"\",PivotRank!K6)","v":"Low"},{"$f":"IF(PivotRank!L6=0,\"\",PivotRank!L6)","v":""},{"$f":"IF(PivotRank!M6=0,\"\",PivotRank!M6)","v":""},null,{"$f":"'ThreatAdd '!A6","v":"High"},{"$f":"'ThreatAdd '!B6","v":87}]
[null,{"$f":"IF(PivotRank!A7=0,\"\",PivotRank!A7)","v":"Warmer climate with more frequent weather extremes"},{"$f":"IF(PivotRank!B7=0,\"\",PivotRank!B7)","v":"High"},{"$f":"IF(PivotRank!C7=0,\"\",PivotRank!C7)","v":"High"},{"$f":"IF(PivotRank!D7=0,\"\",PivotRank!D7)","v":"Low"},{"$f":"IF(PivotRank!E7=0,\"\",PivotRank!E7)","v":""},{"$f":"IF(PivotRank!F7=0,\"\",PivotRank!F7)","v":""},{"$f":"IF(PivotRank!G7=0,\"\",PivotRank!G7)","v":""},{"$f":"IF(PivotRank!H7=0,\"\",PivotRank!H7)","v":""},{"$f":"IF(PivotRank!I7=0,\"\",PivotRank!I7)","v":""},{"$f":"IF(PivotRank!J7=0,\"\",PivotRank!J7)","v":""},{"$f":"IF(PivotRank!K7=0,\"\",PivotRank!K7)","v":""},{"$f":"IF(PivotRank!L7=0,\"\",PivotRank!L7)","v":""},{"$f":"IF(PivotRank!M7=0,\"\",PivotRank!M7)","v":""},null,{"$f":"'ThreatAdd '!A7","v":"High"},{"$f":"'ThreatAdd '!B7","v":71}]
[null,{"$f":"IF(PivotRank!A8=0,\"\",PivotRank!A8)","v":"Hardening stream banks with rip rap, channelization, etc."},{"$f":"IF(PivotRank!B8=0,\"\",PivotRank!B8)","v":""},{"$f":"IF(PivotRank!C8=0,\"\",PivotRank!C8)","v":""},{"$f":"IF(PivotRank!D8=0,\"\",PivotRank!D8)","v":""},{"$f":"IF(PivotRank!E8=0,\"\",PivotRank!E8)","v":"Low"},{"$f":"IF(PivotRank!F8=0,\"\",PivotRank!F8)","v":"Medium"},{"$f":"IF(PivotRank!G8=0,\"\",PivotRank!G8)","v":"Medium"},{"$f":"IF(PivotRank!H8=0,\"\",PivotRank!H8)","v":"Medium"},{"$f":"IF(PivotRank!I8=0,\"\",PivotRank!I8)","v":"Low"},{"$f":"IF(PivotRank!J8=0,\"\",PivotRank!J8)","v":"High"},{"$f":"IF(PivotRank!K8=0,\"\",PivotRank!K8)","v":"Medium"},{"$f":"IF(PivotRank!L8=0,\"\",PivotRank!L8)","v":""},{"$f":"IF(PivotRank!M8=0,\"\",PivotRank!M8)","v":""},null,{"$f":"'ThreatAdd '!A8","v":"Medium"},{"$f":"'ThreatAdd '!B8","v":65}]
[null,{"$f":"IF(PivotRank!A9=0,\"\",PivotRank!A9)","v":"Fire suppression"},{"$f":"IF(PivotRank!B9=0,\"\",PivotRank!B9)","v":"Medium"},{"$f":"IF(PivotRank!C9=0,\"\",PivotRank!C9)","v":"High"},{"$f":"IF(PivotRank!D9=0,\"\",PivotRank!D9)","v":""},{"$f":"IF(PivotRank!E9=0,\"\",PivotRank!E9)","v":"Medium"},{"$f":"IF(PivotRank!F9=0,\"\",PivotRank!F9)","v":""},{"$f":"IF(PivotRank!G9=0,\"\",PivotRank!G9)","v":"Low"},{"$f":"IF(PivotRank!H9=0,\"\",PivotRank!H9)","v":""},{"$f":"IF(PivotRank!I9=0,\"\",PivotRank!I9)","v":""},{"$f":"IF(PivotRank!J9=0,\"\",PivotRank!J9)","v":""},{"$f":"IF(PivotRank!K9=0,\"\",PivotRank!K9)","v":""},{"$f":"IF(PivotRank!L9=0,\"\",PivotRank!L9)","v":""},{"$f":"IF(PivotRank!M9=0,\"\",PivotRank!M9)","v":""},null,{"$f":"'ThreatAdd '!A9","v":"Medium"},{"$f":"'ThreatAdd '!B9","v":50}]
[null,{"$f":"IF(PivotRank!A10=0,\"\",PivotRank!A10)","v":"Invasive aquatic species/pests/pathogens"},{"$f":"IF(PivotRank!B10=0,\"\",PivotRank!B10)","v":""},{"$f":"IF(PivotRank!C10=0,\"\",PivotRank!C10)","v":""},{"$f":"IF(PivotRank!D10=0,\"\",PivotRank!D10)","v":""},{"$f":"IF(PivotRank!E10=0,\"\",PivotRank!E10)","v":""},{"$f":"IF(PivotRank!F10=0,\"\",PivotRank!F10)","v":"Low"},{"$f":"IF(PivotRank!G10=0,\"\",PivotRank!G10)","v":""},{"$f":"IF(PivotRank!H10=0,\"\",PivotRank!H10)","v":"High"},{"$f":"IF(PivotRank!I10=0,\"\",PivotRank!I10)","v":""},{"$f":"IF(PivotRank!J10=0,\"\",PivotRank!J10)","v":"Medium"},{"$f":"IF(PivotRank!K10=0,\"\",PivotRank!K10)","v":"Medium"},{"$f":"IF(PivotRank!L10=0,\"\",PivotRank!L10)","v":""},{"$f":"IF(PivotRank!M10=0,\"\",PivotRank!M10)","v":""},null,{"$f":"'ThreatAdd '!A10","v":"Medium"},{"$f":"'ThreatAdd '!B10","v":50}]
[null,{"$f":"IF(PivotRank!A11=0,\"\",PivotRank!A11)","v":"Incompatible motorized vehicle use off-roads/ATV/bulldozers (e.g. pioneering, etc.)"},{"$f":"IF(PivotRank!B11=0,\"\",PivotRank!B11)","v":"High"},{"$f":"IF(PivotRank!C11=0,\"\",PivotRank!C11)","v":"Low"},{"$f":"IF(PivotRank!D11=0,\"\",PivotRank!D11)","v":""},{"$f":"IF(PivotRank!E11=0,\"\",PivotRank!E11)","v":"Medium"},{"$f":"IF(PivotRank!F11=0,\"\",PivotRank!F11)","v":""},{"$f":"IF(PivotRank!G11=0,\"\",PivotRank!G11)","v":"Low"},{"$f":"IF(PivotRank!H11=0,\"\",PivotRank!H11)","v":""},{"$f":"IF(PivotRank!I11=0,\"\",PivotRank!I11)","v":"Low"},{"$f":"IF(PivotRank!J11=0,\"\",PivotRank!J11)","v":""},{"$f":"IF(PivotRank!K11=0,\"\",PivotRank!K11)","v":""},{"$f":"IF(PivotRank!L11=0,\"\",PivotRank!L11)","v":""},{"$f":"IF(PivotRank!M11=0,\"\",PivotRank!M11)","v":""},null,{"$f":"'ThreatAdd '!A11","v":"Medium"},{"$f":"'ThreatAdd '!B11","v":45}]
[null,{"$f":"IF(PivotRank!A12=0,\"\",PivotRank!A12)","v":"Culverts that impede fish passage"},{"$f":"IF(PivotRank!B12=0,\"\",PivotRank!B12)","v":""},{"$f":"IF(PivotRank!C12=0,\"\",PivotRank!C12)","v":""},{"$f":"IF(PivotRank!D12=0,\"\",PivotRank!D12)","v":""},{"$f":"IF(PivotRank!E12=0,\"\",PivotRank!E12)","v":"Low"},{"$f":"IF(PivotRank!F12=0,\"\",PivotRank!F12)","v":"Medium"},{"$f":"IF(PivotRank!G12=0,\"\",PivotRank!G12)","v":"High"},{"$f":"IF(PivotRank!H12=0,\"\",PivotRank!H12)","v":""},{"$f":"IF(PivotRank!I12=0,\"\",PivotRank!I12)","v":""},{"$f":"IF(PivotRank!J12=0,\"\",PivotRank!J12)","v":""},{"$f":"IF(PivotRank!K12=0,\"\",PivotRank!K12)","v":""},{"$f":"IF(PivotRank!L12=0,\"\",PivotRank!L12)","v":""},{"$f":"IF(PivotRank!M12=0,\"\",PivotRank!M12)","v":""},null,{"$f":"'ThreatAdd '!A12","v":"Medium"},{"$f":"'ThreatAdd '!B12","v":43}]
[null,{"$f":"IF(PivotRank!A13=0,\"\",PivotRank!A13)","v":"Construction of ditches, dikes, drainage, dredging"},{"$f":"IF(PivotRank!B13=0,\"\",PivotRank!B13)","v":""},{"$f":"IF(PivotRank!C13=0,\"\",PivotRank!C13)","v":""},{"$f":"IF(PivotRank!D13=0,\"\",PivotRank!D13)","v":""},{"$f":"IF(PivotRank!E13=0,\"\",PivotRank!E13)","v":""},{"$f":"IF(PivotRank!F13=0,\"\",PivotRank!F13)","v":"High"},{"$f":"IF(PivotRank!G13=0,\"\",PivotRank!G13)","v":"Medium"},{"$f":"IF(PivotRank!H13=0,\"\",PivotRank!H13)","v":""},{"$f":"IF(PivotRank!I13=0,\"\",PivotRank!I13)","v":""},{"$f":"IF(PivotRank!J13=0,\"\",PivotRank!J13)","v":""},{"$f":"IF(PivotRank!K13=0,\"\",PivotRank!K13)","v":"Low"},{"$f":"IF(PivotRank!L13=0,\"\",PivotRank!L13)","v":""},{"$f":"IF(PivotRank!M13=0,\"\",PivotRank!M13)","v":""},null,{"$f":"'ThreatAdd '!A13","v":"Medium"},{"$f":"'ThreatAdd '!B13","v":43}]
[null,{"$f":"IF(PivotRank!A14=0,\"\",PivotRank!A14)","v":"Incompatible mining (excluding roads)"},{"$f":"IF(PivotRank!B14=0,\"\",PivotRank!B14)","v":"Low"},{"$f":"IF(PivotRank!C14=0,\"\",PivotRank!C14)","v":"Low"},{"$f":"IF(PivotRank!D14=0,\"\",PivotRank!D14)","v":""},{"$f":"IF(PivotRank!E14=0,\"\",PivotRank!E14)","v":"High"},{"$f":"IF(PivotRank!F14=0,\"\",PivotRank!F14)","v":""},{"$f":"IF(PivotRank!G14=0,\"\",PivotRank!G14)","v":"Low"},{"$f":"IF(PivotRank!H14=0,\"\",PivotRank!H14)","v":""},{"$f":"IF(PivotRank!I14=0,\"\",PivotRank!I14)","v":"Low"},{"$f":"IF(PivotRank!J14=0,\"\",PivotRank!J14)","v":""},{"$f":"IF(PivotRank!K14=0,\"\",PivotRank!K14)","v":""},{"$f":"IF(PivotRank!L14=0,\"\",PivotRank!L14)","v":""},{"$f":"IF(PivotRank!M14=0,\"\",PivotRank!M14)","v":""},null,{"$f":"'ThreatAdd '!A14","v":"Medium"},{"$f":"'ThreatAdd '!B14","v":39}]
[null,{"$f":"IF(PivotRank!A15=0,\"\",PivotRank!A15)","v":"Stormwater"},{"$f":"IF(PivotRank!B15=0,\"\",PivotRank!B15)","v":""},{"$f":"IF(PivotRank!C15=0,\"\",PivotRank!C15)","v":""},{"$f":"IF(PivotRank!D15=0,\"\",PivotRank!D15)","v":""},{"$f":"IF(PivotRank!E15=0,\"\",PivotRank!E15)","v":""},{"$f":"IF(PivotRank!F15=0,\"\",PivotRank!F15)","v":""},{"$f":"IF(PivotRank!G15=0,\"\",PivotRank!G15)","v":"Low"},{"$f":"IF(PivotRank!H15=0,\"\",PivotRank!H15)","v":""},{"$f":"IF(PivotRank!I15=0,\"\",PivotRank!I15)","v":"Low"},{"$f":"IF(PivotRank!J15=0,\"\",PivotRank!J15)","v":"High"},{"$f":"IF(PivotRank!K15=0,\"\",PivotRank!K15)","v":""},{"$f":"IF(PivotRank!L15=0,\"\",PivotRank!L15)","v":""},{"$f":"IF(PivotRank!M15=0,\"\",PivotRank!M15)","v":""},null,{"$f":"'ThreatAdd '!A15","v":"Medium"},{"$f":"'ThreatAdd '!B15","v":37}]
[null,{"$f":"IF(PivotRank!A16=0,\"\",PivotRank!A16)","v":"Incompatible boating"},{"$f":"IF(PivotRank!B16=0,\"\",PivotRank!B16)","v":""},{"$f":"IF(PivotRank!C16=0,\"\",PivotRank!C16)","v":""},{"$f":"IF(PivotRank!D16=0,\"\",PivotRank!D16)","v":""},{"$f":"IF(PivotRank!E16=0,\"\",PivotRank!E16)","v":"Medium"},{"$f":"IF(PivotRank!F16=0,\"\",PivotRank!F16)","v":""},{"$f":"IF(PivotRank!G16=0,\"\",PivotRank!G16)","v":""},{"$f":"IF(PivotRank!H16=0,\"\",PivotRank!H16)","v":""},{"$f":"IF(PivotRank!I16=0,\"\",PivotRank!I16)","v":"Medium"},{"$f":"IF(PivotRank!J16=0,\"\",PivotRank!J16)","v":"Medium"},{"$f":"IF(PivotRank!K16=0,\"\",PivotRank!K16)","v":"Low"},{"$f":"IF(PivotRank!L16=0,\"\",PivotRank!L16)","v":""},{"$f":"IF(PivotRank!M16=0,\"\",PivotRank!M16)","v":""},null,{"$f":"'ThreatAdd '!A16","v":"Medium"},{"$f":"'ThreatAdd '!B16","v":22}]
[null,{"$f":"IF(PivotRank!A17=0,\"\",PivotRank!A17)","v":"Dumping of trash, debris, etc. "},{"$f":"IF(PivotRank!B17=0,\"\",PivotRank!B17)","v":""},{"$f":"IF(PivotRank!C17=0,\"\",PivotRank!C17)","v":"Low"},{"$f":"IF(PivotRank!D17=0,\"\",PivotRank!D17)","v":""},{"$f":"IF(PivotRank!E17=0,\"\",PivotRank!E17)","v":"Low"},{"$f":"IF(PivotRank!F17=0,\"\",PivotRank!F17)","v":""},{"$f":"IF(PivotRank!G17=0,\"\",PivotRank!G17)","v":"Low"},{"$f":"IF(PivotRank!H17=0,\"\",PivotRank!H17)","v":"Medium"},{"$f":"IF(PivotRank!I17=0,\"\",PivotRank!I17)","v":""},{"$f":"IF(PivotRank!J17=0,\"\",PivotRank!J17)","v":"Medium"},{"$f":"IF(PivotRank!K17=0,\"\",PivotRank!K17)","v":"Low"},{"$f":"IF(PivotRank!L17=0,\"\",PivotRank!L17)","v":""},{"$f":"IF(PivotRank!M17=0,\"\",PivotRank!M17)","v":""},null,{"$f":"'ThreatAdd '!A17","v":"Medium"},{"$f":"'ThreatAdd '!B17","v":18}]
[null,{"$f":"IF(PivotRank!A18=0,\"\",PivotRank!A18)","v":"Incompatible timber management practices"},{"$f":"IF(PivotRank!B18=0,\"\",PivotRank!B18)","v":""},{"$f":"IF(PivotRank!C18=0,\"\",PivotRank!C18)","v":"Medium"},{"$f":"IF(PivotRank!D18=0,\"\",PivotRank!D18)","v":""},{"$f":"IF(PivotRank!E18=0,\"\",PivotRank!E18)","v":"Low"},{"$f":"IF(PivotRank!F18=0,\"\",PivotRank!F18)","v":""},{"$f":"IF(PivotRank!G18=0,\"\",PivotRank!G18)","v":"Low"},{"$f":"IF(PivotRank!H18=0,\"\",PivotRank!H18)","v":""},{"$f":"IF(PivotRank!I18=0,\"\",PivotRank!I18)","v":""},{"$f":"IF(PivotRank!J18=0,\"\",PivotRank!J18)","v":""},{"$f":"IF(PivotRank!K18=0,\"\",PivotRank!K18)","v":""},{"$f":"IF(PivotRank!L18=0,\"\",PivotRank!L18)","v":""},{"$f":"IF(PivotRank!M18=0,\"\",PivotRank!M18)","v":""},null,{"$f":"'ThreatAdd '!A18","v":"Low"},{"$f":"'ThreatAdd '!B18","v":9}]
[null,{"$f":"IF(PivotRank!A19=0,\"\",PivotRank!A19)","v":"Industrial discharge"},{"$f":"IF(PivotRank!B19=0,\"\",PivotRank!B19)","v":""},{"$f":"IF(PivotRank!C19=0,\"\",PivotRank!C19)","v":""},{"$f":"IF(PivotRank!D19=0,\"\",PivotRank!D19)","v":""},{"$f":"IF(PivotRank!E19=0,\"\",PivotRank!E19)","v":""},{"$f":"IF(PivotRank!F19=0,\"\",PivotRank!F19)","v":""},{"$f":"IF(PivotRank!G19=0,\"\",PivotRank!G19)","v":""},{"$f":"IF(PivotRank!H19=0,\"\",PivotRank!H19)","v":""},{"$f":"IF(PivotRank!I19=0,\"\",PivotRank!I19)","v":""},{"$f":"IF(PivotRank!J19=0,\"\",PivotRank!J19)","v":"Medium"},{"$f":"IF(PivotRank!K19=0,\"\",PivotRank!K19)","v":""},{"$f":"IF(PivotRank!L19=0,\"\",PivotRank!L19)","v":""},{"$f":"IF(PivotRank!M19=0,\"\",PivotRank!M19)","v":""},null,{"$f":"'ThreatAdd '!A19","v":"Low"},{"$f":"'ThreatAdd '!B19","v":7}]
[null,{"$f":"IF(PivotRank!A20=0,\"\",PivotRank!A20)","v":""},{"$f":"IF(PivotRank!B20=0,\"\",PivotRank!B20)","v":""},{"$f":"IF(PivotRank!C20=0,\"\",PivotRank!C20)","v":""},{"$f":"IF(PivotRank!D20=0,\"\",PivotRank!D20)","v":""},{"$f":"IF(PivotRank!E20=0,\"\",PivotRank!E20)","v":""},{"$f":"IF(PivotRank!F20=0,\"\",PivotRank!F20)","v":""},{"$f":"IF(PivotRank!G20=0,\"\",PivotRank!G20)","v":""},{"$f":"IF(PivotRank!H20=0,\"\",PivotRank!H20)","v":""},{"$f":"IF(PivotRank!I20=0,\"\",PivotRank!I20)","v":""},{"$f":"IF(PivotRank!J20=0,\"\",PivotRank!J20)","v":""},{"$f":"IF(PivotRank!K20=0,\"\",PivotRank!K20)","v":""},{"$f":"IF(PivotRank!L20=0,\"\",PivotRank!L20)","v":""},{"$f":"IF(PivotRank!M20=0,\"\",PivotRank!M20)","v":""},null,{"$f":"'ThreatAdd '!A20","v":""},{"$f":"'ThreatAdd '!B20","v":0}]
[null,{"$f":"IF(PivotRank!A21=0,\"\",PivotRank!A21)","v":""},{"$f":"IF(PivotRank!B21=0,\"\",PivotRank!B21)","v":""},{"$f":"IF(PivotRank!C21=0,\"\",PivotRank!C21)","v":""},{"$f":"IF(PivotRank!D21=0,\"\",PivotRank!D21)","v":""},{"$f":"IF(PivotRank!E21=0,\"\",PivotRank!E21)","v":""},{"$f":"IF(PivotRank!F21=0,\"\",PivotRank!F21)","v":""},{"$f":"IF(PivotRank!G21=0,\"\",PivotRank!G21)","v":""},{"$f":"IF(PivotRank!H21=0,\"\",PivotRank!H21)","v":""},{"$f":"IF(PivotRank!I21=0,\"\",PivotRank!I21)","v":""},{"$f":"IF(PivotRank!J21=0,\"\",PivotRank!J21)","v":""},{"$f":"IF(PivotRank!K21=0,\"\",PivotRank!K21)","v":""},{"$f":"IF(PivotRank!L21=0,\"\",PivotRank!L21)","v":""},{"$f":"IF(PivotRank!M21=0,\"\",PivotRank!M21)","v":""},null,{"$f":"'ThreatAdd '!A21","v":""},{"$f":"'ThreatAdd '!B21","v":0}]
[null,{"$f":"IF(PivotRank!A22=0,\"\",PivotRank!A22)","v":""},{"$f":"IF(PivotRank!B22=0,\"\",PivotRank!B22)","v":""},{"$f":"IF(PivotRank!C22=0,\"\",PivotRank!C22)","v":""},{"$f":"IF(PivotRank!D22=0,\"\",PivotRank!D22)","v":""},{"$f":"IF(PivotRank!E22=0,\"\",PivotRank!E22)","v":""},{"$f":"IF(PivotRank!F22=0,\"\",PivotRank!F22)","v":""},{"$f":"IF(PivotRank!G22=0,\"\",PivotRank!G22)","v":""},{"$f":"IF(PivotRank!H22=0,\"\",PivotRank!H22)","v":""},{"$f":"IF(PivotRank!I22=0,\"\",PivotRank!I22)","v":""},{"$f":"IF(PivotRank!J22=0,\"\",PivotRank!J22)","v":""},{"$f":"IF(PivotRank!K22=0,\"\",PivotRank!K22)","v":""},{"$f":"IF(PivotRank!L22=0,\"\",PivotRank!L22)","v":""},{"$f":"IF(PivotRank!M22=0,\"\",PivotRank!M22)","v":""},null,{"$f":"'ThreatAdd '!A22","v":""},{"$f":"'ThreatAdd '!B22","v":0}]
[null,{"$f":"IF(PivotRank!A23=0,\"\",PivotRank!A23)","v":""},{"$f":"IF(PivotRank!B23=0,\"\",PivotRank!B23)","v":""},{"$f":"IF(PivotRank!C23=0,\"\",PivotRank!C23)","v":""},{"$f":"IF(PivotRank!D23=0,\"\",PivotRank!D23)","v":""},{"$f":"IF(PivotRank!E23=0,\"\",PivotRank!E23)","v":""},{"$f":"IF(PivotRank!F23=0,\"\",PivotRank!F23)","v":""},{"$f":"IF(PivotRank!G23=0,\"\",PivotRank!G23)","v":""},{"$f":"IF(PivotRank!H23=0,\"\",PivotRank!H23)","v":""},{"$f":"IF(PivotRank!I23=0,\"\",PivotRank!I23)","v":""},{"$f":"IF(PivotRank!J23=0,\"\",PivotRank!J23)","v":""},{"$f":"IF(PivotRank!K23=0,\"\",PivotRank!K23)","v":""},{"$f":"IF(PivotRank!L23=0,\"\",PivotRank!L23)","v":""},{"$f":"IF(PivotRank!M23=0,\"\",PivotRank!M23)","v":""},null,{"$f":"'ThreatAdd '!A23","v":""},{"$f":"'ThreatAdd '!B23","v":0}]
[null,{"$f":"IF(PivotRank!A24=0,\"\",PivotRank!A24)","v":""},{"$f":"IF(PivotRank!B24=0,\"\",PivotRank!B24)","v":""},{"$f":"IF(PivotRank!C24=0,\"\",PivotRank!C24)","v":""},{"$f":"IF(PivotRank!D24=0,\"\",PivotRank!D24)","v":""},{"$f":"IF(PivotRank!E24=0,\"\",PivotRank!E24)","v":""},{"$f":"IF(PivotRank!F24=0,\"\",PivotRank!F24)","v":""},{"$f":"IF(PivotRank!G24=0,\"\",PivotRank!G24)","v":""},{"$f":"IF(PivotRank!H24=0,\"\",PivotRank!H24)","v":""},{"$f":"IF(PivotRank!I24=0,\"\",PivotRank!I24)","v":""},{"$f":"IF(PivotRank!J24=0,\"\",PivotRank!J24)","v":""},{"$f":"IF(PivotRank!K24=0,\"\",PivotRank!K24)","v":""},{"$f":"IF(PivotRank!L24=0,\"\",PivotRank!L24)","v":""},{"$f":"IF(PivotRank!M24=0,\"\",PivotRank!M24)","v":""},null,{"$f":"'ThreatAdd '!A24","v":""},{"$f":"'ThreatAdd '!B24","v":0}]
[null,{"$f":"IF(PivotRank!A25=0,\"\",PivotRank!A25)","v":""},{"$f":"IF(PivotRank!B25=0,\"\",PivotRank!B25)","v":""},{"$f":"IF(PivotRank!C25=0,\"\",PivotRank!C25)","v":""},{"$f":"IF(PivotRank!D25=0,\"\",PivotRank!D25)","v":""},{"$f":"IF(PivotRank!E25=0,\"\",PivotRank!E25)","v":""},{"$f":"IF(PivotRank!F25=0,\"\",PivotRank!F25)","v":""},{"$f":"IF(PivotRank!G25=0,\"\",PivotRank!G25)","v":""},{"$f":"IF(PivotRank!H25=0,\"\",PivotRank!H25)","v":""},{"$f":"IF(PivotRank!I25=0,\"\",PivotRank!I25)","v":""},{"$f":"IF(PivotRank!J25=0,\"\",PivotRank!J25)","v":""},{"$f":"IF(PivotRank!K25=0,\"\",PivotRank!K25)","v":""},{"$f":"IF(PivotRank!L25=0,\"\",PivotRank!L25)","v":""},{"$f":"IF(PivotRank!M25=0,\"\",PivotRank!M25)","v":""},null,{"$f":"'ThreatAdd '!A25","v":""},{"$f":"'ThreatAdd '!B25","v":0}]
[null,{"$f":"IF(PivotRank!A26=0,\"\",PivotRank!A26)","v":""},{"$f":"IF(PivotRank!B26=0,\"\",PivotRank!B26)","v":""},{"$f":"IF(PivotRank!C26=0,\"\",PivotRank!C26)","v":""},{"$f":"IF(PivotRank!D26=0,\"\",PivotRank!D26)","v":""},{"$f":"IF(PivotRank!E26=0,\"\",PivotRank!E26)","v":""},{"$f":"IF(PivotRank!F26=0,\"\",PivotRank!F26)","v":""},{"$f":"IF(PivotRank!G26=0,\"\",PivotRank!G26)","v":""},{"$f":"IF(PivotRank!H26=0,\"\",PivotRank!H26)","v":""},{"$f":"IF(PivotRank!I26=0,\"\",PivotRank!I26)","v":""},{"$f":"IF(PivotRank!J26=0,\"\",PivotRank!J26)","v":""},{"$f":"IF(PivotRank!K26=0,\"\",PivotRank!K26)","v":""},{"$f":"IF(PivotRank!L26=0,\"\",PivotRank!L26)","v":""},{"$f":"IF(PivotRank!M26=0,\"\",PivotRank!M26)","v":""},null,{"$f":"'ThreatAdd '!A26","v":""},{"$f":"'ThreatAdd '!B26","v":0}]
[null,{"$f":"IF(PivotRank!A27=0,\"\",PivotRank!A27)","v":""},{"$f":"IF(PivotRank!B27=0,\"\",PivotRank!B27)","v":""},{"$f":"IF(PivotRank!C27=0,\"\",PivotRank!C27)","v":""},{"$f":"IF(PivotRank!D27=0,\"\",PivotRank!D27)","v":""},{"$f":"IF(PivotRank!E27=0,\"\",PivotRank!E27)","v":""},{"$f":"IF(PivotRank!F27=0,\"\",PivotRank!F27)","v":""},{"$f":"IF(PivotRank!G27=0,\"\",PivotRank!G27)","v":""},{"$f":"IF(PivotRank!H27=0,\"\",PivotRank!H27)","v":""},{"$f":"IF(PivotRank!I27=0,\"\",PivotRank!I27)","v":""},{"$f":"IF(PivotRank!J27=0,\"\",PivotRank!J27)","v":""},{"$f":"IF(PivotRank!K27=0,\"\",PivotRank!K27)","v":""},{"$f":"IF(PivotRank!L27=0,\"\",PivotRank!L27)","v":""},{"$f":"IF(PivotRank!M27=0,\"\",PivotRank!M27)","v":""},null,{"$f":"'ThreatAdd '!A27","v":""},{"$f":"'ThreatAdd '!B27","v":0}]
[null,{"$f":"IF(PivotRank!A28=0,\"\",PivotRank!A28)","v":""},{"$f":"IF(PivotRank!B28=0,\"\",PivotRank!B28)","v":""},{"$f":"IF(PivotRank!C28=0,\"\",PivotRank!C28)","v":""},{"$f":"IF(PivotRank!D28=0,\"\",PivotRank!D28)","v":""},{"$f":"IF(PivotRank!E28=0,\"\",PivotRank!E28)","v":""},{"$f":"IF(PivotRank!F28=0,\"\",PivotRank!F28)","v":""},{"$f":"IF(PivotRank!G28=0,\"\",PivotRank!G28)","v":""},{"$f":"IF(PivotRank!H28=0,\"\",PivotRank!H28)","v":""},{"$f":"IF(PivotRank!I28=0,\"\",PivotRank!I28)","v":""},{"$f":"IF(PivotRank!J28=0,\"\",PivotRank!J28)","v":""},{"$f":"IF(PivotRank!K28=0,\"\",PivotRank!K28)","v":""},{"$f":"IF(PivotRank!L28=0,\"\",PivotRank!L28)","v":""},{"$f":"IF(PivotRank!M28=0,\"\",PivotRank!M28)","v":""},null,{"$f":"'ThreatAdd '!A28","v":""},{"$f":"'ThreatAdd '!B28","v":0}]
[null,{"$f":"IF(PivotRank!A29=0,\"\",PivotRank!A29)","v":""},{"$f":"IF(PivotRank!B29=0,\"\",PivotRank!B29)","v":""},{"$f":"IF(PivotRank!C29=0,\"\",PivotRank!C29)","v":""},{"$f":"IF(PivotRank!D29=0,\"\",PivotRank!D29)","v":""},{"$f":"IF(PivotRank!E29=0,\"\",PivotRank!E29)","v":""},{"$f":"IF(PivotRank!F29=0,\"\",PivotRank!F29)","v":""},{"$f":"IF(PivotRank!G29=0,\"\",PivotRank!G29)","v":""},{"$f":"IF(PivotRank!H29=0,\"\",PivotRank!H29)","v":""},{"$f":"IF(PivotRank!I29=0,\"\",PivotRank!I29)","v":""},{"$f":"IF(PivotRank!J29=0,\"\",PivotRank!J29)","v":""},{"$f":"IF(PivotRank!K29=0,\"\",PivotRank!K29)","v":""},{"$f":"IF(PivotRank!L29=0,\"\",PivotRank!L29)","v":""},{"$f":"IF(PivotRank!M29=0,\"\",PivotRank!M29)","v":""},null,{"$f":"'ThreatAdd '!A29","v":""},{"$f":"'ThreatAdd '!B29","v":0}]
[null,{"$f":"IF(PivotRank!A30=0,\"\",PivotRank!A30)","v":""},{"$f":"IF(PivotRank!B30=0,\"\",PivotRank!B30)","v":""},{"$f":"IF(PivotRank!C30=0,\"\",PivotRank!C30)","v":""},{"$f":"IF(PivotRank!D30=0,\"\",PivotRank!D30)","v":""},{"$f":"IF(PivotRank!E30=0,\"\",PivotRank!E30)","v":""},{"$f":"IF(PivotRank!F30=0,\"\",PivotRank!F30)","v":""},{"$f":"IF(PivotRank!G30=0,\"\",PivotRank!G30)","v":""},{"$f":"IF(PivotRank!H30=0,\"\",PivotRank!H30)","v":""},{"$f":"IF(PivotRank!I30=0,\"\",PivotRank!I30)","v":""},{"$f":"IF(PivotRank!J30=0,\"\",PivotRank!J30)","v":""},{"$f":"IF(PivotRank!K30=0,\"\",PivotRank!K30)","v":""},{"$f":"IF(PivotRank!L30=0,\"\",PivotRank!L30)","v":""},{"$f":"IF(PivotRank!M30=0,\"\",PivotRank!M30)","v":""},null,{"$f":"'ThreatAdd '!A30","v":""},{"$f":"'ThreatAdd '!B30","v":0}]
[null,{"$f":"IF(PivotRank!A31=0,\"\",PivotRank!A31)","v":""},{"$f":"IF(PivotRank!B31=0,\"\",PivotRank!B31)","v":""},{"$f":"IF(PivotRank!C31=0,\"\",PivotRank!C31)","v":""},{"$f":"IF(PivotRank!D31=0,\"\",PivotRank!D31)","v":""},{"$f":"IF(PivotRank!E31=0,\"\",PivotRank!E31)","v":""},{"$f":"IF(PivotRank!F31=0,\"\",PivotRank!F31)","v":""},{"$f":"IF(PivotRank!G31=0,\"\",PivotRank!G31)","v":""},{"$f":"IF(PivotRank!H31=0,\"\",PivotRank!H31)","v":""},{"$f":"IF(PivotRank!I31=0,\"\",PivotRank!I31)","v":""},{"$f":"IF(PivotRank!J31=0,\"\",PivotRank!J31)","v":""},{"$f":"IF(PivotRank!K31=0,\"\",PivotRank!K31)","v":""},{"$f":"IF(PivotRank!L31=0,\"\",PivotRank!L31)","v":""},{"$f":"IF(PivotRank!M31=0,\"\",PivotRank!M31)","v":""},null,{"$f":"'ThreatAdd '!A31","v":""},{"$f":"'ThreatAdd '!B31","v":0}]
[null,{"$f":"IF(PivotRank!A32=0,\"\",PivotRank!A32)","v":""},{"$f":"IF(PivotRank!B32=0,\"\",PivotRank!B32)","v":""},{"$f":"IF(PivotRank!C32=0,\"\",PivotRank!C32)","v":""},{"$f":"IF(PivotRank!D32=0,\"\",PivotRank!D32)","v":""},{"$f":"IF(PivotRank!E32=0,\"\",PivotRank!E32)","v":""},{"$f":"IF(PivotRank!F32=0,\"\",PivotRank!F32)","v":""},{"$f":"IF(PivotRank!G32=0,\"\",PivotRank!G32)","v":""},{"$f":"IF(PivotRank!H32=0,\"\",PivotRank!H32)","v":""},{"$f":"IF(PivotRank!I32=0,\"\",PivotRank!I32)","v":""},{"$f":"IF(PivotRank!J32=0,\"\",PivotRank!J32)","v":""},{"$f":"IF(PivotRank!K32=0,\"\",PivotRank!K32)","v":""},{"$f":"IF(PivotRank!L32=0,\"\",PivotRank!L32)","v":""},{"$f":"IF(PivotRank!M32=0,\"\",PivotRank!M32)","v":""},null,{"$f":"'ThreatAdd '!A32","v":""},{"$f":"'ThreatAdd '!B32","v":0}]
[null,{"$f":"IF(PivotRank!A33=0,\"\",PivotRank!A33)","v":""},{"$f":"IF(PivotRank!B33=0,\"\",PivotRank!B33)","v":""},{"$f":"IF(PivotRank!C33=0,\"\",PivotRank!C33)","v":""},{"$f":"IF(PivotRank!D33=0,\"\",PivotRank!D33)","v":""},{"$f":"IF(PivotRank!E33=0,\"\",PivotRank!E33)","v":""},{"$f":"IF(PivotRank!F33=0,\"\",PivotRank!F33)","v":""},{"$f":"IF(PivotRank!G33=0,\"\",PivotRank!G33)","v":""},{"$f":"IF(PivotRank!H33=0,\"\",PivotRank!H33)","v":""},{"$f":"IF(PivotRank!I33=0,\"\",PivotRank!I33)","v":""},{"$f":"IF(PivotRank!J33=0,\"\",PivotRank!J33)","v":""},{"$f":"IF(PivotRank!K33=0,\"\",PivotRank!K33)","v":""},{"$f":"IF(PivotRank!L33=0,\"\",PivotRank!L33)","v":""},{"$f":"IF(PivotRank!M33=0,\"\",PivotRank!M33)","v":""},null,{"$f":"'ThreatAdd '!A33","v":""},{"$f":"'ThreatAdd '!B33","v":0}]
[null,{"$f":"IF(PivotRank!A34=0,\"\",PivotRank!A34)","v":""},{"$f":"IF(PivotRank!B34=0,\"\",PivotRank!B34)","v":""},{"$f":"IF(PivotRank!C34=0,\"\",PivotRank!C34)","v":""},{"$f":"IF(PivotRank!D34=0,\"\",PivotRank!D34)","v":""},{"$f":"IF(PivotRank!E34=0,\"\",PivotRank!E34)","v":""},{"$f":"IF(PivotRank!F34=0,\"\",PivotRank!F34)","v":""},{"$f":"IF(PivotRank!G34=0,\"\",PivotRank!G34)","v":""},{"$f":"IF(PivotRank!H34=0,\"\",PivotRank!H34)","v":""},{"$f":"IF(PivotRank!I34=0,\"\",PivotRank!I34)","v":""},{"$f":"IF(PivotRank!J34=0,\"\",PivotRank!J34)","v":""},{"$f":"IF(PivotRank!K34=0,\"\",PivotRank!K34)","v":""},{"$f":"IF(PivotRank!L34=0,\"\",PivotRank!L34)","v":""},{"$f":"IF(PivotRank!M34=0,\"\",PivotRank!M34)","v":""},null,{"$f":"'ThreatAdd '!A34","v":""},{"$f":"'ThreatAdd '!B34","v":0}]
[null,{"$f":"IF(PivotRank!A35=0,\"\",PivotRank!A35)","v":""},{"$f":"IF(PivotRank!B35=0,\"\",PivotRank!B35)","v":""},{"$f":"IF(PivotRank!C35=0,\"\",PivotRank!C35)","v":""},{"$f":"IF(PivotRank!D35=0,\"\",PivotRank!D35)","v":""},{"$f":"IF(PivotRank!E35=0,\"\",PivotRank!E35)","v":""},{"$f":"IF(PivotRank!F35=0,\"\",PivotRank!F35)","v":""},{"$f":"IF(PivotRank!G35=0,\"\",PivotRank!G35)","v":""},{"$f":"IF(PivotRank!H35=0,\"\",PivotRank!H35)","v":""},{"$f":"IF(PivotRank!I35=0,\"\",PivotRank!I35)","v":""},{"$f":"IF(PivotRank!J35=0,\"\",PivotRank!J35)","v":""},{"$f":"IF(PivotRank!K35=0,\"\",PivotRank!K35)","v":""},{"$f":"IF(PivotRank!L35=0,\"\",PivotRank!L35)","v":""},{"$f":"IF(PivotRank!M35=0,\"\",PivotRank!M35)","v":""},null,{"$f":"'ThreatAdd '!A35","v":""},{"$f":"'ThreatAdd '!B35","v":0}]
[null,{"$f":"IF(PivotRank!A36=0,\"\",PivotRank!A36)","v":""},{"$f":"IF(PivotRank!B36=0,\"\",PivotRank!B36)","v":""},{"$f":"IF(PivotRank!C36=0,\"\",PivotRank!C36)","v":""},{"$f":"IF(PivotRank!D36=0,\"\",PivotRank!D36)","v":""},{"$f":"IF(PivotRank!E36=0,\"\",PivotRank!E36)","v":""},{"$f":"IF(PivotRank!F36=0,\"\",PivotRank!F36)","v":""},{"$f":"IF(PivotRank!G36=0,\"\",PivotRank!G36)","v":""},{"$f":"IF(PivotRank!H36=0,\"\",PivotRank!H36)","v":""},{"$f":"IF(PivotRank!I36=0,\"\",PivotRank!I36)","v":""},{"$f":"IF(PivotRank!J36=0,\"\",PivotRank!J36)","v":""},{"$f":"IF(PivotRank!K36=0,\"\",PivotRank!K36)","v":""},{"$f":"IF(PivotRank!L36=0,\"\",PivotRank!L36)","v":""},{"$f":"IF(PivotRank!M36=0,\"\",PivotRank!M36)","v":""},null,{"$f":"'ThreatAdd '!A36","v":""},{"$f":"'ThreatAdd '!B36","v":0}]
[null,{"$f":"IF(PivotRank!A37=0,\"\",PivotRank!A37)","v":""},{"$f":"IF(PivotRank!B37=0,\"\",PivotRank!B37)","v":""},{"$f":"IF(PivotRank!C37=0,\"\",PivotRank!C37)","v":""},{"$f":"IF(PivotRank!D37=0,\"\",PivotRank!D37)","v":""},{"$f":"IF(PivotRank!E37=0,\"\",PivotRank!E37)","v":""},{"$f":"IF(PivotRank!F37=0,\"\",PivotRank!F37)","v":""},{"$f":"IF(PivotRank!G37=0,\"\",PivotRank!G37)","v":""},{"$f":"IF(PivotRank!H37=0,\"\",PivotRank!H37)","v":""},{"$f":"IF(PivotRank!I37=0,\"\",PivotRank!I37)","v":""},{"$f":"IF(PivotRank!J37=0,\"\",PivotRank!J37)","v":""},{"$f":"IF(PivotRank!K37=0,\"\",PivotRank!K37)","v":""},{"$f":"IF(PivotRank!L37=0,\"\",PivotRank!L37)","v":""},{"$f":"IF(PivotRank!M37=0,\"\",PivotRank!M37)","v":""},null,{"$f":"'ThreatAdd '!A37","v":""},{"$f":"'ThreatAdd '!B37","v":0}]
[null,{"$f":"IF(PivotRank!A38=0,\"\",PivotRank!A38)","v":""},{"$f":"IF(PivotRank!B38=0,\"\",PivotRank!B38)","v":""},{"$f":"IF(PivotRank!C38=0,\"\",PivotRank!C38)","v":""},{"$f":"IF(PivotRank!D38=0,\"\",PivotRank!D38)","v":""},{"$f":"IF(PivotRank!E38=0,\"\",PivotRank!E38)","v":""},{"$f":"IF(PivotRank!F38=0,\"\",PivotRank!F38)","v":""},{"$f":"IF(PivotRank!G38=0,\"\",PivotRank!G38)","v":""},{"$f":"IF(PivotRank!H38=0,\"\",PivotRank!H38)","v":""},{"$f":"IF(PivotRank!I38=0,\"\",PivotRank!I38)","v":""},{"$f":"IF(PivotRank!J38=0,\"\",PivotRank!J38)","v":""},{"$f":"IF(PivotRank!K38=0,\"\",PivotRank!K38)","v":""},{"$f":"IF(PivotRank!L38=0,\"\",PivotRank!L38)","v":""},{"$f":"IF(PivotRank!M38=0,\"\",PivotRank!M38)","v":""},null,{"$f":"'ThreatAdd '!A38","v":""},{"$f":"'ThreatAdd '!B38","v":0}]
[null,{"$f":"IF(PivotRank!A39=0,\"\",PivotRank!A39)","v":""},{"$f":"IF(PivotRank!B39=0,\"\",PivotRank!B39)","v":""},{"$f":"IF(PivotRank!C39=0,\"\",PivotRank!C39)","v":""},{"$f":"IF(PivotRank!D39=0,\"\",PivotRank!D39)","v":""},{"$f":"IF(PivotRank!E39=0,\"\",PivotRank!E39)","v":""},{"$f":"IF(PivotRank!F39=0,\"\",PivotRank!F39)","v":""},{"$f":"IF(PivotRank!G39=0,\"\",PivotRank!G39)","v":""},{"$f":"IF(PivotRank!H39=0,\"\",PivotRank!H39)","v":""},{"$f":"IF(PivotRank!I39=0,\"\",PivotRank!I39)","v":""},{"$f":"IF(PivotRank!J39=0,\"\",PivotRank!J39)","v":""},{"$f":"IF(PivotRank!K39=0,\"\",PivotRank!K39)","v":""},{"$f":"IF(PivotRank!L39=0,\"\",PivotRank!L39)","v":""},{"$f":"IF(PivotRank!M39=0,\"\",PivotRank!M39)","v":""},null,{"$f":"'ThreatAdd '!A39","v":""},{"$f":"'ThreatAdd '!B39","v":0}]
[null,{"$f":"IF(PivotRank!A40=0,\"\",PivotRank!A40)","v":""},{"$f":"IF(PivotRank!B40=0,\"\",PivotRank!B40)","v":""},{"$f":"IF(PivotRank!C40=0,\"\",PivotRank!C40)","v":""},{"$f":"IF(PivotRank!D40=0,\"\",PivotRank!D40)","v":""},{"$f":"IF(PivotRank!E40=0,\"\",PivotRank!E40)","v":""},{"$f":"IF(PivotRank!F40=0,\"\",PivotRank!F40)","v":""},{"$f":"IF(PivotRank!G40=0,\"\",PivotRank!G40)","v":""},{"$f":"IF(PivotRank!H40=0,\"\",PivotRank!H40)","v":""},{"$f":"IF(PivotRank!I40=0,\"\",PivotRank!I40)","v":""},{"$f":"IF(PivotRank!J40=0,\"\",PivotRank!J40)","v":""},{"$f":"IF(PivotRank!K40=0,\"\",PivotRank!K40)","v":""},{"$f":"IF(PivotRank!L40=0,\"\",PivotRank!L40)","v":""},{"$f":"IF(PivotRank!M40=0,\"\",PivotRank!M40)","v":""}]
[null,null,null,null,null,null,null,null,null,null,null,null,{"$f":"IF(PivotRank!L41=0,\"\",PivotRank!L41)","v":""},{"$f":"IF(PivotRank!M41=0,\"\",PivotRank!M41)","v":""}]
[]
[null,null,{"$f":"'ThreatAdd '!C42","v":85},{"$f":"'ThreatAdd '!D42","v":95},{"$f":"'ThreatAdd '!E42","v":142},{"$f":"'ThreatAdd '!F42","v":81},{"$f":"'ThreatAdd '!G42","v":134},{"$f":"'ThreatAdd '!H42","v":160},{"$f":"'ThreatAdd '!I42","v":294},{"$f":"'ThreatAdd '!J42","v":19},{"$f":"'ThreatAdd '!K42","v":238},{"$f":"'ThreatAdd '!L42","v":21}]

{"sheet":"1","index":5,"n_rows":75,"n_cols":42,"rows_kept":75,"cut":false,"hidden":false,"merged":[[0,3,0,4],[25,16,26,16],[33,16,34,16],[15,4,16,4],[17,4,18,4],[19,4,20,4],[21,4,22,4],[23,4,24,4],[13,3,13,4],[39,16,40,16],[27,16,28,16],[29,16,30,16],[31,16,32,16],[15,16,16,16],[17,16,18,16],[19,16,20,16],[21,16,22,16],[23,16,24,16],[35,16,36,16],[37,16,38,16],[39,4,40,4],[25,4,26,4],[27,4,28,4],[29,4,30,4],[31,4,32,4],[33,4,34,4],[35,4,36,4],[37,4,38,4],[71,4,72,4],[53,4,54,4],[55,4,56,4],[57,4,58,4],[59,4,60,4],[61,4,62,4],[73,4,74,4],[53,16,54,16],[55,16,56,16],[57,16,58,16],[59,16,60,16],[61,16,62,16],[63,16,64,16],[65,16,66,16],[67,16,68,16],[69,16,70,16],[71,16,72,16],[73,16,74,16],[63,4,64,4],[65,4,66,4],[67,4,68,4],[69,4,70,4]]}
[null,null,null,{"$f":"IF(Targets!C3=0,\"\",Targets!C3)","v":"Alpine Tundra - Upper Chena"},{"$f":"IF(Targets!C9=0,\"\",Targets!C9)","v":"Boreal Forests - Upper Chena"},"  Key Attributes & Future Threats",null,null,null,null,null,null,null,null,null,null,null,null,null,"Display this later?"]
[null,null,null,null,null,"Place cursor over cells with red triangles in top corner for hint"]
["KEA ID","Target ID","Target Name","Category","Key Attribute","Indicator","Poor","Fair","Good","Very Good","Current Rating","Projected Future Rating w No Action","Stress Ranking (calculated)","Stress Ranking (User Override)",null,null,null,null,null,"Projected Future Rating w Strategies","New Stress Ranking (calculated)","New Stress Ranking (User Override)",null,null,null,null,"Target #","Current Score","Score w No Action","Score w Strategies","Current Weight","Future Weight No Action","Future Weight w Action","Current Weighted Score","Future No Action Weighted Score","Future Action Weighted Score","Current Weighted Average","Future No Action Weighted Average","Future Action Weighted Average"]
[{"$f":"ROW()+100","v":104},1,{"$f":"$D$1","v":"Alpine Tundra - Upper Chena"},"Landscape Context","Fire regime","Frequency, size, type of fires, severity","Highly altered regime","Moderately altered regime","Mostly natural regime","Mother Nature","Good","Good",{"$f":"IF(K4=0,\"\",IF(L4=0,\"\",INDEX(StressRankMatrix,MATCH(K4,Rating,0),MATCH(L4,Rating,0))))","v":"-"},null,null,null,null,null,null,{"$f":"IF(L4=\"\",\"\",IFERROR(INDEX(Outcomes!$F:$F, MATCH(A4,Outcomes!$H:$H,0)),L4))","v":"Good"},{"$f":"IF(K4=\"\",\"\",IF(T4=0,\"\",INDEX(StressRankMatrix,MATCH(K4,Rating,0),MATCH(T4,Rating,0))))","v":"-"},null,null,null,null,null,{"$f":"IF(E4=\"\",\"\",IF(E4>0,$B$4,\"error\"))","v":1},{"$f":"IF(K4=\"Poor\",Scoring!$B$50,IF(K4=\"Fair -\",Scoring!$B$49,IF(K4=\"Fair\",Scoring!$B$48,IF(K4=\"Good -\",Scoring!$B$47,IF(K4=\"Good\",Scoring!$B$46,IF(K4=\"Very Good\",Scoring!$B$45,IF(K4=\"\",0)))))))","v":80.03},{"$f":"IF(L4=\"Poor\",Scoring!$B$50,IF(L4=\"Fair -\",Scoring!$B$49,IF(L4=\"Fair\",Scoring!$B$48,IF(L4=\"Good -\",Scoring!$B$47,IF(L4=\"Good\",Scoring!$B$46,IF(L4=\"Very Good\",Scoring!$B$45,IF(L4=\"\",0)))))))","v":80.03},{"$f":"IF(T4=\"Poor\",Scoring!$B$50,IF(T4=\"Fair -\",Scoring!$B$49,IF(T4=\"Fair\",Scoring!$B$48,IF(T4=\"Good -\",Scoring!$B$47,IF(T4=\"Good\",Scoring!$B$46,IF(T4=\"Very Good\",Scoring!$B$45,IF(T4=\"\",0)))))))","v":80.03},{"$f":"IF(K4=\"Poor\",Scoring!$C$50,IF(K4=\"Fair -\",Scoring!$C$49,IF(K4=\"Fair\",Scoring!$C$48,IF(K4=\"Good -\",Scoring!$C$47,IF(K4=\"Good\",Scoring!$C$46,IF(K4=\"Very Good\",Scoring!$C$45,IF(K4=\"\",0)))))))","v":1},{"$f":"IF(L4=\"Poor\",Scoring!$C$50,IF(L4=\"Fair -\",Scoring!$C$49,IF(L4=\"Fair\",Scoring!$C$48,IF(L4=\"Good -\",Scoring!$C$47,IF(L4=\"Good\",Scoring!$C$46,IF(L4=\"Very Good\",Scoring!$C$45,IF(L4=\"\",0)))))))","v":1},{"$f":"IF(T4=\"Poor\",Scoring!$C$50,IF(T4=\"Fair -\",Scoring!$C$49,IF(T4=\"Fair\",Scoring!$C$48,IF(T4=\"Good -\",Scoring!$C$47,IF(T4=\"Good\",Scoring!$C$46,IF(T4=\"Very Good\",Scoring!$C$45,IF(T4=\"\",0)))))))","v":1},{"$f":"AB4*AE4","v":80.03},{"$f":"AC4*AF4","v":80.03},{"$f":"AD4*AG4","v":80.03}]
[{"$f":"ROW()+100","v":105},1,{"$f":"$D$1","v":"Alpine Tundra - Upper Chena"},"Landscape Context","Habitat connectivity","Movement of species","Most species are isolated ","Some species are isolated"," Most species are mostly able to move freely among most habitats   "," Mother Nature","Very Good","Very Good","-",null,null,null,null,null,null,{"$f":"IF(L5=\"\",\"\",IFERROR(INDEX(Outcomes!$F:$F, MATCH(A5,Outcomes!$H:$H,0)),L5))","v":"Very Good"},"-",null,null,null,null,null,{"$f":"IF(E5=\"\",\"\",IF(E5>0,$B$4,\"error\"))","v":1},{"$f":"IF(K5=\"Poor\",Scoring!$B$50,IF(K5=\"Fair -\",Scoring!$B$49,IF(K5=\"Fair\",Scoring!$B$48,IF(K5=\"Good -\",Scoring!$B$47,IF(K5=\"Good\",Scoring!$B$46,IF(K5=\"Very Good\",Scoring!$B$45,IF(K5=\"\",0)))))))","v":100},{"$f":"IF(L5=\"Poor\",Scoring!$B$50,IF(L5=\"Fair -\",Scoring!$B$49,IF(L5=\"Fair\",Scoring!$B$48,IF(L5=\"Good -\",Scoring!$B$47,IF(L5=\"Good\",Scoring!$B$46,IF(L5=\"Very Good\",Scoring!$B$45,IF(L5=\"\",0)))))))","v":100},{"$f":"IF(T5=\"Poor\",Scoring!$B$50,IF(T5=\"Fair -\",Scoring!$B$49,IF(T5=\"Fair\",Scoring!$B$48,IF(T5=\"Good -\",Scoring!$B$47,IF(T5=\"Good\",Scoring!$B$46,IF(T5=\"Very Good\",Scoring!$B$45,IF(T5=\"\",0)))))))","v":100},{"$f":"IF(K5=\"Poor\",Scoring!$C$50,IF(K5=\"Fair -\",Scoring!$C$49,IF(K5=\"Fair\",Scoring!$C$48,IF(K5=\"Good -\",Scoring!$C$47,IF(K5=\"Good\",Scoring!$C$46,IF(K5=\"Very Good\",Scoring!$C$45,IF(K5=\"\",0)))))))","v":0.85},{"$f":"IF(L5=\"Poor\",Scoring!$C$50,IF(L5=\"Fair -\",Scoring!$C$49,IF(L5=\"Fair\",Scoring!$C$48,IF(L5=\"Good -\",Scoring!$C$47,IF(L5=\"Good\",Scoring!$C$46,IF(L5=\"Very Good\",Scoring!$C$45,IF(L5=\"\",0)))))))","v":0.85},{"$f":"IF(T5=\"Poor\",Scoring!$C$50,IF(T5=\"Fair -\",Scoring!$C$49,IF(T5=\"Fair\",Scoring!$C$48,IF(T5=\"Good -\",Scoring!$C$47,IF(T5=\"Good\",Scoring!$C$46,IF(T5=\"Very Good\",Scoring!$C$45,IF(T5=\"\",0)))))))","v":0.85},{"$f":"AB5*AE5","v":85},{"$f":"AC5*AF5","v":85},{"$f":"AD5*AG5","v":85}]
[106,1,"Alpine Tundra - Upper Chena","Landscape Context","Hydrologic regime","Natural fluctuations of surface and ground water -amount, frequency, timing, duration","Water levels, flows or fluctuations are too high or too low, not related to the precipitation, and unlikely to maintain nested targets in many habitats within the target area and downstream","Water levels, flows or fluctuations in relationship to precipitation and ground water are likely to maintain nested targets in some habitats within the target and downstream","Water levels, flows or fluctuations in relationship to precipitation and ground water are likely to maintain nested targets in most habitats within the target area and downstream","Water levels, flows or fluctuations in relationship to precipitation and ground water are likely to maintain nested targets in almost all habitats within the target area and downstream","Very Good","Very Good","-",null,null,null,null,null,null,{"$f":"IF(L6=\"\",\"\",IFERROR(INDEX(Outcomes!$F:$F, MATCH(A6,Outcomes!$H:$H,0)),L6))","v":"Very Good"},"-",null,null,null,null,null,1,{"$f":"IF(K6=\"Poor\",Scoring!$B$50,IF(K6=\"Fair -\",Scoring!$B$49,IF(K6=\"Fair\",Scoring!$B$48,IF(K6=\"Good -\",Scoring!$B$47,IF(K6=\"Good\",Scoring!$B$46,IF(K6=\"Very Good\",Scoring!$B$45,IF(K6=\"\",0)))))))","v":100},{"$f":"IF(L6=\"Poor\",Scoring!$B$50,IF(L6=\"Fair -\",Scoring!$B$49,IF(L6=\"Fair\",Scoring!$B$48,IF(L6=\"Good -\",Scoring!$B$47,IF(L6=\"Good\",Scoring!$B$46,IF(L6=\"Very Good\",Scoring!$B$45,IF(L6=\"\",0)))))))","v":100},{"$f":"IF(T6=\"Poor\",Scoring!$B$50,IF(T6=\"Fair -\",Scoring!$B$49,IF(T6=\"Fair\",Scoring!$B$48,IF(T6=\"Good -\",Scoring!$B$47,IF(T6=\"Good\",Scoring!$B$46,IF(T6=\"Very Good\",Scoring!$B$45,IF(T6=\"\",0)))))))","v":100},{"$f":"IF(K6=\"Poor\",Scoring!$C$50,IF(K6=\"Fair -\",Scoring!$C$49,IF(K6=\"Fair\",Scoring!$C$48,IF(K6=\"Good -\",Scoring!$C$47,IF(K6=\"Good\",Scoring!$C$46,IF(K6=\"Very Good\",Scoring!$C$45,IF(K6=\"\",0)))))))","v":0.85},{"$f":"IF(L6=\"Poor\",Scoring!$C$50,IF(L6=\"Fair -\",Scoring!$C$49,IF(L6=\"Fair\",Scoring!$C$48,IF(L6=\"Good -\",Scoring!$C$47,IF(L6=\"Good\",Scoring!$C$46,IF(L6=\"Very Good\",Scoring!$C$45,IF(L6=\"\",0)))))))","v":0.85},{"$f":"IF(T6=\"Poor\",Scoring!$C$50,IF(T6=\"Fair -\",Scoring!$C$49,IF(T6=\"Fair\",Scoring!$C$48,IF(T6=\"Good -\",Scoring!$C$47,IF(T6=\"Good\",Scoring!$C$46,IF(T6=\"Very Good\",Scoring!$C$45,IF(T6=\"\",0)))))))","v":0.85},85,85,85]
[107,1,"Alpine Tundra - Upper Chena","Condition","Characteristic native community","Presence of characteristic native communities within habitats","Few habitats have the characteristic native communities to accom-modate most nested targets in abundance","Some habitats have the characteristic native communities to accom-modate most nested targets in abundance","Most habitats have the characteristic native communities to accom-modate most nested targets in abundance","Almost all habitats have the characteristic native communities to accom­modate almost all nested targets in abundance","Good","Fair","High",null,null,null,null,null,null,{"$f":"IF(L7=\"\",\"\",IFERROR(INDEX(Outcomes!$F:$F, MATCH(A7,Outcomes!$H:$H,0)),L7))","v":"Fair"},"High",null,null,null,null,null,1,{"$f":"IF(K7=\"Poor\",Scoring!$B$50,IF(K7=\"Fair -\",Scoring!$B$49,IF(K7=\"Fair\",Scoring!$B$48,IF(K7=\"Good -\",Scoring!$B$47,IF(K7=\"Good\",Scoring!$B$46,IF(K7=\"Very Good\",Scoring!$B$45,IF(K7=\"\",0)))))))","v":80.03},{"$f":"IF(L7=\"Poor\",Scoring!$B$50,IF(L7=\"Fair -\",Scoring!$B$49,IF(L7=\"Fair\",Scoring!$B$48,IF(L7=\"Good -\",Scoring!$B$47,IF(L7=\"Good\",Scoring!$B$46,IF(L7=\"Very Good\",Scoring!$B$45,IF(L7=\"\",0)))))))","v":40.04},{"$f":"IF(T7=\"Poor\",Scoring!$B$50,IF(T7=\"Fair -\",Scoring!$B$49,IF(T7=\"Fair\",Scoring!$B$48,IF(T7=\"Good -\",Scoring!$B$47,IF(T7=\"Good\",Scoring!$B$46,IF(T7=\"Very Good\",Scoring!$B$45,IF(T7=\"\",0)))))))","v":40.04},{"$f":"IF(K7=\"Poor\",Scoring!$C$50,IF(K7=\"Fair -\",Scoring!$C$49,IF(K7=\"Fair\",Scoring!$C$48,IF(K7=\"Good -\",Scoring!$C$47,IF(K7=\"Good\",Scoring!$C$46,IF(K7=\"Very Good\",Scoring!$C$45,IF(K7=\"\",0)))))))","v":1},{"$f":"IF(L7=\"Poor\",Scoring!$C$50,IF(L7=\"Fair -\",Scoring!$C$49,IF(L7=\"Fair\",Scoring!$C$48,IF(L7=\"Good -\",Scoring!$C$47,IF(L7=\"Good\",Scoring!$C$46,IF(L7=\"Very Good\",Scoring!$C$45,IF(L7=\"\",0)))))))","v":1},{"$f":"IF(T7=\"Poor\",Scoring!$C$50,IF(T7=\"Fair -\",Scoring!$C$49,IF(T7=\"Fair\",Scoring!$C$48,IF(T7=\"Good -\",Scoring!$C$47,IF(T7=\"Good\",Scoring!$C$46,IF(T7=\"Very Good\",Scoring!$C$45,IF(T7=\"\",0)))))))","v":1},80.03,40.04,40.04]
[108,1,"Alpine Tundra - Upper Chena","Condition","Vegetation composition & structure - mosaic","Diversity of species and age classes","Low diversity of species and age classes"," Moderate diversity of species and age classes","Good diversity of species and age classes","High diversity of species and age class","Good","Good","-",null,null,null,null,null,null,{"$f":"IF(L8=\"\",\"\",IFERROR(INDEX(Outcomes!$F:$F, MATCH(A8,Outcomes!$H:$H,0)),L8))","v":"Good"},"-",null,null,null,null,null,1,{"$f":"IF(K8=\"Poor\",Scoring!$B$50,IF(K8=\"Fair -\",Scoring!$B$49,IF(K8=\"Fair\",Scoring!$B$48,IF(K8=\"Good -\",Scoring!$B$47,IF(K8=\"Good\",Scoring!$B$46,IF(K8=\"Very Good\",Scoring!$B$45,IF(K8=\"\",0)))))))","v":80.03},{"$f":"IF(L8=\"Poor\",Scoring!$B$50,IF(L8=\"Fair -\",Scoring!$B$49,IF(L8=\"Fair\",Scoring!$B$48,IF(L8=\"Good -\",Scoring!$B$47,IF(L8=\"Good\",Scoring!$B$46,IF(L8=\"Very Good\",Scoring!$B$45,IF(L8=\"\",0)))))))","v":80.03},{"$f":"IF(T8=\"Poor\",Scoring!$B$50,IF(T8=\"Fair -\",Scoring!$B$49,IF(T8=\"Fair\",Scoring!$B$48,IF(T8=\"Good -\",Scoring!$B$47,IF(T8=\"Good\",Scoring!$B$46,IF(T8=\"Very Good\",Scoring!$B$45,IF(T8=\"\",0)))))))","v":80.03},{"$f":"IF(K8=\"Poor\",Scoring!$C$50,IF(K8=\"Fair -\",Scoring!$C$49,IF(K8=\"Fair\",Scoring!$C$48,IF(K8=\"Good -\",Scoring!$C$47,IF(K8=\"Good\",Scoring!$C$46,IF(K8=\"Very Good\",Scoring!$C$45,IF(K8=\"\",0)))))))","v":1},{"$f":"IF(L8=\"Poor\",Scoring!$C$50,IF(L8=\"Fair -\",Scoring!$C$49,IF(L8=\"Fair\",Scoring!$C$48,IF(L8=\"Good -\",Scoring!$C$47,IF(L8=\"Good\",Scoring!$C$46,IF(L8=\"Very Good\",Scoring!$C$45,IF(L8=\"\",0)))))))","v":1},{"$f":"IF(T8=\"Poor\",Scoring!$C$50,IF(T8=\"Fair -\",Scoring!$C$49,IF(T8=\"Fair\",Scoring!$C$48,IF(T8=\"Good -\",Scoring!$C$47,IF(T8=\"Good\",Scoring!$C$46,IF(T8=\"Very Good\",Scoring!$C$45,IF(T8=\"\",0)))))))","v":1},80.03,80.03,80.03]
[109,1,"Alpine Tundra - Upper Chena","Size","Extent of area","Extent, patch size, and/or distribution","Severe, mostly gone","Moderate to substantial loss","Minimal loss","Mother Nature","Very Good","Good","Medium",null,null,null,null,null,null,{"$f":"IF(L9=\"\",\"\",IFERROR(INDEX(Outcomes!$F:$F, MATCH(A9,Outcomes!$H:$H,0)),L9))","v":"Good"},"Medium",null,null,null,null,null,1,{"$f":"IF(K9=\"Poor\",Scoring!$B$50,IF(K9=\"Fair -\",Scoring!$B$49,IF(K9=\"Fair\",Scoring!$B$48,IF(K9=\"Good -\",Scoring!$B$47,IF(K9=\"Good\",Scoring!$B$46,IF(K9=\"Very Good\",Scoring!$B$45,IF(K9=\"\",0)))))))","v":100},{"$f":"IF(L9=\"Poor\",Scoring!$B$50,IF(L9=\"Fair -\",Scoring!$B$49,IF(L9=\"Fair\",Scoring!$B$48,IF(L9=\"Good -\",Scoring!$B$47,IF(L9=\"Good\",Scoring!$B$46,IF(L9=\"Very Good\",Scoring!$B$45,IF(L9=\"\",0)))))))","v":80.03},{"$f":"IF(T9=\"Poor\",Scoring!$B$50,IF(T9=\"Fair -\",Scoring!$B$49,IF(T9=\"Fair\",Scoring!$B$48,IF(T9=\"Good -\",Scoring!$B$47,IF(T9=\"Good\",Scoring!$B$46,IF(T9=\"Very Good\",Scoring!$B$45,IF(T9=\"\",0)))))))","v":80.03},{"$f":"IF(K9=\"Poor\",Scoring!$C$50,IF(K9=\"Fair -\",Scoring!$C$49,IF(K9=\"Fair\",Scoring!$C$48,IF(K9=\"Good -\",Scoring!$C$47,IF(K9=\"Good\",Scoring!$C$46,IF(K9=\"Very Good\",Scoring!$C$45,IF(K9=\"\",0)))))))","v":0.85},{"$f":"IF(L9=\"Poor\",Scoring!$C$50,IF(L9=\"Fair -\",Scoring!$C$49,IF(L9=\"Fair\",Scoring!$C$48,IF(L9=\"Good -\",Scoring!$C$47,IF(L9=\"Good\",Scoring!$C$46,IF(L9=\"Very Good\",Scoring!$C$45,IF(L9=\"\",0)))))))","v":1},{"$f":"IF(T9=\"Poor\",Scoring!$C$50,IF(T9=\"Fair -\",Scoring!$C$49,IF(T9=\"Fair\",Scoring!$C$48,IF(T9=\"Good -\",Scoring!$C$47,IF(T9=\"Good\",Scoring!$C$46,IF(T9=\"Very Good\",Scoring!$C$45,IF(T9=\"\",0)))))))","v":1},85,80.03,80.03]
[{"$f":"ROW()+100","v":110},1,"Alpine Tundra - Upper Chena",null,null,null,null,null,null,null,null,null,"",null,null,null,null,null,null,{"$f":"IF(L10=\"\",\"\",IFERROR(INDEX(Outcomes!$F:$F, MATCH(A10,Outcomes!$H:$H,0)),L10))","v":""},"",null,null,null,null,null,"",{"$f":"IF(K10=\"Poor\",Scoring!$B$50,IF(K10=\"Fair -\",Scoring!$B$49,IF(K10=\"Fair\",Scoring!$B$48,IF(K10=\"Good -\",Scoring!$B$47,IF(K10=\"Good\",Scoring!$B$46,IF(K10=\"Very Good\",Scoring!$B$45,IF(K10=\"\",0)))))))","v":0},{"$f":"IF(L10=\"Poor\",Scoring!$B$50,IF(L10=\"Fair -\",Scoring!$B$49,IF(L10=\"Fair\",Scoring!$B$48,IF(L10=\"Good -\",Scoring!$B$47,IF(L10=\"Good\",Scoring!$B$46,IF(L10=\"Very Good\",Scoring!$B$45,IF(L10=\"\",0)))))))","v":0},{"$f":"IF(T10=\"Poor\",Scoring!$B$50,IF(T10=\"Fair -\",Scoring!$B$49,IF(T10=\"Fair\",Scoring!$B$48,IF(T10=\"Good -\",Scoring!$B$47,IF(T10=\"Good\",Scoring!$B$46,IF(T10=\"Very Good\",Scoring!$B$45,IF(T10=\"\",0)))))))","v":0},{"$f":"IF(K10=\"Poor\",Scoring!$C$50,IF(K10=\"Fair -\",Scoring!$C$49,IF(K10=\"Fair\",Scoring!$C$48,IF(K10=\"Good -\",Scoring!$C$47,IF(K10=\"Good\",Scoring!$C$46,IF(K10=\"Very Good\",Scoring!$C$45,IF(K10=\"\",0)))))))","v":0},{"$f":"IF(L10=\"Poor\",Scoring!$C$50,IF(L10=\"Fair -\",Scoring!$C$49,IF(L10=\"Fair\",Scoring!$C$48,IF(L10=\"Good -\",Scoring!$C$47,IF(L10=\"Good\",Scoring!$C$46,IF(L10=\"Very Good\",Scoring!$C$45,IF(L10=\"\",0)))))))","v":0},{"$f":"IF(T10=\"Poor\",Scoring!$C$50,IF(T10=\"Fair -\",Scoring!$C$49,IF(T10=\"Fair\",Scoring!$C$48,IF(T10=\"Good -\",Scoring!$C$47,IF(T10=\"Good\",Scoring!$C$46,IF(T10=\"Very Good\",Scoring!$C$45,IF(T10=\"\",0)))))))","v":0},0,0,0]
[{"$f":"ROW()+100","v":111},1,"Alpine Tundra - Upper Chena",null,null,null,null,null,null,null,null,null,"",null,null,null,null,null,null,{"$f":"IF(L11=\"\",\"\",IFERROR(INDEX(Outcomes!$F:$F, MATCH(A11,Outcomes!$H:$H,0)),L11))","v":""},"",null,null,null,null,null,"",{"$f":"IF(K11=\"Poor\",Scoring!$B$50,IF(K11=\"Fair -\",Scoring!$B$49,IF(K11=\"Fair\",Scoring!$B$48,IF(K11=\"Good -\",Scoring!$B$47,IF(K11=\"Good\",Scoring!$B$46,IF(K11=\"Very Good\",Scoring!$B$45,IF(K11=\"\",0)))))))","v":0},{"$f":"IF(L11=\"Poor\",Scoring!$B$50,IF(L11=\"Fair -\",Scoring!$B$49,IF(L11=\"Fair\",Scoring!$B$48,IF(L11=\"Good -\",Scoring!$B$47,IF(L11=\"Good\",Scoring!$B$46,IF(L11=\"Very Good\",Scoring!$B$45,IF(L11=\"\",0)))))))","v":0},{"$f":"IF(T11=\"Poor\",Scoring!$B$50,IF(T11=\"Fair -\",Scoring!$B$49,IF(T11=\"Fair\",Scoring!$B$48,IF(T11=\"Good -\",Scoring!$B$47,IF(T11=\"Good\",Scoring!$B$46,IF(T11=\"Very Good\",Scoring!$B$45,IF(T11=\"\",0)))))))","v":0},{"$f":"IF(K11=\"Poor\",Scoring!$C$50,IF(K11=\"Fair -\",Scoring!$C$49,IF(K11=\"Fair\",Scoring!$C$48,IF(K11=\"Good -\",Scoring!$C$47,IF(K11=\"Good\",Scoring!$C$46,IF(K11=\"Very Good\",Scoring!$C$45,IF(K11=\"\",0)))))))","v":0},{"$f":"IF(L11=\"Poor\",Scoring!$C$50,IF(L11=\"Fair -\",Scoring!$C$49,IF(L11=\"Fair\",Scoring!$C$48,IF(L11=\"Good -\",Scoring!$C$47,IF(L11=\"Good\",Scoring!$C$46,IF(L11=\"Very Good\",Scoring!$C$45,IF(L11=\"\",0)))))))","v":0},{"$f":"IF(T11=\"Poor\",Scoring!$C$50,IF(T11=\"Fair -\",Scoring!$C$49,IF(T11=\"Fair\",Scoring!$C$48,IF(T11=\"Good -\",Scoring!$C$47,IF(T11=\"Good\",Scoring!$C$46,IF(T11=\"Very Good\",Scoring!$C$45,IF(T11=\"\",0)))))))","v":0},0,0,0]
[112,1,"Alpine Tundra - Upper Chena",null,null,null,null,null,null,null,null,null,"",null,null,null,null,null,null,{"$f":"IF(L12=\"\",\"\",IFERROR(INDEX(Outcomes!$F:$F, MATCH(A12,Outcomes!$H:$H,0)),L12))","v":""},"",null,null,null,null,null,"",{"$f":"IF(K12=\"Poor\",Scoring!$B$50,IF(K12=\"Fair -\",Scoring!$B$49,IF(K12=\"Fair\",Scoring!$B$48,IF(K12=\"Good -\",Scoring!$B$47,IF(K12=\"Good\",Scoring!$B$46,IF(K12=\"Very Good\",Scoring!$B$45,IF(K12=\"\",0)))))))","v":0},{"$f":"IF(L12=\"Poor\",Scoring!$B$50,IF(L12=\"Fair -\",Scoring!$B$49,IF(L12=\"Fair\",Scoring!$B$48,IF(L12=\"Good -\",Scoring!$B$47,IF(L12=\"Good\",Scoring!$B$46,IF(L12=\"Very Good\",Scoring!$B$45,IF(L12=\"\",0)))))))","v":0},{"$f":"IF(T12=\"Poor\",Scoring!$B$50,IF(T12=\"Fair -\",Scoring!$B$49,IF(T12=\"Fair\",Scoring!$B$48,IF(T12=\"Good -\",Scoring!$B$47,IF(T12=\"Good\",Scoring!$B$46,IF(T12=\"Very Good\",Scoring!$B$45,IF(T12=\"\",0)))))))","v":0},{"$f":"IF(K12=\"Poor\",Scoring!$C$50,IF(K12=\"Fair -\",Scoring!$C$49,IF(K12=\"Fair\",Scoring!$C$48,IF(K12=\"Good -\",Scoring!$C$47,IF(K12=\"Good\",Scoring!$C$46,IF(K12=\"Very Good\",Scoring!$C$45,IF(K12=\"\",0)))))))","v":0},{"$f":"IF(L12=\"Poor\",Scoring!$C$50,IF(L12=\"Fair -\",Scoring!$C$49,IF(L12=\"Fair\",Scoring!$C$48,IF(L12=\"Good -\",Scoring!$C$47,IF(L12=\"Good\",Scoring!$C$46,IF(L12=\"Very Good\",Scoring!$C$45,IF(L12=\"\",0)))))))","v":0},{"$f":"IF(T12=\"Poor\",Scoring!$C$50,IF(T12=\"Fair -\",Scoring!$C$49,IF(T12=\"Fair\",Scoring!$C$48,IF(T12=\"Good -\",Scoring!$C$47,IF(T12=\"Good\",Scoring!$C$46,IF(T12=\"Very Good\",Scoring!$C$45,IF(T12=\"\",0)))))))","v":0},0,0,0]
[113,1,"Alpine Tundra - Upper Chena",null,null,null,null,null,null,null,null,null,"",null,null,null,null,null,null,{"$f":"IF(L13=\"\",\"\",IFERROR(INDEX(Outcomes!$F:$F, MATCH(A13,Outcomes!$H:$H,0)),L13))","v":""},{"$f":"IF(K13=0,\"\",IF(T13=0,\"\",INDEX(StressRankMatrix,MATCH(K13,Rating,0),MATCH(T13,Rating,0))))","v":""},null,null,null,{"$f":"IFERROR(INDEX(#REF!,MATCH(A13,#REF!,0)),\"\")","v":""},null,"",{"$f":"IF(K13=\"Poor\",Scoring!$B$50,IF(K13=\"Fair -\",Scoring!$B$49,IF(K13=\"Fair\",Scoring!$B$48,IF(K13=\"Good -\",Scoring!$B$47,IF(K13=\"Good\",Scoring!$B$46,IF(K13=\"Very Good\",Scoring!$B$45,IF(K13=\"\",0)))))))","v":0},{"$f":"IF(L13=\"Poor\",Scoring!$B$50,IF(L13=\"Fair -\",Scoring!$B$49,IF(L13=\"Fair\",Scoring!$B$48,IF(L13=\"Good -\",Scoring!$B$47,IF(L13=\"Good\",Scoring!$B$46,IF(L13=\"Very Good\",Scoring!$B$45,IF(L13=\"\",0)))))))","v":0},{"$f":"IF(T13=\"Poor\",Scoring!$B$50,IF(T13=\"Fair -\",Scoring!$B$49,IF(T13=\"Fair\",Scoring!$B$48,IF(T13=\"Good -\",Scoring!$B$47,IF(T13=\"Good\",Scoring!$B$46,IF(T13=\"Very Good\",Scoring!$B$45,IF(T13=\"\",0)))))))","v":0},{"$f":"IF(K13=\"Poor\",Scoring!$C$50,IF(K13=\"Fair -\",Scoring!$C$49,IF(K13=\"Fair\",Scoring!$C$48,IF(K13=\"Good -\",Scoring!$C$47,IF(K13=\"Good\",Scoring!$C$46,IF(K13=\"Very Good\",Scoring!$C$45,IF(K13=\"\",0)))))))","v":0},{"$f":"IF(L13=\"Poor\",Scoring!$C$50,IF(L13=\"Fair -\",Scoring!$C$49,IF(L13=\"Fair\",Scoring!$C$48,IF(L13=\"Good -\",Scoring!$C$47,IF(L13=\"Good\",Scoring!$C$46,IF(L13=\"Very Good\",Scoring!$C$45,IF(L13=\"\",0)))))))","v":0},{"$f":"IF(T13=\"Poor\",Scoring!$C$50,IF(T13=\"Fair -\",Scoring!$C$49,IF(T13=\"Fair\",Scoring!$C$48,IF(T13=\"Good -\",Scoring!$C$47,IF(T13=\"Good\",Scoring!$C$46,IF(T13=\"Very Good\",Scoring!$C$45,IF(T13=\"\",0)))))))","v":0},0,0,0]
[null,null,null,"Overall Target Health Score                           (0 = Poor - 100 = Very Good)",null,null,null,null,null,null,{"$f":"AK14","v":89.205405405405415},{"$f":"AL14","v":78.970175438596485},null,null,null,null,null,null,null,{"$f":"AM14","v":78.970175438596485},null,null,null,null,null,null,null,null,null,null,{"$f":"SUM(AE4:AE13)","v":5.55},5.7,5.7,495.09000000000003,450.13,450.13,{"$f":"IF(AH14=0,\"\",AH14/AE14)","v":89.205405405405415},{"$f":"IF(AI14=0,\"\",AI14/AF14)","v":78.970175438596485},{"$f":"IF(AJ14=0,\"\",AJ14/AG14)","v":78.970175438596485}]
[]
[null,null,null,null,"Threats (Sources of Stress)         List Sources of stress below (max of 12 per target).  Enter Contribution of each source where applicable.","  Key Attribute >",{"$f":"IF(E4=0,\"\",E4)","v":"Fire regime"},{"$f":"IF(E5=0,\"\",E5)","v":"Habitat connectivity"},{"$f":"IF(E6=0,\"\",E6)","v":"Hydrologic regime"},{"$f":"IF(E7=0,\"\",E7)","v":"Characteristic native community"},{"$f":"IF(E8=0,\"\",E8)","v":"Vegetation composition & structure - mosaic"},{"$f":"IF(E9=0,\"\",E9)","v":"Extent of area"},{"$f":"IF(E10=0,\"\",E10)","v":""},{"$f":"IF(E11=0,\"\",E11)","v":""},{"$f":"IF(E12=0,\"\",E12)","v":""},{"$f":"IF(E13=0,\"\",E13)","v":""},"Threat to Target Rank"]
[null,null,null,null,null,"Stress Rank>",{"$f":"IF(M4=\"\",\"\", IF(N4=0,M4,N4))","v":"-"},{"$f":"IF(M5=\"\",\"\", IF(N5=0,M5,N5))","v":"-"},{"$f":"IF(M6=\"\",\"\", IF(N6=0,M6,N6))","v":"-"},{"$f":"IF(M7=\"\",\"\", IF(N7=0,M7,N7))","v":"High"},{"$f":"IF(M8=\"\",\"\", IF(N8=0,M8,N8))","v":"-"},{"$f":"IF(M9=\"\",\"\", IF(N9=0,M9,N9))","v":"Medium"},{"$f":"IF(M10=\"\",\"\", IF(N10=0,M10,N10))","v":""},{"$f":"IF(M11=\"\",\"\", IF(N11=0,M11,N11))","v":""},{"$f":"IF(M12=\"\",\"\", IF(N12=0,M12,N12))","v":""},{"$f":"IF(M13=\"\",\"\", IF(N13=0,M13,N13))","v":""}]
[null,null,null,null,"Warmer climate with more frequent weather extremes","Contribution",null,null,null,"High",null,"High",null,null,null,null,{"$f":"IF(AF19>=Scoring!$B$24,\"Very High\",IF(AF19>=Scoring!$B$25,\"High\",IF(AF19>=Scoring!$B$26,\"Medium\",IF(AF19>=Scoring!$B$27,\"Low\",\"-\"))))","v":"High"}]
[null,null,null,null,null,"Threat Rank ",{"$f":"IF(G18=0,\"\",INDEX(ThreatRankMatrix,MATCH($G$17,Rank,0),MATCH(G18,Rank,0)))","v":""},{"$f":"IF(H18=0,\"\",INDEX(ThreatRankMatrix,MATCH($H$17,Rank,0),MATCH(H18,Rank,0)))","v":""},{"$f":"IF(I18=0,\"\",INDEX(ThreatRankMatrix,MATCH($I$17,Rank,0),MATCH(I18,Rank,0)))","v":""},{"$f":"IF(J18=0,\"\",INDEX(ThreatRankMatrix,MATCH($J$17,Rank,0),MATCH(J18,Rank,0)))","v":"High"},{"$f":"IF(K18=0,\"\",INDEX(ThreatRankMatrix,MATCH($K$17,Rank,0),MATCH(K18,Rank,0)))","v":""},{"$f":"IF(L18=0,\"\",INDEX(ThreatRankMatrix,MATCH($L$17,Rank,0),MATCH(L18,Rank,0)))","v":"Medium"},{"$f":"IF(M18=0,\"\",INDEX(ThreatRankMatrix,MATCH($M$17,Rank,0),MATCH(M18,Rank,0)))","v":""},{"$f":"IF(N18=0,\"\",INDEX(ThreatRankMatrix,MATCH($N$17,Rank,0),MATCH(N18,Rank,0)))","v":""},{"$f":"IF(O18=0,\"\",INDEX(ThreatRankMatrix,MATCH($O$17,Rank,0),MATCH(O18,Rank,0)))","v":""},{"$f":"IF(P18=0,\"\",INDEX(ThreatRankMatrix,MATCH($P$17,Rank,0),MATCH(P18,Rank,0)))","v":""},null,null,null,null,null,null,null,null,null,null,null,null,null,null,null,{"$f":"SUM(AG19:AP19)","v":42},{"$f":"IF(G$17=\"\",0,(IF(G18=0,0,IF(G19=0,0,INDEX(ThreatScore,MATCH(G19,Rank,0))))))","v":0},0,0,35,0,7,0,0,0,0]
[null,null,null,null,"Incompatible mining (excluding roads)","Contribution",null,null,null,"Low",null,"Medium",null,null,null,null,{"$f":"IF(AF21>=Scoring!$B$24,\"Very High\",IF(AF21>=Scoring!$B$25,\"High\",IF(AF21>=Scoring!$B$26,\"Medium\",IF(AF21>=Scoring!$B$27,\"Low\",\"-\"))))","v":"Low"}]
[null,null,null,null,null,"Threat Rank ",{"$f":"IF(G20=0,\"\",INDEX(ThreatRankMatrix,MATCH($G$17,Rank,0),MATCH(G20,Rank,0)))","v":""},{"$f":"IF(H20=0,\"\",INDEX(ThreatRankMatrix,MATCH($H$17,Rank,0),MATCH(H20,Rank,0)))","v":""},{"$f":"IF(I20=0,\"\",INDEX(ThreatRankMatrix,MATCH($I$17,Rank,0),MATCH(I20,Rank,0)))","v":""},{"$f":"IF(J20=0,\"\",INDEX(ThreatRankMatrix,MATCH($J$17,Rank,0),MATCH(J20,Rank,0)))","v":"Low"},{"$f":"IF(K20=0,\"\",INDEX(ThreatRankMatrix,MATCH($K$17,Rank,0),MATCH(K20,Rank,0)))","v":""},{"$f":"IF(L20=0,\"\",INDEX(ThreatRankMatrix,MATCH($L$17,Rank,0),MATCH(L20,Rank,0)))","v":"Low"},{"$f":"IF(M20=0,\"\",INDEX(ThreatRankMatrix,MATCH($M$17,Rank,0),MATCH(M20,Rank,0)))","v":""},{"$f":"IF(N20=0,\"\",INDEX(ThreatRankMatrix,MATCH($N$17,Rank,0),MATCH(N20,Rank,0)))","v":""},{"$f":"IF(O20=0,\"\",INDEX(ThreatRankMatrix,MATCH($O$17,Rank,0),MATCH(O20,Rank,0)))","v":""},{"$f":"IF(P20=0,\"\",INDEX(ThreatRankMatrix,MATCH($P$17,Rank,0),MATCH(P20,Rank,0)))","v":""},null,null,null,null,null,null,null,null,null,null,null,null,null,null,null,{"$f":"SUM(AG21:AP21)","v":2},{"$f":"IF(G$17=\"\",0,(IF(G20=0,0,IF(G21=0,0,INDEX(ThreatScore,MATCH(G21,Rank,0))))))","v":0},0,0,1,0,1,0,0,0,0]
[null,null,null,null,"Incompatible road design / maintenance","Contribution",null,null,null,"Medium",null,"Low",null,null,null,null,{"$f":"IF(AF23>=Scoring!$B$24,\"Very High\",IF(AF23>=Scoring!$B$25,\"High\",IF(AF23>=Scoring!$B$26,\"Medium\",IF(AF23>=Scoring!$B$27,\"Low\",\"-\"))))","v":"Medium"}]
[null,null,null,null,null,"Threat Rank ",{"$f":"IF(G22=0,\"\",INDEX(ThreatRankMatrix,MATCH($G$17,Rank,0),MATCH(G22,Rank,0)))","v":""},{"$f":"IF(H22=0,\"\",INDEX(ThreatRankMatrix,MATCH($H$17,Rank,0),MATCH(H22,Rank,0)))","v":""},{"$f":"IF(I22=0,\"\",INDEX(ThreatRankMatrix,MATCH($I$17,Rank,0),MATCH(I22,Rank,0)))","v":""},{"$f":"IF(J22=0,\"\",INDEX(ThreatRankMatrix,MATCH($J$17,Rank,0),MATCH(J22,Rank,0)))","v":"Medium"},{"$f":"IF(K22=0,\"\",INDEX(ThreatRankMatrix,MATCH($K$17,Rank,0),MATCH(K22,Rank,0)))","v":""},{"$f":"IF(L22=0,\"\",INDEX(ThreatRankMatrix,MATCH($L$17,Rank,0),MATCH(L22,Rank,0)))","v":"Low"},{"$f":"IF(M22=0,\"\",INDEX(ThreatRankMatrix,MATCH($M$17,Rank,0),MATCH(M22,Rank,0)))","v":""},{"$f":"IF(N22=0,\"\",INDEX(ThreatRankMatrix,MATCH($N$17,Rank,0),MATCH(N22,Rank,0)))","v":""},{"$f":"IF(O22=0,\"\",INDEX(ThreatRankMatrix,MATCH($O$17,Rank,0),MATCH(O22,Rank,0)))","v":""},{"$f":"IF(P22=0,\"\",INDEX(ThreatRankMatrix,MATCH($P$17,Rank,0),MATCH(P22,Rank,0)))","v":""},null,null,null,null,null,null,null,null,null,null,null,null,null,null,null,{"$f":"SUM(AG23:AP23)","v":8},{"$f":"IF(G$17=\"\",0,(IF(G22=0,0,IF(G23=0,0,INDEX(ThreatScore,MATCH(G23,Rank,0))))))","v":0},0,0,7,0,1,0,0,0,0]
[null,null,null,null,"Incompatible motorized vehicle use off-roads/ATV/bulldozers (e.g. pioneering, etc.)","Contribution",null,null,null,"High",null,null,null,null,null,null,{"$f":"IF(AF25>=Scoring!$B$24,\"Very High\",IF(AF25>=Scoring!$B$25,\"High\",IF(AF25>=Scoring!$B$26,\"Medium\",IF(AF25>=Scoring!$B$27,\"Low\",\"-\"))))","v":"High"}]
[null,null,null,null,null,"Threat Rank ",{"$f":"IF(G24=0,\"\",INDEX(ThreatRankMatrix,MATCH($G$17,Rank,0),MATCH(G24,Rank,0)))","v":""},{"$f":"IF(H24=0,\"\",INDEX(ThreatRankMatrix,MATCH($H$17,Rank,0),MATCH(H24,Rank,0)))","v":""},{"$f":"IF(I24=0,\"\",INDEX(ThreatRankMatrix,MATCH($I$17,Rank,0),MATCH(I24,Rank,0)))","v":""},{"$f":"IF(J24=0,\"\",INDEX(ThreatRankMatrix,MATCH($J$17,Rank,0),MATCH(J24,Rank,0)))","v":"High"},{"$f":"IF(K24=0,\"\",INDEX(ThreatRankMatrix,MATCH($K$17,Rank,0),MATCH(K24,Rank,0)))","v":""},{"$f":"IF(L24=0,\"\",INDEX(ThreatRankMatrix,MATCH($L$17,Rank,0),MATCH(L24,Rank,0)))","v":""},{"$f":"IF(M24=0,\"\",INDEX(ThreatRankMatrix,MATCH($M$17,Rank,0),MATCH(M24,Rank,0)))","v":""},{"$f":"IF(N24=0,\"\",INDEX(ThreatRankMatrix,MATCH($N$17,Rank,0),MATCH(N24,Rank,0)))","v":""},{"$f":"IF(O24=0,\"\",INDEX(ThreatRankMatrix,MATCH($O$17,Rank,0),MATCH(O24,Rank,0)))","v":""},{"$f":"IF(P24=0,\"\",INDEX(ThreatRankMatrix,MATCH($P$17,Rank,0),MATCH(P24,Rank,0)))","v":""},null,null,null,null,null,null,null,null,null,null,null,null,null,null,null,{"$f":"SUM(AG25:AP25)","v":35},{"$f":"IF(G$17=\"\",0,(IF(G24=0,0,IF(G25=0,0,INDEX(ThreatScore,MATCH(G25,Rank,0))))))","v":0},0,0,35,0,0,0,0,0,0]
[null,null,null,null,"Dumping of trash, debris, etc. ","Contribution",null,null,null,null,"Low",null,null,null,null,null,{"$f":"IF(AF27>=Scoring!$B$24,\"Very High\",IF(AF27>=Scoring!$B$25,\"High\",IF(AF27>=Scoring!$B$26,\"Medium\",IF(AF27>=Scoring!$B$27,\"Low\",\"-\"))))","v":"-"}]
[null,null,null,null,null,"Threat Rank ",{"$f":"IF(G26=0,\"\",INDEX(ThreatRankMatrix,MATCH($G$17,Rank,0),MATCH(G26,Rank,0)))","v":""},{"$f":"IF(H26=0,\"\",INDEX(ThreatRankMatrix,MATCH($H$17,Rank,0),MATCH(H26,Rank,0)))","v":""},{"$f":"IF(I26=0,\"\",INDEX(ThreatRankMatrix,MATCH($I$17,Rank,0),MATCH(I26,Rank,0)))","v":""},{"$f":"IF(J26=0,\"\",INDEX(ThreatRankMatrix,MATCH($J$17,Rank,0),MATCH(J26,Rank,0)))","v":""},{"$f":"IF(K26=0,\"\",INDEX(ThreatRankMatrix,MATCH($K$17,Rank,0),MATCH(K26,Rank,0)))","v":"-"},{"$f":"IF(L26=0,\"\",INDEX(ThreatRankMatrix,MATCH($L$17,Rank,0),MATCH(L26,Rank,0)))","v":""},{"$f":"IF(M26=0,\"\",INDEX(ThreatRankMatrix,MATCH($M$17,Rank,0),MATCH(M26,Rank,0)))","v":""},{"$f":"IF(N26=0,\"\",INDEX(ThreatRankMatrix,MATCH($N$17,Rank,0),MATCH(N26,Rank,0)))","v":""},{"$f":"IF(O26=0,\"\",INDEX(ThreatRankMatrix,MATCH($O$17,Rank,0),MATCH(O26,Rank,0)))","v":""},{"$f":"IF(P26=0,\"\",INDEX(ThreatRankMatrix,MATCH($P$17,Rank,0),MATCH(P26,Rank,0)))","v":""},null,null,null,null,null,null,null,null,null,null,null,null,null,null,null,{"$f":"SUM(AG27:AP27)","v":0},{"$f":"IF(G$17=\"\",0,(IF(G26=0,0,IF(G27=0,0,INDEX(ThreatScore,MATCH(G27,Rank,0))))))","v":0},0,0,0,0,0,0,0,0,0]
[null,null,null,null,"Fire suppression","Contribution","Medium",null,null,"Medium",null,null,null,null,null,null,{"$f":"IF(AF29>=Scoring!$B$24,\"Very High\",IF(AF29>=Scoring!$B$25,\"High\",IF(AF29>=Scoring!$B$26,\"Medium\",IF(AF29>=Scoring!$B$27,\"Low\",\"-\"))))","v":"Medium"}]
[null,null,null,null,null,"Threat Rank ",{"$f":"IF(G28=0,\"\",INDEX(ThreatRankMatrix,MATCH($G$17,Rank,0),MATCH(G28,Rank,0)))","v":"-"},{"$f":"IF(H28=0,\"\",INDEX(ThreatRankMatrix,MATCH($H$17,Rank,0),MATCH(H28,Rank,0)))","v":""},{"$f":"IF(I28=0,\"\",INDEX(ThreatRankMatrix,MATCH($I$17,Rank,0),MATCH(I28,Rank,0)))","v":""},{"$f":"IF(J28=0,\"\",INDEX(ThreatRankMatrix,MATCH($J$17,Rank,0),MATCH(J28,Rank,0)))","v":"Medium"},{"$f":"IF(K28=0,\"\",INDEX(ThreatRankMatrix,MATCH($K$17,Rank,0),MATCH(K28,Rank,0)))","v":""},{"$f":"IF(L28=0,\"\",INDEX(ThreatRankMatrix,MATCH($L$17,Rank,0),MATCH(L28,Rank,0)))","v":""},{"$f":"IF(M28=0,\"\",INDEX(ThreatRankMatrix,MATCH($M$17,Rank,0),MATCH(M28,Rank,0)))","v":""},{"$f":"IF(N28=0,\"\",INDEX(ThreatRankMatrix,MATCH($N$17,Rank,0),MATCH(N28,Rank,0)))","v":""},{"$f":"IF(O28=0,\"\",INDEX(ThreatRankMatrix,MATCH($O$17,Rank,0),MATCH(O28,Rank,0)))","v":""},{"$f":"IF(P28=0,\"\",INDEX(ThreatRankMatrix,MATCH($P$17,Rank,0),MATCH(P28,Rank,0)))","v":""},null,null,null,null,null,null,null,null,null,null,null,null,null,null,null,{"$f":"SUM(AG29:AP29)","v":7},{"$f":"IF(G$17=\"\",0,(IF(G28=0,0,IF(G29=0,0,INDEX(ThreatScore,MATCH(G29,Rank,0))))))","v":0},0,0,7,0,0,0,0,0,0]
[null,null,null,null,null,"Contribution",null,null,null,null,null,null,null,null,null,null,{"$f":"IF(AF31>=Scoring!$B$24,\"Very High\",IF(AF31>=Scoring!$B$25,\"High\",IF(AF31>=Scoring!$B$26,\"Medium\",IF(AF31>=Scoring!$B$27,\"Low\",\"-\"))))","v":"-"}]
[null,null,null,null,null,"Threat Rank ",{"$f":"IF(G30=0,\"\",INDEX(ThreatRankMatrix,MATCH($G$17,Rank,0),MATCH(G30,Rank,0)))","v":""},{"$f":"IF(H30=0,\"\",INDEX(ThreatRankMatrix,MATCH($H$17,Rank,0),MATCH(H30,Rank,0)))","v":""},{"$f":"IF(I30=0,\"\",INDEX(ThreatRankMatrix,MATCH($I$17,Rank,0),MATCH(I30,Rank,0)))","v":""},{"$f":"IF(J30=0,\"\",INDEX(ThreatRankMatrix,MATCH($J$17,Rank,0),MATCH(J30,Rank,0)))","v":""},{"$f":"IF(K30=0,\"\",INDEX(ThreatRankMatrix,MATCH($K$17,Rank,0),MATCH(K30,Rank,0)))","v":""},{"$f":"IF(L30=0,\"\",INDEX(ThreatRankMatrix,MATCH($L$17,Rank,0),MATCH(L30,Rank,0)))","v":""},{"$f":"IF(M30=0,\"\",INDEX(ThreatRankMatrix,MATCH($M$17,Rank,0),MATCH(M30,Rank,0)))","v":""},{"$f":"IF(N30=0,\"\",INDEX(ThreatRankMatrix,MATCH($N$17,Rank,0),MATCH(N30,Rank,0)))","v":""},{"$f":"IF(O30=0,\"\",INDEX(ThreatRankMatrix,MATCH($O$17,Rank,0),MATCH(O30,Rank,0)))","v":""},{"$f":"IF(P30=0,\"\",INDEX(ThreatRankMatrix,MATCH($P$17,Rank,0),MATCH(P30,Rank,0)))","v":""},null,null,null,null,null,null,null,null,null,null,null,null,null,null,null,{"$f":"SUM(AG31:AP31)","v":0},{"$f":"IF(G$17=\"\",0,(IF(G30=0,0,IF(G31=0,0,INDEX(ThreatScore,MATCH(G31,Rank,0))))))","v":0},0,0,0,0,0,0,0,0,0]
[null,null,null,null,null,"Contribution",null,null,null,null,null,null,null,null,null,null,{"$f":"IF(AF33>=Scoring!$B$24,\"Very High\",IF(AF33>=Scoring!$B$25,\"High\",IF(AF33>=Scoring!$B$26,\"Medium\",IF(AF33>=Scoring!$B$27,\"Low\",\"-\"))))","v":"-"}]
[null,null,null,null,null,"Threat Rank ",{"$f":"IF(G32=0,\"\",INDEX(ThreatRankMatrix,MATCH($G$17,Rank,0),MATCH(G32,Rank,0)))","v":""},{"$f":"IF(H32=0,\"\",INDEX(ThreatRankMatrix,MATCH($H$17,Rank,0),MATCH(H32,Rank,0)))","v":""},{"$f":"IF(I32=0,\"\",INDEX(ThreatRankMatrix,MATCH($I$17,Rank,0),MATCH(I32,Rank,0)))","v":""},{"$f":"IF(J32=0,\"\",INDEX(ThreatRankMatrix,MATCH($J$17,Rank,0),MATCH(J32,Rank,0)))","v":""},{"$f":"IF(K32=0,\"\",INDEX(ThreatRankMatrix,MATCH($K$17,Rank,0),MATCH(K32,Rank,0)))","v":""},{"$f":"IF(L32=0,\"\",INDEX(ThreatRankMatrix,MATCH($L$17,Rank,0),MATCH(L32,Rank,0)))","v":""},{"$f":"IF(M32=0,\"\",INDEX(ThreatRankMatrix,MATCH($M$17,Rank,0),MATCH(M32,Rank,0)))","v":""},{"$f":"IF(N32=0,\"\",INDEX(ThreatRankMatrix,MATCH($N$17,Rank,0),MATCH(N32,Rank,0)))","v":""},{"$f":"IF(O32=0,\"\",INDEX(ThreatRankMatrix,MATCH($O$17,Rank,0),MATCH(O32,Rank,0)))","v":""},{"$f":"IF(P32=0,\"\",INDEX(ThreatRankMatrix,MATCH($P$17,Rank,0),MATCH(P32,Rank,0)))","v":""},null,null,null,null,null,null,null,null,null,null,null,null,null,null,null,{"$f":"SUM(AG33:AP33)","v":0},{"$f":"IF(G$17=\"\",0,(IF(G32=0,0,IF(G33=0,0,INDEX(ThreatScore,MATCH(G33,Rank,0))))))","v":0},0,0,0,0,0,0,0,0,0]
[null,null,null,null,null,"Contribution",null,null,null,null,null,null,null,null,null,null,{"$f":"IF(AF35>=Scoring!$B$24,\"Very High\",IF(AF35>=Scoring!$B$25,\"High\",IF(AF35>=Scoring!$B$26,\"Medium\",IF(AF35>=Scoring!$B$27,\"Low\",\"-\"))))","v":"-"}]
[null,null,null,null,null,"Threat Rank ",{"$f":"IF(G34=0,\"\",INDEX(ThreatRankMatrix,MATCH($G$17,Rank,0),MATCH(G34,Rank,0)))","v":""},{"$f":"IF(H34=0,\"\",INDEX(ThreatRankMatrix,MATCH($H$17,Rank,0),MATCH(H34,Rank,0)))","v":""},{"$f":"IF(I34=0,\"\",INDEX(ThreatRankMatrix,MATCH($I$17,Rank,0),MATCH(I34,Rank,0)))","v":""},{"$f":"IF(J34=0,\"\",INDEX(ThreatRankMatrix,MATCH($J$17,Rank,0),MATCH(J34,Rank,0)))","v":""},{"$f":"IF(K34=0,\"\",INDEX(ThreatRankMatrix,MATCH($K$17,Rank,0),MATCH(K34,Rank,0)))","v":""},{"$f":"IF(L34=0,\"\",INDEX(ThreatRankMatrix,MATCH($L$17,Rank,0),MATCH(L34,Rank,0)))","v":""},{"$f":"IF(M34=0,\"\",INDEX(ThreatRankMatrix,MATCH($M$17,Rank,0),MATCH(M34,Rank,0)))","v":""},{"$f":"IF(N34=0,\"\",INDEX(ThreatRankMatrix,MATCH($N$17,Rank,0),MATCH(N34,Rank,0)))","v":""},{"$f":"IF(O34=0,\"\",INDEX(ThreatRankMatrix,MATCH($O$17,Rank,0),MATCH(O34,Rank,0)))","v":""},{"$f":"IF(P34=0,\"\",INDEX(ThreatRankMatrix,MATCH($P$17,Rank,0),MATCH(P34,Rank,0)))","v":""},null,null,null,null,null,null,null,null,null,null,null,null,null,null,null,{"$f":"SUM(AG35:AP35)","v":0},{"$f":"IF(G$17=\"\",0,(IF(G34=0,0,IF(G35=0,0,INDEX(ThreatScore,MATCH(G35,Rank,0))))))","v":0},0,0,0,0,0,0,0,0,0]
[null,null,null,null,null,"Contribution",null,null,null,null,null,null,null,null,null,null,{"$f":"IF(AF37>=Scoring!$B$24,\"Very High\",IF(AF37>=Scoring!$B$25,\"High\",IF(AF37>=Scoring!$B$26,\"Medium\",IF(AF37>=Scoring!$B$27,\"Low\",\"-\"))))","v":"-"}]
[null,null,null,null,null,"Threat Rank ",{"$f":"IF(G36=0,\"\",INDEX(ThreatRankMatrix,MATCH($G$17,Rank,0),MATCH(G36,Rank,0)))","v":""},{"$f":"IF(H36=0,\"\",INDEX(ThreatRankMatrix,MATCH($H$17,Rank,0),MATCH(H36,Rank,0)))","v":""},{"$f":"IF(I36=0,\"\",INDEX(ThreatRankMatrix,MATCH($I$17,Rank,0),MATCH(I36,Rank,0)))","v":""},{"$f":"IF(J36=0,\"\",INDEX(ThreatRankMatrix,MATCH($J$17,Rank,0),MATCH(J36,Rank,0)))","v":""},{"$f":"IF(K36=0,\"\",INDEX(ThreatRankMatrix,MATCH($K$17,Rank,0),MATCH(K36,Rank,0)))","v":""},{"$f":"IF(L36=0,\"\",INDEX(ThreatRankMatrix,MATCH($L$17,Rank,0),MATCH(L36,Rank,0)))","v":""},{"$f":"IF(M36=0,\"\",INDEX(ThreatRankMatrix,MATCH($M$17,Rank,0),MATCH(M36,Rank,0)))","v":""},{"$f":"IF(N36=0,\"\",INDEX(ThreatRankMatrix,MATCH($N$17,Rank,0),MATCH(N36,Rank,0)))","v":""},{"$f":"IF(O36=0,\"\",INDEX(ThreatRankMatrix,MATCH($O$17,Rank,0),MATCH(O36,Rank,0)))","v":""},{"$f":"IF(P36=0,\"\",INDEX(ThreatRankMatrix,MATCH($P$17,Rank,0),MATCH(P36,Rank,0)))","v":""},null,null,null,null,null,null,null,null,null,null,null,null,null,null,null,{"$f":"SUM(AG37:AP37)","v":0},{"$f":"IF(G$17=\"\",0,(IF(G36=0,0,IF(G37=0,0,INDEX(ThreatScore,MATCH(G37,Rank,0))))))","v":0},0,0,0,0,0,0,0,0,0]
[null,null,null,null,null,"Contribution",null,null,null,null,null,null,null,null,null,null,{"$f":"IF(AF39>=Scoring!$B$24,\"Very High\",IF(AF39>=Scoring!$B$25,\"High\",IF(AF39>=Scoring!$B$26,\"Medium\",IF(AF39>=Scoring!$B$27,\"Low\",\"-\"))))","v":"-"}]
[null,null,null,null,null,"Threat Rank ",{"$f":"IF(G38=0,\"\",INDEX(ThreatRankMatrix,MATCH($G$17,Rank,0),MATCH(G38,Rank,0)))","v":""},{"$f":"IF(H38=0,\"\",INDEX(ThreatRankMatrix,MATCH($H$17,Rank,0),MATCH(H38,Rank,0)))","v":""},{"$f":"IF(I38=0,\"\",INDEX(ThreatRankMatrix,MATCH($I$17,Rank,0),MATCH(I38,Rank,0)))","v":""},{"$f":"IF(J38=0,\"\",INDEX(ThreatRankMatrix,MATCH($J$17,Rank,0),MATCH(J38,Rank,0)))","v":""},{"$f":"IF(K38=0,\"\",INDEX(ThreatRankMatrix,MATCH($K$17,Rank,0),MATCH(K38,Rank,0)))","v":""},{"$f":"IF(L38=0,\"\",INDEX(ThreatRankMatrix,MATCH($L$17,Rank,0),MATCH(L38,Rank,0)))","v":""},{"$f":"IF(M38=0,\"\",INDEX(ThreatRankMatrix,MATCH($M$17,Rank,0),MATCH(M38,Rank,0)))","v":""},{"$f":"IF(N38=0,\"\",INDEX(ThreatRankMatrix,MATCH($N$17,Rank,0),MATCH(N38,Rank,0)))","v":""},{"$f":"IF(O38=0,\"\",INDEX(ThreatRankMatrix,MATCH($O$17,Rank,0),MATCH(O38,Rank,0)))","v":""},{"$f":"IF(P38=0,\"\",INDEX(ThreatRankMatrix,MATCH($P$17,Rank,0),MATCH(P38,Rank,0)))","v":""},null,null,null,null,null,null,null,null,null,null,null,null,null,null,null,{"$f":"SUM(AG39:AP39)","v":0},{"$f":"IF(G$17=\"\",0,(IF(G38=0,0,IF(G39=0,0,INDEX(ThreatScore,MATCH(G39,Rank,0))))))","v":0},0,0,0,0,0,0,0,0,0]
[null,null,null,null,null,"Contribution",null,null,null,null,null,null,null,null,null,null,{"$f":"IF(AF41>=Scoring!$B$24,\"Very High\",IF(AF41>=Scoring!$B$25,\"High\",IF(AF41>=Scoring!$B$26,\"Medium\",IF(AF41>=Scoring!$B$27,\"Low\",\"-\"))))","v":"-"}]
[null,null,null,null,null,"Threat Rank ",{"$f":"IF(G40=0,\"\",INDEX(ThreatRankMatrix,MATCH($G$17,Rank,0),MATCH(G40,Rank,0)))","v":""},{"$f":"IF(H40=0,\"\",INDEX(ThreatRankMatrix,MATCH($H$17,Rank,0),MATCH(H40,Rank,0)))","v":""},{"$f":"IF(I40=0,\"\",INDEX(ThreatRankMatrix,MATCH($I$17,Rank,0),MATCH(I40,Rank,0)))","v":""},{"$f":"IF(J40=0,\"\",INDEX(ThreatRankMatrix,MATCH($J$17,Rank,0),MATCH(J40,Rank,0)))","v":""},{"$f":"IF(K40=0,\"\",INDEX(ThreatRankMatrix,MATCH($K$17,Rank,0),MATCH(K40,Rank,0)))","v":""},{"$f":"IF(L40=0,\"\",INDEX(ThreatRankMatrix,MATCH($L$17,Rank,0),MATCH(L40,Rank,0)))","v":""},{"$f":"IF(M40=0,\"\",INDEX(ThreatRankMatrix,MATCH($M$17,Rank,0),MATCH(M40,Rank,0)))","v":""},{"$f":"IF(N40=0,\"\",INDEX(ThreatRankMatrix,MATCH($N$17,Rank,0),MATCH(N40,Rank,0)))","v":""},{"$f":"IF(O40=0,\"\",INDEX(ThreatRankMatrix,MATCH($O$17,Rank,0),MATCH(O40,Rank,0)))","v":""},{"$f":"IF(P40=0,\"\",INDEX(ThreatRankMatrix,MATCH($P$17,Rank,0),MATCH(P40,Rank,0)))","v":""},null,null,null,null,null,null,null,null,null,null,null,null,null,null,null,{"$f":"SUM(AG41:AP41)","v":0},{"$f":"IF(G$17=\"\",0,(IF(G40=0,0,IF(G41=0,0,INDEX(ThreatScore,MATCH(G41,Rank,0))))))","v":0},0,0,0,0,0,0,0,0,0]
[]
[]
[]
[]
[]
[]
[]
[]
[]
[]
[null,null,null,null,"Revised Threat Ranking - If Objectives are Achieved"]
[null,null,null,null,"First enter Projected Future KEA ratings if Objectives are achieved"]
[null,null,null,null,"Threats (Sources of Stress)         List Sources of stress below (max of 10 per target).  Enter Contribution of each source where applicable.","  Key Attribute >",{"$f":"IF(E4=0,\"\",E4)","v":"Fire regime"},{"$f":"IF(E5=0,\"\",E5)","v":"Habitat connectivity"},{"$f":"IF(E6=0,\"\",E6)","v":"Hydrologic regime"},{"$f":"IF(E7=0,\"\",E7)","v":"Characteristic native community"},{"$f":"IF(E8=0,\"\",E8)","v":"Vegetation composition & structure - mosaic"},{"$f":"IF(E9=0,\"\",E9)","v":"Extent of area"},{"$f":"IF(E10=0,\"\",E10)","v":""},{"$f":"IF(E11=0,\"\",E11)","v":""},{"$f":"IF(E12=0,\"\",E12)","v":""},{"$f":"IF(E13=0,\"\",E13)","v":""},"Threat to Target Rank"]
[null,null,null,null,null,"Stress Rank>",{"$f":"IF(U4=\"\",\"\", IF(V4=0,U4,V4))","v":"-"},{"$f":"IF(U5=\"\",\"\", IF(V5=0,U5,V5))","v":"-"},{"$f":"IF(U6=\"\",\"\", IF(V6=0,U6,V6))","v":"-"},{"$f":"IF(U7=\"\",\"\", IF(V7=0,U7,V7))","v":"High"},{"$f":"IF(U8=\"\",\"\", IF(V8=0,U8,V8))","v":"-"},{"$f":"IF(U9=\"\",\"\", IF(V9=0,U9,V9))","v":"Medium"},{"$f":"IF(U10=\"\",\"\", IF(V10=0,U10,V10))","v":""},{"$f":"IF(U11=\"\",\"\", IF(V11=0,U11,V11))","v":""},{"$f":"IF(U12=\"\",\"\", IF(V12=0,U12,V12))","v":""},{"$f":"IF(U13=\"\",\"\", IF(V13=0,U13,V13))","v":""}]
[null,null,null,null,"Invasive/alien species","Contribution",null,null,"Very High",null,null,null,null,null,null,null,{"$f":"IF(AH57>=Scoring!$B$24,\"Very High\",IF(AH57>=Scoring!$B$25,\"High\",IF(AH57>=Scoring!$B$26,\"Medium\",IF(AH57>=Scoring!$B$27,\"Low\",\"-\"))))","v":"-"}]
[null,null,null,null,null,"Threat Rank ",{"$f":"IF(G56=0,\"\",INDEX(ThreatRankMatrix,MATCH($G$55,Rank,0),MATCH(G56,Rank,0)))","v":""},{"$f":"IF(H56=0,\"\",INDEX(ThreatRankMatrix,MATCH($H$55,Rank,0),MATCH(H56,Rank,0)))","v":""},{"$f":"IF(I56=0,\"\",INDEX(ThreatRankMatrix,MATCH($I$55,Rank,0),MATCH(I56,Rank,0)))","v":"-"},{"$f":"IF(J56=0,\"\",INDEX(ThreatRankMatrix,MATCH($J$55,Rank,0),MATCH(J56,Rank,0)))","v":""},{"$f":"IF(K56=0,\"\",INDEX(ThreatRankMatrix,MATCH($K$55,Rank,0),MATCH(K56,Rank,0)))","v":""},{"$f":"IF(L56=0,\"\",INDEX(ThreatRankMatrix,MATCH($L$55,Rank,0),MATCH(L56,Rank,0)))","v":""},{"$f":"IF(M56=0,\"\",INDEX(ThreatRankMatrix,MATCH($M$55,Rank,0),MATCH(M56,Rank,0)))","v":""},{"$f":"IF(N56=0,\"\",INDEX(ThreatRankMatrix,MATCH($N$55,Rank,0),MATCH(N56,Rank,0)))","v":""},{"$f":"IF(O56=0,\"\",INDEX(ThreatRankMatrix,MATCH($O$55,Rank,0),MATCH(O56,Rank,0)))","v":""},{"$f":"IF(P56=0,\"\",INDEX(ThreatRankMatrix,MATCH($P$55,Rank,0),MATCH(P56,Rank,0)))","v":""},null,null,null,null,null,null,null,null,null,null,null,null,null,null,null,null,null,{"$f":"SUM(AI57:AP57)","v":0},{"$f":"IF(G$55=\"\",0,(IF(G56=0,0,IF(G57=0,0,INDEX(ThreatScore,MATCH(G57,Rank,0))))))","v":0},null,{"$f":"IF(H$55=\"\",0,(IF(H56=0,0,IF(H57=0,0,INDEX(ThreatScore,MATCH(H57,Rank,0))))))","v":0},0,0,0,0,0]
[null,null,null,null,"Development of roads or utilities","Contribution",null,null,"Low",null,null,"Low",null,null,null,null,{"$f":"IF(AH59>=Scoring!$B$24,\"Very High\",IF(AH59>=Scoring!$B$25,\"High\",IF(AH59>=Scoring!$B$26,\"Medium\",IF(AH59>=Scoring!$B$27,\"Low\",\"-\"))))","v":"Low"}]
[null,null,null,null,null,"Threat Rank ",{"$f":"IF(G58=0,\"\",INDEX(ThreatRankMatrix,MATCH($G$55,Rank,0),MATCH(G58,Rank,0)))","v":""},{"$f":"IF(H58=0,\"\",INDEX(ThreatRankMatrix,MATCH($H$55,Rank,0),MATCH(H58,Rank,0)))","v":""},{"$f":"IF(I58=0,\"\",INDEX(ThreatRankMatrix,MATCH($I$55,Rank,0),MATCH(I58,Rank,0)))","v":"-"},{"$f":"IF(J58=0,\"\",INDEX(ThreatRankMatrix,MATCH($J$55,Rank,0),MATCH(J58,Rank,0)))","v":""},{"$f":"IF(K58=0,\"\",INDEX(ThreatRankMatrix,MATCH($K$55,Rank,0),MATCH(K58,Rank,0)))","v":""},{"$f":"IF(L58=0,\"\",INDEX(ThreatRankMatrix,MATCH($L$55,Rank,0),MATCH(L58,Rank,0)))","v":"Low"},{"$f":"IF(M58=0,\"\",INDEX(ThreatRankMatrix,MATCH($M$55,Rank,0),MATCH(M58,Rank,0)))","v":""},{"$f":"IF(N58=0,\"\",INDEX(ThreatRankMatrix,MATCH($N$55,Rank,0),MATCH(N58,Rank,0)))","v":""},{"$f":"IF(O58=0,\"\",INDEX(ThreatRankMatrix,MATCH($O$55,Rank,0),MATCH(O58,Rank,0)))","v":""},{"$f":"IF(P58=0,\"\",INDEX(ThreatRankMatrix,MATCH($P$55,Rank,0),MATCH(P58,Rank,0)))","v":""},null,null,null,null,null,null,null,null,null,null,null,null,null,null,null,null,null,{"$f":"SUM(AI59:AP59)","v":1},{"$f":"IF(G$55=\"\",0,(IF(G58=0,0,IF(G59=0,0,INDEX(ThreatScore,MATCH(G59,Rank,0))))))","v":0},null,{"$f":"IF(H$55=\"\",0,(IF(H58=0,0,IF(H59=0,0,INDEX(ThreatScore,MATCH(H59,Rank,0))))))","v":0},0,0,0,1,0]
[null,null,null,null,"Primary home development","Contribution",null,null,null,null,null,"Medium",null,null,null,null,{"$f":"IF(AH61>=Scoring!$B$24,\"Very High\",IF(AH61>=Scoring!$B$25,\"High\",IF(AH61>=Scoring!$B$26,\"Medium\",IF(AH61>=Scoring!$B$27,\"Low\",\"-\"))))","v":"Low"}]
[null,null,null,null,null,"Threat Rank ",{"$f":"IF(G60=0,\"\",INDEX(ThreatRankMatrix,MATCH($G$55,Rank,0),MATCH(G60,Rank,0)))","v":""},{"$f":"IF(H60=0,\"\",INDEX(ThreatRankMatrix,MATCH($H$55,Rank,0),MATCH(H60,Rank,0)))","v":""},{"$f":"IF(I60=0,\"\",INDEX(ThreatRankMatrix,MATCH($I$55,Rank,0),MATCH(I60,Rank,0)))","v":""},{"$f":"IF(J60=0,\"\",INDEX(ThreatRankMatrix,MATCH($J$55,Rank,0),MATCH(J60,Rank,0)))","v":""},{"$f":"IF(K60=0,\"\",INDEX(ThreatRankMatrix,MATCH($K$55,Rank,0),MATCH(K60,Rank,0)))","v":""},{"$f":"IF(L60=0,\"\",INDEX(ThreatRankMatrix,MATCH($L$55,Rank,0),MATCH(L60,Rank,0)))","v":"Low"},{"$f":"IF(M60=0,\"\",INDEX(ThreatRankMatrix,MATCH($M$55,Rank,0),MATCH(M60,Rank,0)))","v":""},{"$f":"IF(N60=0,\"\",INDEX(ThreatRankMatrix,MATCH($N$55,Rank,0),MATCH(N60,Rank,0)))","v":""},{"$f":"IF(O60=0,\"\",INDEX(ThreatRankMatrix,MATCH($O$55,Rank,0),MATCH(O60,Rank,0)))","v":""},{"$f":"IF(P60=0,\"\",INDEX(ThreatRankMatrix,MATCH($P$55,Rank,0),MATCH(P60,Rank,0)))","v":""},null,null,null,null,null,null,null,null,null,null,null,null,null,null,null,null,null,{"$f":"SUM(AI61:AP61)","v":1},{"$f":"IF(G$55=\"\",0,(IF(G60=0,0,IF(G61=0,0,INDEX(ThreatScore,MATCH(G61,Rank,0))))))","v":0},null,{"$f":"IF(H$55=\"\",0,(IF(H60=0,0,IF(H61=0,0,INDEX(ThreatScore,MATCH(H61,Rank,0))))))","v":0},0,0,0,1,0]
[null,null,null,null,"SWSI - new warer projects","Contribution","High",null,null,null,null,null,null,null,null,null,{"$f":"IF(AH63>=Scoring!$B$24,\"Very High\",IF(AH63>=Scoring!$B$25,\"High\",IF(AH63>=Scoring!$B$26,\"Medium\",IF(AH63>=Scoring!$B$27,\"Low\",\"-\"))))","v":"-"}]
[null,null,null,null,null,"Threat Rank ",{"$f":"IF(G62=0,\"\",INDEX(ThreatRankMatrix,MATCH($G$55,Rank,0),MATCH(G62,Rank,0)))","v":"-"},{"$f":"IF(H62=0,\"\",INDEX(ThreatRankMatrix,MATCH($H$55,Rank,0),MATCH(H62,Rank,0)))","v":""},{"$f":"IF(I62=0,\"\",INDEX(ThreatRankMatrix,MATCH($I$55,Rank,0),MATCH(I62,Rank,0)))","v":""},{"$f":"IF(J62=0,\"\",INDEX(ThreatRankMatrix,MATCH($J$55,Rank,0),MATCH(J62,Rank,0)))","v":""},{"$f":"IF(K62=0,\"\",INDEX(ThreatRankMatrix,MATCH($K$55,Rank,0),MATCH(K62,Rank,0)))","v":""},{"$f":"IF(L62=0,\"\",INDEX(ThreatRankMatrix,MATCH($L$55,Rank,0),MATCH(L62,Rank,0)))","v":""},{"$f":"IF(M62=0,\"\",INDEX(ThreatRankMatrix,MATCH($M$55,Rank,0),MATCH(M62,Rank,0)))","v":""},{"$f":"IF(N62=0,\"\",INDEX(ThreatRankMatrix,MATCH($N$55,Rank,0),MATCH(N62,Rank,0)))","v":""},{"$f":"IF(O62=0,\"\",INDEX(ThreatRankMatrix,MATCH($O$55,Rank,0),MATCH(O62,Rank,0)))","v":""},{"$f":"IF(P62=0,\"\",INDEX(ThreatRankMatrix,MATCH($P$55,Rank,0),MATCH(P62,Rank,0)))","v":""},null,null,null,null,null,null,null,null,null,null,null,null,null,null,null,null,null,{"$f":"SUM(AI63:AP63)","v":0},{"$f":"IF(G$55=\"\",0,(IF(G62=0,0,IF(G63=0,0,INDEX(ThreatScore,MATCH(G63,Rank,0))))))","v":0},null,{"$f":"IF(H$55=\"\",0,(IF(H62=0,0,IF(H63=0,0,INDEX(ThreatScore,MATCH(H63,Rank,0))))))","v":0},0,0,0,0,0]
[null,null,null,null,"Operation of drainage or diversion systems","Contribution","Very High",null,null,null,null,null,null,null,null,null,{"$f":"IF(AH65>=Scoring!$B$24,\"Very High\",IF(AH65>=Scoring!$B$25,\"High\",IF(AH65>=Scoring!$B$26,\"Medium\",IF(AH65>=Scoring!$B$27,\"Low\",\"-\"))))","v":"-"}]
[null,null,null,null,null,"Threat Rank ",{"$f":"IF(G64=0,\"\",INDEX(ThreatRankMatrix,MATCH($G$55,Rank,0),MATCH(G64,Rank,0)))","v":"-"},{"$f":"IF(H64=0,\"\",INDEX(ThreatRankMatrix,MATCH($H$55,Rank,0),MATCH(H64,Rank,0)))","v":""},{"$f":"IF(I64=0,\"\",INDEX(ThreatRankMatrix,MATCH($I$55,Rank,0),MATCH(I64,Rank,0)))","v":""},{"$f":"IF(J64=0,\"\",INDEX(ThreatRankMatrix,MATCH($J$55,Rank,0),MATCH(J64,Rank,0)))","v":""},{"$f":"IF(K64=0,\"\",INDEX(ThreatRankMatrix,MATCH($K$55,Rank,0),MATCH(K64,Rank,0)))","v":""},{"$f":"IF(L64=0,\"\",INDEX(ThreatRankMatrix,MATCH($L$55,Rank,0),MATCH(L64,Rank,0)))","v":""},{"$f":"IF(M64=0,\"\",INDEX(ThreatRankMatrix,MATCH($M$55,Rank,0),MATCH(M64,Rank,0)))","v":""},{"$f":"IF(N64=0,\"\",INDEX(ThreatRankMatrix,MATCH($N$55,Rank,0),MATCH(N64,Rank,0)))","v":""},{"$f":"IF(O64=0,\"\",INDEX(ThreatRankMatrix,MATCH($O$55,Rank,0),MATCH(O64,Rank,0)))","v":""},{"$f":"IF(P64=0,\"\",INDEX(ThreatRankMatrix,MATCH($P$55,Rank,0),MATCH(P64,Rank,0)))","v":""},null,null,null,null,null,null,null,null,null,null,null,null,null,null,null,null,null,{"$f":"SUM(AI65:AP65)","v":0},{"$f":"IF(G$55=\"\",0,(IF(G64=0,0,IF(G65=0,0,INDEX(ThreatScore,MATCH(G65,Rank,0))))))","v":0},null,{"$f":"IF(H$55=\"\",0,(IF(H64=0,0,IF(H65=0,0,INDEX(ThreatScore,MATCH(H65,Rank,0))))))","v":0},0,0,0,0,0]
[null,null,null,null,null,"Contribution",null,null,null,null,null,null,null,null,null,null,{"$f":"IF(AH67>=Scoring!$B$24,\"Very High\",IF(AH67>=Scoring!$B$25,\"High\",IF(AH67>=Scoring!$B$26,\"Medium\",IF(AH67>=Scoring!$B$27,\"Low\",\"-\"))))","v":"-"}]
[null,null,null,null,null,"Threat Rank ",{"$f":"IF(G66=0,\"\",INDEX(ThreatRankMatrix,MATCH($G$55,Rank,0),MATCH(G66,Rank,0)))","v":""},{"$f":"IF(H66=0,\"\",INDEX(ThreatRankMatrix,MATCH($H$55,Rank,0),MATCH(H66,Rank,0)))","v":""},{"$f":"IF(I66=0,\"\",INDEX(ThreatRankMatrix,MATCH($I$55,Rank,0),MATCH(I66,Rank,0)))","v":""},{"$f":"IF(J66=0,\"\",INDEX(ThreatRankMatrix,MATCH($J$55,Rank,0),MATCH(J66,Rank,0)))","v":""},{"$f":"IF(K66=0,\"\",INDEX(ThreatRankMatrix,MATCH($K$55,Rank,0),MATCH(K66,Rank,0)))","v":""},{"$f":"IF(L66=0,\"\",INDEX(ThreatRankMatrix,MATCH($L$55,Rank,0),MATCH(L66,Rank,0)))","v":""},{"$f":"IF(M66=0,\"\",INDEX(ThreatRankMatrix,MATCH($M$55,Rank,0),MATCH(M66,Rank,0)))","v":""},{"$f":"IF(N66=0,\"\",INDEX(ThreatRankMatrix,MATCH($N$55,Rank,0),MATCH(N66,Rank,0)))","v":""},{"$f":"IF(O66=0,\"\",INDEX(ThreatRankMatrix,MATCH($O$55,Rank,0),MATCH(O66,Rank,0)))","v":""},{"$f":"IF(P66=0,\"\",INDEX(ThreatRankMatrix,MATCH($P$55,Rank,0),MATCH(P66,Rank,0)))","v":""},null,null,null,null,null,null,null,null,null,null,null,null,null,null,null,null,null,{"$f":"SUM(AI67:AP67)","v":0},{"$f":"IF(G$55=\"\",0,(IF(G66=0,0,IF(G67=0,0,INDEX(ThreatScore,MATCH(G67,Rank,0))))))","v":0},null,{"$f":"IF(H$55=\"\",0,(IF(H66=0,0,IF(H67=0,0,INDEX(ThreatScore,MATCH(H67,Rank,0))))))","v":0},0,0,0,0,0]
[null,null,null,null,null,"Contribution",null,null,null,null,null,null,null,null,null,null,{"$f":"IF(AH69>=Scoring!$B$24,\"Very High\",IF(AH69>=Scoring!$B$25,\"High\",IF(AH69>=Scoring!$B$26,\"Medium\",IF(AH69>=Scoring!$B$27,\"Low\",\"-\"))))","v":"-"}]
[null,null,null,null,null,"Threat Rank ",{"$f":"IF(G68=0,\"\",INDEX(ThreatRankMatrix,MATCH($G$55,Rank,0),MATCH(G68,Rank,0)))","v":""},{"$f":"IF(H68=0,\"\",INDEX(ThreatRankMatrix,MATCH($H$55,Rank,0),MATCH(H68,Rank,0)))","v":""},{"$f":"IF(I68=0,\"\",INDEX(ThreatRankMatrix,MATCH($I$55,Rank,0),MATCH(I68,Rank,0)))","v":""},{"$f":"IF(J68=0,\"\",INDEX(ThreatRankMatrix,MATCH($J$55,Rank,0),MATCH(J68,Rank,0)))","v":""},{"$f":"IF(K68=0,\"\",INDEX(ThreatRankMatrix,MATCH($K$55,Rank,0),MATCH(K68,Rank,0)))","v":""},{"$f":"IF(L68=0,\"\",INDEX(ThreatRankMatrix,MATCH($L$55,Rank,0),MATCH(L68,Rank,0)))","v":""},{"$f":"IF(M68=0,\"\",INDEX(ThreatRankMatrix,MATCH($M$55,Rank,0),MATCH(M68,Rank,0)))","v":""},{"$f":"IF(N68=0,\"\",INDEX(ThreatRankMatrix,MATCH($N$55,Rank,0),MATCH(N68,Rank,0)))","v":""},{"$f":"IF(O68=0,\"\",INDEX(ThreatRankMatrix,MATCH($O$55,Rank,0),MATCH(O68,Rank,0)))","v":""},{"$f":"IF(P68=0,\"\",INDEX(ThreatRankMatrix,MATCH($P$55,Rank,0),MATCH(P68,Rank,0)))","v":""},null,null,null,null,null,null,null,null,null,null,null,null,null,null,null,null,null,{"$f":"SUM(AI69:AP69)","v":0},{"$f":"IF(G$55=\"\",0,(IF(G68=0,0,IF(G69=0,0,INDEX(ThreatScore,MATCH(G69,Rank,0))))))","v":0},null,{"$f":"IF(H$55=\"\",0,(IF(H68=0,0,IF(H69=0,0,INDEX(ThreatScore,MATCH(H69,Rank,0))))))","v":0},0,0,0,0,0]
[null,null,null,null,null,"Contribution",null,null,null,null,null,null,null,null,null,null,{"$f":"IF(AH71>=Scoring!$B$24,\"Very High\",IF(AH71>=Scoring!$B$25,\"High\",IF(AH71>=Scoring!$B$26,\"Medium\",IF(AH71>=Scoring!$B$27,\"Low\",\"-\"))))","v":"-"}]
[null,null,null,null,null,"Threat Rank ",{"$f":"IF(G70=0,\"\",INDEX(ThreatRankMatrix,MATCH($G$55,Rank,0),MATCH(G70,Rank,0)))","v":""},{"$f":"IF(H70=0,\"\",INDEX(ThreatRankMatrix,MATCH($H$55,Rank,0),MATCH(H70,Rank,0)))","v":""},{"$f":"IF(I70=0,\"\",INDEX(ThreatRankMatrix,MATCH($I$55,Rank,0),MATCH(I70,Rank,0)))","v":""},{"$f":"IF(J70=0,\"\",INDEX(ThreatRankMatrix,MATCH($J$55,Rank,0),MATCH(J70,Rank,0)))","v":""},{"$f":"IF(K70=0,\"\",INDEX(ThreatRankMatrix,MATCH($K$55,Rank,0),MATCH(K70,Rank,0)))","v":""},{"$f":"IF(L70=0,\"\",INDEX(ThreatRankMatrix,MATCH($L$55,Rank,0),MATCH(L70,Rank,0)))","v":""},{"$f":"IF(M70=0,\"\",INDEX(ThreatRankMatrix,MATCH($M$55,Rank,0),MATCH(M70,Rank,0)))","v":""},{"$f":"IF(N70=0,\"\",INDEX(ThreatRankMatrix,MATCH($N$55,Rank,0),MATCH(N70,Rank,0)))","v":""},{"$f":"IF(O70=0,\"\",INDEX(ThreatRankMatrix,MATCH($O$55,Rank,0),MATCH(O70,Rank,0)))","v":""},{"$f":"IF(P70=0,\"\",INDEX(ThreatRankMatrix,MATCH($P$55,Rank,0),MATCH(P70,Rank,0)))","v":""},null,null,null,null,null,null,null,null,null,null,null,null,null,null,null,null,null,{"$f":"SUM(AI71:AP71)","v":0},{"$f":"IF(G$55=\"\",0,(IF(G70=0,0,IF(G71=0,0,INDEX(ThreatScore,MATCH(G71,Rank,0))))))","v":0},null,{"$f":"IF(H$55=\"\",0,(IF(H70=0,0,IF(H71=0,0,INDEX(ThreatScore,MATCH(H71,Rank,0))))))","v":0},0,0,0,0,0]
[null,null,null,null,null,"Contribution",null,null,null,null,null,null,null,null,null,null,{"$f":"IF(AH73>=Scoring!$B$24,\"Very High\",IF(AH73>=Scoring!$B$25,\"High\",IF(AH73>=Scoring!$B$26,\"Medium\",IF(AH73>=Scoring!$B$27,\"Low\",\"-\"))))","v":"-"}]
[null,null,null,null,null,"Threat Rank ",{"$f":"IF(G72=0,\"\",INDEX(ThreatRankMatrix,MATCH($G$55,Rank,0),MATCH(G72,Rank,0)))","v":""},{"$f":"IF(H72=0,\"\",INDEX(ThreatRankMatrix,MATCH($H$55,Rank,0),MATCH(H72,Rank,0)))","v":""},{"$f":"IF(I72=0,\"\",INDEX(ThreatRankMatrix,MATCH($I$55,Rank,0),MATCH(I72,Rank,0)))","v":""},{"$f":"IF(J72=0,\"\",INDEX(ThreatRankMatrix,MATCH($J$55,Rank,0),MATCH(J72,Rank,0)))","v":""},{"$f":"IF(K72=0,\"\",INDEX(ThreatRankMatrix,MATCH($K$55,Rank,0),MATCH(K72,Rank,0)))","v":""},{"$f":"IF(L72=0,\"\",INDEX(ThreatRankMatrix,MATCH($L$55,Rank,0),MATCH(L72,Rank,0)))","v":""},{"$f":"IF(M72=0,\"\",INDEX(ThreatRankMatrix,MATCH($M$55,Rank,0),MATCH(M72,Rank,0)))","v":""},{"$f":"IF(N72=0,\"\",INDEX(ThreatRankMatrix,MATCH($N$55,Rank,0),MATCH(N72,Rank,0)))","v":""},{"$f":"IF(O72=0,\"\",INDEX(ThreatRankMatrix,MATCH($O$55,Rank,0),MATCH(O72,Rank,0)))","v":""},{"$f":"IF(P72=0,\"\",INDEX(ThreatRankMatrix,MATCH($P$55,Rank,0),MATCH(P72,Rank,0)))","v":""},null,null,null,null,null,null,null,null,null,null,null,null,null,null,null,null,null,{"$f":"SUM(AI73:AP73)","v":0},{"$f":"IF(G$55=\"\",0,(IF(G72=0,0,IF(G73=0,0,INDEX(ThreatScore,MATCH(G73,Rank,0))))))","v":0},null,{"$f":"IF(H$55=\"\",0,(IF(H72=0,0,IF(H73=0,0,INDEX(ThreatScore,MATCH(H73,Rank,0))))))","v":0},0,0,0,0,0]
[null,null,null,null,null,"Contribution",null,null,null,null,null,null,null,null,null,null,{"$f":"IF(AH75>=Scoring!$B$24,\"Very High\",IF(AH75>=Scoring!$B$25,\"High\",IF(AH75>=Scoring!$B$26,\"Medium\",IF(AH75>=Scoring!$B$27,\"Low\",\"-\"))))","v":"-"}]
[null,null,null,null,null,"Threat Rank ",{"$f":"IF(G74=0,\"\",INDEX(ThreatRankMatrix,MATCH($G$55,Rank,0),MATCH(G74,Rank,0)))","v":""},{"$f":"IF(H74=0,\"\",INDEX(ThreatRankMatrix,MATCH($H$55,Rank,0),MATCH(H74,Rank,0)))","v":""},{"$f":"IF(I74=0,\"\",INDEX(ThreatRankMatrix,MATCH($I$55,Rank,0),MATCH(I74,Rank,0)))","v":""},{"$f":"IF(J74=0,\"\",INDEX(ThreatRankMatrix,MATCH($J$55,Rank,0),MATCH(J74,Rank,0)))","v":""},{"$f":"IF(K74=0,\"\",INDEX(ThreatRankMatrix,MATCH($K$55,Rank,0),MATCH(K74,Rank,0)))","v":""},{"$f":"IF(L74=0,\"\",INDEX(ThreatRankMatrix,MATCH($L$55,Rank,0),MATCH(L74,Rank,0)))","v":""},{"$f":"IF(M74=0,\"\",INDEX(ThreatRankMatrix,MATCH($M$55,Rank,0),MATCH(M74,Rank,0)))","v":""},{"$f":"IF(N74=0,\"\",INDEX(ThreatRankMatrix,MATCH($N$55,Rank,0),MATCH(N74,Rank,0)))","v":""},{"$f":"IF(O74=0,\"\",INDEX(ThreatRankMatrix,MATCH($O$55,Rank,0),MATCH(O74,Rank,0)))","v":""},{"$f":"IF(P74=0,\"\",INDEX(ThreatRankMatrix,MATCH($P$55,Rank,0),MATCH(P74,Rank,0)))","v":""},null,null,null,null,null,null,null,null,null,null,null,null,null,null,null,null,null,{"$f":"SUM(AI75:AP75)","v":0},{"$f":"IF(G$55=\"\",0,(IF(G74=0,0,IF(G75=0,0,INDEX(ThreatScore,MATCH(G75,Rank,0))))))","v":0},null,{"$f":"IF(H$55=\"\",0,(IF(H74=0,0,IF(H75=0,0,INDEX(ThreatScore,MATCH(H75,Rank,0))))))","v":0},0,0,0,0,0]

{"sheet":"2","index":6,"n_rows":41,"n_cols":42,"rows_kept":41,"cut":false,"hidden":false,"merged":[[35,4,36,4],[35,16,36,16],[37,4,38,4],[37,16,38,16],[0,3,0,4],[33,16,34,16],[13,3,13,4],[15,4,16,4],[15,16,16,16],[17,16,18,16],[19,16,20,16],[21,16,22,16],[39,16,40,16],[17,4,18,4],[19,4,20,4],[21,4,22,4],[23,4,24,4],[25,4,26,4],[27,4,28,4],[29,4,30,4],[31,4,32,4],[33,4,34,4],[39,4,40,4],[23,16,24,16],[25,16,26,16],[27,16,28,16],[29,16,30,16],[31,16,32,16]]}
[null,null,null,{"$f":"IF(Targets!C9=0,\"\",Targets!C9)","v":"Boreal Forests - Upper Chena"},{"$f":"IF(Targets!C9=0,\"\",Targets!C9)","v":"Boreal Forests - Upper Chena"},"  Key Attributes & Future Threats"]
[null,null,null,null,null,"Place cursor over cells with red triangles in top corner for hint"]
["KEA ID","Target ID","Target Name","Category","Key Attribute","Indicator","Poor","Fair","Good","Very Good","Current Rating","Projected Future Rating w No Action","Stress Ranking (calculated)","Stress Ranking (User Override)",null,null,null,null,null,"Projected Future Rating w Strategies","New Stress Ranking (calculated)","New Stress Ranking (User Override)",null,null,"Temp Indicator ID",null,"Target #","Current Score","Score w No Action","Score w Strategies","Current Weight","Future Weight No Action","Future Weight w Action","Current Weighted Score","Future No Action Weighted Score","Future Action Weighted Score","Current Weighted Average","Future No Action Weighted Average","Future Action Weighted Average"]
[{"$f":"ROW()+200","v":204},2,{"$f":"$D$1","v":"Boreal Forests - Upper Chena"},"Landscape Context","Fire regime","Frequency, size, type of fires, severity","Highly altered regime","Moderately altered regime","Mostly natural regime","Mother Nature","Good","Fair",{"$f":"IF(K4=0,\"\",IF(L4=0,\"\",INDEX(StressRankMatrix,MATCH(K4,Rating,0),MATCH(L4,Rating,0))))","v":"High"},null,null,null,null,null,null,{"$f":"IF(L4=\"\",\"\",IFERROR(INDEX(Outcomes!$F:$F, MATCH(A4,Outcomes!$H:$H,0)),L4))","v":"Fair"},{"$f":"IF(K4=\"\",\"\",IF(T4=0,\"\",INDEX(StressRankMatrix,MATCH(K4,Rating,0),MATCH(T4,Rating,0))))","v":"High"},null,null,null,{"$f":"IFERROR(INDEX(#REF!,MATCH(A4,#REF!,0)),\"\")","v":""},null,{"$f":"IF(E4=\"\",\"\",IF(E4>0,$B$4,\"error\"))","v":2},{"$f":"IF(K4=\"Poor\",Scoring!$B$50,IF(K4=\"Fair -\",Scoring!$B$49,IF(K4=\"Fair\",Scoring!$B$48,IF(K4=\"Good -\",Scoring!$B$47,IF(K4=\"Good\",Scoring!$B$46,IF(K4=\"Very Good\",Scoring!$B$45,IF(K4=\"\",0)))))))","v":80.03},{"$f":"IF(L4=\"Poor\",Scoring!$B$50,IF(L4=\"Fair -\",Scoring!$B$49,IF(L4=\"Fair\",Scoring!$B$48,IF(L4=\"Good -\",Scoring!$B$47,IF(L4=\"Good\",Scoring!$B$46,IF(L4=\"Very Good\",Scoring!$B$45,IF(L4=\"\",0)))))))","v":40.04},{"$f":"IF(T4=\"Poor\",Scoring!$B$50,IF(T4=\"Fair -\",Scoring!$B$49,IF(T4=\"Fair\",Scoring!$B$48,IF(T4=\"Good -\",Scoring!$B$47,IF(T4=\"Good\",Scoring!$B$46,IF(T4=\"Very Good\",Scoring!$B$45,IF(T4=\"\",0)))))))","v":40.04},{"$f":"IF(K4=\"Poor\",Scoring!$C$50,IF(K4=\"Fair -\",Scoring!$C$49,IF(K4=\"Fair\",Scoring!$C$48,IF(K4=\"Good -\",Scoring!$C$47,IF(K4=\"Good\",Scoring!$C$46,IF(K4=\"Very Good\",Scoring!$C$45,IF(K4=\"\",0)))))))","v":1},{"$f":"IF(L4=\"Poor\",Scoring!$C$50,IF(L4=\"Fair -\",Scoring!$C$49,IF(L4=\"Fair\",Scoring!$C$48,IF(L4=\"Good -\",Scoring!$C$47,IF(L4=\"Good\",Scoring!$C$46,IF(L4=\"Very Good\",Scoring!$C$45,IF(L4=\"\",0)))))))","v":1},{"$f":"IF(T4=\"Poor\",Scoring!$C$50,IF(T4=\"Fair -\",Scoring!$C$49,IF(T4=\"Fair\",Scoring!$C$48,IF(T4=\"Good -\",Scoring!$C$47,IF(T4=\"Good\",Scoring!$C$46,IF(T4=\"Very Good\",Scoring!$C$45,IF(T4=\"\",0)))))))","v":1},{"$f":"AB4*AE4","v":80.03},{"$f":"AC4*AF4","v":40.04},{"$f":"AD4*AG4","v":40.04}]
[{"$f":"ROW()+200","v":205},2,{"$f":"$D$1","v":"Boreal Forests - Upper Chena"},"Landscape Context","Habitat connectivity","Movement of species","Most species are isolated ","Some species are isolated"," Most species are mostly able to move freely among most habitats   "," Mother Nature","Good","Good -","Medium",null,null,null,null,null,null,{"$f":"IF(L5=\"\",\"\",IFERROR(INDEX(Outcomes!$F:$F, MATCH(A5,Outcomes!$H:$H,0)),L5))","v":"Good -"},"Medium",null,null,null,{"$f":"IFERROR(INDEX(#REF!,MATCH(A5,#REF!,0)),\"\")","v":""},null,2,{"$f":"IF(K5=\"Poor\",Scoring!$B$50,IF(K5=\"Fair -\",Scoring!$B$49,IF(K5=\"Fair\",Scoring!$B$48,IF(K5=\"Good -\",Scoring!$B$47,IF(K5=\"Good\",Scoring!$B$46,IF(K5=\"Very Good\",Scoring!$B$45,IF(K5=\"\",0)))))))","v":80.03},{"$f":"IF(L5=\"Poor\",Scoring!$B$50,IF(L5=\"Fair -\",Scoring!$B$49,IF(L5=\"Fair\",Scoring!$B$48,IF(L5=\"Good -\",Scoring!$B$47,IF(L5=\"Good\",Scoring!$B$46,IF(L5=\"Very Good\",Scoring!$B$45,IF(L5=\"\",0)))))))","v":60.04},{"$f":"IF(T5=\"Poor\",Scoring!$B$50,IF(T5=\"Fair -\",Scoring!$B$49,IF(T5=\"Fair\",Scoring!$B$48,IF(T5=\"Good -\",Scoring!$B$47,IF(T5=\"Good\",Scoring!$B$46,IF(T5=\"Very Good\",Scoring!$B$45,IF(T5=\"\",0)))))))","v":60.04},{"$f":"IF(K5=\"Poor\",Scoring!$C$50,IF(K5=\"Fair -\",Scoring!$C$49,IF(K5=\"Fair\",Scoring!$C$48,IF(K5=\"Good -\",Scoring!$C$47,IF(K5=\"Good\",Scoring!$C$46,IF(K5=\"Very Good\",Scoring!$C$45,IF(K5=\"\",0)))))))","v":1},{"$f":"IF(L5=\"Poor\",Scoring!$C$50,IF(L5=\"Fair -\",Scoring!$C$49,IF(L5=\"Fair\",Scoring!$C$48,IF(L5=\"Good -\",Scoring!$C$47,IF(L5=\"Good\",Scoring!$C$46,IF(L5=\"Very Good\",Scoring!$C$45,IF(L5=\"\",0)))))))","v":1},{"$f":"IF(T5=\"Poor\",Scoring!$C$50,IF(T5=\"Fair -\",Scoring!$C$49,IF(T5=\"Fair\",Scoring!$C$48,IF(T5=\"Good -\",Scoring!$C$47,IF(T5=\"Good\",Scoring!$C$46,IF(T5=\"Very Good\",Scoring!$C$45,IF(T5=\"\",0)))))))","v":1},{"$f":"AB5*AE5","v":80.03},60.04,60.04]
[206,2,"Boreal Forests - Upper Chena","Landscape Context","Hydrologic regime","Natural fluctuations of surface and ground water -amount, frequency, timing, duration","Water levels, flows or fluctuations are too high or too low, not related to the precipitation, and unlikely to maintain nested targets in many habitats within the target area and downstream","Water levels, flows or fluctuations in relationship to precipitation and ground water are likely to maintain nested targets in some habitats within the target and downstream","Water levels, flows or fluctuations in relationship to precipitation and ground water are likely to maintain nested targets in most habitats within the target area and downstream","Water levels, flows or fluctuations in relationship to precipitation and ground water are likely to maintain nested targets in almost all habitats within the target area and downstream","Good","Good -","Medium",null,null,null,null,null,null,{"$f":"IF(L6=\"\",\"\",IFERROR(INDEX(Outcomes!$F:$F, MATCH(A6,Outcomes!$H:$H,0)),L6))","v":"Good -"},"Medium",null,null,null,{"$f":"IFERROR(INDEX(#REF!,MATCH(A6,#REF!,0)),\"\")","v":""},null,2,{"$f":"IF(K6=\"Poor\",Scoring!$B$50,IF(K6=\"Fair -\",Scoring!$B$49,IF(K6=\"Fair\",Scoring!$B$48,IF(K6=\"Good -\",Scoring!$B$47,IF(K6=\"Good\",Scoring!$B$46,IF(K6=\"Very Good\",Scoring!$B$45,IF(K6=\"\",0)))))))","v":80.03},{"$f":"IF(L6=\"Poor\",Scoring!$B$50,IF(L6=\"Fair -\",Scoring!$B$49,IF(L6=\"Fair\",Scoring!$B$48,IF(L6=\"Good -\",Scoring!$B$47,IF(L6=\"Good\",Scoring!$B$46,IF(L6=\"Very Good\",Scoring!$B$45,IF(L6=\"\",0)))))))","v":60.04},{"$f":"IF(T6=\"Poor\",Scoring!$B$50,IF(T6=\"Fair -\",Scoring!$B$49,IF(T6=\"Fair\",Scoring!$B$48,IF(T6=\"Good -\",Scoring!$B$47,IF(T6=\"Good\",Scoring!$B$46,IF(T6=\"Very Good\",Scoring!$B$45,IF(T6=\"\",0)))))))","v":60.04},{"$f":"IF(K6=\"Poor\",Scoring!$C$50,IF(K6=\"Fair -\",Scoring!$C$49,IF(K6=\"Fair\",Scoring!$C$48,IF(K6=\"Good -\",Scoring!$C$47,IF(K6=\"Good\",Scoring!$C$46,IF(K6=\"Very Good\",Scoring!$C$45,IF(K6=\"\",0)))))))","v":1},{"$f":"IF(L6=\"Poor\",Scoring!$C$50,IF(L6=\"Fair -\",Scoring!$C$49,IF(L6=\"Fair\",Scoring!$C$48,IF(L6=\"Good -\",Scoring!$C$47,IF(L6=\"Good\",Scoring!$C$46,IF(L6=\"Very Good\",Scoring!$C$45,IF(L6=\"\",0)))))))","v":1},{"$f":"IF(T6=\"Poor\",Scoring!$C$50,IF(T6=\"Fair -\",Scoring!$C$49,IF(T6=\"Fair\",Scoring!$C$48,IF(T6=\"Good -\",Scoring!$C$47,IF(T6=\"Good\",Scoring!$C$46,IF(T6=\"Very Good\",Scoring!$C$45,IF(T6=\"\",0)))))))","v":1},80.03,60.04,60.04]
[207,2,"Boreal Forests - Upper Chena","Condition","Characteristic native community","Presence of characteristic native communities within habitats","Few habitats have the characteristic native communities to accom-modate most nested targets in abundance","Some habitats have the characteristic native communities to accom-modate most nested targets in abundance","Most habitats have the characteristic native communities to accom-modate most nested targets in abundance","Almost all habitats have the characteristic native communities to accom­modate almost all nested targets in abundance","Good","Good -","Medium",null,null,null,null,null,null,{"$f":"IF(L7=\"\",\"\",IFERROR(INDEX(Outcomes!$F:$F, MATCH(A7,Outcomes!$H:$H,0)),L7))","v":"Good -"},"Medium",null,null,null,{"$f":"IFERROR(INDEX(#REF!,MATCH(A7,#REF!,0)),\"\")","v":""},null,2,{"$f":"IF(K7=\"Poor\",Scoring!$B$50,IF(K7=\"Fair -\",Scoring!$B$49,IF(K7=\"Fair\",Scoring!$B$48,IF(K7=\"Good -\",Scoring!$B$47,IF(K7=\"Good\",Scoring!$B$46,IF(K7=\"Very Good\",Scoring!$B$45,IF(K7=\"\",0)))))))","v":80.03},{"$f":"IF(L7=\"Poor\",Scoring!$B$50,IF(L7=\"Fair -\",Scoring!$B$49,IF(L7=\"Fair\",Scoring!$B$48,IF(L7=\"Good -\",Scoring!$B$47,IF(L7=\"Good\",Scoring!$B$46,IF(L7=\"Very Good\",Scoring!$B$45,IF(L7=\"\",0)))))))","v":60.04},{"$f":"IF(T7=\"Poor\",Scoring!$B$50,IF(T7=\"Fair -\",Scoring!$B$49,IF(T7=\"Fair\",Scoring!$B$48,IF(T7=\"Good -\",Scoring!$B$47,IF(T7=\"Good\",Scoring!$B$46,IF(T7=\"Very Good\",Scoring!$B$45,IF(T7=\"\",0)))))))","v":60.04},{"$f":"IF(K7=\"Poor\",Scoring!$C$50,IF(K7=\"Fair -\",Scoring!$C$49,IF(K7=\"Fair\",Scoring!$C$48,IF(K7=\"Good -\",Scoring!$C$47,IF(K7=\"Good\",Scoring!$C$46,IF(K7=\"Very Good\",Scoring!$C$45,IF(K7=\"\",0)))))))","v":1},{"$f":"IF(L7=\"Poor\",Scoring!$C$50,IF(L7=\"Fair -\",Scoring!$C$49,IF(L7=\"Fair\",Scoring!$C$48,IF(L7=\"Good -\",Scoring!$C$47,IF(L7=\"Good\",Scoring!$C$46,IF(L7=\"Very Good\",Scoring!$C$45,IF(L7=\"\",0)))))))","v":1},{"$f":"IF(T7=\"Poor\",Scoring!$C$50,IF(T7=\"Fair -\",Scoring!$C$49,IF(T7=\"Fair\",Scoring!$C$48,IF(T7=\"Good -\",Scoring!$C$47,IF(T7=\"Good\",Scoring!$C$46,IF(T7=\"Very Good\",Scoring!$C$45,IF(T7=\"\",0)))))))","v":1},80.03,60.04,60.04]
[208,2,"Boreal Forests - Upper Chena","Condition","Vegetation composition & structure - mosaic","Diversity of species and age classes","Low diversity of species and age classes"," Moderate diversity of species and age classes","Good diversity of species and age classes","High diversity of species and age class","Good","Good -","Medium",null,null,null,null,null,null,{"$f":"IF(L8=\"\",\"\",IFERROR(INDEX(Outcomes!$F:$F, MATCH(A8,Outcomes!$H:$H,0)),L8))","v":"Good"},"-",null,null,null,{"$f":"IFERROR(INDEX(#REF!,MATCH(A8,#REF!,0)),\"\")","v":""},null,2,{"$f":"IF(K8=\"Poor\",Scoring!$B$50,IF(K8=\"Fair -\",Scoring!$B$49,IF(K8=\"Fair\",Scoring!$B$48,IF(K8=\"Good -\",Scoring!$B$47,IF(K8=\"Good\",Scoring!$B$46,IF(K8=\"Very Good\",Scoring!$B$45,IF(K8=\"\",0)))))))","v":80.03},{"$f":"IF(L8=\"Poor\",Scoring!$B$50,IF(L8=\"Fair -\",Scoring!$B$49,IF(L8=\"Fair\",Scoring!$B$48,IF(L8=\"Good -\",Scoring!$B$47,IF(L8=\"Good\",Scoring!$B$46,IF(L8=\"Very Good\",Scoring!$B$45,IF(L8=\"\",0)))))))","v":60.04},{"$f":"IF(T8=\"Poor\",Scoring!$B$50,IF(T8=\"Fair -\",Scoring!$B$49,IF(T8=\"Fair\",Scoring!$B$48,IF(T8=\"Good -\",Scoring!$B$47,IF(T8=\"Good\",Scoring!$B$46,IF(T8=\"Very Good\",Scoring!$B$45,IF(T8=\"\",0)))))))","v":80.03},{"$f":"IF(K8=\"Poor\",Scoring!$C$50,IF(K8=\"Fair -\",Scoring!$C$49,IF(K8=\"Fair\",Scoring!$C$48,IF(K8=\"Good -\",Scoring!$C$47,IF(K8=\"Good\",Scoring!$C$46,IF(K8=\"Very Good\",Scoring!$C$45,IF(K8=\"\",0)))))))","v":1},{"$f":"IF(L8=\"Poor\",Scoring!$C$50,IF(L8=\"Fair -\",Scoring!$C$49,IF(L8=\"Fair\",Scoring!$C$48,IF(L8=\"Good -\",Scoring!$C$47,IF(L8=\"Good\",Scoring!$C$46,IF(L8=\"Very Good\",Scoring!$C$45,IF(L8=\"\",0)))))))","v":1},{"$f":"IF(T8=\"Poor\",Scoring!$C$50,IF(T8=\"Fair -\",Scoring!$C$49,IF(T8=\"Fair\",Scoring!$C$48,IF(T8=\"Good -\",Scoring!$C$47,IF(T8=\"Good\",Scoring!$C$46,IF(T8=\"Very Good\",Scoring!$C$45,IF(T8=\"\",0)))))))","v":1},80.03,60.04,80.03]
[209,2,"Boreal Forests - Upper Chena","Size","Extent of area","Extent, patch size, and/or distribution","Severe, mostly gone","Moderate to substantial loss","Minimal loss","Mother Nature","Good","Good -","Medium",null,null,null,null,null,null,{"$f":"IF(L9=\"\",\"\",IFERROR(INDEX(Outcomes!$F:$F, MATCH(A9,Outcomes!$H:$H,0)),L9))","v":"Good -"},"Medium",null,null,null,{"$f":"IFERROR(INDEX(#REF!,MATCH(A9,#REF!,0)),\"\")","v":""},null,2,{"$f":"IF(K9=\"Poor\",Scoring!$B$50,IF(K9=\"Fair -\",Scoring!$B$49,IF(K9=\"Fair\",Scoring!$B$48,IF(K9=\"Good -\",Scoring!$B$47,IF(K9=\"Good\",Scoring!$B$46,IF(K9=\"Very Good\",Scoring!$B$45,IF(K9=\"\",0)))))))","v":80.03},{"$f":"IF(L9=\"Poor\",Scoring!$B$50,IF(L9=\"Fair -\",Scoring!$B$49,IF(L9=\"Fair\",Scoring!$B$48,IF(L9=\"Good -\",Scoring!$B$47,IF(L9=\"Good\",Scoring!$B$46,IF(L9=\"Very Good\",Scoring!$B$45,IF(L9=\"\",0)))))))","v":60.04},{"$f":"IF(T9=\"Poor\",Scoring!$B$50,IF(T9=\"Fair -\",Scoring!$B$49,IF(T9=\"Fair\",Scoring!$B$48,IF(T9=\"Good -\",Scoring!$B$47,IF(T9=\"Good\",Scoring!$B$46,IF(T9=\"Very Good\",Scoring!$B$45,IF(T9=\"\",0)))))))","v":60.04},{"$f":"IF(K9=\"Poor\",Scoring!$C$50,IF(K9=\"Fair -\",Scoring!$C$49,IF(K9=\"Fair\",Scoring!$C$48,IF(K9=\"Good -\",Scoring!$C$47,IF(K9=\"Good\",Scoring!$C$46,IF(K9=\"Very Good\",Scoring!$C$45,IF(K9=\"\",0)))))))","v":1},{"$f":"IF(L9=\"Poor\",Scoring!$C$50,IF(L9=\"Fair -\",Scoring!$C$49,IF(L9=\"Fair\",Scoring!$C$48,IF(L9=\"Good -\",Scoring!$C$47,IF(L9=\"Good\",Scoring!$C$46,IF(L9=\"Very Good\",Scoring!$C$45,IF(L9=\"\",0)))))))","v":1},{"$f":"IF(T9=\"Poor\",Scoring!$C$50,IF(T9=\"Fair -\",Scoring!$C$49,IF(T9=\"Fair\",Scoring!$C$48,IF(T9=\"Good -\",Scoring!$C$47,IF(T9=\"Good\",Scoring!$C$46,IF(T9=\"Very Good\",Scoring!$C$45,IF(T9=\"\",0)))))))","v":1},80.03,60.04,60.04]
[210,2,"Boreal Forests - Upper Chena",null,null,null,null,null,null,null,null,null,"",null,null,null,null,null,null,{"$f":"IF(L10=\"\",\"\",IFERROR(INDEX(Outcomes!$F:$F, MATCH(A10,Outcomes!$H:$H,0)),L10))","v":""},"",null,null,null,{"$f":"IFERROR(INDEX(#REF!,MATCH(A10,#REF!,0)),\"\")","v":""},null,"",{"$f":"IF(K10=\"Poor\",Scoring!$B$50,IF(K10=\"Fair -\",Scoring!$B$49,IF(K10=\"Fair\",Scoring!$B$48,IF(K10=\"Good -\",Scoring!$B$47,IF(K10=\"Good\",Scoring!$B$46,IF(K10=\"Very Good\",Scoring!$B$45,IF(K10=\"\",0)))))))","v":0},{"$f":"IF(L10=\"Poor\",Scoring!$B$50,IF(L10=\"Fair -\",Scoring!$B$49,IF(L10=\"Fair\",Scoring!$B$48,IF(L10=\"Good -\",Scoring!$B$47,IF(L10=\"Good\",Scoring!$B$46,IF(L10=\"Very Good\",Scoring!$B$45,IF(L10=\"\",0)))))))","v":0},{"$f":"IF(T10=\"Poor\",Scoring!$B$50,IF(T10=\"Fair -\",Scoring!$B$49,IF(T10=\"Fair\",Scoring!$B$48,IF(T10=\"Good -\",Scoring!$B$47,IF(T10=\"Good\",Scoring!$B$46,IF(T10=\"Very Good\",Scoring!$B$45,IF(T10=\"\",0)))))))","v":0},{"$f":"IF(K10=\"Poor\",Scoring!$C$50,IF(K10=\"Fair -\",Scoring!$C$49,IF(K10=\"Fair\",Scoring!$C$48,IF(K10=\"Good -\",Scoring!$C$47,IF(K10=\"Good\",Scoring!$C$46,IF(K10=\"Very Good\",Scoring!$C$45,IF(K10=\"\",0)))))))","v":0},{"$f":"IF(L10=\"Poor\",Scoring!$C$50,IF(L10=\"Fair -\",Scoring!$C$49,IF(L10=\"Fair\",Scoring!$C$48,IF(L10=\"Good -\",Scoring!$C$47,IF(L10=\"Good\",Scoring!$C$46,IF(L10=\"Very Good\",Scoring!$C$45,IF(L10=\"\",0)))))))","v":0},{"$f":"IF(T10=\"Poor\",Scoring!$C$50,IF(T10=\"Fair -\",Scoring!$C$49,IF(T10=\"Fair\",Scoring!$C$48,IF(T10=\"Good -\",Scoring!$C$47,IF(T10=\"Good\",Scoring!$C$46,IF(T10=\"Very Good\",Scoring!$C$45,IF(T10=\"\",0)))))))","v":0},0,0,0]
[211,2,"Boreal Forests - Upper Chena",null,null,null,null,null,null,null,null,null,"",null,null,null,null,null,null,{"$f":"IF(L11=\"\",\"\",IFERROR(INDEX(Outcomes!$F:$F, MATCH(A11,Outcomes!$H:$H,0)),L11))","v":""},"",null,null,null,{"$f":"IFERROR(INDEX(#REF!,MATCH(A11,#REF!,0)),\"\")","v":""},null,"",{"$f":"IF(K11=\"Poor\",Scoring!$B$50,IF(K11=\"Fair -\",Scoring!$B$49,IF(K11=\"Fair\",Scoring!$B$48,IF(K11=\"Good -\",Scoring!$B$47,IF(K11=\"Good\",Scoring!$B$46,IF(K11=\"Very Good\",Scoring!$B$45,IF(K11=\"\",0)))))))","v":0},{"$f":"IF(L11=\"Poor\",Scoring!$B$50,IF(L11=\"Fair -\",Scoring!$B$49,IF(L11=\"Fair\",Scoring!$B$48,IF(L11=\"Good -\",Scoring!$B$47,IF(L11=\"Good\",Scoring!$B$46,IF(L11=\"Very Good\",Scoring!$B$45,IF(L11=\"\",0)))))))","v":0},{"$f":"IF(T11=\"Poor\",Scoring!$B$50,IF(T11=\"Fair -\",Scoring!$B$49,IF(T11=\"Fair\",Scoring!$B$48,IF(T11=\"Good -\",Scoring!$B$47,IF(T11=\"Good\",Scoring!$B$46,IF(T11=\"Very Good\",Scoring!$B$45,IF(T11=\"\",0)))))))","v":0},{"$f":"IF(K11=\"Poor\",Scoring!$C$50,IF(K11=\"Fair -\",Scoring!$C$49,IF(K11=\"Fair\",Scoring!$C$48,IF(K11=\"Good -\",Scoring!$C$47,IF(K11=\"Good\",Scoring!$C$46,IF(K11=\"Very Good\",Scoring!$C$45,IF(K11=\"\",0)))))))","v":0},{"$f":"IF(L11=\"Poor\",Scoring!$C$50,IF(L11=\"Fair -\",Scoring!$C$49,IF(L11=\"Fair\",Scoring!$C$48,IF(L11=\"Good -\",Scoring!$C$47,IF(L11=\"Good\",Scoring!$C$46,IF(L11=\"Very Good\",Scoring!$C$45,IF(L11=\"\",0)))))))","v":0},{"$f":"IF(T11=\"Poor\",Scoring!$C$50,IF(T11=\"Fair -\",Scoring!$C$49,IF(T11=\"Fair\",Scoring!$C$48,IF(T11=\"Good -\",Scoring!$C$47,IF(T11=\"Good\",Scoring!$C$46,IF(T11=\"Very Good\",Scoring!$C$45,IF(T11=\"\",0)))))))","v":0},0,0,0]
[212,2,"Boreal Forests - Upper Chena",null,null,null,null,null,null,null,null,null,"",null,null,null,null,null,null,{"$f":"IF(L12=\"\",\"\",IFERROR(INDEX(Outcomes!$F:$F, MATCH(A12,Outcomes!$H:$H,0)),L12))","v":""},"",null,null,null,{"$f":"IFERROR(INDEX(#REF!,MATCH(A12,#REF!,0)),\"\")","v":""},null,"",{"$f":"IF(K12=\"Poor\",Scoring!$B$50,IF(K12=\"Fair -\",Scoring!$B$49,IF(K12=\"Fair\",Scoring!$B$48,IF(K12=\"Good -\",Scoring!$B$47,IF(K12=\"Good\",Scoring!$B$46,IF(K12=\"Very Good\",Scoring!$B$45,IF(K12=\"\",0)))))))","v":0},{"$f":"IF(L12=\"Poor\",Scoring!$B$50,IF(L12=\"Fair -\",Scoring!$B$49,IF(L12=\"Fair\",Scoring!$B$48,IF(L12=\"Good -\",Scoring!$B$47,IF(L12=\"Good\",Scoring!$B$46,IF(L12=\"Very Good\",Scoring!$B$45,IF(L12=\"\",0)))))))","v":0},{"$f":"IF(T12=\"Poor\",Scoring!$B$50,IF(T12=\"Fair -\",Scoring!$B$49,IF(T12=\"Fair\",Scoring!$B$48,IF(T12=\"Good -\",Scoring!$B$47,IF(T12=\"Good\",Scoring!$B$46,IF(T12=\"Very Good\",Scoring!$B$45,IF(T12=\"\",0)))))))","v":0},{"$f":"IF(K12=\"Poor\",Scoring!$C$50,IF(K12=\"Fair -\",Scoring!$C$49,IF(K12=\"Fair\",Scoring!$C$48,IF(K12=\"Good -\",Scoring!$C$47,IF(K12=\"Good\",Scoring!$C$46,IF(K12=\"Very Good\",Scoring!$C$45,IF(K12=\"\",0)))))))","v":0},{"$f":"IF(L12=\"Poor\",Scoring!$C$50,IF(L12=\"Fair -\",Scoring!$C$49,IF(L12=\"Fair\",Scoring!$C$48,IF(L12=\"Good -\",Scoring!$C$47,IF(L12=\"Good\",Scoring!$C$46,IF(L12=\"Very Good\",Scoring!$C$45,IF(L12=\"\",0)))))))","v":0},{"$f":"IF(T12=\"Poor\",Scoring!$C$50,IF(T12=\"Fair -\",Scoring!$C$49,IF(T12=\"Fair\",Scoring!$C$48,IF(T12=\"Good -\",Scoring!$C$47,IF(T12=\"Good\",Scoring!$C$46,IF(T12=\"Very Good\",Scoring!$C$45,IF(T12=\"\",0)))))))","v":0},0,0,0]
[213,2,"Boreal Forests - Upper Chena",null,null,null,null,null,null,null,null,null,"",null,null,null,null,null,null,{"$f":"IF(L13=\"\",\"\",IFERROR(INDEX(Outcomes!$F:$F, MATCH(A13,Outcomes!$H:$H,0)),L13))","v":""},{"$f":"IF(K13=0,\"\",IF(T13=0,\"\",INDEX(StressRankMatrix,MATCH(K13,Rating,0),MATCH(T13,Rating,0))))","v":""},null,null,null,{"$f":"IFERROR(INDEX(#REF!,MATCH(A13,#REF!,0)),\"\")","v":""},null,"",{"$f":"IF(K13=\"Poor\",Scoring!$B$50,IF(K13=\"Fair -\",Scoring!$B$49,IF(K13=\"Fair\",Scoring!$B$48,IF(K13=\"Good -\",Scoring!$B$47,IF(K13=\"Good\",Scoring!$B$46,IF(K13=\"Very Good\",Scoring!$B$45,IF(K13=\"\",0)))))))","v":0},{"$f":"IF(L13=\"Poor\",Scoring!$B$50,IF(L13=\"Fair -\",Scoring!$B$49,IF(L13=\"Fair\",Scoring!$B$48,IF(L13=\"Good -\",Scoring!$B$47,IF(L13=\"Good\",Scoring!$B$46,IF(L13=\"Very Good\",Scoring!$B$45,IF(L13=\"\",0)))))))","v":0},{"$f":"IF(T13=\"Poor\",Scoring!$B$50,IF(T13=\"Fair -\",Scoring!$B$49,IF(T13=\"Fair\",Scoring!$B$48,IF(T13=\"Good -\",Scoring!$B$47,IF(T13=\"Good\",Scoring!$B$46,IF(T13=\"Very Good\",Scoring!$B$45,IF(T13=\"\",0)))))))","v":0},{"$f":"IF(K13=\"Poor\",Scoring!$C$50,IF(K13=\"Fair -\",Scoring!$C$49,IF(K13=\"Fair\",Scoring!$C$48,IF(K13=\"Good -\",Scoring!$C$47,IF(K13=\"Good\",Scoring!$C$46,IF(K13=\"Very Good\",Scoring!$C$45,IF(K13=\"\",0)))))))","v":0},{"$f":"IF(L13=\"Poor\",Scoring!$C$50,IF(L13=\"Fair -\",Scoring!$C$49,IF(L13=\"Fair\",Scoring!$C$48,IF(L13=\"Good -\",Scoring!$C$47,IF(L13=\"Good\",Scoring!$C$46,IF(L13=\"Very Good\",Scoring!$C$45,IF(L13=\"\",0)))))))","v":0},{"$f":"IF(T13=\"Poor\",Scoring!$C$50,IF(T13=\"Fair -\",Scoring!$C$49,IF(T13=\"Fair\",Scoring!$C$48,IF(T13=\"Good -\",Scoring!$C$47,IF(T13=\"Good\",Scoring!$C$46,IF(T13=\"Very Good\",Scoring!$C$45,IF(T13=\"\",0)))))))","v":0},0,0,0]
[null,null,null,"Overall Target Health Score                           (0 = Poor - 100 = Very Good)",null,null,null,null,null,null,{"$f":"AK14","v":80.029999999999987},{"$f":"AL14","v":56.706666666666671},null,null,null,null,null,null,null,{"$f":"AM14","v":60.038333333333334},null,null,null,null,null,null,null,null,null,null,{"$f":"SUM(AE4:AE13)","v":6},6,6,480.17999999999995,340.24,360.23,{"$f":"IF(AH14=0,\"\",AH14/AE14)","v":80.029999999999987},{"$f":"IF(AI14=0,\"\",AI14/AF14)","v":56.706666666666671},{"$f":"IF(AJ14=0,\"\",AJ14/AG14)","v":60.038333333333334}]
[]
[null,null,null,null,"Threats (Sources of Stress)         List Sources of stress below (max of 12 per target).  Enter Contribution of each source where applicable.","  Key Attribute >",{"$f":"IF(E4=0,\"\",E4)","v":"Fire regime"},{"$f":"IF(E5=0,\"\",E5)","v":"Habitat connectivity"},{"$f":"IF(E6=0,\"\",E6)","v":"Hydrologic regime"},{"$f":"IF(E7=0,\"\",E7)","v":"Characteristic native community"},{"$f":"IF(E8=0,\"\",E8)","v":"Vegetation composition & structure - mosaic"},{"$f":"IF(E9=0,\"\",E9)","v":"Extent of area"},{"$f":"IF(E10=0,\"\",E10)","v":""},{"$f":"IF(E11=0,\"\",E11)","v":""},{"$f":"IF(E12=0,\"\",E12)","v":""},{"$f":"IF(E13=0,\"\",E13)","v":""},"Threat to Target Rank"]
[null,null,null,null,null,"Stress Rank>",{"$f":"IF(M4=\"\",\"\", IF(N4=0,M4,N4))","v":"High"},{"$f":"IF(M5=\"\",\"\", IF(N5=0,M5,N5))","v":"Medium"},{"$f":"IF(M6=\"\",\"\", IF(N6=0,M6,N6))","v":"Medium"},{"$f":"IF(M7=\"\",\"\", IF(N7=0,M7,N7))","v":"Medium"},{"$f":"IF(M8=\"\",\"\", IF(N8=0,M8,N8))","v":"Medium"},{"$f":"IF(M9=\"\",\"\", IF(N9=0,M9,N9))","v":"Medium"},{"$f":"IF(M10=\"\",\"\", IF(N10=0,M10,N10))","v":""},{"$f":"IF(M11=\"\",\"\", IF(N11=0,M11,N11))","v":""},{"$f":"IF(M12=\"\",\"\", IF(N12=0,M12,N12))","v":""},{"$f":"IF(M13=\"\",\"\", IF(N13=0,M13,N13))","v":""}]
[null,null,null,null,"Warmer climate with more frequent weather extremes","Contribution","High",null,"Medium","Medium","High",null,null,null,null,null,{"$f":"IF(AF19>=Scoring!$B$24,\"Very High\",IF(AF19>=Scoring!$B$25,\"High\",IF(AF19>=Scoring!$B$26,\"Medium\",IF(AF19>=Scoring!$B$27,\"Low\",\"-\"))))","v":"High"}]
[null,null,null,null,null,"Threat Rank ",{"$f":"IF(G18=0,\"\",INDEX(ThreatRankMatrix,MATCH($G$17,Rank,0),MATCH(G18,Rank,0)))","v":"High"},{"$f":"IF(H18=0,\"\",INDEX(ThreatRankMatrix,MATCH($H$17,Rank,0),MATCH(H18,Rank,0)))","v":""},{"$f":"IF(I18=0,\"\",INDEX(ThreatRankMatrix,MATCH($I$17,Rank,0),MATCH(I18,Rank,0)))","v":"Low"},{"$f":"IF(J18=0,\"\",INDEX(ThreatRankMatrix,MATCH($J$17,Rank,0),MATCH(J18,Rank,0)))","v":"Low"},{"$f":"IF(K18=0,\"\",INDEX(ThreatRankMatrix,MATCH($K$17,Rank,0),MATCH(K18,Rank,0)))","v":"Medium"},{"$f":"IF(L18=0,\"\",INDEX(ThreatRankMatrix,MATCH($L$17,Rank,0),MATCH(L18,Rank,0)))","v":""},{"$f":"IF(M18=0,\"\",INDEX(ThreatRankMatrix,MATCH($M$17,Rank,0),MATCH(M18,Rank,0)))","v":""},{"$f":"IF(N18=0,\"\",INDEX(ThreatRankMatrix,MATCH($N$17,Rank,0),MATCH(N18,Rank,0)))","v":""},{"$f":"IF(O18=0,\"\",INDEX(ThreatRankMatrix,MATCH($O$17,Rank,0),MATCH(O18,Rank,0)))","v":""},{"$f":"IF(P18=0,\"\",INDEX(ThreatRankMatrix,MATCH($P$17,Rank,0),MATCH(P18,Rank,0)))","v":""},null,null,null,null,null,null,null,null,null,null,null,null,null,null,null,{"$f":"SUM(AG19:AP19)","v":44},{"$f":"IF(G$17=\"\",0,(IF(G18=0,0,IF(G19=0,0,INDEX(ThreatScore,MATCH(G19,Rank,0))))))","v":35},0,1,1,7,0,0,0,0,0]
[null,null,null,null,"Invasive terrestrial species/pests/pathogens","Contribution",null,null,null,"High","High",null,null,null,null,null,{"$f":"IF(AF21>=Scoring!$B$24,\"Very High\",IF(AF21>=Scoring!$B$25,\"High\",IF(AF21>=Scoring!$B$26,\"Medium\",IF(AF21>=Scoring!$B$27,\"Low\",\"-\"))))","v":"Medium"}]
[null,null,null,null,null,"Threat Rank ",{"$f":"IF(G20=0,\"\",INDEX(ThreatRankMatrix,MATCH($G$17,Rank,0),MATCH(G20,Rank,0)))","v":""},{"$f":"IF(H20=0,\"\",INDEX(ThreatRankMatrix,MATCH($H$17,Rank,0),MATCH(H20,Rank,0)))","v":""},{"$f":"IF(I20=0,\"\",INDEX(ThreatRankMatrix,MATCH($I$17,Rank,0),MATCH(I20,Rank,0)))","v":""},{"$f":"IF(J20=0,\"\",INDEX(ThreatRankMatrix,MATCH($J$17,Rank,0),MATCH(J20,Rank,0)))","v":"Medium"},{"$f":"IF(K20=0,\"\",INDEX(ThreatRankMatrix,MATCH($K$17,Rank,0),MATCH(K20,Rank,0)))","v":"Medium"},{"$f":"IF(L20=0,\"\",INDEX(ThreatRankMatrix,MATCH($L$17,Rank,0),MATCH(L20,Rank,0)))","v":""},{"$f":"IF(M20=0,\"\",INDEX(ThreatRankMatrix,MATCH($M$17,Rank,0),MATCH(M20,Rank,0)))","v":""},{"$f":"IF(N20=0,\"\",INDEX(ThreatRankMatrix,MATCH($N$17,Rank,0),MATCH(N20,Rank,0)))","v":""},{"$f":"IF(O20=0,\"\",INDEX(ThreatRankMatrix,MATCH($O$17,Rank,0),MATCH(O20,Rank,0)))","v":""},{"$f":"IF(P20=0,\"\",INDEX(ThreatRankMatrix,MATCH($P$17,Rank,0),MATCH(P20,Rank,0)))","v":""},null,null,null,null,null,null,null,null,null,null,null,null,null,null,null,{"$f":"SUM(AG21:AP21)","v":14},{"$f":"IF(G$17=\"\",0,(IF(G20=0,0,IF(G21=0,0,INDEX(ThreatScore,MATCH(G21,Rank,0))))))","v":0},0,0,7,7,0,0,0,0,0]
[null,null,null,null,"Incompatible road design / maintenance","Contribution",null,"High","Medium",null,"High","Low",null,null,null,null,{"$f":"IF(AF23>=Scoring!$B$24,\"Very High\",IF(AF23>=Scoring!$B$25,\"High\",IF(AF23>=Scoring!$B$26,\"Medium\",IF(AF23>=Scoring!$B$27,\"Low\",\"-\"))))","v":"Medium"}]
[null,null,null,null,null,"Threat Rank ",{"$f":"IF(G22=0,\"\",INDEX(ThreatRankMatrix,MATCH($G$17,Rank,0),MATCH(G22,Rank,0)))","v":""},{"$f":"IF(H22=0,\"\",INDEX(ThreatRankMatrix,MATCH($H$17,Rank,0),MATCH(H22,Rank,0)))","v":"Medium"},{"$f":"IF(I22=0,\"\",INDEX(ThreatRankMatrix,MATCH($I$17,Rank,0),MATCH(I22,Rank,0)))","v":"Low"},{"$f":"IF(J22=0,\"\",INDEX(ThreatRankMatrix,MATCH($J$17,Rank,0),MATCH(J22,Rank,0)))","v":""},{"$f":"IF(K22=0,\"\",INDEX(ThreatRankMatrix,MATCH($K$17,Rank,0),MATCH(K22,Rank,0)))","v":"Medium"},{"$f":"IF(L22=0,\"\",INDEX(ThreatRankMatrix,MATCH($L$17,Rank,0),MATCH(L22,Rank,0)))","v":"Low"},{"$f":"IF(M22=0,\"\",INDEX(ThreatRankMatrix,MATCH($M$17,Rank,0),MATCH(M22,Rank,0)))","v":""},{"$f":"IF(N22=0,\"\",INDEX(ThreatRankMatrix,MATCH($N$17,Rank,0),MATCH(N22,Rank,0)))","v":""},{"$f":"IF(O22=0,\"\",INDEX(ThreatRankMatrix,MATCH($O$17,Rank,0),MATCH(O22,Rank,0)))","v":""},{"$f":"IF(P22=0,\"\",INDEX(ThreatRankMatrix,MATCH($P$17,Rank,0),MATCH(P22,Rank,0)))","v":""},null,null,null,null,null,null,null,null,null,null,null,null,null,null,null,{"$f":"SUM(AG23:AP23)","v":16},{"$f":"IF(G$17=\"\",0,(IF(G22=0,0,IF(G23=0,0,INDEX(ThreatScore,MATCH(G23,Rank,0))))))","v":0},7,1,0,7,1,0,0,0,0]
[null,null,null,null,"Residential / commercial development","Contribution",null,"Medium","Low",null,null,null,null,null,null,null,{"$f":"IF(AF25>=Scoring!$B$24,\"Very High\",IF(AF25>=Scoring!$B$25,\"High\",IF(AF25>=Scoring!$B$26,\"Medium\",IF(AF25>=Scoring!$B$27,\"Low\",\"-\"))))","v":"Low"}]
[null,null,null,null,null,"Threat Rank ",{"$f":"IF(G24=0,\"\",INDEX(ThreatRankMatrix,MATCH($G$17,Rank,0),MATCH(G24,Rank,0)))","v":""},{"$f":"IF(H24=0,\"\",INDEX(ThreatRankMatrix,MATCH($H$17,Rank,0),MATCH(H24,Rank,0)))","v":"Low"},{"$f":"IF(I24=0,\"\",INDEX(ThreatRankMatrix,MATCH($I$17,Rank,0),MATCH(I24,Rank,0)))","v":"Low"},{"$f":"IF(J24=0,\"\",INDEX(ThreatRankMatrix,MATCH($J$17,Rank,0),MATCH(J24,Rank,0)))","v":""},{"$f":"IF(K24=0,\"\",INDEX(ThreatRankMatrix,MATCH($K$17,Rank,0),MATCH(K24,Rank,0)))","v":""},{"$f":"IF(L24=0,\"\",INDEX(ThreatRankMatrix,MATCH($L$17,Rank,0),MATCH(L24,Rank,0)))","v":""},{"$f":"IF(M24=0,\"\",INDEX(ThreatRankMatrix,MATCH($M$17,Rank,0),MATCH(M24,Rank,0)))","v":""},{"$f":"IF(N24=0,\"\",INDEX(ThreatRankMatrix,MATCH($N$17,Rank,0),MATCH(N24,Rank,0)))","v":""},{"$f":"IF(O24=0,\"\",INDEX(ThreatRankMatrix,MATCH($O$17,Rank,0),MATCH(O24,Rank,0)))","v":""},{"$f":"IF(P24=0,\"\",INDEX(ThreatRankMatrix,MATCH($P$17,Rank,0),MATCH(P24,Rank,0)))","v":""},null,null,null,null,null,null,null,null,null,null,null,null,null,null,null,{"$f":"SUM(AG25:AP25)","v":2},{"$f":"IF(G$17=\"\",0,(IF(G24=0,0,IF(G25=0,0,INDEX(ThreatScore,MATCH(G25,Rank,0))))))","v":0},1,1,0,0,0,0,0,0,0]
[null,null,null,null,"Incompatible timber management practices","Contribution","Medium","Medium",null,"Low","Medium","Low",null,null,null,null,{"$f":"IF(AF27>=Scoring!$B$24,\"Very High\",IF(AF27>=Scoring!$B$25,\"High\",IF(AF27>=Scoring!$B$26,\"Medium\",IF(AF27>=Scoring!$B$27,\"Low\",\"-\"))))","v":"Medium"}]
[null,null,null,null,null,"Threat Rank ",{"$f":"IF(G26=0,\"\",INDEX(ThreatRankMatrix,MATCH($G$17,Rank,0),MATCH(G26,Rank,0)))","v":"Medium"},{"$f":"IF(H26=0,\"\",INDEX(ThreatRankMatrix,MATCH($H$17,Rank,0),MATCH(H26,Rank,0)))","v":"Low"},{"$f":"IF(I26=0,\"\",INDEX(ThreatRankMatrix,MATCH($I$17,Rank,0),MATCH(I26,Rank,0)))","v":""},{"$f":"IF(J26=0,\"\",INDEX(ThreatRankMatrix,MATCH($J$17,Rank,0),MATCH(J26,Rank,0)))","v":"Low"},{"$f":"IF(K26=0,\"\",INDEX(ThreatRankMatrix,MATCH($K$17,Rank,0),MATCH(K26,Rank,0)))","v":"Low"},{"$f":"IF(L26=0,\"\",INDEX(ThreatRankMatrix,MATCH($L$17,Rank,0),MATCH(L26,Rank,0)))","v":"Low"},{"$f":"IF(M26=0,\"\",INDEX(ThreatRankMatrix,MATCH($M$17,Rank,0),MATCH(M26,Rank,0)))","v":""},{"$f":"IF(N26=0,\"\",INDEX(ThreatRankMatrix,MATCH($N$17,Rank,0),MATCH(N26,Rank,0)))","v":""},{"$f":"IF(O26=0,\"\",INDEX(ThreatRankMatrix,MATCH($O$17,Rank,0),MATCH(O26,Rank,0)))","v":""},{"$f":"IF(P26=0,\"\",INDEX(ThreatRankMatrix,MATCH($P$17,Rank,0),MATCH(P26,Rank,0)))","v":""},null,null,null,null,null,null,null,null,null,null,null,null,null,null,null,{"$f":"SUM(AG27:AP27)","v":11},{"$f":"IF(G$17=\"\",0,(IF(G26=0,0,IF(G27=0,0,INDEX(ThreatScore,MATCH(G27,Rank,0))))))","v":7},1,0,1,1,1,0,0,0,0]
[null,null,null,null,"Incompatible mining (excluding roads)","Contribution",null,"Medium","Low","Low","Medium","Low",null,null,null,null,{"$f":"IF(AF29>=Scoring!$B$24,\"Very High\",IF(AF29>=Scoring!$B$25,\"High\",IF(AF29>=Scoring!$B$26,\"Medium\",IF(AF29>=Scoring!$B$27,\"Low\",\"-\"))))","v":"Low"}]
[null,null,null,null,null,"Threat Rank ",{"$f":"IF(G28=0,\"\",INDEX(ThreatRankMatrix,MATCH($G$17,Rank,0),MATCH(G28,Rank,0)))","v":""},{"$f":"IF(H28=0,\"\",INDEX(ThreatRankMatrix,MATCH($H$17,Rank,0),MATCH(H28,Rank,0)))","v":"Low"},{"$f":"IF(I28=0,\"\",INDEX(ThreatRankMatrix,MATCH($I$17,Rank,0),MATCH(I28,Rank,0)))","v":"Low"},{"$f":"IF(J28=0,\"\",INDEX(ThreatRankMatrix,MATCH($J$17,Rank,0),MATCH(J28,Rank,0)))","v":"Low"},{"$f":"IF(K28=0,\"\",INDEX(ThreatRankMatrix,MATCH($K$17,Rank,0),MATCH(K28,Rank,0)))","v":"Low"},{"$f":"IF(L28=0,\"\",INDEX(ThreatRankMatrix,MATCH($L$17,Rank,0),MATCH(L28,Rank,0)))","v":"Low"},{"$f":"IF(M28=0,\"\",INDEX(ThreatRankMatrix,MATCH($M$17,Rank,0),MATCH(M28,Rank,0)))","v":""},{"$f":"IF(N28=0,\"\",INDEX(ThreatRankMatrix,MATCH($N$17,Rank,0),MATCH(N28,Rank,0)))","v":""},{"$f":"IF(O28=0,\"\",INDEX(ThreatRankMatrix,MATCH($O$17,Rank,0),MATCH(O28,Rank,0)))","v":""},{"$f":"IF(P28=0,\"\",INDEX(ThreatRankMatrix,MATCH($P$17,Rank,0),MATCH(P28,Rank,0)))","v":""},null,null,null,null,null,null,null,null,null,null,null,null,null,null,null,{"$f":"SUM(AG29:AP29)","v":5},{"$f":"IF(G$17=\"\",0,(IF(G28=0,0,IF(G29=0,0,INDEX(ThreatScore,MATCH(G29,Rank,0))))))","v":0},1,1,1,1,1,0,0,0,0]
[null,null,null,null,"Incompatible motorized vehicle use off-roads/ATV/bulldozers (e.g. pioneering, etc.)","Contribution",null,"Low","Low","Low","Low","Low",null,null,null,null,{"$f":"IF(AF31>=Scoring!$B$24,\"Very High\",IF(AF31>=Scoring!$B$25,\"High\",IF(AF31>=Scoring!$B$26,\"Medium\",IF(AF31>=Scoring!$B$27,\"Low\",\"-\"))))","v":"Low"}]
[null,null,null,null,null,"Threat Rank ",{"$f":"IF(G30=0,\"\",INDEX(ThreatRankMatrix,MATCH($G$17,Rank,0),MATCH(G30,Rank,0)))","v":""},{"$f":"IF(H30=0,\"\",INDEX(ThreatRankMatrix,MATCH($H$17,Rank,0),MATCH(H30,Rank,0)))","v":"Low"},{"$f":"IF(I30=0,\"\",INDEX(ThreatRankMatrix,MATCH($I$17,Rank,0),MATCH(I30,Rank,0)))","v":"Low"},{"$f":"IF(J30=0,\"\",INDEX(ThreatRankMatrix,MATCH($J$17,Rank,0),MATCH(J30,Rank,0)))","v":"Low"},{"$f":"IF(K30=0,\"\",INDEX(ThreatRankMatrix,MATCH($K$17,Rank,0),MATCH(K30,Rank,0)))","v":"Low"},{"$f":"IF(L30=0,\"\",INDEX(ThreatRankMatrix,MATCH($L$17,Rank,0),MATCH(L30,Rank,0)))","v":"Low"},{"$f":"IF(M30=0,\"\",INDEX(ThreatRankMatrix,MATCH($M$17,Rank,0),MATCH(M30,Rank,0)))","v":""},{"$f":"IF(N30=0,\"\",INDEX(ThreatRankMatrix,MATCH($N$17,Rank,0),MATCH(N30,Rank,0)))","v":""},{"$f":"IF(O30=0,\"\",INDEX(ThreatRankMatrix,MATCH($O$17,Rank,0),MATCH(O30,Rank,0)))","v":""},{"$f":"IF(P30=0,\"\",INDEX(ThreatRankMatrix,MATCH($P$17,Rank,0),MATCH(P30,Rank,0)))","v":""},null,null,null,null,null,null,null,null,null,null,null,null,null,null,null,{"$f":"SUM(AG31:AP31)","v":5},{"$f":"IF(G$17=\"\",0,(IF(G30=0,0,IF(G31=0,0,INDEX(ThreatScore,MATCH(G31,Rank,0))))))","v":0},1,1,1,1,1,0,0,0,0]
[null,null,null,null,"Fire suppression","Contribution","High","High",null,"Low","Medium","Low",null,null,null,null,{"$f":"IF(AF33>=Scoring!$B$24,\"Very High\",IF(AF33>=Scoring!$B$25,\"High\",IF(AF33>=Scoring!$B$26,\"Medium\",IF(AF33>=Scoring!$B$27,\"Low\",\"-\"))))","v":"High"}]
[null,null,null,null,null,"Threat Rank ",{"$f":"IF(G32=0,\"\",INDEX(ThreatRankMatrix,MATCH($G$17,Rank,0),MATCH(G32,Rank,0)))","v":"High"},{"$f":"IF(H32=0,\"\",INDEX(ThreatRankMatrix,MATCH($H$17,Rank,0),MATCH(H32,Rank,0)))","v":"Medium"},{"$f":"IF(I32=0,\"\",INDEX(ThreatRankMatrix,MATCH($I$17,Rank,0),MATCH(I32,Rank,0)))","v":""},{"$f":"IF(J32=0,\"\",INDEX(ThreatRankMatrix,MATCH($J$17,Rank,0),MATCH(J32,Rank,0)))","v":"Low"},{"$f":"IF(K32=0,\"\",INDEX(ThreatRankMatrix,MATCH($K$17,Rank,0),MATCH(K32,Rank,0)))","v":"Low"},{"$f":"IF(L32=0,\"\",INDEX(ThreatRankMatrix,MATCH($L$17,Rank,0),MATCH(L32,Rank,0)))","v":"Low"},{"$f":"IF(M32=0,\"\",INDEX(ThreatRankMatrix,MATCH($M$17,Rank,0),MATCH(M32,Rank,0)))","v":""},{"$f":"IF(N32=0,\"\",INDEX(ThreatRankMatrix,MATCH($N$17,Rank,0),MATCH(N32,Rank,0)))","v":""},{"$f":"IF(O32=0,\"\",INDEX(ThreatRankMatrix,MATCH($O$17,Rank,0),MATCH(O32,Rank,0)))","v":""},{"$f":"IF(P32=0,\"\",INDEX(ThreatRankMatrix,MATCH($P$17,Rank,0),MATCH(P32,Rank,0)))","v":""},null,null,null,null,null,null,null,null,null,null,null,null,null,null,null,{"$f":"SUM(AG33:AP33)","v":45},{"$f":"IF(G$17=\"\",0,(IF(G32=0,0,IF(G33=0,0,INDEX(ThreatScore,MATCH(G33,Rank,0))))))","v":35},7,0,1,1,1,0,0,0,0]
[null,null,null,null,"Dumping of trash, debris, etc. ","Contribution",null,null,null,"Low",null,"Low",null,null,null,null,{"$f":"IF(AF35>=Scoring!$B$24,\"Very High\",IF(AF35>=Scoring!$B$25,\"High\",IF(AF35>=Scoring!$B$26,\"Medium\",IF(AF35>=Scoring!$B$27,\"Low\",\"-\"))))","v":"Low"}]
[null,null,null,null,null,"Threat Rank ",{"$f":"IF(G34=0,\"\",INDEX(ThreatRankMatrix,MATCH($G$17,Rank,0),MATCH(G34,Rank,0)))","v":""},{"$f":"IF(H34=0,\"\",INDEX(ThreatRankMatrix,MATCH($H$17,Rank,0),MATCH(H34,Rank,0)))","v":""},{"$f":"IF(I34=0,\"\",INDEX(ThreatRankMatrix,MATCH($I$17,Rank,0),MATCH(I34,Rank,0)))","v":""},{"$f":"IF(J34=0,\"\",INDEX(ThreatRankMatrix,MATCH($J$17,Rank,0),MATCH(J34,Rank,0)))","v":"Low"},{"$f":"IF(K34=0,\"\",INDEX(ThreatRankMatrix,MATCH($K$17,Rank,0),MATCH(K34,Rank,0)))","v":""},{"$f":"IF(L34=0,\"\",INDEX(ThreatRankMatrix,MATCH($L$17,Rank,0),MATCH(L34,Rank,0)))","v":"Low"},{"$f":"IF(M34=0,\"\",INDEX(ThreatRankMatrix,MATCH($M$17,Rank,0),MATCH(M34,Rank,0)))","v":""},{"$f":"IF(N34=0,\"\",INDEX(ThreatRankMatrix,MATCH($N$17,Rank,0),MATCH(N34,Rank,0)))","v":""},{"$f":"IF(O34=0,\"\",INDEX(ThreatRankMatrix,MATCH($O$17,Rank,0),MATCH(O34,Rank,0)))","v":""},{"$f":"IF(P34=0,\"\",INDEX(ThreatRankMatrix,MATCH($P$17,Rank,0),MATCH(P34,Rank,0)))","v":""},null,null,null,null,null,null,null,null,null,null,null,null,null,null,null,{"$f":"SUM(AG35:AP35)","v":2},{"$f":"IF(G$17=\"\",0,(IF(G34=0,0,IF(G35=0,0,INDEX(ThreatScore,MATCH(G35,Rank,0))))))","v":0},0,0,1,0,1,0,0,0,0]
[null,null,null,null,null,"Contribution",null,null,null,null,null,null,null,null,null,null,{"$f":"IF(AF37>=Scoring!$B$24,\"Very High\",IF(AF37>=Scoring!$B$25,\"High\",IF(AF37>=Scoring!$B$26,\"Medium\",IF(AF37>=Scoring!$B$27,\"Low\",\"-\"))))","v":"-"}]
[null,null,null,null,null,"Threat Rank ",{"$f":"IF(G36=0,\"\",INDEX(ThreatRankMatrix,MATCH($G$17,Rank,0),MATCH(G36,Rank,0)))","v":""},{"$f":"IF(H36=0,\"\",INDEX(ThreatRankMatrix,MATCH($H$17,Rank,0),MATCH(H36,Rank,0)))","v":""},{"$f":"IF(I36=0,\"\",INDEX(ThreatRankMatrix,MATCH($I$17,Rank,0),MATCH(I36,Rank,0)))","v":""},{"$f":"IF(J36=0,\"\",INDEX(ThreatRankMatrix,MATCH($J$17,Rank,0),MATCH(J36,Rank,0)))","v":""},{"$f":"IF(K36=0,\"\",INDEX(ThreatRankMatrix,MATCH($K$17,Rank,0),MATCH(K36,Rank,0)))","v":""},{"$f":"IF(L36=0,\"\",INDEX(ThreatRankMatrix,MATCH($L$17,Rank,0),MATCH(L36,Rank,0)))","v":""},{"$f":"IF(M36=0,\"\",INDEX(ThreatRankMatrix,MATCH($M$17,Rank,0),MATCH(M36,Rank,0)))","v":""},{"$f":"IF(N36=0,\"\",INDEX(ThreatRankMatrix,MATCH($N$17,Rank,0),MATCH(N36,Rank,0)))","v":""},{"$f":"IF(O36=0,\"\",INDEX(ThreatRankMatrix,MATCH($O$17,Rank,0),MATCH(O36,Rank,0)))","v":""},{"$f":"IF(P36=0,\"\",INDEX(ThreatRankMatrix,MATCH($P$17,Rank,0),MATCH(P36,Rank,0)))","v":""},null,null,null,null,null,null,null,null,null,null,null,null,null,null,null,{"$f":"SUM(AG37:AP37)","v":0},{"$f":"IF(G$17=\"\",0,(IF(G36=0,0,IF(G37=0,0,INDEX(ThreatScore,MATCH(G37,Rank,0))))))","v":0},{"$f":"IF(H$17=\"\",0,(IF(H36=0,0,IF(H37=0,0,INDEX(ThreatScore,MATCH(H37,Rank,0))))))","v":0},{"$f":"IF(I$17=\"\",0,(IF(I36=0,0,IF(I37=0,0,INDEX(ThreatScore,MATCH(I37,Rank,0))))))","v":0},{"$f":"IF(J$17=\"\",0,(IF(J36=0,0,IF(J37=0,0,INDEX(ThreatScore,MATCH(J37,Rank,0))))))","v":0},{"$f":"IF(K$17=\"\",0,(IF(K36=0,0,IF(K37=0,0,INDEX(ThreatScore,MATCH(K37,Rank,0))))))","v":0},{"$f":"IF(L$17=\"\",0,(IF(L36=0,0,IF(L37=0,0,INDEX(ThreatScore,MATCH(L37,Rank,0))))))","v":0},{"$f":"IF(M$17=\"\",0,(IF(M36=0,0,IF(M37=0,0,INDEX(ThreatScore,MATCH(M37,Rank,0))))))","v":0},{"$f":"IF(N$17=\"\",0,(IF(N36=0,0,IF(N37=0,0,INDEX(ThreatScore,MATCH(N37,Rank,0))))))","v":0},{"$f":"IF(O$17=\"\",0,(IF(O36=0,0,IF(O37=0,0,INDEX(ThreatScore,MATCH(O37,Rank,0))))))","v":0},{"$f":"IF(P$17=\"\",0,(IF(P36=0,0,IF(P37=0,0,INDEX(ThreatScore,MATCH(P37,Rank,0))))))","v":0}]
[null,null,null,null,null,"Contribution",null,null,null,null,null,null,null,null,null,null,{"$f":"IF(AF39>=Scoring!$B$24,\"Very High\",IF(AF39>=Scoring!$B$25,\"High\",IF(AF39>=Scoring!$B$26,\"Medium\",IF(AF39>=Scoring!$B$27,\"Low\",\"-\"))))","v":"-"}]
[null,null,null,null,null,"Threat Rank ",{"$f":"IF(G38=0,\"\",INDEX(ThreatRankMatrix,MATCH($G$17,Rank,0),MATCH(G38,Rank,0)))","v":""},{"$f":"IF(H38=0,\"\",INDEX(ThreatRankMatrix,MATCH($H$17,Rank,0),MATCH(H38,Rank,0)))","v":""},{"$f":"IF(I38=0,\"\",INDEX(ThreatRankMatrix,MATCH($I$17,Rank,0),MATCH(I38,Rank,0)))","v":""},{"$f":"IF(J38=0,\"\",INDEX(ThreatRankMatrix,MATCH($J$17,Rank,0),MATCH(J38,Rank,0)))","v":""},{"$f":"IF(K38=0,\"\",INDEX(ThreatRankMatrix,MATCH($K$17,Rank,0),MATCH(K38,Rank,0)))","v":""},{"$f":"IF(L38=0,\"\",INDEX(ThreatRankMatrix,MATCH($L$17,Rank,0),MATCH(L38,Rank,0)))","v":""},{"$f":"IF(M38=0,\"\",INDEX(ThreatRankMatrix,MATCH($M$17,Rank,0),MATCH(M38,Rank,0)))","v":""},{"$f":"IF(N38=0,\"\",INDEX(ThreatRankMatrix,MATCH($N$17,Rank,0),MATCH(N38,Rank,0)))","v":""},{"$f":"IF(O38=0,\"\",INDEX(ThreatRankMatrix,MATCH($O$17,Rank,0),MATCH(O38,Rank,0)))","v":""},{"$f":"IF(P38=0,\"\",INDEX(ThreatRankMatrix,MATCH($P$17,Rank,0),MATCH(P38,Rank,0)))","v":""},null,null,null,null,null,null,null,null,null,null,null,null,null,null,null,{"$f":"SUM(AG39:AP39)","v":0},{"$f":"IF(G$17=\"\",0,(IF(G38=0,0,IF(G39=0,0,INDEX(ThreatScore,MATCH(G39,Rank,0))))))","v":0},{"$f":"IF(H$17=\"\",0,(IF(H38=0,0,IF(H39=0,0,INDEX(ThreatScore,MATCH(H39,Rank,0))))))","v":0},{"$f":"IF(I$17=\"\",0,(IF(I38=0,0,IF(I39=0,0,INDEX(ThreatScore,MATCH(I39,Rank,0))))))","v":0},{"$f":"IF(J$17=\"\",0,(IF(J38=0,0,IF(J39=0,0,INDEX(ThreatScore,MATCH(J39,Rank,0))))))","v":0},{"$f":"IF(K$17=\"\",0,(IF(K38=0,0,IF(K39=0,0,INDEX(ThreatScore,MATCH(K39,Rank,0))))))","v":0},{"$f":"IF(L$17=\"\",0,(IF(L38=0,0,IF(L39=0,0,INDEX(ThreatScore,MATCH(L39,Rank,0))))))","v":0},{"$f":"IF(M$17=\"\",0,(IF(M38=0,0,IF(M39=0,0,INDEX(ThreatScore,MATCH(M39,Rank,0))))))","v":0},{"$f":"IF(N$17=\"\",0,(IF(N38=0,0,IF(N39=0,0,INDEX(ThreatScore,MATCH(N39,Rank,0))))))","v":0},{"$f":"IF(O$17=\"\",0,(IF(O38=0,0,IF(O39=0,0,INDEX(ThreatScore,MATCH(O39,Rank,0))))))","v":0},{"$f":"IF(P$17=\"\",0,(IF(P38=0,0,IF(P39=0,0,INDEX(ThreatScore,MATCH(P39,Rank,0))))))","v":0}]
[null,null,null,null,null,"Contribution",null,null,null,null,null,null,null,null,null,null,{"$f":"IF(AF41>=Scoring!$B$24,\"Very High\",IF(AF41>=Scoring!$B$25,\"High\",IF(AF41>=Scoring!$B$26,\"Medium\",IF(AF41>=Scoring!$B$27,\"Low\",\"-\"))))","v":"-"}]
[null,null,null,null,null,"Threat Rank ",{"$f":"IF(G40=0,\"\",INDEX(ThreatRankMatrix,MATCH($G$17,Rank,0),MATCH(G40,Rank,0)))","v":""},{"$f":"IF(H40=0,\"\",INDEX(ThreatRankMatrix,MATCH($H$17,Rank,0),MATCH(H40,Rank,0)))","v":""},{"$f":"IF(I40=0,\"\",INDEX(ThreatRankMatrix,MATCH($I$17,Rank,0),MATCH(I40,Rank,0)))","v":""},{"$f":"IF(J40=0,\"\",INDEX(ThreatRankMatrix,MATCH($J$17,Rank,0),MATCH(J40,Rank,0)))","v":""},{"$f":"IF(K40=0,\"\",INDEX(ThreatRankMatrix,MATCH($K$17,Rank,0),MATCH(K40,Rank,0)))","v":""},{"$f":"IF(L40=0,\"\",INDEX(ThreatRankMatrix,MATCH($L$17,Rank,0),MATCH(L40,Rank,0)))","v":""},{"$f":"IF(M40=0,\"\",INDEX(ThreatRankMatrix,MATCH($M$17,Rank,0),MATCH(M40,Rank,0)))","v":""},{"$f":"IF(N40=0,\"\",INDEX(ThreatRankMatrix,MATCH($N$17,Rank,0),MATCH(N40,Rank,0)))","v":""},{"$f":"IF(O40=0,\"\",INDEX(ThreatRankMatrix,MATCH($O$17,Rank,0),MATCH(O40,Rank,0)))","v":""},{"$f":"IF(P40=0,\"\",INDEX(ThreatRankMatrix,MATCH($P$17,Rank,0),MATCH(P40,Rank,0)))","v":""},null,null,null,null,null,null,null,null,null,null,null,null,null,null,null,{"$f":"SUM(AG41:AP41)","v":0},{"$f":"IF(G$17=\"\",0,(IF(G40=0,0,IF(G41=0,0,INDEX(ThreatScore,MATCH(G41,Rank,0))))))","v":0},0,0,0,0,0,0,0,0,0]

{"sheet":"3","index":7,"n_rows":41,"n_cols":42,"rows_kept":41,"cut":false,"hidden":false,"merged":[[0,3,0,4],[33,4,34,4],[33,16,34,16],[21,4,22,4],[21,16,22,16],[23,4,24,4],[23,16,24,16],[25,4,26,4],[13,3,13,4],[25,16,26,16],[15,4,16,4],[15,16,16,16],[17,4,18,4],[17,16,18,16],[19,4,20,4],[19,16,20,16],[39,4,40,4],[39,16,40,16],[27,4,28,4],[27,16,28,16],[29,4,30,4],[29,16,30,16],[31,4,32,4],[31,16,32,16],[35,4,36,4],[35,16,36,16],[37,4,38,4],[37,16,38,16]]}
[null,null,null,{"$f":"IF(Targets!C15=0,\"\",Targets!C15)","v":"Boreal Forests - Lower Chena"},{"$f":"IF(Targets!C15=0,\"\",Targets!C15)","v":"Boreal Forests - Lower Chena"},"  Key Attributes & Future Threats"]
[null,null,null,null,null,"Place cursor over cells with red triangles in top corner for hint"]
["KEA ID","Target ID","Target Name","Category","Key Attribute","Indicator","Poor","Fair","Good","Very Good","Current Rating","Projected Future Rating w No Action","Stress Ranking (calculated)","Stress Ranking (User Override)",null,null,null,null,null,"Projected Future Rating w Strategies","New Stress Ranking (calculated)","New Stress Ranking (User Override)",null,null,"Temp Indicator ID",null,"Target #","Current Score","Score w No Action","Score w Strategies","Current Weight","Future Weight No Action","Future Weight w Action","Current Weighted Score","Future No Action Weighted Score","Future Action Weighted Score","Current Weighted Average","Future No Action Weighted Average","Future Action Weighted Average"]
[{"$f":"ROW()+300","v":304},3,{"$f":"$D$1","v":"Boreal Forests - Lower Chena"},"Landscape Context","Fire regime","Frequency, size, type of fires, severity","Highly altered regime","Moderately altered regime","Mostly natural regime","Mother Nature","Fair","Fair",{"$f":"IF(K4=0,\"\",IF(L4=0,\"\",INDEX(StressRankMatrix,MATCH(K4,Rating,0),MATCH(L4,Rating,0))))","v":"Medium"},null,null,null,null,null,null,{"$f":"IF(L4=\"\",\"\",IFERROR(INDEX(Outcomes!$F:$F, MATCH(A4,Outcomes!$H:$H,0)),L4))","v":"Fair"},{"$f":"IF(K4=\"\",\"\",IF(T4=0,\"\",INDEX(StressRankMatrix,MATCH(K4,Rating,0),MATCH(T4,Rating,0))))","v":"Medium"},null,null,null,{"$f":"IFERROR(INDEX(#REF!,MATCH(A4,#REF!,0)),\"\")","v":""},null,{"$f":"IF(E4=\"\",\"\",IF(E4>0,$B$4,\"error\"))","v":3},{"$f":"IF(K4=\"Poor\",Scoring!$B$50,IF(K4=\"Fair -\",Scoring!$B$49,IF(K4=\"Fair\",Scoring!$B$48,IF(K4=\"Good -\",Scoring!$B$47,IF(K4=\"Good\",Scoring!$B$46,IF(K4=\"Very Good\",Scoring!$B$45,IF(K4=\"\",0)))))))","v":40.04},{"$f":"IF(L4=\"Poor\",Scoring!$B$50,IF(L4=\"Fair -\",Scoring!$B$49,IF(L4=\"Fair\",Scoring!$B$48,IF(L4=\"Good -\",Scoring!$B$47,IF(L4=\"Good\",Scoring!$B$46,IF(L4=\"Very Good\",Scoring!$B$45,IF(L4=\"\",0)))))))","v":40.04},{"$f":"IF(T4=\"Poor\",Scoring!$B$50,IF(T4=\"Fair -\",Scoring!$B$49,IF(T4=\"Fair\",Scoring!$B$48,IF(T4=\"Good -\",Scoring!$B$47,IF(T4=\"Good\",Scoring!$B$46,IF(T4=\"Very Good\",Scoring!$B$45,IF(T4=\"\",0)))))))","v":40.04},{"$f":"IF(K4=\"Poor\",Scoring!$C$50,IF(K4=\"Fair -\",Scoring!$C$49,IF(K4=\"Fair\",Scoring!$C$48,IF(K4=\"Good -\",Scoring!$C$47,IF(K4=\"Good\",Scoring!$C$46,IF(K4=\"Very Good\",Scoring!$C$45,IF(K4=\"\",0)))))))","v":1},{"$f":"IF(L4=\"Poor\",Scoring!$C$50,IF(L4=\"Fair -\",Scoring!$C$49,IF(L4=\"Fair\",Scoring!$C$48,IF(L4=\"Good -\",Scoring!$C$47,IF(L4=\"Good\",Scoring!$C$46,IF(L4=\"Very Good\",Scoring!$C$45,IF(L4=\"\",0)))))))","v":1},{"$f":"IF(T4=\"Poor\",Scoring!$C$50,IF(T4=\"Fair -\",Scoring!$C$49,IF(T4=\"Fair\",Scoring!$C$48,IF(T4=\"Good -\",Scoring!$C$47,IF(T4=\"Good\",Scoring!$C$46,IF(T4=\"Very Good\",Scoring!$C$45,IF(T4=\"\",0)))))))","v":1},{"$f":"AB4*AE4","v":40.04},{"$f":"AC4*AF4","v":40.04},{"$f":"AD4*AG4","v":40.04}]
[{"$f":"ROW()+300","v":305},3,{"$f":"$D$1","v":"Boreal Forests - Lower Chena"},"Landscape Context","Habitat connectivity","Movement of species","Most species are isolated ","Some species are isolated"," Most species are mostly able to move freely among most habitats   "," Mother Nature","Fair","Fair -","High",null,null,null,null,null,null,{"$f":"IF(L5=\"\",\"\",IFERROR(INDEX(Outcomes!$F:$F, MATCH(A5,Outcomes!$H:$H,0)),L5))","v":"Fair -"},"High",null,null,null,{"$f":"IFERROR(INDEX(#REF!,MATCH(A5,#REF!,0)),\"\")","v":""},null,3,{"$f":"IF(K5=\"Poor\",Scoring!$B$50,IF(K5=\"Fair -\",Scoring!$B$49,IF(K5=\"Fair\",Scoring!$B$48,IF(K5=\"Good -\",Scoring!$B$47,IF(K5=\"Good\",Scoring!$B$46,IF(K5=\"Very Good\",Scoring!$B$45,IF(K5=\"\",0)))))))","v":40.04},{"$f":"IF(L5=\"Poor\",Scoring!$B$50,IF(L5=\"Fair -\",Scoring!$B$49,IF(L5=\"Fair\",Scoring!$B$48,IF(L5=\"Good -\",Scoring!$B$47,IF(L5=\"Good\",Scoring!$B$46,IF(L5=\"Very Good\",Scoring!$B$45,IF(L5=\"\",0)))))))","v":20.03},{"$f":"IF(T5=\"Poor\",Scoring!$B$50,IF(T5=\"Fair -\",Scoring!$B$49,IF(T5=\"Fair\",Scoring!$B$48,IF(T5=\"Good -\",Scoring!$B$47,IF(T5=\"Good\",Scoring!$B$46,IF(T5=\"Very Good\",Scoring!$B$45,IF(T5=\"\",0)))))))","v":20.03},{"$f":"IF(K5=\"Poor\",Scoring!$C$50,IF(K5=\"Fair -\",Scoring!$C$49,IF(K5=\"Fair\",Scoring!$C$48,IF(K5=\"Good -\",Scoring!$C$47,IF(K5=\"Good\",Scoring!$C$46,IF(K5=\"Very Good\",Scoring!$C$45,IF(K5=\"\",0)))))))","v":1},{"$f":"IF(L5=\"Poor\",Scoring!$C$50,IF(L5=\"Fair -\",Scoring!$C$49,IF(L5=\"Fair\",Scoring!$C$48,IF(L5=\"Good -\",Scoring!$C$47,IF(L5=\"Good\",Scoring!$C$46,IF(L5=\"Very Good\",Scoring!$C$45,IF(L5=\"\",0)))))))","v":1},{"$f":"IF(T5=\"Poor\",Scoring!$C$50,IF(T5=\"Fair -\",Scoring!$C$49,IF(T5=\"Fair\",Scoring!$C$48,IF(T5=\"Good -\",Scoring!$C$47,IF(T5=\"Good\",Scoring!$C$46,IF(T5=\"Very Good\",Scoring!$C$45,IF(T5=\"\",0)))))))","v":1},{"$f":"AB5*AE5","v":40.04},20.03,20.03]
[306,3,"Boreal Forests - Lower Chena","Landscape Context","Hydrologic regime","Natural fluctuations of surface and ground water -amount, frequency, timing, duration","Water levels, flows or fluctuations are too high or too low, not related to the precipitation, and unlikely to maintain nested targets in many habitats within the target area and downstream","Water levels, flows or fluctuations in relationship to precipitation and ground water are likely to maintain nested targets in some habitats within the target and downstream","Water levels, flows or fluctuations in relationship to precipitation and ground water are likely to maintain nested targets in most habitats within the target area and downstream","Water levels, flows or fluctuations in relationship to precipitation and ground water are likely to maintain nested targets in almost all habitats within the target area and downstream","Fair","Fair -","High",null,null,null,null,null,null,{"$f":"IF(L6=\"\",\"\",IFERROR(INDEX(Outcomes!$F:$F, MATCH(A6,Outcomes!$H:$H,0)),L6))","v":"Fair"},"Medium",null,null,null,{"$f":"IFERROR(INDEX(#REF!,MATCH(A6,#REF!,0)),\"\")","v":""},null,3,{"$f":"IF(K6=\"Poor\",Scoring!$B$50,IF(K6=\"Fair -\",Scoring!$B$49,IF(K6=\"Fair\",Scoring!$B$48,IF(K6=\"Good -\",Scoring!$B$47,IF(K6=\"Good\",Scoring!$B$46,IF(K6=\"Very Good\",Scoring!$B$45,IF(K6=\"\",0)))))))","v":40.04},{"$f":"IF(L6=\"Poor\",Scoring!$B$50,IF(L6=\"Fair -\",Scoring!$B$49,IF(L6=\"Fair\",Scoring!$B$48,IF(L6=\"Good -\",Scoring!$B$47,IF(L6=\"Good\",Scoring!$B$46,IF(L6=\"Very Good\",Scoring!$B$45,IF(L6=\"\",0)))))))","v":20.03},{"$f":"IF(T6=\"Poor\",Scoring!$B$50,IF(T6=\"Fair -\",Scoring!$B$49,IF(T6=\"Fair\",Scoring!$B$48,IF(T6=\"Good -\",Scoring!$B$47,IF(T6=\"Good\",Scoring!$B$46,IF(T6=\"Very Good\",Scoring!$B$45,IF(T6=\"\",0)))))))","v":40.04},{"$f":"IF(K6=\"Poor\",Scoring!$C$50,IF(K6=\"Fair -\",Scoring!$C$49,IF(K6=\"Fair\",Scoring!$C$48,IF(K6=\"Good -\",Scoring!$C$47,IF(K6=\"Good\",Scoring!$C$46,IF(K6=\"Very Good\",Scoring!$C$45,IF(K6=\"\",0)))))))","v":1},{"$f":"IF(L6=\"Poor\",Scoring!$C$50,IF(L6=\"Fair -\",Scoring!$C$49,IF(L6=\"Fair\",Scoring!$C$48,IF(L6=\"Good -\",Scoring!$C$47,IF(L6=\"Good\",Scoring!$C$46,IF(L6=\"Very Good\",Scoring!$C$45,IF(L6=\"\",0)))))))","v":1},{"$f":"IF(T6=\"Poor\",Scoring!$C$50,IF(T6=\"Fair -\",Scoring!$C$49,IF(T6=\"Fair\",Scoring!$C$48,IF(T6=\"Good -\",Scoring!$C$47,IF(T6=\"Good\",Scoring!$C$46,IF(T6=\"Very Good\",Scoring!$C$45,IF(T6=\"\",0)))))))","v":1},40.04,20.03,40.04]
[307,3,"Boreal Forests - Lower Chena","Condition","Characteristic native community","Presence of characteristic native communities within habitats","Few habitats have the characteristic native communities to accom-modate most nested targets in abundance","Some habitats have the characteristic native communities to accom-modate most nested targets in abundance","Most habitats have the characteristic native communities to accom-modate most nested targets in abundance","Almost all habitats have the characteristic native communities to accom­modate almost all nested targets in abundance","Good","Good -","Medium",null,null,null,null,null,null,{"$f":"IF(L7=\"\",\"\",IFERROR(INDEX(Outcomes!$F:$F, MATCH(A7,Outcomes!$H:$H,0)),L7))","v":"Good -"},"Medium",null,null,null,{"$f":"IFERROR(INDEX(#REF!,MATCH(A7,#REF!,0)),\"\")","v":""},null,3,{"$f":"IF(K7=\"Poor\",Scoring!$B$50,IF(K7=\"Fair -\",Scoring!$B$49,IF(K7=\"Fair\",Scoring!$B$48,IF(K7=\"Good -\",Scoring!$B$47,IF(K7=\"Good\",Scoring!$B$46,IF(K7=\"Very Good\",Scoring!$B$45,IF(K7=\"\",0)))))))","v":80.03},{"$f":"IF(L7=\"Poor\",Scoring!$B$50,IF(L7=\"Fair -\",Scoring!$B$49,IF(L7=\"Fair\",Scoring!$B$48,IF(L7=\"Good -\",Scoring!$B$47,IF(L7=\"Good\",Scoring!$B$46,IF(L7=\"Very Good\",Scoring!$B$45,IF(L7=\"\",0)))))))","v":60.04},{"$f":"IF(T7=\"Poor\",Scoring!$B$50,IF(T7=\"Fair -\",Scoring!$B$49,IF(T7=\"Fair\",Scoring!$B$48,IF(T7=\"Good -\",Scoring!$B$47,IF(T7=\"Good\",Scoring!$B$46,IF(T7=\"Very Good\",Scoring!$B$45,IF(T7=\"\",0)))))))","v":60.04},{"$f":"IF(K7=\"Poor\",Scoring!$C$50,IF(K7=\"Fair -\",Scoring!$C$49,IF(K7=\"Fair\",Scoring!$C$48,IF(K7=\"Good -\",Scoring!$C$47,IF(K7=\"Good\",Scoring!$C$46,IF(K7=\"Very Good\",Scoring!$C$45,IF(K7=\"\",0)))))))","v":1},{"$f":"IF(L7=\"Poor\",Scoring!$C$50,IF(L7=\"Fair -\",Scoring!$C$49,IF(L7=\"Fair\",Scoring!$C$48,IF(L7=\"Good -\",Scoring!$C$47,IF(L7=\"Good\",Scoring!$C$46,IF(L7=\"Very Good\",Scoring!$C$45,IF(L7=\"\",0)))))))","v":1},{"$f":"IF(T7=\"Poor\",Scoring!$C$50,IF(T7=\"Fair -\",Scoring!$C$49,IF(T7=\"Fair\",Scoring!$C$48,IF(T7=\"Good -\",Scoring!$C$47,IF(T7=\"Good\",Scoring!$C$46,IF(T7=\"Very Good\",Scoring!$C$45,IF(T7=\"\",0)))))))","v":1},80.03,60.04,60.04]
[308,3,"Boreal Forests - Lower Chena","Condition","Vegetation composition & structure - mosaic","Diversity of species and age classes","Low diversity of species and age classes"," Moderate diversity of species and age classes","Good diversity of species and age classes","High diversity of species and age class","Good","Good -","Medium",null,null,null,null,null,null,{"$f":"IF(L8=\"\",\"\",IFERROR(INDEX(Outcomes!$F:$F, MATCH(A8,Outcomes!$H:$H,0)),L8))","v":"Good"},"-",null,null,null,{"$f":"IFERROR(INDEX(#REF!,MATCH(A8,#REF!,0)),\"\")","v":""},null,3,{"$f":"IF(K8=\"Poor\",Scoring!$B$50,IF(K8=\"Fair -\",Scoring!$B$49,IF(K8=\"Fair\",Scoring!$B$48,IF(K8=\"Good -\",Scoring!$B$47,IF(K8=\"Good\",Scoring!$B$46,IF(K8=\"Very Good\",Scoring!$B$45,IF(K8=\"\",0)))))))","v":80.03},{"$f":"IF(L8=\"Poor\",Scoring!$B$50,IF(L8=\"Fair -\",Scoring!$B$49,IF(L8=\"Fair\",Scoring!$B$48,IF(L8=\"Good -\",Scoring!$B$47,IF(L8=\"Good\",Scoring!$B$46,IF(L8=\"Very Good\",Scoring!$B$45,IF(L8=\"\",0)))))))","v":60.04},{"$f":"IF(T8=\"Poor\",Scoring!$B$50,IF(T8=\"Fair -\",Scoring!$B$49,IF(T8=\"Fair\",Scoring!$B$48,IF(T8=\"Good -\",Scoring!$B$47,IF(T8=\"Good\",Scoring!$B$46,IF(T8=\"Very Good\",Scoring!$B$45,IF(T8=\"\",0)))))))","v":80.03},{"$f":"IF(K8=\"Poor\",Scoring!$C$50,IF(K8=\"Fair -\",Scoring!$C$49,IF(K8=\"Fair\",Scoring!$C$48,IF(K8=\"Good -\",Scoring!$C$47,IF(K8=\"Good\",Scoring!$C$46,IF(K8=\"Very Good\",Scoring!$C$45,IF(K8=\"\",0)))))))","v":1},{"$f":"IF(L8=\"Poor\",Scoring!$C$50,IF(L8=\"Fair -\",Scoring!$C$49,IF(L8=\"Fair\",Scoring!$C$48,IF(L8=\"Good -\",Scoring!$C$47,IF(L8=\"Good\",Scoring!$C$46,IF(L8=\"Very Good\",Scoring!$C$45,IF(L8=\"\",0)))))))","v":1},{"$f":"IF(T8=\"Poor\",Scoring!$C$50,IF(T8=\"Fair -\",Scoring!$C$49,IF(T8=\"Fair\",Scoring!$C$48,IF(T8=\"Good -\",Scoring!$C$47,IF(T8=\"Good\",Scoring!$C$46,IF(T8=\"Very Good\",Scoring!$C$45,IF(T8=\"\",0)))))))","v":1},80.03,60.04,80.03]
[309,3,"Boreal Forests - Lower Chena","Size","Extent of area","Extent, patch size, distribution","Severe, mostly gone","Moderate to substantial loss","Minimal loss","Mother Nature","Fair","Fair -","High",null,null,null,null,null,null,{"$f":"IF(L9=\"\",\"\",IFERROR(INDEX(Outcomes!$F:$F, MATCH(A9,Outcomes!$H:$H,0)),L9))","v":"Fair"},"Medium",null,null,null,{"$f":"IFERROR(INDEX(#REF!,MATCH(A9,#REF!,0)),\"\")","v":""},null,3,{"$f":"IF(K9=\"Poor\",Scoring!$B$50,IF(K9=\"Fair -\",Scoring!$B$49,IF(K9=\"Fair\",Scoring!$B$48,IF(K9=\"Good -\",Scoring!$B$47,IF(K9=\"Good\",Scoring!$B$46,IF(K9=\"Very Good\",Scoring!$B$45,IF(K9=\"\",0)))))))","v":40.04},{"$f":"IF(L9=\"Poor\",Scoring!$B$50,IF(L9=\"Fair -\",Scoring!$B$49,IF(L9=\"Fair\",Scoring!$B$48,IF(L9=\"Good -\",Scoring!$B$47,IF(L9=\"Good\",Scoring!$B$46,IF(L9=\"Very Good\",Scoring!$B$45,IF(L9=\"\",0)))))))","v":20.03},{"$f":"IF(T9=\"Poor\",Scoring!$B$50,IF(T9=\"Fair -\",Scoring!$B$49,IF(T9=\"Fair\",Scoring!$B$48,IF(T9=\"Good -\",Scoring!$B$47,IF(T9=\"Good\",Scoring!$B$46,IF(T9=\"Very Good\",Scoring!$B$45,IF(T9=\"\",0)))))))","v":40.04},{"$f":"IF(K9=\"Poor\",Scoring!$C$50,IF(K9=\"Fair -\",Scoring!$C$49,IF(K9=\"Fair\",Scoring!$C$48,IF(K9=\"Good -\",Scoring!$C$47,IF(K9=\"Good\",Scoring!$C$46,IF(K9=\"Very Good\",Scoring!$C$45,IF(K9=\"\",0)))))))","v":1},{"$f":"IF(L9=\"Poor\",Scoring!$C$50,IF(L9=\"Fair -\",Scoring!$C$49,IF(L9=\"Fair\",Scoring!$C$48,IF(L9=\"Good -\",Scoring!$C$47,IF(L9=\"Good\",Scoring!$C$46,IF(L9=\"Very Good\",Scoring!$C$45,IF(L9=\"\",0)))))))","v":1},{"$f":"IF(T9=\"Poor\",Scoring!$C$50,IF(T9=\"Fair -\",Scoring!$C$49,IF(T9=\"Fair\",Scoring!$C$48,IF(T9=\"Good -\",Scoring!$C$47,IF(T9=\"Good\",Scoring!$C$46,IF(T9=\"Very Good\",Scoring!$C$45,IF(T9=\"\",0)))))))","v":1},40.04,20.03,40.04]
[310,3,"Boreal Forests - Lower Chena",null,null,null,null,null,null,null,null,null,"",null,null,null,null,null,null,{"$f":"IF(L10=\"\",\"\",IFERROR(INDEX(Outcomes!$F:$F, MATCH(A10,Outcomes!$H:$H,0)),L10))","v":""},"",null,null,null,{"$f":"IFERROR(INDEX(#REF!,MATCH(A10,#REF!,0)),\"\")","v":""},null,"",{"$f":"IF(K10=\"Poor\",Scoring!$B$50,IF(K10=\"Fair -\",Scoring!$B$49,IF(K10=\"Fair\",Scoring!$B$48,IF(K10=\"Good -\",Scoring!$B$47,IF(K10=\"Good\",Scoring!$B$46,IF(K10=\"Very Good\",Scoring!$B$45,IF(K10=\"\",0)))))))","v":0},{"$f":"IF(L10=\"Poor\",Scoring!$B$50,IF(L10=\"Fair -\",Scoring!$B$49,IF(L10=\"Fair\",Scoring!$B$48,IF(L10=\"Good -\",Scoring!$B$47,IF(L10=\"Good\",Scoring!$B$46,IF(L10=\"Very Good\",Scoring!$B$45,IF(L10=\"\",0)))))))","v":0},{"$f":"IF(T10=\"Poor\",Scoring!$B$50,IF(T10=\"Fair -\",Scoring!$B$49,IF(T10=\"Fair\",Scoring!$B$48,IF(T10=\"Good -\",Scoring!$B$47,IF(T10=\"Good\",Scoring!$B$46,IF(T10=\"Very Good\",Scoring!$B$45,IF(T10=\"\",0)))))))","v":0},{"$f":"IF(K10=\"Poor\",Scoring!$C$50,IF(K10=\"Fair -\",Scoring!$C$49,IF(K10=\"Fair\",Scoring!$C$48,IF(K10=\"Good -\",Scoring!$C$47,IF(K10=\"Good\",Scoring!$C$46,IF(K10=\"Very Good\",Scoring!$C$45,IF(K10=\"\",0)))))))","v":0},{"$f":"IF(L10=\"Poor\",Scoring!$C$50,IF(L10=\"Fair -\",Scoring!$C$49,IF(L10=\"Fair\",Scoring!$C$48,IF(L10=\"Good -\",Scoring!$C$47,IF(L10=\"Good\",Scoring!$C$46,IF(L10=\"Very Good\",Scoring!$C$45,IF(L10=\"\",0)))))))","v":0},{"$f":"IF(T10=\"Poor\",Scoring!$C$50,IF(T10=\"Fair -\",Scoring!$C$49,IF(T10=\"Fair\",Scoring!$C$48,IF(T10=\"Good -\",Scoring!$C$47,IF(T10=\"Good\",Scoring!$C$46,IF(T10=\"Very Good\",Scoring!$C$45,IF(T10=\"\",0)))))))","v":0},0,0,0]
[311,3,"Boreal Forests - Lower Chena",null,null,null,null,null,null,null,null,null,"",null,null,null,null,null,null,{"$f":"IF(L11=\"\",\"\",IFERROR(INDEX(Outcomes!$F:$F, MATCH(A11,Outcomes!$H:$H,0)),L11))","v":""},"",null,null,null,{"$f":"IFERROR(INDEX(#REF!,MATCH(A11,#REF!,0)),\"\")","v":""},null,"",{"$f":"IF(K11=\"Poor\",Scoring!$B$50,IF(K11=\"Fair -\",Scoring!$B$49,IF(K11=\"Fair\",Scoring!$B$48,IF(K11=\"Good -\",Scoring!$B$47,IF(K11=\"Good\",Scoring!$B$46,IF(K11=\"Very Good\",Scoring!$B$45,IF(K11=\"\",0)))))))","v":0},{"$f":"IF(L11=\"Poor\",Scoring!$B$50,IF(L11=\"Fair -\",Scoring!$B$49,IF(L11=\"Fair\",Scoring!$B$48,IF(L11=\"Good -\",Scoring!$B$47,IF(L11=\"Good\",Scoring!$B$46,IF(L11=\"Very Good\",Scoring!$B$45,IF(L11=\"\",0)))))))","v":0},{"$f":"IF(T11=\"Poor\",Scoring!$B$50,IF(T11=\"Fair -\",Scoring!$B$49,IF(T11=\"Fair\",Scoring!$B$48,IF(T11=\"Good -\",Scoring!$B$47,IF(T11=\"Good\",Scoring!$B$46,IF(T11=\"Very Good\",Scoring!$B$45,IF(T11=\"\",0)))))))","v":0},{"$f":"IF(K11=\"Poor\",Scoring!$C$50,IF(K11=\"Fair -\",Scoring!$C$49,IF(K11=\"Fair\",Scoring!$C$48,IF(K11=\"Good -\",Scoring!$C$47,IF(K11=\"Good\",Scoring!$C$46,IF(K11=\"Very Good\",Scoring!$C$45,IF(K11=\"\",0)))))))","v":0},{"$f":"IF(L11=\"Poor\",Scoring!$C$50,IF(L11=\"Fair -\",Scoring!$C$49,IF(L11=\"Fair\",Scoring!$C$48,IF(L11=\"Good -\",Scoring!$C$47,IF(L11=\"Good\",Scoring!$C$46,IF(L11=\"Very Good\",Scoring!$C$45,IF(L11=\"\",0)))))))","v":0},{"$f":"IF(T11=\"Poor\",Scoring!$C$50,IF(T11=\"Fair -\",Scoring!$C$49,IF(T11=\"Fair\",Scoring!$C$48,IF(T11=\"Good -\",Scoring!$C$47,IF(T11=\"Good\",Scoring!$C$46,IF(T11=\"Very Good\",Scoring!$C$45,IF(T11=\"\",0)))))))","v":0},0,0,0]
[312,3,"Boreal Forests - Lower Chena",null,null,null,null,null,null,null,null,null,"",null,null,null,null,null,null,{"$f":"IF(L12=\"\",\"\",IFERROR(INDEX(Outcomes!$F:$F, MATCH(A12,Outcomes!$H:$H,0)),L12))","v":""},"",null,null,null,{"$f":"IFERROR(INDEX(#REF!,MATCH(A12,#REF!,0)),\"\")","v":""},null,"",{"$f":"IF(K12=\"Poor\",Scoring!$B$50,IF(K12=\"Fair -\",Scoring!$B$49,IF(K12=\"Fair\",Scoring!$B$48,IF(K12=\"Good -\",Scoring!$B$47,IF(K12=\"Good\",Scoring!$B$46,IF(K12=\"Very Good\",Scoring!$B$45,IF(K12=\"\",0)))))))","v":0},{"$f":"IF(L12=\"Poor\",Scoring!$B$50,IF(L12=\"Fair -\",Scoring!$B$49,IF(L12=\"Fair\",Scoring!$B$48,IF(L12=\"Good -\",Scoring!$B$47,IF(L12=\"Good\",Scoring!$B$46,IF(L12=\"Very Good\",Scoring!$B$45,IF(L12=\"\",0)))))))","v":0},{"$f":"IF(T12=\"Poor\",Scoring!$B$50,IF(T12=\"Fair -\",Scoring!$B$49,IF(T12=\"Fair\",Scoring!$B$48,IF(T12=\"Good -\",Scoring!$B$47,IF(T12=\"Good\",Scoring!$B$46,IF(T12=\"Very Good\",Scoring!$B$45,IF(T12=\"\",0)))))))","v":0},{"$f":"IF(K12=\"Poor\",Scoring!$C$50,IF(K12=\"Fair -\",Scoring!$C$49,IF(K12=\"Fair\",Scoring!$C$48,IF(K12=\"Good -\",Scoring!$C$47,IF(K12=\"Good\",Scoring!$C$46,IF(K12=\"Very Good\",Scoring!$C$45,IF(K12=\"\",0)))))))","v":0},{"$f":"IF(L12=\"Poor\",Scoring!$C$50,IF(L12=\"Fair -\",Scoring!$C$49,IF(L12=\"Fair\",Scoring!$C$48,IF(L12=\"Good -\",Scoring!$C$47,IF(L12=\"Good\",Scoring!$C$46,IF(L12=\"Very Good\",Scoring!$C$45,IF(L12=\"\",0)))))))","v":0},{"$f":"IF(T12=\"Poor\",Scoring!$C$50,IF(T12=\"Fair -\",Scoring!$C$49,IF(T12=\"Fair\",Scoring!$C$48,IF(T12=\"Good -\",Scoring!$C$47,IF(T12=\"Good\",Scoring!$C$46,IF(T12=\"Very Good\",Scoring!$C$45,IF(T12=\"\",0)))))))","v":0},0,0,0]
[313,3,"Boreal Forests - Lower Chena",null,null,null,null,null,null,null,null,null,"",null,null,null,null,null,null,{"$f":"IF(L13=\"\",\"\",IFERROR(INDEX(Outcomes!$F:$F, MATCH(A13,Outcomes!$H:$H,0)),L13))","v":""},{"$f":"IF(K13=0,\"\",IF(T13=0,\"\",INDEX(StressRankMatrix,MATCH(K13,Rating,0),MATCH(T13,Rating,0))))","v":""},null,null,null,{"$f":"IFERROR(INDEX(#REF!,MATCH(A13,#REF!,0)),\"\")","v":""},null,"",{"$f":"IF(K13=\"Poor\",Scoring!$B$50,IF(K13=\"Fair -\",Scoring!$B$49,IF(K13=\"Fair\",Scoring!$B$48,IF(K13=\"Good -\",Scoring!$B$47,IF(K13=\"Good\",Scoring!$B$46,IF(K13=\"Very Good\",Scoring!$B$45,IF(K13=\"\",0)))))))","v":0},{"$f":"IF(L13=\"Poor\",Scoring!$B$50,IF(L13=\"Fair -\",Scoring!$B$49,IF(L13=\"Fair\",Scoring!$B$48,IF(L13=\"Good -\",Scoring!$B$47,IF(L13=\"Good\",Scoring!$B$46,IF(L13=\"Very Good\",Scoring!$B$45,IF(L13=\"\",0)))))))","v":0},{"$f":"IF(T13=\"Poor\",Scoring!$B$50,IF(T13=\"Fair -\",Scoring!$B$49,IF(T13=\"Fair\",Scoring!$B$48,IF(T13=\"Good -\",Scoring!$B$47,IF(T13=\"Good\",Scoring!$B$46,IF(T13=\"Very Good\",Scoring!$B$45,IF(T13=\"\",0)))))))","v":0},{"$f":"IF(K13=\"Poor\",Scoring!$C$50,IF(K13=\"Fair -\",Scoring!$C$49,IF(K13=\"Fair\",Scoring!$C$48,IF(K13=\"Good -\",Scoring!$C$47,IF(K13=\"Good\",Scoring!$C$46,IF(K13=\"Very Good\",Scoring!$C$45,IF(K13=\"\",0)))))))","v":0},{"$f":"IF(L13=\"Poor\",Scoring!$C$50,IF(L13=\"Fair -\",Scoring!$C$49,IF(L13=\"Fair\",Scoring!$C$48,IF(L13=\"Good -\",Scoring!$C$47,IF(L13=\"Good\",Scoring!$C$46,IF(L13=\"Very Good\",Scoring!$C$45,IF(L13=\"\",0)))))))","v":0},{"$f":"IF(T13=\"Poor\",Scoring!$C$50,IF(T13=\"Fair -\",Scoring!$C$49,IF(T13=\"Fair\",Scoring!$C$48,IF(T13=\"Good -\",Scoring!$C$47,IF(T13=\"Good\",Scoring!$C$46,IF(T13=\"Very Good\",Scoring!$C$45,IF(T13=\"\",0)))))))","v":0},0,0,0]
[null,null,null,"Overall Target Health Score                           (0 = Poor - 100 = Very Good)",null,null,null,null,null,null,{"$f":"AK14","v":53.370000000000005},{"$f":"AL14","v":36.701666666666661},null,null,null,null,null,null,null,{"$f":"AM14","v":46.70333333333334},null,null,null,null,null,null,null,null,null,null,{"$f":"SUM(AE4:AE13)","v":6},6,6,320.22000000000003,220.20999999999998,280.22000000000003,{"$f":"IF(AH14=0,\"\",AH14/AE14)","v":53.370000000000005},{"$f":"IF(AI14=0,\"\",AI14/AF14)","v":36.701666666666661},{"$f":"IF(AJ14=0,\"\",AJ14/AG14)","v":46.70333333333334}]
[]
[null,null,null,null,"Threats (Sources of Stress)         List Sources of stress below (max of 12 per target).  Enter Contribution of each source where applicable.","  Key Attribute >",{"$f":"IF(E4=0,\"\",E4)","v":"Fire regime"},{"$f":"IF(E5=0,\"\",E5)","v":"Habitat connectivity"},{"$f":"IF(E6=0,\"\",E6)","v":"Hydrologic regime"},{"$f":"IF(E7=0,\"\",E7)","v":"Characteristic native community"},{"$f":"IF(E8=0,\"\",E8)","v":"Vegetation composition & structure - mosaic"},{"$f":"IF(E9=0,\"\",E9)","v":"Extent of area"},{"$f":"IF(E10=0,\"\",E10)","v":""},{"$f":"IF(E11=0,\"\",E11)","v":""},{"$f":"IF(E12=0,\"\",E12)","v":""},{"$f":"IF(E13=0,\"\",E13)","v":""},"Threat to Target Rank"]
[null,null,null,null,null,"Stress Rank>",{"$f":"IF(M4=\"\",\"\", IF(N4=0,M4,N4))","v":"Medium"},{"$f":"IF(M5=\"\",\"\", IF(N5=0,M5,N5))","v":"High"},{"$f":"IF(M6=\"\",\"\", IF(N6=0,M6,N6))","v":"High"},{"$f":"IF(M7=\"\",\"\", IF(N7=0,M7,N7))","v":"Medium"},{"$f":"IF(M8=\"\",\"\", IF(N8=0,M8,N8))","v":"Medium"},{"$f":"IF(M9=\"\",\"\", IF(N9=0,M9,N9))","v":"High"},{"$f":"IF(M10=\"\",\"\", IF(N10=0,M10,N10))","v":""},{"$f":"IF(M11=\"\",\"\", IF(N11=0,M11,N11))","v":""},{"$f":"IF(M12=\"\",\"\", IF(N12=0,M12,N12))","v":""},{"$f":"IF(M13=\"\",\"\", IF(N13=0,M13,N13))","v":""}]
[null,null,null,null,"Warmer climate with more frequent weather extremes","Contribution","Medium","Low",null,null,"Low",null,null,null,null,null,{"$f":"IF(AF19>=Scoring!$B$24,\"Very High\",IF(AF19>=Scoring!$B$25,\"High\",IF(AF19>=Scoring!$B$26,\"Medium\",IF(AF19>=Scoring!$B$27,\"Low\",\"-\"))))","v":"Low"}]
[null,null,null,null,null,"Threat Rank ",{"$f":"IF(G18=0,\"\",INDEX(ThreatRankMatrix,MATCH($G$17,Rank,0),MATCH(G18,Rank,0)))","v":"Low"},{"$f":"IF(H18=0,\"\",INDEX(ThreatRankMatrix,MATCH($H$17,Rank,0),MATCH(H18,Rank,0)))","v":"Low"},{"$f":"IF(I18=0,\"\",INDEX(ThreatRankMatrix,MATCH($I$17,Rank,0),MATCH(I18,Rank,0)))","v":""},{"$f":"IF(J18=0,\"\",INDEX(ThreatRankMatrix,MATCH($J$17,Rank,0),MATCH(J18,Rank,0)))","v":""},{"$f":"IF(K18=0,\"\",INDEX(ThreatRankMatrix,MATCH($K$17,Rank,0),MATCH(K18,Rank,0)))","v":"Low"},{"$f":"IF(L18=0,\"\",INDEX(ThreatRankMatrix,MATCH($L$17,Rank,0),MATCH(L18,Rank,0)))","v":""},{"$f":"IF(M18=0,\"\",INDEX(ThreatRankMatrix,MATCH($M$17,Rank,0),MATCH(M18,Rank,0)))","v":""},{"$f":"IF(N18=0,\"\",INDEX(ThreatRankMatrix,MATCH($N$17,Rank,0),MATCH(N18,Rank,0)))","v":""},{"$f":"IF(O18=0,\"\",INDEX(ThreatRankMatrix,MATCH($O$17,Rank,0),MATCH(O18,Rank,0)))","v":""},{"$f":"IF(P18=0,\"\",INDEX(ThreatRankMatrix,MATCH($P$17,Rank,0),MATCH(P18,Rank,0)))","v":""},null,null,null,null,null,null,null,null,null,null,null,null,null,null,null,{"$f":"SUM(AG19:AP19)","v":3},{"$f":"IF(G$17=\"\",0,(IF(G18=0,0,IF(G19=0,0,INDEX(ThreatScore,MATCH(G19,Rank,0))))))","v":1},1,0,0,1,0,0,0,0,0]
[null,null,null,null,"Invasive terrestrial species/pests/pathogens","Contribution",null,null,null,"Medium","Medium",null,null,null,null,null,{"$f":"IF(AF21>=Scoring!$B$24,\"Very High\",IF(AF21>=Scoring!$B$25,\"High\",IF(AF21>=Scoring!$B$26,\"Medium\",IF(AF21>=Scoring!$B$27,\"Low\",\"-\"))))","v":"Low"}]
[null,null,null,null,null,"Threat Rank ",{"$f":"IF(G20=0,\"\",INDEX(ThreatRankMatrix,MATCH($G$17,Rank,0),MATCH(G20,Rank,0)))","v":""},{"$f":"IF(H20=0,\"\",INDEX(ThreatRankMatrix,MATCH($H$17,Rank,0),MATCH(H20,Rank,0)))","v":""},{"$f":"IF(I20=0,\"\",INDEX(ThreatRankMatrix,MATCH($I$17,Rank,0),MATCH(I20,Rank,0)))","v":""},{"$f":"IF(J20=0,\"\",INDEX(ThreatRankMatrix,MATCH($J$17,Rank,0),MATCH(J20,Rank,0)))","v":"Low"},{"$f":"IF(K20=0,\"\",INDEX(ThreatRankMatrix,MATCH($K$17,Rank,0),MATCH(K20,Rank,0)))","v":"Low"},{"$f":"IF(L20=0,\"\",INDEX(ThreatRankMatrix,MATCH($L$17,Rank,0),MATCH(L20,Rank,0)))","v":""},{"$f":"IF(M20=0,\"\",INDEX(ThreatRankMatrix,MATCH($M$17,Rank,0),MATCH(M20,Rank,0)))","v":""},{"$f":"IF(N20=0,\"\",INDEX(ThreatRankMatrix,MATCH($N$17,Rank,0),MATCH(N20,Rank,0)))","v":""},{"$f":"IF(O20=0,\"\",INDEX(ThreatRankMatrix,MATCH($O$17,Rank,0),MATCH(O20,Rank,0)))","v":""},{"$f":"IF(P20=0,\"\",INDEX(ThreatRankMatrix,MATCH($P$17,Rank,0),MATCH(P20,Rank,0)))","v":""},null,null,null,null,null,null,null,null,null,null,null,null,null,null,null,{"$f":"SUM(AG21:AP21)","v":2},{"$f":"IF(G$17=\"\",0,(IF(G20=0,0,IF(G21=0,0,INDEX(ThreatScore,MATCH(G21,Rank,0))))))","v":0},0,0,1,1,0,0,0,0,0]
[null,null,null,null,"Incompatible road design / maintenance","Contribution",null,"High","High","Medium","High","Medium",null,null,null,null,{"$f":"IF(AF23>=Scoring!$B$24,\"Very High\",IF(AF23>=Scoring!$B$25,\"High\",IF(AF23>=Scoring!$B$26,\"Medium\",IF(AF23>=Scoring!$B$27,\"Low\",\"-\"))))","v":"High"}]
[null,null,null,null,null,"Threat Rank ",{"$f":"IF(G22=0,\"\",INDEX(ThreatRankMatrix,MATCH($G$17,Rank,0),MATCH(G22,Rank,0)))","v":""},{"$f":"IF(H22=0,\"\",INDEX(ThreatRankMatrix,MATCH($H$17,Rank,0),MATCH(H22,Rank,0)))","v":"High"},{"$f":"IF(I22=0,\"\",INDEX(ThreatRankMatrix,MATCH($I$17,Rank,0),MATCH(I22,Rank,0)))","v":"High"},{"$f":"IF(J22=0,\"\",INDEX(ThreatRankMatrix,MATCH($J$17,Rank,0),MATCH(J22,Rank,0)))","v":"Low"},{"$f":"IF(K22=0,\"\",INDEX(ThreatRankMatrix,MATCH($K$17,Rank,0),MATCH(K22,Rank,0)))","v":"Medium"},{"$f":"IF(L22=0,\"\",INDEX(ThreatRankMatrix,MATCH($L$17,Rank,0),MATCH(L22,Rank,0)))","v":"Medium"},{"$f":"IF(M22=0,\"\",INDEX(ThreatRankMatrix,MATCH($M$17,Rank,0),MATCH(M22,Rank,0)))","v":""},{"$f":"IF(N22=0,\"\",INDEX(ThreatRankMatrix,MATCH($N$17,Rank,0),MATCH(N22,Rank,0)))","v":""},{"$f":"IF(O22=0,\"\",INDEX(ThreatRankMatrix,MATCH($O$17,Rank,0),MATCH(O22,Rank,0)))","v":""},{"$f":"IF(P22=0,\"\",INDEX(ThreatRankMatrix,MATCH($P$17,Rank,0),MATCH(P22,Rank,0)))","v":""},null,null,null,null,null,null,null,null,null,null,null,null,null,null,null,{"$f":"SUM(AG23:AP23)","v":85},{"$f":"IF(G$17=\"\",0,(IF(G22=0,0,IF(G23=0,0,INDEX(ThreatScore,MATCH(G23,Rank,0))))))","v":0},35,35,1,7,7,0,0,0,0]
[null,null,null,null,"Residential / commercial development","Contribution",null,"High","High","Medium","Medium","High",null,null,null,null,{"$f":"IF(AF25>=Scoring!$B$24,\"Very High\",IF(AF25>=Scoring!$B$25,\"High\",IF(AF25>=Scoring!$B$26,\"Medium\",IF(AF25>=Scoring!$B$27,\"Low\",\"-\"))))","v":"Very High"}]
[null,null,null,null,null,"Threat Rank ",{"$f":"IF(G24=0,\"\",INDEX(ThreatRankMatrix,MATCH($G$17,Rank,0),MATCH(G24,Rank,0)))","v":""},{"$f":"IF(H24=0,\"\",INDEX(ThreatRankMatrix,MATCH($H$17,Rank,0),MATCH(H24,Rank,0)))","v":"High"},{"$f":"IF(I24=0,\"\",INDEX(ThreatRankMatrix,MATCH($I$17,Rank,0),MATCH(I24,Rank,0)))","v":"High"},{"$f":"IF(J24=0,\"\",INDEX(ThreatRankMatrix,MATCH($J$17,Rank,0),MATCH(J24,Rank,0)))","v":"Low"},{"$f":"IF(K24=0,\"\",INDEX(ThreatRankMatrix,MATCH($K$17,Rank,0),MATCH(K24,Rank,0)))","v":"Low"},{"$f":"IF(L24=0,\"\",INDEX(ThreatRankMatrix,MATCH($L$17,Rank,0),MATCH(L24,Rank,0)))","v":"High"},{"$f":"IF(M24=0,\"\",INDEX(ThreatRankMatrix,MATCH($M$17,Rank,0),MATCH(M24,Rank,0)))","v":""},{"$f":"IF(N24=0,\"\",INDEX(ThreatRankMatrix,MATCH($N$17,Rank,0),MATCH(N24,Rank,0)))","v":""},{"$f":"IF(O24=0,\"\",INDEX(ThreatRankMatrix,MATCH($O$17,Rank,0),MATCH(O24,Rank,0)))","v":""},{"$f":"IF(P24=0,\"\",INDEX(ThreatRankMatrix,MATCH($P$17,Rank,0),MATCH(P24,Rank,0)))","v":""},null,null,null,null,null,null,null,null,null,null,null,null,null,null,null,{"$f":"SUM(AG25:AP25)","v":107},{"$f":"IF(G$17=\"\",0,(IF(G24=0,0,IF(G25=0,0,INDEX(ThreatScore,MATCH(G25,Rank,0))))))","v":0},35,35,1,1,35,0,0,0,0]
[null,null,null,null,null,"Contribution",null,null,null,null,null,null,null,null,null,null,{"$f":"IF(AF27>=Scoring!$B$24,\"Very High\",IF(AF27>=Scoring!$B$25,\"High\",IF(AF27>=Scoring!$B$26,\"Medium\",IF(AF27>=Scoring!$B$27,\"Low\",\"-\"))))","v":"-"}]
[null,null,null,null,null,"Threat Rank ",{"$f":"IF(G26=0,\"\",INDEX(ThreatRankMatrix,MATCH($G$17,Rank,0),MATCH(G26,Rank,0)))","v":""},{"$f":"IF(H26=0,\"\",INDEX(ThreatRankMatrix,MATCH($H$17,Rank,0),MATCH(H26,Rank,0)))","v":""},{"$f":"IF(I26=0,\"\",INDEX(ThreatRankMatrix,MATCH($I$17,Rank,0),MATCH(I26,Rank,0)))","v":""},{"$f":"IF(J26=0,\"\",INDEX(ThreatRankMatrix,MATCH($J$17,Rank,0),MATCH(J26,Rank,0)))","v":""},{"$f":"IF(K26=0,\"\",INDEX(ThreatRankMatrix,MATCH($K$17,Rank,0),MATCH(K26,Rank,0)))","v":""},{"$f":"IF(L26=0,\"\",INDEX(ThreatRankMatrix,MATCH($L$17,Rank,0),MATCH(L26,Rank,0)))","v":""},{"$f":"IF(M26=0,\"\",INDEX(ThreatRankMatrix,MATCH($M$17,Rank,0),MATCH(M26,Rank,0)))","v":""},{"$f":"IF(N26=0,\"\",INDEX(ThreatRankMatrix,MATCH($N$17,Rank,0),MATCH(N26,Rank,0)))","v":""},{"$f":"IF(O26=0,\"\",INDEX(ThreatRankMatrix,MATCH($O$17,Rank,0),MATCH(O26,Rank,0)))","v":""},{"$f":"IF(P26=0,\"\",INDEX(ThreatRankMatrix,MATCH($P$17,Rank,0),MATCH(P26,Rank,0)))","v":""},null,null,null,null,null,null,null,null,null,null,null,null,null,null,null,{"$f":"SUM(AG27:AP27)","v":0},{"$f":"IF(G$17=\"\",0,(IF(G26=0,0,IF(G27=0,0,INDEX(ThreatScore,MATCH(G27,Rank,0))))))","v":0},0,0,0,0,0,0,0,0,0]
[null,null,null,null,null,"Contribution",null,null,null,null,null,null,null,null,null,null,{"$f":"IF(AF29>=Scoring!$B$24,\"Very High\",IF(AF29>=Scoring!$B$25,\"High\",IF(AF29>=Scoring!$B$26,\"Medium\",IF(AF29>=Scoring!$B$27,\"Low\",\"-\"))))","v":"-"}]
[null,null,null,null,null,"Threat Rank ",{"$f":"IF(G28=0,\"\",INDEX(ThreatRankMatrix,MATCH($G$17,Rank,0),MATCH(G28,Rank,0)))","v":""},{"$f":"IF(H28=0,\"\",INDEX(ThreatRankMatrix,MATCH($H$17,Rank,0),MATCH(H28,Rank,0)))","v":""},{"$f":"IF(I28=0,\"\",INDEX(ThreatRankMatrix,MATCH($I$17,Rank,0),MATCH(I28,Rank,0)))","v":""},{"$f":"IF(J28=0,\"\",INDEX(ThreatRankMatrix,MATCH($J$17,Rank,0),MATCH(J28,Rank,0)))","v":""},{"$f":"IF(K28=0,\"\",INDEX(ThreatRankMatrix,MATCH($K$17,Rank,0),MATCH(K28,Rank,0)))","v":""},{"$f":"IF(L28=0,\"\",INDEX(ThreatRankMatrix,MATCH($L$17,Rank,0),MATCH(L28,Rank,0)))","v":""},{"$f":"IF(M28=0,\"\",INDEX(ThreatRankMatrix,MATCH($M$17,Rank,0),MATCH(M28,Rank,0)))","v":""},{"$f":"IF(N28=0,\"\",INDEX(ThreatRankMatrix,MATCH($N$17,Rank,0),MATCH(N28,Rank,0)))","v":""},{"$f":"IF(O28=0,\"\",INDEX(ThreatRankMatrix,MATCH($O$17,Rank,0),MATCH(O28,Rank,0)))","v":""},{"$f":"IF(P28=0,\"\",INDEX(ThreatRankMatrix,MATCH($P$17,Rank,0),MATCH(P28,Rank,0)))","v":""},null,null,null,null,null,null,null,null,null,null,null,null,null,null,null,{"$f":"SUM(AG29:AP29)","v":0},{"$f":"IF(G$17=\"\",0,(IF(G28=0,0,IF(G29=0,0,INDEX(ThreatScore,MATCH(G29,Rank,0))))))","v":0},0,0,0,0,0,0,0,0,0]
[null,null,null,null,null,"Contribution",null,null,null,null,null,null,null,null,null,null,{"$f":"IF(AF31>=Scoring!$B$24,\"Very High\",IF(AF31>=Scoring!$B$25,\"High\",IF(AF31>=Scoring!$B$26,\"Medium\",IF(AF31>=Scoring!$B$27,\"Low\",\"-\"))))","v":"-"}]
[null,null,null,null,null,"Threat Rank ",{"$f":"IF(G30=0,\"\",INDEX(ThreatRankMatrix,MATCH($G$17,Rank,0),MATCH(G30,Rank,0)))","v":""},{"$f":"IF(H30=0,\"\",INDEX(ThreatRankMatrix,MATCH($H$17,Rank,0),MATCH(H30,Rank,0)))","v":""},{"$f":"IF(I30=0,\"\",INDEX(ThreatRankMatrix,MATCH($I$17,Rank,0),MATCH(I30,Rank,0)))","v":""},{"$f":"IF(J30=0,\"\",INDEX(ThreatRankMatrix,MATCH($J$17,Rank,0),MATCH(J30,Rank,0)))","v":""},{"$f":"IF(K30=0,\"\",INDEX(ThreatRankMatrix,MATCH($K$17,Rank,0),MATCH(K30,Rank,0)))","v":""},{"$f":"IF(L30=0,\"\",INDEX(ThreatRankMatrix,MATCH($L$17,Rank,0),MATCH(L30,Rank,0)))","v":""},{"$f":"IF(M30=0,\"\",INDEX(ThreatRankMatrix,MATCH($M$17,Rank,0),MATCH(M30,Rank,0)))","v":""},{"$f":"IF(N30=0,\"\",INDEX(ThreatRankMatrix,MATCH($N$17,Rank,0),MATCH(N30,Rank,0)))","v":""},{"$f":"IF(O30=0,\"\",INDEX(ThreatRankMatrix,MATCH($O$17,Rank,0),MATCH(O30,Rank,0)))","v":""},{"$f":"IF(P30=0,\"\",INDEX(ThreatRankMatrix,MATCH($P$17,Rank,0),MATCH(P30,Rank,0)))","v":""},null,null,null,null,null,null,null,null,null,null,null,null,null,null,null,{"$f":"SUM(AG31:AP31)","v":0},{"$f":"IF(G$17=\"\",0,(IF(G30=0,0,IF(G31=0,0,INDEX(ThreatScore,MATCH(G31,Rank,0))))))","v":0},0,0,0,0,0,0,0,0,0]
[null,null,null,null,null,"Contribution",null,null,null,null,null,null,null,null,null,null,{"$f":"IF(AF33>=Scoring!$B$24,\"Very High\",IF(AF33>=Scoring!$B$25,\"High\",IF(AF33>=Scoring!$B$26,\"Medium\",IF(AF33>=Scoring!$B$27,\"Low\",\"-\"))))","v":"-"}]
[null,null,null,null,null,"Threat Rank ",{"$f":"IF(G32=0,\"\",INDEX(ThreatRankMatrix,MATCH($G$17,Rank,0),MATCH(G32,Rank,0)))","v":""},{"$f":"IF(H32=0,\"\",INDEX(ThreatRankMatrix,MATCH($H$17,Rank,0),MATCH(H32,Rank,0)))","v":""},{"$f":"IF(I32=0,\"\",INDEX(ThreatRankMatrix,MATCH($I$17,Rank,0),MATCH(I32,Rank,0)))","v":""},{"$f":"IF(J32=0,\"\",INDEX(ThreatRankMatrix,MATCH($J$17,Rank,0),MATCH(J32,Rank,0)))","v":""},{"$f":"IF(K32=0,\"\",INDEX(ThreatRankMatrix,MATCH($K$17,Rank,0),MATCH(K32,Rank,0)))","v":""},{"$f":"IF(L32=0,\"\",INDEX(ThreatRankMatrix,MATCH($L$17,Rank,0),MATCH(L32,Rank,0)))","v":""},{"$f":"IF(M32=0,\"\",INDEX(ThreatRankMatrix,MATCH($M$17,Rank,0),MATCH(M32,Rank,0)))","v":""},{"$f":"IF(N32=0,\"\",INDEX(ThreatRankMatrix,MATCH($N$17,Rank,0),MATCH(N32,Rank,0)))","v":""},{"$f":"IF(O32=0,\"\",INDEX(ThreatRankMatrix,MATCH($O$17,Rank,0),MATCH(O32,Rank,0)))","v":""},{"$f":"IF(P32=0,\"\",INDEX(ThreatRankMatrix,MATCH($P$17,Rank,0),MATCH(P32,Rank,0)))","v":""},null,null,null,null,null,null,null,null,null,null,null,null,null,null,null,{"$f":"SUM(AG33:AP33)","v":0},{"$f":"IF(G$17=\"\",0,(IF(G32=0,0,IF(G33=0,0,INDEX(ThreatScore,MATCH(G33,Rank,0))))))","v":0},0,0,0,0,0,0,0,0,0]
[null,null,null,null,null,"Contribution",null,null,null,null,null,null,null,null,null,null,{"$f":"IF(AF35>=Scoring!$B$24,\"Very High\",IF(AF35>=Scoring!$B$25,\"High\",IF(AF35>=Scoring!$B$26,\"Medium\",IF(AF35>=Scoring!$B$27,\"Low\",\"-\"))))","v":"-"}]
[null,null,null,null,null,"Threat Rank ",{"$f":"IF(G34=0,\"\",INDEX(ThreatRankMatrix,MATCH($G$17,Rank,0),MATCH(G34,Rank,0)))","v":""},{"$f":"IF(H34=0,\"\",INDEX(ThreatRankMatrix,MATCH($H$17,Rank,0),MATCH(H34,Rank,0)))","v":""},{"$f":"IF(I34=0,\"\",INDEX(ThreatRankMatrix,MATCH($I$17,Rank,0),MATCH(I34,Rank,0)))","v":""},{"$f":"IF(J34=0,\"\",INDEX(ThreatRankMatrix,MATCH($J$17,Rank,0),MATCH(J34,Rank,0)))","v":""},{"$f":"IF(K34=0,\"\",INDEX(ThreatRankMatrix,MATCH($K$17,Rank,0),MATCH(K34,Rank,0)))","v":""},{"$f":"IF(L34=0,\"\",INDEX(ThreatRankMatrix,MATCH($L$17,Rank,0),MATCH(L34,Rank,0)))","v":""},{"$f":"IF(M34=0,\"\",INDEX(ThreatRankMatrix,MATCH($M$17,Rank,0),MATCH(M34,Rank,0)))","v":""},{"$f":"IF(N34=0,\"\",INDEX(ThreatRankMatrix,MATCH($N$17,Rank,0),MATCH(N34,Rank,0)))","v":""},{"$f":"IF(O34=0,\"\",INDEX(ThreatRankMatrix,MATCH($O$17,Rank,0),MATCH(O34,Rank,0)))","v":""},{"$f":"IF(P34=0,\"\",INDEX(ThreatRankMatrix,MATCH($P$17,Rank,0),MATCH(P34,Rank,0)))","v":""},null,null,null,null,null,null,null,null,null,null,null,null,null,null,null,{"$f":"SUM(AG35:AP35)","v":0},{"$f":"IF(G$17=\"\",0,(IF(G34=0,0,IF(G35=0,0,INDEX(ThreatScore,MATCH(G35,Rank,0))))))","v":0},0,0,0,0,0,0,0,0,0]
[null,null,null,null,null,"Contribution",null,null,null,null,null,null,null,null,null,null,{"$f":"IF(AF37>=Scoring!$B$24,\"Very High\",IF(AF37>=Scoring!$B$25,\"High\",IF(AF37>=Scoring!$B$26,\"Medium\",IF(AF37>=Scoring!$B$27,\"Low\",\"-\"))))","v":"-"}]
[null,null,null,null,null,"Threat Rank ",{"$f":"IF(G36=0,\"\",INDEX(ThreatRankMatrix,MATCH($G$17,Rank,0),MATCH(G36,Rank,0)))","v":""},{"$f":"IF(H36=0,\"\",INDEX(ThreatRankMatrix,MATCH($H$17,Rank,0),MATCH(H36,Rank,0)))","v":""},{"$f":"IF(I36=0,\"\",INDEX(ThreatRankMatrix,MATCH($I$17,Rank,0),MATCH(I36,Rank,0)))","v":""},{"$f":"IF(J36=0,\"\",INDEX(ThreatRankMatrix,MATCH($J$17,Rank,0),MATCH(J36,Rank,0)))","v":""},{"$f":"IF(K36=0,\"\",INDEX(ThreatRankMatrix,MATCH($K$17,Rank,0),MATCH(K36,Rank,0)))","v":""},{"$f":"IF(L36=0,\"\",INDEX(ThreatRankMatrix,MATCH($L$17,Rank,0),MATCH(L36,Rank,0)))","v":""},{"$f":"IF(M36=0,\"\",INDEX(ThreatRankMatrix,MATCH($M$17,Rank,0),MATCH(M36,Rank,0)))","v":""},{"$f":"IF(N36=0,\"\",INDEX(ThreatRankMatrix,MATCH($N$17,Rank,0),MATCH(N36,Rank,0)))","v":""},{"$f":"IF(O36=0,\"\",INDEX(ThreatRankMatrix,MATCH($O$17,Rank,0),MATCH(O36,Rank,0)))","v":""},{"$f":"IF(P36=0,\"\",INDEX(ThreatRankMatrix,MATCH($P$17,Rank,0),MATCH(P36,Rank,0)))","v":""},null,null,null,null,null,null,null,null,null,null,null,null,null,null,null,{"$f":"SUM(AG37:AP37)","v":0},{"$f":"IF(G$17=\"\",0,(IF(G36=0,0,IF(G37=0,0,INDEX(ThreatScore,MATCH(G37,Rank,0))))))","v":0},{"$f":"IF(H$17=\"\",0,(IF(H36=0,0,IF(H37=0,0,INDEX(ThreatScore,MATCH(H37,Rank,0))))))","v":0},{"$f":"IF(I$17=\"\",0,(IF(I36=0,0,IF(I37=0,0,INDEX(ThreatScore,MATCH(I37,Rank,0))))))","v":0},{"$f":"IF(J$17=\"\",0,(IF(J36=0,0,IF(J37=0,0,INDEX(ThreatScore,MATCH(J37,Rank,0))))))","v":0},{"$f":"IF(K$17=\"\",0,(IF(K36=0,0,IF(K37=0,0,INDEX(ThreatScore,MATCH(K37,Rank,0))))))","v":0},{"$f":"IF(L$17=\"\",0,(IF(L36=0,0,IF(L37=0,0,INDEX(ThreatScore,MATCH(L37,Rank,0))))))","v":0},{"$f":"IF(M$17=\"\",0,(IF(M36=0,0,IF(M37=0,0,INDEX(ThreatScore,MATCH(M37,Rank,0))))))","v":0},{"$f":"IF(N$17=\"\",0,(IF(N36=0,0,IF(N37=0,0,INDEX(ThreatScore,MATCH(N37,Rank,0))))))","v":0},{"$f":"IF(O$17=\"\",0,(IF(O36=0,0,IF(O37=0,0,INDEX(ThreatScore,MATCH(O37,Rank,0))))))","v":0},{"$f":"IF(P$17=\"\",0,(IF(P36=0,0,IF(P37=0,0,INDEX(ThreatScore,MATCH(P37,Rank,0))))))","v":0}]
[null,null,null,null,null,"Contribution",null,null,null,null,null,null,null,null,null,null,{"$f":"IF(AF39>=Scoring!$B$24,\"Very High\",IF(AF39>=Scoring!$B$25,\"High\",IF(AF39>=Scoring!$B$26,\"Medium\",IF(AF39>=Scoring!$B$27,\"Low\",\"-\"))))","v":"-"}]
[null,null,null,null,null,"Threat Rank ",{"$f":"IF(G38=0,\"\",INDEX(ThreatRankMatrix,MATCH($G$17,Rank,0),MATCH(G38,Rank,0)))","v":""},{"$f":"IF(H38=0,\"\",INDEX(ThreatRankMatrix,MATCH($H$17,Rank,0),MATCH(H38,Rank,0)))","v":""},{"$f":"IF(I38=0,\"\",INDEX(ThreatRankMatrix,MATCH($I$17,Rank,0),MATCH(I38,Rank,0)))","v":""},{"$f":"IF(J38=0,\"\",INDEX(ThreatRankMatrix,MATCH($J$17,Rank,0),MATCH(J38,Rank,0)))","v":""},{"$f":"IF(K38=0,\"\",INDEX(ThreatRankMatrix,MATCH($K$17,Rank,0),MATCH(K38,Rank,0)))","v":""},{"$f":"IF(L38=0,\"\",INDEX(ThreatRankMatrix,MATCH($L$17,Rank,0),MATCH(L38,Rank,0)))","v":""},{"$f":"IF(M38=0,\"\",INDEX(ThreatRankMatrix,MATCH($M$17,Rank,0),MATCH(M38,Rank,0)))","v":""},{"$f":"IF(N38=0,\"\",INDEX(ThreatRankMatrix,MATCH($N$17,Rank,0),MATCH(N38,Rank,0)))","v":""},{"$f":"IF(O38=0,\"\",INDEX(ThreatRankMatrix,MATCH($O$17,Rank,0),MATCH(O38,Rank,0)))","v":""},{"$f":"IF(P38=0,\"\",INDEX(ThreatRankMatrix,MATCH($P$17,Rank,0),MATCH(P38,Rank,0)))","v":""},null,null,null,null,null,null,null,null,null,null,null,null,null,null,null,{"$f":"SUM(AG39:AP39)","v":0},{"$f":"IF(G$17=\"\",0,(IF(G38=0,0,IF(G39=0,0,INDEX(ThreatScore,MATCH(G39,Rank,0))))))","v":0},{"$f":"IF(H$17=\"\",0,(IF(H38=0,0,IF(H39=0,0,INDEX(ThreatScore,MATCH(H39,Rank,0))))))","v":0},{"$f":"IF(I$17=\"\",0,(IF(I38=0,0,IF(I39=0,0,INDEX(ThreatScore,MATCH(I39,Rank,0))))))","v":0},{"$f":"IF(J$17=\"\",0,(IF(J38=0,0,IF(J39=0,0,INDEX(ThreatScore,MATCH(J39,Rank,0))))))","v":0},{"$f":"IF(K$17=\"\",0,(IF(K38=0,0,IF(K39=0,0,INDEX(ThreatScore,MATCH(K39,Rank,0))))))","v":0},{"$f":"IF(L$17=\"\",0,(IF(L38=0,0,IF(L39=0,0,INDEX(ThreatScore,MATCH(L39,Rank,0))))))","v":0},{"$f":"IF(M$17=\"\",0,(IF(M38=0,0,IF(M39=0,0,INDEX(ThreatScore,MATCH(M39,Rank,0))))))","v":0},{"$f":"IF(N$17=\"\",0,(IF(N38=0,0,IF(N39=0,0,INDEX(ThreatScore,MATCH(N39,Rank,0))))))","v":0},{"$f":"IF(O$17=\"\",0,(IF(O38=0,0,IF(O39=0,0,INDEX(ThreatScore,MATCH(O39,Rank,0))))))","v":0},{"$f":"IF(P$17=\"\",0,(IF(P38=0,0,IF(P39=0,0,INDEX(ThreatScore,MATCH(P39,Rank,0))))))","v":0}]
[null,null,null,null,null,"Contribution",null,null,null,null,null,null,null,null,null,null,{"$f":"IF(AF41>=Scoring!$B$24,\"Very High\",IF(AF41>=Scoring!$B$25,\"High\",IF(AF41>=Scoring!$B$26,\"Medium\",IF(AF41>=Scoring!$B$27,\"Low\",\"-\"))))","v":"-"}]
[null,null,null,null,null,"Threat Rank ",{"$f":"IF(G40=0,\"\",INDEX(ThreatRankMatrix,MATCH($G$17,Rank,0),MATCH(G40,Rank,0)))","v":""},{"$f":"IF(H40=0,\"\",INDEX(ThreatRankMatrix,MATCH($H$17,Rank,0),MATCH(H40,Rank,0)))","v":""},{"$f":"IF(I40=0,\"\",INDEX(ThreatRankMatrix,MATCH($I$17,Rank,0),MATCH(I40,Rank,0)))","v":""},{"$f":"IF(J40=0,\"\",INDEX(ThreatRankMatrix,MATCH($J$17,Rank,0),MATCH(J40,Rank,0)))","v":""},{"$f":"IF(K40=0,\"\",INDEX(ThreatRankMatrix,MATCH($K$17,Rank,0),MATCH(K40,Rank,0)))","v":""},{"$f":"IF(L40=0,\"\",INDEX(ThreatRankMatrix,MATCH($L$17,Rank,0),MATCH(L40,Rank,0)))","v":""},{"$f":"IF(M40=0,\"\",INDEX(ThreatRankMatrix,MATCH($M$17,Rank,0),MATCH(M40,Rank,0)))","v":""},{"$f":"IF(N40=0,\"\",INDEX(ThreatRankMatrix,MATCH($N$17,Rank,0),MATCH(N40,Rank,0)))","v":""},{"$f":"IF(O40=0,\"\",INDEX(ThreatRankMatrix,MATCH($O$17,Rank,0),MATCH(O40,Rank,0)))","v":""},{"$f":"IF(P40=0,\"\",INDEX(ThreatRankMatrix,MATCH($P$17,Rank,0),MATCH(P40,Rank,0)))","v":""},null,null,null,null,null,null,null,null,null,null,null,null,null,null,null,{"$f":"SUM(AG41:AP41)","v":0},{"$f":"IF(G$17=\"\",0,(IF(G40=0,0,IF(G41=0,0,INDEX(ThreatScore,MATCH(G41,Rank,0))))))","v":0},0,0,0,0,0,0,0,0,0]

{"sheet":"4","index":8,"n_rows":41,"n_cols":42,"rows_kept":41,"cut":false,"hidden":false,"merged":[[0,3,0,4],[15,4,16,4],[15,16,16,16],[17,4,18,4],[17,16,18,16],[13,3,13,4],[19,4,20,4],[19,16,20,16],[21,4,22,4],[21,16,22,16],[23,4,24,4],[23,16,24,16],[25,4,26,4],[25,16,26,16],[33,4,34,4],[33,16,34,16],[39,4,40,4],[39,16,40,16],[27,4,28,4],[27,16,28,16],[29,4,30,4],[29,16,30,16],[31,4,32,4],[31,16,32,16],[35,4,36,4],[35,16,36,16],[37,4,38,4],[37,16,38,16]]}
[null,null,null,{"$f":"IF(Targets!C19=0,\"\",Targets!C19)","v":"Tributaries - Upper Chena"},{"$f":"IF(Targets!C19=0,\"\",Targets!C19)","v":"Tributaries - Upper Chena"},"  Key Attributes & Future Threats"]
[null,null,null,null,null,"Place cursor over cells with red triangles in top corner for hint"]
["KEA ID","Target ID","Target Name","Category","Key Attribute","Indicator","Poor","Fair","Good","Very Good","Current Rating","Projected Future Rating w No Action","Stress Ranking (calculated)","Stress Ranking (User Override)",null,null,null,null,null,"Projected Future Rating w Strategies","New Stress Ranking (calculated)","New Stress Ranking (User Override)",null,null,"Temp Indicator ID",null,"Target #","Current Score","Score w No Action","Score w Strategies","Current Weight","Future Weight No Action","Future Weight w Action","Current Weighted Score","Future No Action Weighted Score","Future Action Weighted Score","Current Weighted Average","Future No Action Weighted Average","Future Action Weighted Average"]
[{"$f":"ROW()+400","v":404},4,{"$f":"$D$1","v":"Tributaries - Upper Chena"},"Landscape Context","Connectivity to tributaries and within mainstem","Number, extent, & type of barriers","Many widespread or complete manmade or natural blockages, Where culverts exist % of red barriers based on ADFG fish passage inventory"," Some widespread or complete manmade or natural blockages, Where culverts exist % of red barriers based on ADFG fish passage inventory","Few widespread or complete manmade or natural blockages, Where culverts exist % of green barriers based on ADFG fish passage inventory"," No widespread or complete manmade or natural blockages,","Good","Good -",{"$f":"IF(K4=0,\"\",IF(L4=0,\"\",INDEX(StressRankMatrix,MATCH(K4,Rating,0),MATCH(L4,Rating,0))))","v":"Medium"},null,null,null,null,null,null,{"$f":"IF(L4=\"\",\"\",IFERROR(INDEX(Outcomes!$F:$F, MATCH(A4,Outcomes!$H:$H,0)),L4))","v":"Good"},{"$f":"IF(K4=\"\",\"\",IF(T4=0,\"\",INDEX(StressRankMatrix,MATCH(K4,Rating,0),MATCH(T4,Rating,0))))","v":"-"},null,null,null,{"$f":"IFERROR(INDEX(#REF!,MATCH(A4,#REF!,0)),\"\")","v":""},null,{"$f":"IF(E4=\"\",\"\",IF(E4>0,$B$4,\"error\"))","v":4},{"$f":"IF(K4=\"Poor\",Scoring!$B$50,IF(K4=\"Fair -\",Scoring!$B$49,IF(K4=\"Fair\",Scoring!$B$48,IF(K4=\"Good -\",Scoring!$B$47,IF(K4=\"Good\",Scoring!$B$46,IF(K4=\"Very Good\",Scoring!$B$45,IF(K4=\"\",0)))))))","v":80.03},{"$f":"IF(L4=\"Poor\",Scoring!$B$50,IF(L4=\"Fair -\",Scoring!$B$49,IF(L4=\"Fair\",Scoring!$B$48,IF(L4=\"Good -\",Scoring!$B$47,IF(L4=\"Good\",Scoring!$B$46,IF(L4=\"Very Good\",Scoring!$B$45,IF(L4=\"\",0)))))))","v":60.04},{"$f":"IF(T4=\"Poor\",Scoring!$B$50,IF(T4=\"Fair -\",Scoring!$B$49,IF(T4=\"Fair\",Scoring!$B$48,IF(T4=\"Good -\",Scoring!$B$47,IF(T4=\"Good\",Scoring!$B$46,IF(T4=\"Very Good\",Scoring!$B$45,IF(T4=\"\",0)))))))","v":80.03},{"$f":"IF(K4=\"Poor\",Scoring!$C$50,IF(K4=\"Fair -\",Scoring!$C$49,IF(K4=\"Fair\",Scoring!$C$48,IF(K4=\"Good -\",Scoring!$C$47,IF(K4=\"Good\",Scoring!$C$46,IF(K4=\"Very Good\",Scoring!$C$45,IF(K4=\"\",0)))))))","v":1},{"$f":"IF(L4=\"Poor\",Scoring!$C$50,IF(L4=\"Fair -\",Scoring!$C$49,IF(L4=\"Fair\",Scoring!$C$48,IF(L4=\"Good -\",Scoring!$C$47,IF(L4=\"Good\",Scoring!$C$46,IF(L4=\"Very Good\",Scoring!$C$45,IF(L4=\"\",0)))))))","v":1},{"$f":"IF(T4=\"Poor\",Scoring!$C$50,IF(T4=\"Fair -\",Scoring!$C$49,IF(T4=\"Fair\",Scoring!$C$48,IF(T4=\"Good -\",Scoring!$C$47,IF(T4=\"Good\",Scoring!$C$46,IF(T4=\"Very Good\",Scoring!$C$45,IF(T4=\"\",0)))))))","v":1},{"$f":"AB4*AE4","v":80.03},{"$f":"AC4*AF4","v":60.04},{"$f":"AD4*AG4","v":80.03}]
[{"$f":"ROW()+400","v":405},4,{"$f":"$D$1","v":"Tributaries - Upper Chena"},"Landscape Context","Hydrologic regime","Natural fluctuations of surface and ground water -amount, frequency, timing, duration","Water levels, flows or fluctuations are too high or too low, not related to the precipitation, and unlikely to maintain nested targets in many habitats within the target area and downstream","Water levels, flows or fluctuations in relationship to precipitation and ground water are likely to maintain nested targets in some habitats within the target and downstream","Water levels, flows or fluctuations in relationship to precipitation and ground water are likely to maintain nested targets in most habitats within the target area and downstream","Water levels, flows or fluctuations in relationship to precipitation and ground water are likely to maintain nested targets in almost all habitats within the target area and downstream","Good","Good -","Medium",null,null,null,null,null,null,{"$f":"IF(L5=\"\",\"\",IFERROR(INDEX(Outcomes!$F:$F, MATCH(A5,Outcomes!$H:$H,0)),L5))","v":"Good"},"-",null,null,null,{"$f":"IFERROR(INDEX(#REF!,MATCH(A5,#REF!,0)),\"\")","v":""},null,4,{"$f":"IF(K5=\"Poor\",Scoring!$B$50,IF(K5=\"Fair -\",Scoring!$B$49,IF(K5=\"Fair\",Scoring!$B$48,IF(K5=\"Good -\",Scoring!$B$47,IF(K5=\"Good\",Scoring!$B$46,IF(K5=\"Very Good\",Scoring!$B$45,IF(K5=\"\",0)))))))","v":80.03},{"$f":"IF(L5=\"Poor\",Scoring!$B$50,IF(L5=\"Fair -\",Scoring!$B$49,IF(L5=\"Fair\",Scoring!$B$48,IF(L5=\"Good -\",Scoring!$B$47,IF(L5=\"Good\",Scoring!$B$46,IF(L5=\"Very Good\",Scoring!$B$45,IF(L5=\"\",0)))))))","v":60.04},{"$f":"IF(T5=\"Poor\",Scoring!$B$50,IF(T5=\"Fair -\",Scoring!$B$49,IF(T5=\"Fair\",Scoring!$B$48,IF(T5=\"Good -\",Scoring!$B$47,IF(T5=\"Good\",Scoring!$B$46,IF(T5=\"Very Good\",Scoring!$B$45,IF(T5=\"\",0)))))))","v":80.03},{"$f":"IF(K5=\"Poor\",Scoring!$C$50,IF(K5=\"Fair -\",Scoring!$C$49,IF(K5=\"Fair\",Scoring!$C$48,IF(K5=\"Good -\",Scoring!$C$47,IF(K5=\"Good\",Scoring!$C$46,IF(K5=\"Very Good\",Scoring!$C$45,IF(K5=\"\",0)))))))","v":1},{"$f":"IF(L5=\"Poor\",Scoring!$C$50,IF(L5=\"Fair -\",Scoring!$C$49,IF(L5=\"Fair\",Scoring!$C$48,IF(L5=\"Good -\",Scoring!$C$47,IF(L5=\"Good\",Scoring!$C$46,IF(L5=\"Very Good\",Scoring!$C$45,IF(L5=\"\",0)))))))","v":1},{"$f":"IF(T5=\"Poor\",Scoring!$C$50,IF(T5=\"Fair -\",Scoring!$C$49,IF(T5=\"Fair\",Scoring!$C$48,IF(T5=\"Good -\",Scoring!$C$47,IF(T5=\"Good\",Scoring!$C$46,IF(T5=\"Very Good\",Scoring!$C$45,IF(T5=\"\",0)))))))","v":1},{"$f":"AB5*AE5","v":80.03},60.04,80.03]
[406,4,"Tributaries - Upper Chena","Landscape Context","Substrate and banks","Amount, type, size, availability of, & distribution","Low diversity of and abundance of suitable substrates in most habitats"," Moderate diversity of abundance of suitable substrates/material in most habitats","Diversity and abundance of suitable substrates/ material in most habitat for aquatic species"," High diversity and abundance of suitable substrates/ material in most habitat for aquatic species","Good","Fair","High",null,null,null,null,null,null,{"$f":"IF(L6=\"\",\"\",IFERROR(INDEX(Outcomes!$F:$F, MATCH(A6,Outcomes!$H:$H,0)),L6))","v":"Good"},"-",null,null,null,{"$f":"IFERROR(INDEX(#REF!,MATCH(A6,#REF!,0)),\"\")","v":""},null,4,{"$f":"IF(K6=\"Poor\",Scoring!$B$50,IF(K6=\"Fair -\",Scoring!$B$49,IF(K6=\"Fair\",Scoring!$B$48,IF(K6=\"Good -\",Scoring!$B$47,IF(K6=\"Good\",Scoring!$B$46,IF(K6=\"Very Good\",Scoring!$B$45,IF(K6=\"\",0)))))))","v":80.03},{"$f":"IF(L6=\"Poor\",Scoring!$B$50,IF(L6=\"Fair -\",Scoring!$B$49,IF(L6=\"Fair\",Scoring!$B$48,IF(L6=\"Good -\",Scoring!$B$47,IF(L6=\"Good\",Scoring!$B$46,IF(L6=\"Very Good\",Scoring!$B$45,IF(L6=\"\",0)))))))","v":40.04},{"$f":"IF(T6=\"Poor\",Scoring!$B$50,IF(T6=\"Fair -\",Scoring!$B$49,IF(T6=\"Fair\",Scoring!$B$48,IF(T6=\"Good -\",Scoring!$B$47,IF(T6=\"Good\",Scoring!$B$46,IF(T6=\"Very Good\",Scoring!$B$45,IF(T6=\"\",0)))))))","v":80.03},{"$f":"IF(K6=\"Poor\",Scoring!$C$50,IF(K6=\"Fair -\",Scoring!$C$49,IF(K6=\"Fair\",Scoring!$C$48,IF(K6=\"Good -\",Scoring!$C$47,IF(K6=\"Good\",Scoring!$C$46,IF(K6=\"Very Good\",Scoring!$C$45,IF(K6=\"\",0)))))))","v":1},{"$f":"IF(L6=\"Poor\",Scoring!$C$50,IF(L6=\"Fair -\",Scoring!$C$49,IF(L6=\"Fair\",Scoring!$C$48,IF(L6=\"Good -\",Scoring!$C$47,IF(L6=\"Good\",Scoring!$C$46,IF(L6=\"Very Good\",Scoring!$C$45,IF(L6=\"\",0)))))))","v":1},{"$f":"IF(T6=\"Poor\",Scoring!$C$50,IF(T6=\"Fair -\",Scoring!$C$49,IF(T6=\"Fair\",Scoring!$C$48,IF(T6=\"Good -\",Scoring!$C$47,IF(T6=\"Good\",Scoring!$C$46,IF(T6=\"Very Good\",Scoring!$C$45,IF(T6=\"\",0)))))))","v":1},80.03,40.04,80.03]
[407,4,"Tributaries - Upper Chena","Condition","Characteristic native communities","Presence of characteristic native communities within habitats","Few habitats have the characteristic native communities to accom-modate most nested targets in abundance","Some habitats have the characteristic native communities to accom-modate most nested targets in abundance","Most habitats have the characteristic native communities to accom-modate most nested targets in abundance","Almost all habitats have the characteristic native communities to accom­modate almost all nested targets in abundance","Good","Good -","Medium",null,null,null,null,null,null,{"$f":"IF(L7=\"\",\"\",IFERROR(INDEX(Outcomes!$F:$F, MATCH(A7,Outcomes!$H:$H,0)),L7))","v":"Good -"},"Medium",null,null,null,{"$f":"IFERROR(INDEX(#REF!,MATCH(A7,#REF!,0)),\"\")","v":""},null,4,{"$f":"IF(K7=\"Poor\",Scoring!$B$50,IF(K7=\"Fair -\",Scoring!$B$49,IF(K7=\"Fair\",Scoring!$B$48,IF(K7=\"Good -\",Scoring!$B$47,IF(K7=\"Good\",Scoring!$B$46,IF(K7=\"Very Good\",Scoring!$B$45,IF(K7=\"\",0)))))))","v":80.03},{"$f":"IF(L7=\"Poor\",Scoring!$B$50,IF(L7=\"Fair -\",Scoring!$B$49,IF(L7=\"Fair\",Scoring!$B$48,IF(L7=\"Good -\",Scoring!$B$47,IF(L7=\"Good\",Scoring!$B$46,IF(L7=\"Very Good\",Scoring!$B$45,IF(L7=\"\",0)))))))","v":60.04},{"$f":"IF(T7=\"Poor\",Scoring!$B$50,IF(T7=\"Fair -\",Scoring!$B$49,IF(T7=\"Fair\",Scoring!$B$48,IF(T7=\"Good -\",Scoring!$B$47,IF(T7=\"Good\",Scoring!$B$46,IF(T7=\"Very Good\",Scoring!$B$45,IF(T7=\"\",0)))))))","v":60.04},{"$f":"IF(K7=\"Poor\",Scoring!$C$50,IF(K7=\"Fair -\",Scoring!$C$49,IF(K7=\"Fair\",Scoring!$C$48,IF(K7=\"Good -\",Scoring!$C$47,IF(K7=\"Good\",Scoring!$C$46,IF(K7=\"Very Good\",Scoring!$C$45,IF(K7=\"\",0)))))))","v":1},{"$f":"IF(L7=\"Poor\",Scoring!$C$50,IF(L7=\"Fair -\",Scoring!$C$49,IF(L7=\"Fair\",Scoring!$C$48,IF(L7=\"Good -\",Scoring!$C$47,IF(L7=\"Good\",Scoring!$C$46,IF(L7=\"Very Good\",Scoring!$C$45,IF(L7=\"\",0)))))))","v":1},{"$f":"IF(T7=\"Poor\",Scoring!$C$50,IF(T7=\"Fair -\",Scoring!$C$49,IF(T7=\"Fair\",Scoring!$C$48,IF(T7=\"Good -\",Scoring!$C$47,IF(T7=\"Good\",Scoring!$C$46,IF(T7=\"Very Good\",Scoring!$C$45,IF(T7=\"\",0)))))))","v":1},80.03,60.04,60.04]
[408,4,"Tributaries - Upper Chena","Condition","Species composition","Presence/absence, extent of invasive species"," High abundance of  invasive/non-native species in most habitats"," Moderate abundance of  invasive/non-native species in most habitats","Low presence of existing invasive/non-native species in most habitats with NO new invasive species  "," Mimimal to no abundance of  invasive/non-native species in most habitats","Good","Good -","Medium",null,null,null,null,null,null,{"$f":"IF(L8=\"\",\"\",IFERROR(INDEX(Outcomes!$F:$F, MATCH(A8,Outcomes!$H:$H,0)),L8))","v":"Good"},"-",null,null,null,{"$f":"IFERROR(INDEX(#REF!,MATCH(A8,#REF!,0)),\"\")","v":""},null,4,{"$f":"IF(K8=\"Poor\",Scoring!$B$50,IF(K8=\"Fair -\",Scoring!$B$49,IF(K8=\"Fair\",Scoring!$B$48,IF(K8=\"Good -\",Scoring!$B$47,IF(K8=\"Good\",Scoring!$B$46,IF(K8=\"Very Good\",Scoring!$B$45,IF(K8=\"\",0)))))))","v":80.03},{"$f":"IF(L8=\"Poor\",Scoring!$B$50,IF(L8=\"Fair -\",Scoring!$B$49,IF(L8=\"Fair\",Scoring!$B$48,IF(L8=\"Good -\",Scoring!$B$47,IF(L8=\"Good\",Scoring!$B$46,IF(L8=\"Very Good\",Scoring!$B$45,IF(L8=\"\",0)))))))","v":60.04},{"$f":"IF(T8=\"Poor\",Scoring!$B$50,IF(T8=\"Fair -\",Scoring!$B$49,IF(T8=\"Fair\",Scoring!$B$48,IF(T8=\"Good -\",Scoring!$B$47,IF(T8=\"Good\",Scoring!$B$46,IF(T8=\"Very Good\",Scoring!$B$45,IF(T8=\"\",0)))))))","v":80.03},{"$f":"IF(K8=\"Poor\",Scoring!$C$50,IF(K8=\"Fair -\",Scoring!$C$49,IF(K8=\"Fair\",Scoring!$C$48,IF(K8=\"Good -\",Scoring!$C$47,IF(K8=\"Good\",Scoring!$C$46,IF(K8=\"Very Good\",Scoring!$C$45,IF(K8=\"\",0)))))))","v":1},{"$f":"IF(L8=\"Poor\",Scoring!$C$50,IF(L8=\"Fair -\",Scoring!$C$49,IF(L8=\"Fair\",Scoring!$C$48,IF(L8=\"Good -\",Scoring!$C$47,IF(L8=\"Good\",Scoring!$C$46,IF(L8=\"Very Good\",Scoring!$C$45,IF(L8=\"\",0)))))))","v":1},{"$f":"IF(T8=\"Poor\",Scoring!$C$50,IF(T8=\"Fair -\",Scoring!$C$49,IF(T8=\"Fair\",Scoring!$C$48,IF(T8=\"Good -\",Scoring!$C$47,IF(T8=\"Good\",Scoring!$C$46,IF(T8=\"Very Good\",Scoring!$C$45,IF(T8=\"\",0)))))))","v":1},80.03,60.04,80.03]
[409,4,"Tributaries - Upper Chena","Condition","Water quality","Sediment, temperature, DO, toxins, or litter/trash/residues","High % (TBD) not meeting most ADEC's standards "," Moderate habitats meet most ADEC’s standards","Most habitats are meeting most ADEC's standards","Majority to all habitats meet most ADEC’s standards","Good","Fair","High",null,null,null,null,null,null,{"$f":"IF(L9=\"\",\"\",IFERROR(INDEX(Outcomes!$F:$F, MATCH(A9,Outcomes!$H:$H,0)),L9))","v":"Good"},"-",null,null,null,{"$f":"IFERROR(INDEX(#REF!,MATCH(A9,#REF!,0)),\"\")","v":""},null,4,{"$f":"IF(K9=\"Poor\",Scoring!$B$50,IF(K9=\"Fair -\",Scoring!$B$49,IF(K9=\"Fair\",Scoring!$B$48,IF(K9=\"Good -\",Scoring!$B$47,IF(K9=\"Good\",Scoring!$B$46,IF(K9=\"Very Good\",Scoring!$B$45,IF(K9=\"\",0)))))))","v":80.03},{"$f":"IF(L9=\"Poor\",Scoring!$B$50,IF(L9=\"Fair -\",Scoring!$B$49,IF(L9=\"Fair\",Scoring!$B$48,IF(L9=\"Good -\",Scoring!$B$47,IF(L9=\"Good\",Scoring!$B$46,IF(L9=\"Very Good\",Scoring!$B$45,IF(L9=\"\",0)))))))","v":40.04},{"$f":"IF(T9=\"Poor\",Scoring!$B$50,IF(T9=\"Fair -\",Scoring!$B$49,IF(T9=\"Fair\",Scoring!$B$48,IF(T9=\"Good -\",Scoring!$B$47,IF(T9=\"Good\",Scoring!$B$46,IF(T9=\"Very Good\",Scoring!$B$45,IF(T9=\"\",0)))))))","v":80.03},{"$f":"IF(K9=\"Poor\",Scoring!$C$50,IF(K9=\"Fair -\",Scoring!$C$49,IF(K9=\"Fair\",Scoring!$C$48,IF(K9=\"Good -\",Scoring!$C$47,IF(K9=\"Good\",Scoring!$C$46,IF(K9=\"Very Good\",Scoring!$C$45,IF(K9=\"\",0)))))))","v":1},{"$f":"IF(L9=\"Poor\",Scoring!$C$50,IF(L9=\"Fair -\",Scoring!$C$49,IF(L9=\"Fair\",Scoring!$C$48,IF(L9=\"Good -\",Scoring!$C$47,IF(L9=\"Good\",Scoring!$C$46,IF(L9=\"Very Good\",Scoring!$C$45,IF(L9=\"\",0)))))))","v":1},{"$f":"IF(T9=\"Poor\",Scoring!$C$50,IF(T9=\"Fair -\",Scoring!$C$49,IF(T9=\"Fair\",Scoring!$C$48,IF(T9=\"Good -\",Scoring!$C$47,IF(T9=\"Good\",Scoring!$C$46,IF(T9=\"Very Good\",Scoring!$C$45,IF(T9=\"\",0)))))))","v":1},80.03,40.04,80.03]
[410,4,"Tributaries - Upper Chena","Size","Extent of area","Riparian area and river length","Severe, mostly gone","Moderate to substantial loss","Minimal loss","Mother Nature","Good","Good -","Medium",null,null,null,null,null,null,{"$f":"IF(L10=\"\",\"\",IFERROR(INDEX(Outcomes!$F:$F, MATCH(A10,Outcomes!$H:$H,0)),L10))","v":"Good -"},"Medium",null,null,null,{"$f":"IFERROR(INDEX(#REF!,MATCH(A10,#REF!,0)),\"\")","v":""},null,4,{"$f":"IF(K10=\"Poor\",Scoring!$B$50,IF(K10=\"Fair -\",Scoring!$B$49,IF(K10=\"Fair\",Scoring!$B$48,IF(K10=\"Good -\",Scoring!$B$47,IF(K10=\"Good\",Scoring!$B$46,IF(K10=\"Very Good\",Scoring!$B$45,IF(K10=\"\",0)))))))","v":80.03},{"$f":"IF(L10=\"Poor\",Scoring!$B$50,IF(L10=\"Fair -\",Scoring!$B$49,IF(L10=\"Fair\",Scoring!$B$48,IF(L10=\"Good -\",Scoring!$B$47,IF(L10=\"Good\",Scoring!$B$46,IF(L10=\"Very Good\",Scoring!$B$45,IF(L10=\"\",0)))))))","v":60.04},{"$f":"IF(T10=\"Poor\",Scoring!$B$50,IF(T10=\"Fair -\",Scoring!$B$49,IF(T10=\"Fair\",Scoring!$B$48,IF(T10=\"Good -\",Scoring!$B$47,IF(T10=\"Good\",Scoring!$B$46,IF(T10=\"Very Good\",Scoring!$B$45,IF(T10=\"\",0)))))))","v":60.04},{"$f":"IF(K10=\"Poor\",Scoring!$C$50,IF(K10=\"Fair -\",Scoring!$C$49,IF(K10=\"Fair\",Scoring!$C$48,IF(K10=\"Good -\",Scoring!$C$47,IF(K10=\"Good\",Scoring!$C$46,IF(K10=\"Very Good\",Scoring!$C$45,IF(K10=\"\",0)))))))","v":1},{"$f":"IF(L10=\"Poor\",Scoring!$C$50,IF(L10=\"Fair -\",Scoring!$C$49,IF(L10=\"Fair\",Scoring!$C$48,IF(L10=\"Good -\",Scoring!$C$47,IF(L10=\"Good\",Scoring!$C$46,IF(L10=\"Very Good\",Scoring!$C$45,IF(L10=\"\",0)))))))","v":1},{"$f":"IF(T10=\"Poor\",Scoring!$C$50,IF(T10=\"Fair -\",Scoring!$C$49,IF(T10=\"Fair\",Scoring!$C$48,IF(T10=\"Good -\",Scoring!$C$47,IF(T10=\"Good\",Scoring!$C$46,IF(T10=\"Very Good\",Scoring!$C$45,IF(T10=\"\",0)))))))","v":1},80.03,60.04,60.04]
[411,4,"Tributaries - Upper Chena",null,null,null,null,null,null,null,null,null,"",null,null,null,null,null,null,{"$f":"IF(L11=\"\",\"\",IFERROR(INDEX(Outcomes!$F:$F, MATCH(A11,Outcomes!$H:$H,0)),L11))","v":""},"",null,null,null,{"$f":"IFERROR(INDEX(#REF!,MATCH(A11,#REF!,0)),\"\")","v":""},null,"",{"$f":"IF(K11=\"Poor\",Scoring!$B$50,IF(K11=\"Fair -\",Scoring!$B$49,IF(K11=\"Fair\",Scoring!$B$48,IF(K11=\"Good -\",Scoring!$B$47,IF(K11=\"Good\",Scoring!$B$46,IF(K11=\"Very Good\",Scoring!$B$45,IF(K11=\"\",0)))))))","v":0},{"$f":"IF(L11=\"Poor\",Scoring!$B$50,IF(L11=\"Fair -\",Scoring!$B$49,IF(L11=\"Fair\",Scoring!$B$48,IF(L11=\"Good -\",Scoring!$B$47,IF(L11=\"Good\",Scoring!$B$46,IF(L11=\"Very Good\",Scoring!$B$45,IF(L11=\"\",0)))))))","v":0},{"$f":"IF(T11=\"Poor\",Scoring!$B$50,IF(T11=\"Fair -\",Scoring!$B$49,IF(T11=\"Fair\",Scoring!$B$48,IF(T11=\"Good -\",Scoring!$B$47,IF(T11=\"Good\",Scoring!$B$46,IF(T11=\"Very Good\",Scoring!$B$45,IF(T11=\"\",0)))))))","v":0},{"$f":"IF(K11=\"Poor\",Scoring!$C$50,IF(K11=\"Fair -\",Scoring!$C$49,IF(K11=\"Fair\",Scoring!$C$48,IF(K11=\"Good -\",Scoring!$C$47,IF(K11=\"Good\",Scoring!$C$46,IF(K11=\"Very Good\",Scoring!$C$45,IF(K11=\"\",0)))))))","v":0},{"$f":"IF(L11=\"Poor\",Scoring!$C$50,IF(L11=\"Fair -\",Scoring!$C$49,IF(L11=\"Fair\",Scoring!$C$48,IF(L11=\"Good -\",Scoring!$C$47,IF(L11=\"Good\",Scoring!$C$46,IF(L11=\"Very Good\",Scoring!$C$45,IF(L11=\"\",0)))))))","v":0},{"$f":"IF(T11=\"Poor\",Scoring!$C$50,IF(T11=\"Fair -\",Scoring!$C$49,IF(T11=\"Fair\",Scoring!$C$48,IF(T11=\"Good -\",Scoring!$C$47,IF(T11=\"Good\",Scoring!$C$46,IF(T11=\"Very Good\",Scoring!$C$45,IF(T11=\"\",0)))))))","v":0},0,0,0]
[412,4,"Tributaries - Upper Chena",null,null,null,null,null,null,null,null,null,"",null,null,null,null,null,null,{"$f":"IF(L12=\"\",\"\",IFERROR(INDEX(Outcomes!$F:$F, MATCH(A12,Outcomes!$H:$H,0)),L12))","v":""},"",null,null,null,{"$f":"IFERROR(INDEX(#REF!,MATCH(A12,#REF!,0)),\"\")","v":""},null,"",{"$f":"IF(K12=\"Poor\",Scoring!$B$50,IF(K12=\"Fair -\",Scoring!$B$49,IF(K12=\"Fair\",Scoring!$B$48,IF(K12=\"Good -\",Scoring!$B$47,IF(K12=\"Good\",Scoring!$B$46,IF(K12=\"Very Good\",Scoring!$B$45,IF(K12=\"\",0)))))))","v":0},{"$f":"IF(L12=\"Poor\",Scoring!$B$50,IF(L12=\"Fair -\",Scoring!$B$49,IF(L12=\"Fair\",Scoring!$B$48,IF(L12=\"Good -\",Scoring!$B$47,IF(L12=\"Good\",Scoring!$B$46,IF(L12=\"Very Good\",Scoring!$B$45,IF(L12=\"\",0)))))))","v":0},{"$f":"IF(T12=\"Poor\",Scoring!$B$50,IF(T12=\"Fair -\",Scoring!$B$49,IF(T12=\"Fair\",Scoring!$B$48,IF(T12=\"Good -\",Scoring!$B$47,IF(T12=\"Good\",Scoring!$B$46,IF(T12=\"Very Good\",Scoring!$B$45,IF(T12=\"\",0)))))))","v":0},{"$f":"IF(K12=\"Poor\",Scoring!$C$50,IF(K12=\"Fair -\",Scoring!$C$49,IF(K12=\"Fair\",Scoring!$C$48,IF(K12=\"Good -\",Scoring!$C$47,IF(K12=\"Good\",Scoring!$C$46,IF(K12=\"Very Good\",Scoring!$C$45,IF(K12=\"\",0)))))))","v":0},{"$f":"IF(L12=\"Poor\",Scoring!$C$50,IF(L12=\"Fair -\",Scoring!$C$49,IF(L12=\"Fair\",Scoring!$C$48,IF(L12=\"Good -\",Scoring!$C$47,IF(L12=\"Good\",Scoring!$C$46,IF(L12=\"Very Good\",Scoring!$C$45,IF(L12=\"\",0)))))))","v":0},{"$f":"IF(T12=\"Poor\",Scoring!$C$50,IF(T12=\"Fair -\",Scoring!$C$49,IF(T12=\"Fair\",Scoring!$C$48,IF(T12=\"Good -\",Scoring!$C$47,IF(T12=\"Good\",Scoring!$C$46,IF(T12=\"Very Good\",Scoring!$C$45,IF(T12=\"\",0)))))))","v":0},0,0,0]
[413,4,"Tributaries - Upper Chena",null,null,null,null,null,null,null,null,null,"",null,null,null,null,null,null,{"$f":"IF(L13=\"\",\"\",IFERROR(INDEX(Outcomes!$F:$F, MATCH(A13,Outcomes!$H:$H,0)),L13))","v":""},{"$f":"IF(K13=0,\"\",IF(T13=0,\"\",INDEX(StressRankMatrix,MATCH(K13,Rating,0),MATCH(T13,Rating,0))))","v":""},null,null,null,{"$f":"IFERROR(INDEX(#REF!,MATCH(A13,#REF!,0)),\"\")","v":""},null,"",{"$f":"IF(K13=\"Poor\",Scoring!$B$50,IF(K13=\"Fair -\",Scoring!$B$49,IF(K13=\"Fair\",Scoring!$B$48,IF(K13=\"Good -\",Scoring!$B$47,IF(K13=\"Good\",Scoring!$B$46,IF(K13=\"Very Good\",Scoring!$B$45,IF(K13=\"\",0)))))))","v":0},{"$f":"IF(L13=\"Poor\",Scoring!$B$50,IF(L13=\"Fair -\",Scoring!$B$49,IF(L13=\"Fair\",Scoring!$B$48,IF(L13=\"Good -\",Scoring!$B$47,IF(L13=\"Good\",Scoring!$B$46,IF(L13=\"Very Good\",Scoring!$B$45,IF(L13=\"\",0)))))))","v":0},{"$f":"IF(T13=\"Poor\",Scoring!$B$50,IF(T13=\"Fair -\",Scoring!$B$49,IF(T13=\"Fair\",Scoring!$B$48,IF(T13=\"Good -\",Scoring!$B$47,IF(T13=\"Good\",Scoring!$B$46,IF(T13=\"Very Good\",Scoring!$B$45,IF(T13=\"\",0)))))))","v":0},{"$f":"IF(K13=\"Poor\",Scoring!$C$50,IF(K13=\"Fair -\",Scoring!$C$49,IF(K13=\"Fair\",Scoring!$C$48,IF(K13=\"Good -\",Scoring!$C$47,IF(K13=\"Good\",Scoring!$C$46,IF(K13=\"Very Good\",Scoring!$C$45,IF(K13=\"\",0)))))))","v":0},{"$f":"IF(L13=\"Poor\",Scoring!$C$50,IF(L13=\"Fair -\",Scoring!$C$49,IF(L13=\"Fair\",Scoring!$C$48,IF(L13=\"Good -\",Scoring!$C$47,IF(L13=\"Good\",Scoring!$C$46,IF(L13=\"Very Good\",Scoring!$C$45,IF(L13=\"\",0)))))))","v":0},{"$f":"IF(T13=\"Poor\",Scoring!$C$50,IF(T13=\"Fair -\",Scoring!$C$49,IF(T13=\"Fair\",Scoring!$C$48,IF(T13=\"Good -\",Scoring!$C$47,IF(T13=\"Good\",Scoring!$C$46,IF(T13=\"Very Good\",Scoring!$C$45,IF(T13=\"\",0)))))))","v":0},0,0,0]
[null,null,null,"Overall Target Health Score                           (0 = Poor - 100 = Very Good)",null,null,null,null,null,null,{"$f":"AK14","v":80.029999999999987},{"$f":"AL14","v":54.325714285714291},null,null,null,null,null,null,null,{"$f":"AM14","v":74.318571428571417},null,null,null,null,null,null,null,null,null,null,{"$f":"SUM(AE4:AE13)","v":7},7,7,560.20999999999992,380.28000000000003,520.2299999999999,{"$f":"IF(AH14=0,\"\",AH14/AE14)","v":80.029999999999987},{"$f":"IF(AI14=0,\"\",AI14/AF14)","v":54.325714285714291},{"$f":"IF(AJ14=0,\"\",AJ14/AG14)","v":74.318571428571417}]
[]
[null,null,null,null,"Threats (Sources of Stress)         List Sources of stress below (max of 12 per target).  Enter Contribution of each source where applicable.","  Key Attribute >",{"$f":"IF(E4=0,\"\",E4)","v":"Connectivity to tributaries and within mainstem"},{"$f":"IF(E5=0,\"\",E5)","v":"Hydrologic regime"},{"$f":"IF(E6=0,\"\",E6)","v":"Substrate and banks"},{"$f":"IF(E7=0,\"\",E7)","v":"Characteristic native communities"},{"$f":"IF(E8=0,\"\",E8)","v":"Species composition"},{"$f":"IF(E9=0,\"\",E9)","v":"Water quality"},{"$f":"IF(E10=0,\"\",E10)","v":"Extent of area"},{"$f":"IF(E11=0,\"\",E11)","v":""},{"$f":"IF(E12=0,\"\",E12)","v":""},{"$f":"IF(E13=0,\"\",E13)","v":""},"Threat to Target Rank"]
[null,null,null,null,null,"Stress Rank>",{"$f":"IF(M4=\"\",\"\", IF(N4=0,M4,N4))","v":"Medium"},{"$f":"IF(M5=\"\",\"\", IF(N5=0,M5,N5))","v":"Medium"},{"$f":"IF(M6=\"\",\"\", IF(N6=0,M6,N6))","v":"High"},{"$f":"IF(M7=\"\",\"\", IF(N7=0,M7,N7))","v":"Medium"},{"$f":"IF(M8=\"\",\"\", IF(N8=0,M8,N8))","v":"Medium"},{"$f":"IF(M9=\"\",\"\", IF(N9=0,M9,N9))","v":"High"},{"$f":"IF(M10=\"\",\"\", IF(N10=0,M10,N10))","v":"Medium"},{"$f":"IF(M11=\"\",\"\", IF(N11=0,M11,N11))","v":""},{"$f":"IF(M12=\"\",\"\", IF(N12=0,M12,N12))","v":""},{"$f":"IF(M13=\"\",\"\", IF(N13=0,M13,N13))","v":""}]
[null,null,null,null,"Removal of native vegetation from riparian zone","Contribution",null,"Medium","Medium",null,null,"Medium",null,null,null,null,{"$f":"IF(AF19>=Scoring!$B$24,\"Very High\",IF(AF19>=Scoring!$B$25,\"High\",IF(AF19>=Scoring!$B$26,\"Medium\",IF(AF19>=Scoring!$B$27,\"Low\",\"-\"))))","v":"Medium"}]
[null,null,null,null,null,"Threat Rank ",{"$f":"IF(G18=0,\"\",INDEX(ThreatRankMatrix,MATCH($G$17,Rank,0),MATCH(G18,Rank,0)))","v":""},{"$f":"IF(H18=0,\"\",INDEX(ThreatRankMatrix,MATCH($H$17,Rank,0),MATCH(H18,Rank,0)))","v":"Low"},{"$f":"IF(I18=0,\"\",INDEX(ThreatRankMatrix,MATCH($I$17,Rank,0),MATCH(I18,Rank,0)))","v":"Medium"},{"$f":"IF(J18=0,\"\",INDEX(ThreatRankMatrix,MATCH($J$17,Rank,0),MATCH(J18,Rank,0)))","v":""},{"$f":"IF(K18=0,\"\",INDEX(ThreatRankMatrix,MATCH($K$17,Rank,0),MATCH(K18,Rank,0)))","v":""},{"$f":"IF(L18=0,\"\",INDEX(ThreatRankMatrix,MATCH($L$17,Rank,0),MATCH(L18,Rank,0)))","v":"Medium"},{"$f":"IF(M18=0,\"\",INDEX(ThreatRankMatrix,MATCH($M$17,Rank,0),MATCH(M18,Rank,0)))","v":""},{"$f":"IF(N18=0,\"\",INDEX(ThreatRankMatrix,MATCH($N$17,Rank,0),MATCH(N18,Rank,0)))","v":""},{"$f":"IF(O18=0,\"\",INDEX(ThreatRankMatrix,MATCH($O$17,Rank,0),MATCH(O18,Rank,0)))","v":""},{"$f":"IF(P18=0,\"\",INDEX(ThreatRankMatrix,MATCH($P$17,Rank,0),MATCH(P18,Rank,0)))","v":""},null,null,null,null,null,null,null,null,null,null,null,null,null,null,null,{"$f":"SUM(AG19:AP19)","v":15},{"$f":"IF(G$17=\"\",0,(IF(G18=0,0,IF(G19=0,0,INDEX(ThreatScore,MATCH(G19,Rank,0))))))","v":0},1,7,0,0,7,0,0,0,0]
[null,null,null,null,"Incompatible road design / maintenance","Contribution","Medium","Medium","Medium",null,null,"Low","Low",null,null,null,{"$f":"IF(AF21>=Scoring!$B$24,\"Very High\",IF(AF21>=Scoring!$B$25,\"High\",IF(AF21>=Scoring!$B$26,\"Medium\",IF(AF21>=Scoring!$B$27,\"Low\",\"-\"))))","v":"Medium"}]
[null,null,null,null,null,"Threat Rank ",{"$f":"IF(G20=0,\"\",INDEX(ThreatRankMatrix,MATCH($G$17,Rank,0),MATCH(G20,Rank,0)))","v":"Low"},{"$f":"IF(H20=0,\"\",INDEX(ThreatRankMatrix,MATCH($H$17,Rank,0),MATCH(H20,Rank,0)))","v":"Low"},{"$f":"IF(I20=0,\"\",INDEX(ThreatRankMatrix,MATCH($I$17,Rank,0),MATCH(I20,Rank,0)))","v":"Medium"},{"$f":"IF(J20=0,\"\",INDEX(ThreatRankMatrix,MATCH($J$17,Rank,0),MATCH(J20,Rank,0)))","v":""},{"$f":"IF(K20=0,\"\",INDEX(ThreatRankMatrix,MATCH($K$17,Rank,0),MATCH(K20,Rank,0)))","v":""},{"$f":"IF(L20=0,\"\",INDEX(ThreatRankMatrix,MATCH($L$17,Rank,0),MATCH(L20,Rank,0)))","v":"Low"},{"$f":"IF(M20=0,\"\",INDEX(ThreatRankMatrix,MATCH($M$17,Rank,0),MATCH(M20,Rank,0)))","v":"Low"},{"$f":"IF(N20=0,\"\",INDEX(ThreatRankMatrix,MATCH($N$17,Rank,0),MATCH(N20,Rank,0)))","v":""},{"$f":"IF(O20=0,\"\",INDEX(ThreatRankMatrix,MATCH($O$17,Rank,0),MATCH(O20,Rank,0)))","v":""},{"$f":"IF(P20=0,\"\",INDEX(ThreatRankMatrix,MATCH($P$17,Rank,0),MATCH(P20,Rank,0)))","v":""},null,null,null,null,null,null,null,null,null,null,null,null,null,null,null,{"$f":"SUM(AG21:AP21)","v":11},{"$f":"IF(G$17=\"\",0,(IF(G20=0,0,IF(G21=0,0,INDEX(ThreatScore,MATCH(G21,Rank,0))))))","v":1},1,7,0,0,1,1,0,0,0]
[null,null,null,null,"Hardening stream banks with rip rap, channelization, etc.","Contribution",null,"Low","Low","Low",null,"Low","Low",null,null,null,{"$f":"IF(AF23>=Scoring!$B$24,\"Very High\",IF(AF23>=Scoring!$B$25,\"High\",IF(AF23>=Scoring!$B$26,\"Medium\",IF(AF23>=Scoring!$B$27,\"Low\",\"-\"))))","v":"Low"}]
[null,null,null,null,null,"Threat Rank ",{"$f":"IF(G22=0,\"\",INDEX(ThreatRankMatrix,MATCH($G$17,Rank,0),MATCH(G22,Rank,0)))","v":""},{"$f":"IF(H22=0,\"\",INDEX(ThreatRankMatrix,MATCH($H$17,Rank,0),MATCH(H22,Rank,0)))","v":"Low"},{"$f":"IF(I22=0,\"\",INDEX(ThreatRankMatrix,MATCH($I$17,Rank,0),MATCH(I22,Rank,0)))","v":"Low"},{"$f":"IF(J22=0,\"\",INDEX(ThreatRankMatrix,MATCH($J$17,Rank,0),MATCH(J22,Rank,0)))","v":"Low"},{"$f":"IF(K22=0,\"\",INDEX(ThreatRankMatrix,MATCH($K$17,Rank,0),MATCH(K22,Rank,0)))","v":""},{"$f":"IF(L22=0,\"\",INDEX(ThreatRankMatrix,MATCH($L$17,Rank,0),MATCH(L22,Rank,0)))","v":"Low"},{"$f":"IF(M22=0,\"\",INDEX(ThreatRankMatrix,MATCH($M$17,Rank,0),MATCH(M22,Rank,0)))","v":"Low"},{"$f":"IF(N22=0,\"\",INDEX(ThreatRankMatrix,MATCH($N$17,Rank,0),MATCH(N22,Rank,0)))","v":""},{"$f":"IF(O22=0,\"\",INDEX(ThreatRankMatrix,MATCH($O$17,Rank,0),MATCH(O22,Rank,0)))","v":""},{"$f":"IF(P22=0,\"\",INDEX(ThreatRankMatrix,MATCH($P$17,Rank,0),MATCH(P22,Rank,0)))","v":""},null,null,null,null,null,null,null,null,null,null,null,null,null,null,null,{"$f":"SUM(AG23:AP23)","v":5},{"$f":"IF(G$17=\"\",0,(IF(G22=0,0,IF(G23=0,0,INDEX(ThreatScore,MATCH(G23,Rank,0))))))","v":0},1,1,1,0,1,1,0,0,0]
[null,null,null,null,"Incompatible mining (excluding roads)","Contribution",null,"High","High","High","High","High","Medium",null,null,null,{"$f":"IF(AF25>=Scoring!$B$24,\"Very High\",IF(AF25>=Scoring!$B$25,\"High\",IF(AF25>=Scoring!$B$26,\"Medium\",IF(AF25>=Scoring!$B$27,\"Low\",\"-\"))))","v":"High"}]
[null,null,null,null,null,"Threat Rank ",{"$f":"IF(G24=0,\"\",INDEX(ThreatRankMatrix,MATCH($G$17,Rank,0),MATCH(G24,Rank,0)))","v":""},{"$f":"IF(H24=0,\"\",INDEX(ThreatRankMatrix,MATCH($H$17,Rank,0),MATCH(H24,Rank,0)))","v":"Medium"},{"$f":"IF(I24=0,\"\",INDEX(ThreatRankMatrix,MATCH($I$17,Rank,0),MATCH(I24,Rank,0)))","v":"High"},{"$f":"IF(J24=0,\"\",INDEX(ThreatRankMatrix,MATCH($J$17,Rank,0),MATCH(J24,Rank,0)))","v":"Medium"},{"$f":"IF(K24=0,\"\",INDEX(ThreatRankMatrix,MATCH($K$17,Rank,0),MATCH(K24,Rank,0)))","v":"Medium"},{"$f":"IF(L24=0,\"\",INDEX(ThreatRankMatrix,MATCH($L$17,Rank,0),MATCH(L24,Rank,0)))","v":"High"},{"$f":"IF(M24=0,\"\",INDEX(ThreatRankMatrix,MATCH($M$17,Rank,0),MATCH(M24,Rank,0)))","v":"Low"},{"$f":"IF(N24=0,\"\",INDEX(ThreatRankMatrix,MATCH($N$17,Rank,0),MATCH(N24,Rank,0)))","v":""},{"$f":"IF(O24=0,\"\",INDEX(ThreatRankMatrix,MATCH($O$17,Rank,0),MATCH(O24,Rank,0)))","v":""},{"$f":"IF(P24=0,\"\",INDEX(ThreatRankMatrix,MATCH($P$17,Rank,0),MATCH(P24,Rank,0)))","v":""},null,null,null,null,null,null,null,null,null,null,null,null,null,null,null,{"$f":"SUM(AG25:AP25)","v":92},{"$f":"IF(G$17=\"\",0,(IF(G24=0,0,IF(G25=0,0,INDEX(ThreatScore,MATCH(G25,Rank,0))))))","v":0},7,35,7,7,35,1,0,0,0]
[null,null,null,null,"Residential / commercial development","Contribution",null,"Low","Low","Low","Low","Medium","Low",null,null,null,{"$f":"IF(AF27>=Scoring!$B$24,\"Very High\",IF(AF27>=Scoring!$B$25,\"High\",IF(AF27>=Scoring!$B$26,\"Medium\",IF(AF27>=Scoring!$B$27,\"Low\",\"-\"))))","v":"Medium"}]
[null,null,null,null,null,"Threat Rank ",{"$f":"IF(G26=0,\"\",INDEX(ThreatRankMatrix,MATCH($G$17,Rank,0),MATCH(G26,Rank,0)))","v":""},{"$f":"IF(H26=0,\"\",INDEX(ThreatRankMatrix,MATCH($H$17,Rank,0),MATCH(H26,Rank,0)))","v":"Low"},{"$f":"IF(I26=0,\"\",INDEX(ThreatRankMatrix,MATCH($I$17,Rank,0),MATCH(I26,Rank,0)))","v":"Low"},{"$f":"IF(J26=0,\"\",INDEX(ThreatRankMatrix,MATCH($J$17,Rank,0),MATCH(J26,Rank,0)))","v":"Low"},{"$f":"IF(K26=0,\"\",INDEX(ThreatRankMatrix,MATCH($K$17,Rank,0),MATCH(K26,Rank,0)))","v":"Low"},{"$f":"IF(L26=0,\"\",INDEX(ThreatRankMatrix,MATCH($L$17,Rank,0),MATCH(L26,Rank,0)))","v":"Medium"},{"$f":"IF(M26=0,\"\",INDEX(ThreatRankMatrix,MATCH($M$17,Rank,0),MATCH(M26,Rank,0)))","v":"Low"},{"$f":"IF(N26=0,\"\",INDEX(ThreatRankMatrix,MATCH($N$17,Rank,0),MATCH(N26,Rank,0)))","v":""},{"$f":"IF(O26=0,\"\",INDEX(ThreatRankMatrix,MATCH($O$17,Rank,0),MATCH(O26,Rank,0)))","v":""},{"$f":"IF(P26=0,\"\",INDEX(ThreatRankMatrix,MATCH($P$17,Rank,0),MATCH(P26,Rank,0)))","v":""},null,null,null,null,null,null,null,null,null,null,null,null,null,null,null,{"$f":"SUM(AG27:AP27)","v":12},{"$f":"IF(G$17=\"\",0,(IF(G26=0,0,IF(G27=0,0,INDEX(ThreatScore,MATCH(G27,Rank,0))))))","v":0},1,1,1,1,7,1,0,0,0]
[null,null,null,null,"Dumping of trash, debris, etc. ","Contribution",null,null,null,null,null,"Low","Low",null,null,null,{"$f":"IF(AF29>=Scoring!$B$24,\"Very High\",IF(AF29>=Scoring!$B$25,\"High\",IF(AF29>=Scoring!$B$26,\"Medium\",IF(AF29>=Scoring!$B$27,\"Low\",\"-\"))))","v":"Low"}]
[null,null,null,null,null,"Threat Rank ",{"$f":"IF(G28=0,\"\",INDEX(ThreatRankMatrix,MATCH($G$17,Rank,0),MATCH(G28,Rank,0)))","v":""},{"$f":"IF(H28=0,\"\",INDEX(ThreatRankMatrix,MATCH($H$17,Rank,0),MATCH(H28,Rank,0)))","v":""},{"$f":"IF(I28=0,\"\",INDEX(ThreatRankMatrix,MATCH($I$17,Rank,0),MATCH(I28,Rank,0)))","v":""},{"$f":"IF(J28=0,\"\",INDEX(ThreatRankMatrix,MATCH($J$17,Rank,0),MATCH(J28,Rank,0)))","v":""},{"$f":"IF(K28=0,\"\",INDEX(ThreatRankMatrix,MATCH($K$17,Rank,0),MATCH(K28,Rank,0)))","v":""},{"$f":"IF(L28=0,\"\",INDEX(ThreatRankMatrix,MATCH($L$17,Rank,0),MATCH(L28,Rank,0)))","v":"Low"},{"$f":"IF(M28=0,\"\",INDEX(ThreatRankMatrix,MATCH($M$17,Rank,0),MATCH(M28,Rank,0)))","v":"Low"},{"$f":"IF(N28=0,\"\",INDEX(ThreatRankMatrix,MATCH($N$17,Rank,0),MATCH(N28,Rank,0)))","v":""},{"$f":"IF(O28=0,\"\",INDEX(ThreatRankMatrix,MATCH($O$17,Rank,0),MATCH(O28,Rank,0)))","v":""},{"$f":"IF(P28=0,\"\",INDEX(ThreatRankMatrix,MATCH($P$17,Rank,0),MATCH(P28,Rank,0)))","v":""},null,null,null,null,null,null,null,null,null,null,null,null,null,null,null,{"$f":"SUM(AG29:AP29)","v":2},{"$f":"IF(G$17=\"\",0,(IF(G28=0,0,IF(G29=0,0,INDEX(ThreatScore,MATCH(G29,Rank,0))))))","v":0},0,0,0,0,1,1,0,0,0]
[null,null,null,null,"Culverts that impede fish passage","Contribution",null,null,null,null,"Low",null,null,null,null,null,{"$f":"IF(AF31>=Scoring!$B$24,\"Very High\",IF(AF31>=Scoring!$B$25,\"High\",IF(AF31>=Scoring!$B$26,\"Medium\",IF(AF31>=Scoring!$B$27,\"Low\",\"-\"))))","v":"Low"}]
[null,null,null,null,null,"Threat Rank ",{"$f":"IF(G30=0,\"\",INDEX(ThreatRankMatrix,MATCH($G$17,Rank,0),MATCH(G30,Rank,0)))","v":""},{"$f":"IF(H30=0,\"\",INDEX(ThreatRankMatrix,MATCH($H$17,Rank,0),MATCH(H30,Rank,0)))","v":""},{"$f":"IF(I30=0,\"\",INDEX(ThreatRankMatrix,MATCH($I$17,Rank,0),MATCH(I30,Rank,0)))","v":""},{"$f":"IF(J30=0,\"\",INDEX(ThreatRankMatrix,MATCH($J$17,Rank,0),MATCH(J30,Rank,0)))","v":""},{"$f":"IF(K30=0,\"\",INDEX(ThreatRankMatrix,MATCH($K$17,Rank,0),MATCH(K30,Rank,0)))","v":"Low"},{"$f":"IF(L30=0,\"\",INDEX(ThreatRankMatrix,MATCH($L$17,Rank,0),MATCH(L30,Rank,0)))","v":""},{"$f":"IF(M30=0,\"\",INDEX(ThreatRankMatrix,MATCH($M$17,Rank,0),MATCH(M30,Rank,0)))","v":""},{"$f":"IF(N30=0,\"\",INDEX(ThreatRankMatrix,MATCH($N$17,Rank,0),MATCH(N30,Rank,0)))","v":""},{"$f":"IF(O30=0,\"\",INDEX(ThreatRankMatrix,MATCH($O$17,Rank,0),MATCH(O30,Rank,0)))","v":""},{"$f":"IF(P30=0,\"\",INDEX(ThreatRankMatrix,MATCH($P$17,Rank,0),MATCH(P30,Rank,0)))","v":""},null,null,null,null,null,null,null,null,null,null,null,null,null,null,null,{"$f":"SUM(AG31:AP31)","v":1},{"$f":"IF(G$17=\"\",0,(IF(G30=0,0,IF(G31=0,0,INDEX(ThreatScore,MATCH(G31,Rank,0))))))","v":0},0,0,0,1,0,0,0,0,0]
[null,null,null,null,"Fire suppression","Contribution",null,"Medium","Medium",null,null,"Low",null,null,null,null,{"$f":"IF(AF33>=Scoring!$B$24,\"Very High\",IF(AF33>=Scoring!$B$25,\"High\",IF(AF33>=Scoring!$B$26,\"Medium\",IF(AF33>=Scoring!$B$27,\"Low\",\"-\"))))","v":"Medium"}]
[null,null,null,null,null,"Threat Rank ",{"$f":"IF(G32=0,\"\",INDEX(ThreatRankMatrix,MATCH($G$17,Rank,0),MATCH(G32,Rank,0)))","v":""},{"$f":"IF(H32=0,\"\",INDEX(ThreatRankMatrix,MATCH($H$17,Rank,0),MATCH(H32,Rank,0)))","v":"Low"},{"$f":"IF(I32=0,\"\",INDEX(ThreatRankMatrix,MATCH($I$17,Rank,0),MATCH(I32,Rank,0)))","v":"Medium"},{"$f":"IF(J32=0,\"\",INDEX(ThreatRankMatrix,MATCH($J$17,Rank,0),MATCH(J32,Rank,0)))","v":""},{"$f":"IF(K32=0,\"\",INDEX(ThreatRankMatrix,MATCH($K$17,Rank,0),MATCH(K32,Rank,0)))","v":""},{"$f":"IF(L32=0,\"\",INDEX(ThreatRankMatrix,MATCH($L$17,Rank,0),MATCH(L32,Rank,0)))","v":"Low"},{"$f":"IF(M32=0,\"\",INDEX(ThreatRankMatrix,MATCH($M$17,Rank,0),MATCH(M32,Rank,0)))","v":""},{"$f":"IF(N32=0,\"\",INDEX(ThreatRankMatrix,MATCH($N$17,Rank,0),MATCH(N32,Rank,0)))","v":""},{"$f":"IF(O32=0,\"\",INDEX(ThreatRankMatrix,MATCH($O$17,Rank,0),MATCH(O32,Rank,0)))","v":""},{"$f":"IF(P32=0,\"\",INDEX(ThreatRankMatrix,MATCH($P$17,Rank,0),MATCH(P32,Rank,0)))","v":""},null,null,null,null,null,null,null,null,null,null,null,null,null,null,null,{"$f":"SUM(AG33:AP33)","v":9},{"$f":"IF(G$17=\"\",0,(IF(G32=0,0,IF(G33=0,0,INDEX(ThreatScore,MATCH(G33,Rank,0))))))","v":0},1,7,0,0,1,0,0,0,0]
[null,null,null,null,"Incompatible timber management practices","Contribution",null,null,null,null,null,"Low","Low",null,null,null,{"$f":"IF(AF35>=Scoring!$B$24,\"Very High\",IF(AF35>=Scoring!$B$25,\"High\",IF(AF35>=Scoring!$B$26,\"Medium\",IF(AF35>=Scoring!$B$27,\"Low\",\"-\"))))","v":"Low"}]
[null,null,null,null,null,"Threat Rank ",{"$f":"IF(G34=0,\"\",INDEX(ThreatRankMatrix,MATCH($G$17,Rank,0),MATCH(G34,Rank,0)))","v":""},{"$f":"IF(H34=0,\"\",INDEX(ThreatRankMatrix,MATCH($H$17,Rank,0),MATCH(H34,Rank,0)))","v":""},{"$f":"IF(I34=0,\"\",INDEX(ThreatRankMatrix,MATCH($I$17,Rank,0),MATCH(I34,Rank,0)))","v":""},{"$f":"IF(J34=0,\"\",INDEX(ThreatRankMatrix,MATCH($J$17,Rank,0),MATCH(J34,Rank,0)))","v":""},{"$f":"IF(K34=0,\"\",INDEX(ThreatRankMatrix,MATCH($K$17,Rank,0),MATCH(K34,Rank,0)))","v":""},{"$f":"IF(L34=0,\"\",INDEX(ThreatRankMatrix,MATCH($L$17,Rank,0),MATCH(L34,Rank,0)))","v":"Low"},{"$f":"IF(M34=0,\"\",INDEX(ThreatRankMatrix,MATCH($M$17,Rank,0),MATCH(M34,Rank,0)))","v":"Low"},{"$f":"IF(N34=0,\"\",INDEX(ThreatRankMatrix,MATCH($N$17,Rank,0),MATCH(N34,Rank,0)))","v":""},{"$f":"IF(O34=0,\"\",INDEX(ThreatRankMatrix,MATCH($O$17,Rank,0),MATCH(O34,Rank,0)))","v":""},{"$f":"IF(P34=0,\"\",INDEX(ThreatRankMatrix,MATCH($P$17,Rank,0),MATCH(P34,Rank,0)))","v":""},null,null,null,null,null,null,null,null,null,null,null,null,null,null,null,{"$f":"SUM(AG35:AP35)","v":2},{"$f":"IF(G$17=\"\",0,(IF(G34=0,0,IF(G35=0,0,INDEX(ThreatScore,MATCH(G35,Rank,0))))))","v":0},0,0,0,0,1,1,0,0,0]
[null,null,null,null,"Incompatible boating","Contribution",null,null,"Medium",null,"Low","Medium",null,null,null,null,{"$f":"IF(AF37>=Scoring!$B$24,\"Very High\",IF(AF37>=Scoring!$B$25,\"High\",IF(AF37>=Scoring!$B$26,\"Medium\",IF(AF37>=Scoring!$B$27,\"Low\",\"-\"))))","v":"Medium"}]
[null,null,null,null,null,"Threat Rank ",{"$f":"IF(G36=0,\"\",INDEX(ThreatRankMatrix,MATCH($G$17,Rank,0),MATCH(G36,Rank,0)))","v":""},{"$f":"IF(H36=0,\"\",INDEX(ThreatRankMatrix,MATCH($H$17,Rank,0),MATCH(H36,Rank,0)))","v":""},{"$f":"IF(I36=0,\"\",INDEX(ThreatRankMatrix,MATCH($I$17,Rank,0),MATCH(I36,Rank,0)))","v":"Medium"},{"$f":"IF(J36=0,\"\",INDEX(ThreatRankMatrix,MATCH($J$17,Rank,0),MATCH(J36,Rank,0)))","v":""},{"$f":"IF(K36=0,\"\",INDEX(ThreatRankMatrix,MATCH($K$17,Rank,0),MATCH(K36,Rank,0)))","v":"Low"},{"$f":"IF(L36=0,\"\",INDEX(ThreatRankMatrix,MATCH($L$17,Rank,0),MATCH(L36,Rank,0)))","v":"Medium"},{"$f":"IF(M36=0,\"\",INDEX(ThreatRankMatrix,MATCH($M$17,Rank,0),MATCH(M36,Rank,0)))","v":""},{"$f":"IF(N36=0,\"\",INDEX(ThreatRankMatrix,MATCH($N$17,Rank,0),MATCH(N36,Rank,0)))","v":""},{"$f":"IF(O36=0,\"\",INDEX(ThreatRankMatrix,MATCH($O$17,Rank,0),MATCH(O36,Rank,0)))","v":""},{"$f":"IF(P36=0,\"\",INDEX(ThreatRankMatrix,MATCH($P$17,Rank,0),MATCH(P36,Rank,0)))","v":""},null,null,null,null,null,null,null,null,null,null,null,null,null,null,null,{"$f":"SUM(AG37:AP37)","v":15},{"$f":"IF(G$17=\"\",0,(IF(G36=0,0,IF(G37=0,0,INDEX(ThreatScore,MATCH(G37,Rank,0))))))","v":0},{"$f":"IF(H$17=\"\",0,(IF(H36=0,0,IF(H37=0,0,INDEX(ThreatScore,MATCH(H37,Rank,0))))))","v":0},{"$f":"IF(I$17=\"\",0,(IF(I36=0,0,IF(I37=0,0,INDEX(ThreatScore,MATCH(I37,Rank,0))))))","v":7},{"$f":"IF(J$17=\"\",0,(IF(J36=0,0,IF(J37=0,0,INDEX(ThreatScore,MATCH(J37,Rank,0))))))","v":0},{"$f":"IF(K$17=\"\",0,(IF(K36=0,0,IF(K37=0,0,INDEX(ThreatScore,MATCH(K37,Rank,0))))))","v":1},{"$f":"IF(L$17=\"\",0,(IF(L36=0,0,IF(L37=0,0,INDEX(ThreatScore,MATCH(L37,Rank,0))))))","v":7},{"$f":"IF(M$17=\"\",0,(IF(M36=0,0,IF(M37=0,0,INDEX(ThreatScore,MATCH(M37,Rank,0))))))","v":0},{"$f":"IF(N$17=\"\",0,(IF(N36=0,0,IF(N37=0,0,INDEX(ThreatScore,MATCH(N37,Rank,0))))))","v":0},{"$f":"IF(O$17=\"\",0,(IF(O36=0,0,IF(O37=0,0,INDEX(ThreatScore,MATCH(O37,Rank,0))))))","v":0},{"$f":"IF(P$17=\"\",0,(IF(P36=0,0,IF(P37=0,0,INDEX(ThreatScore,MATCH(P37,Rank,0))))))","v":0}]
[null,null,null,null,"Incompatible motorized vehicle use off-roads/ATV/bulldozers (e.g. pioneering, etc.)","Contribution",null,"Medium","Medium",null,null,"Medium",null,null,null,null,{"$f":"IF(AF39>=Scoring!$B$24,\"Very High\",IF(AF39>=Scoring!$B$25,\"High\",IF(AF39>=Scoring!$B$26,\"Medium\",IF(AF39>=Scoring!$B$27,\"Low\",\"-\"))))","v":"Medium"}]
[null,null,null,null,null,"Threat Rank ",{"$f":"IF(G38=0,\"\",INDEX(ThreatRankMatrix,MATCH($G$17,Rank,0),MATCH(G38,Rank,0)))","v":""},{"$f":"IF(H38=0,\"\",INDEX(ThreatRankMatrix,MATCH($H$17,Rank,0),MATCH(H38,Rank,0)))","v":"Low"},{"$f":"IF(I38=0,\"\",INDEX(ThreatRankMatrix,MATCH($I$17,Rank,0),MATCH(I38,Rank,0)))","v":"Medium"},{"$f":"IF(J38=0,\"\",INDEX(ThreatRankMatrix,MATCH($J$17,Rank,0),MATCH(J38,Rank,0)))","v":""},{"$f":"IF(K38=0,\"\",INDEX(ThreatRankMatrix,MATCH($K$17,Rank,0),MATCH(K38,Rank,0)))","v":""},{"$f":"IF(L38=0,\"\",INDEX(ThreatRankMatrix,MATCH($L$17,Rank,0),MATCH(L38,Rank,0)))","v":"Medium"},{"$f":"IF(M38=0,\"\",INDEX(ThreatRankMatrix,MATCH($M$17,Rank,0),MATCH(M38,Rank,0)))","v":""},{"$f":"IF(N38=0,\"\",INDEX(ThreatRankMatrix,MATCH($N$17,Rank,0),MATCH(N38,Rank,0)))","v":""},{"$f":"IF(O38=0,\"\",INDEX(ThreatRankMatrix,MATCH($O$17,Rank,0),MATCH(O38,Rank,0)))","v":""},{"$f":"IF(P38=0,\"\",INDEX(ThreatRankMatrix,MATCH($P$17,Rank,0),MATCH(P38,Rank,0)))","v":""},null,null,null,null,null,null,null,null,null,null,null,null,null,null,null,{"$f":"SUM(AG39:AP39)","v":15},{"$f":"IF(G$17=\"\",0,(IF(G38=0,0,IF(G39=0,0,INDEX(ThreatScore,MATCH(G39,Rank,0))))))","v":0},{"$f":"IF(H$17=\"\",0,(IF(H38=0,0,IF(H39=0,0,INDEX(ThreatScore,MATCH(H39,Rank,0))))))","v":1},{"$f":"IF(I$17=\"\",0,(IF(I38=0,0,IF(I39=0,0,INDEX(ThreatScore,MATCH(I39,Rank,0))))))","v":7},{"$f":"IF(J$17=\"\",0,(IF(J38=0,0,IF(J39=0,0,INDEX(ThreatScore,MATCH(J39,Rank,0))))))","v":0},{"$f":"IF(K$17=\"\",0,(IF(K38=0,0,IF(K39=0,0,INDEX(ThreatScore,MATCH(K39,Rank,0))))))","v":0},{"$f":"IF(L$17=\"\",0,(IF(L38=0,0,IF(L39=0,0,INDEX(ThreatScore,MATCH(L39,Rank,0))))))","v":7},{"$f":"IF(M$17=\"\",0,(IF(M38=0,0,IF(M39=0,0,INDEX(ThreatScore,MATCH(M39,Rank,0))))))","v":0},{"$f":"IF(N$17=\"\",0,(IF(N38=0,0,IF(N39=0,0,INDEX(ThreatScore,MATCH(N39,Rank,0))))))","v":0},{"$f":"IF(O$17=\"\",0,(IF(O38=0,0,IF(O39=0,0,INDEX(ThreatScore,MATCH(O39,Rank,0))))))","v":0},{"$f":"IF(P$17=\"\",0,(IF(P38=0,0,IF(P39=0,0,INDEX(ThreatScore,MATCH(P39,Rank,0))))))","v":0}]
[null,null,null,null,null,"Contribution",null,null,null,null,null,null,null,null,null,null,{"$f":"IF(AF41>=Scoring!$B$24,\"Very High\",IF(AF41>=Scoring!$B$25,\"High\",IF(AF41>=Scoring!$B$26,\"Medium\",IF(AF41>=Scoring!$B$27,\"Low\",\"-\"))))","v":"-"}]
[null,null,null,null,null,"Threat Rank ",{"$f":"IF(G40=0,\"\",INDEX(ThreatRankMatrix,MATCH($G$17,Rank,0),MATCH(G40,Rank,0)))","v":""},{"$f":"IF(H40=0,\"\",INDEX(ThreatRankMatrix,MATCH($H$17,Rank,0),MATCH(H40,Rank,0)))","v":""},{"$f":"IF(I40=0,\"\",INDEX(ThreatRankMatrix,MATCH($I$17,Rank,0),MATCH(I40,Rank,0)))","v":""},{"$f":"IF(J40=0,\"\",INDEX(ThreatRankMatrix,MATCH($J$17,Rank,0),MATCH(J40,Rank,0)))","v":""},{"$f":"IF(K40=0,\"\",INDEX(ThreatRankMatrix,MATCH($K$17,Rank,0),MATCH(K40,Rank,0)))","v":""},{"$f":"IF(L40=0,\"\",INDEX(ThreatRankMatrix,MATCH($L$17,Rank,0),MATCH(L40,Rank,0)))","v":""},{"$f":"IF(M40=0,\"\",INDEX(ThreatRankMatrix,MATCH($M$17,Rank,0),MATCH(M40,Rank,0)))","v":""},{"$f":"IF(N40=0,\"\",INDEX(ThreatRankMatrix,MATCH($N$17,Rank,0),MATCH(N40,Rank,0)))","v":""},{"$f":"IF(O40=0,\"\",INDEX(ThreatRankMatrix,MATCH($O$17,Rank,0),MATCH(O40,Rank,0)))","v":""},{"$f":"IF(P40=0,\"\",INDEX(ThreatRankMatrix,MATCH($P$17,Rank,0),MATCH(P40,Rank,0)))","v":""},null,null,null,null,null,null,null,null,null,null,null,null,null,null,null,{"$f":"SUM(AG41:AP41)","v":0},{"$f":"IF(G$17=\"\",0,(IF(G40=0,0,IF(G41=0,0,INDEX(ThreatScore,MATCH(G41,Rank,0))))))","v":0},0,0,0,0,0,0,0,0,0]

{"sheet":"5","index":9,"n_rows":41,"n_cols":42,"rows_kept":41,"cut":false,"hidden":false,"merged":[[0,3,0,4],[15,4,16,4],[15,16,16,16],[17,4,18,4],[17,16,18,16],[13,3,13,4],[19,4,20,4],[19,16,20,16],[21,4,22,4],[21,16,22,16],[23,4,24,4],[23,16,24,16],[25,4,26,4],[25,16,26,16],[33,4,34,4],[33,16,34,16],[39,4,40,4],[39,16,40,16],[27,4,28,4],[27,16,28,16],[29,4,30,4],[29,16,30,16],[31,4,32,4],[31,16,32,16],[35,4,36,4],[35,16,36,16],[37,4,38,4],[37,16,38,16]]}
[null,null,null,{"$f":"IF(Targets!C26=0,\"\",Targets!C26)","v":"Tributaries - Lower Chena"},{"$f":"IF(Targets!C26=0,\"\",Targets!C26)","v":"Tributaries - Lower Chena"},"  Key Attributes & Future Threats"]
[null,null,null,null,null,"Place cursor over cells with red triangles in top corner for hint"]
["KEA ID","Target ID","Target Name","Category","Key Attribute","Indicator","Poor","Fair","Good","Very Good","Current Rating","Projected Future Rating w No Action","Stress Ranking (calculated)","Stress Ranking (User Override)",null,null,null,null,null,"Projected Future Rating w Strategies","New Stress Ranking (calculated)","New Stress Ranking (User Override)",null,null,"Temp Indicator ID",null,"Target #","Current Score","Score w No Action","Score w Strategies","Current Weight","Future Weight No Action","Future Weight w Action","Current Weighted Score","Future No Action Weighted Score","Future Action Weighted Score","Current Weighted Average","Future No Action Weighted Average","Future Action Weighted Average"]
[{"$f":"ROW()+500","v":504},5,{"$f":"$D$1","v":"Tributaries - Lower Chena"},"Landscape Context","Connectivity to mainstem river and within tributaries","Number, extent, & type of barriers","Many widespread or complete manmade or natural blockages, Where culverts exist % of red barriers based on ADFG fish passage inventory"," Some widespread or complete manmade or natural blockages, Where culverts exist % of red barriers based on ADFG fish passage inventory","Few widespread or complete manmade or natural blockages, Where culverts exist % of green barriers based on ADFG fish passage inventory"," No widespread or complete manmade or natural blockages,","Fair","Fair -",{"$f":"IF(K4=0,\"\",IF(L4=0,\"\",INDEX(StressRankMatrix,MATCH(K4,Rating,0),MATCH(L4,Rating,0))))","v":"High"},null,null,null,null,null,null,{"$f":"IF(L4=\"\",\"\",IFERROR(INDEX(Outcomes!$F:$F, MATCH(A4,Outcomes!$H:$H,0)),L4))","v":"Good -"},{"$f":"IF(K4=\"\",\"\",IF(T4=0,\"\",INDEX(StressRankMatrix,MATCH(K4,Rating,0),MATCH(T4,Rating,0))))","v":"-"},null,null,null,{"$f":"IFERROR(INDEX(#REF!,MATCH(A4,#REF!,0)),\"\")","v":""},null,{"$f":"IF(E4=\"\",\"\",IF(E4>0,$B$4,\"error\"))","v":5},{"$f":"IF(K4=\"Poor\",Scoring!$B$50,IF(K4=\"Fair -\",Scoring!$B$49,IF(K4=\"Fair\",Scoring!$B$48,IF(K4=\"Good -\",Scoring!$B$47,IF(K4=\"Good\",Scoring!$B$46,IF(K4=\"Very Good\",Scoring!$B$45,IF(K4=\"\",0)))))))","v":40.04},{"$f":"IF(L4=\"Poor\",Scoring!$B$50,IF(L4=\"Fair -\",Scoring!$B$49,IF(L4=\"Fair\",Scoring!$B$48,IF(L4=\"Good -\",Scoring!$B$47,IF(L4=\"Good\",Scoring!$B$46,IF(L4=\"Very Good\",Scoring!$B$45,IF(L4=\"\",0)))))))","v":20.03},{"$f":"IF(T4=\"Poor\",Scoring!$B$50,IF(T4=\"Fair -\",Scoring!$B$49,IF(T4=\"Fair\",Scoring!$B$48,IF(T4=\"Good -\",Scoring!$B$47,IF(T4=\"Good\",Scoring!$B$46,IF(T4=\"Very Good\",Scoring!$B$45,IF(T4=\"\",0)))))))","v":60.04},{"$f":"IF(K4=\"Poor\",Scoring!$C$50,IF(K4=\"Fair -\",Scoring!$C$49,IF(K4=\"Fair\",Scoring!$C$48,IF(K4=\"Good -\",Scoring!$C$47,IF(K4=\"Good\",Scoring!$C$46,IF(K4=\"Very Good\",Scoring!$C$45,IF(K4=\"\",0)))))))","v":1},{"$f":"IF(L4=\"Poor\",Scoring!$C$50,IF(L4=\"Fair -\",Scoring!$C$49,IF(L4=\"Fair\",Scoring!$C$48,IF(L4=\"Good -\",Scoring!$C$47,IF(L4=\"Good\",Scoring!$C$46,IF(L4=\"Very Good\",Scoring!$C$45,IF(L4=\"\",0)))))))","v":1},{"$f":"IF(T4=\"Poor\",Scoring!$C$50,IF(T4=\"Fair -\",Scoring!$C$49,IF(T4=\"Fair\",Scoring!$C$48,IF(T4=\"Good -\",Scoring!$C$47,IF(T4=\"Good\",Scoring!$C$46,IF(T4=\"Very Good\",Scoring!$C$45,IF(T4=\"\",0)))))))","v":1},{"$f":"AB4*AE4","v":40.04},{"$f":"AC4*AF4","v":20.03},{"$f":"AD4*AG4","v":60.04}]
[{"$f":"ROW()+500","v":505},5,{"$f":"$D$1","v":"Tributaries - Lower Chena"},"Landscape Context","Hydrologic regime","Natural fluctuations of surface and ground water -amount, frequency, timing, duration","Water levels, flows or fluctuations are too high or too low, not related to the precipitation, and unlikely to maintain nested targets in many habitats within the target area and downstream","Water levels, flows or fluctuations in relationship to precipitation and ground water are likely to maintain nested targets in some habitats within the target and downstream","Water levels, flows or fluctuations in relationship to precipitation and ground water are likely to maintain nested targets in most habitats within the target area and downstream","Water levels, flows or fluctuations in relationship to precipitation and ground water are likely to maintain nested targets in almost all habitats within the target area and downstream","Fair","Fair -","High",null,null,null,null,null,null,{"$f":"IF(L5=\"\",\"\",IFERROR(INDEX(Outcomes!$F:$F, MATCH(A5,Outcomes!$H:$H,0)),L5))","v":"Good -"},"-",null,null,null,{"$f":"IFERROR(INDEX(#REF!,MATCH(A5,#REF!,0)),\"\")","v":""},null,5,{"$f":"IF(K5=\"Poor\",Scoring!$B$50,IF(K5=\"Fair -\",Scoring!$B$49,IF(K5=\"Fair\",Scoring!$B$48,IF(K5=\"Good -\",Scoring!$B$47,IF(K5=\"Good\",Scoring!$B$46,IF(K5=\"Very Good\",Scoring!$B$45,IF(K5=\"\",0)))))))","v":40.04},{"$f":"IF(L5=\"Poor\",Scoring!$B$50,IF(L5=\"Fair -\",Scoring!$B$49,IF(L5=\"Fair\",Scoring!$B$48,IF(L5=\"Good -\",Scoring!$B$47,IF(L5=\"Good\",Scoring!$B$46,IF(L5=\"Very Good\",Scoring!$B$45,IF(L5=\"\",0)))))))","v":20.03},{"$f":"IF(T5=\"Poor\",Scoring!$B$50,IF(T5=\"Fair -\",Scoring!$B$49,IF(T5=\"Fair\",Scoring!$B$48,IF(T5=\"Good -\",Scoring!$B$47,IF(T5=\"Good\",Scoring!$B$46,IF(T5=\"Very Good\",Scoring!$B$45,IF(T5=\"\",0)))))))","v":60.04},{"$f":"IF(K5=\"Poor\",Scoring!$C$50,IF(K5=\"Fair -\",Scoring!$C$49,IF(K5=\"Fair\",Scoring!$C$48,IF(K5=\"Good -\",Scoring!$C$47,IF(K5=\"Good\",Scoring!$C$46,IF(K5=\"Very Good\",Scoring!$C$45,IF(K5=\"\",0)))))))","v":1},{"$f":"IF(L5=\"Poor\",Scoring!$C$50,IF(L5=\"Fair -\",Scoring!$C$49,IF(L5=\"Fair\",Scoring!$C$48,IF(L5=\"Good -\",Scoring!$C$47,IF(L5=\"Good\",Scoring!$C$46,IF(L5=\"Very Good\",Scoring!$C$45,IF(L5=\"\",0)))))))","v":1},{"$f":"IF(T5=\"Poor\",Scoring!$C$50,IF(T5=\"Fair -\",Scoring!$C$49,IF(T5=\"Fair\",Scoring!$C$48,IF(T5=\"Good -\",Scoring!$C$47,IF(T5=\"Good\",Scoring!$C$46,IF(T5=\"Very Good\",Scoring!$C$45,IF(T5=\"\",0)))))))","v":1},{"$f":"AB5*AE5","v":40.04},20.03,60.04]
[506,5,"Tributaries - Lower Chena","Landscape Context","Substrate and banks","Amount, type, size, availability of, & distribution","Low diversity of and abundance of suitable substrates in most habitats"," Moderate diversity of abundance of suitable substrates/material in most habitats","Diversity and abundance of suitable substrates/ material in most habitat for aquatic - "," High diversity and abundance of suitable substrates/ material in most habitat for aquatic species","Fair","Fair","Medium",null,null,null,null,null,null,{"$f":"IF(L6=\"\",\"\",IFERROR(INDEX(Outcomes!$F:$F, MATCH(A6,Outcomes!$H:$H,0)),L6))","v":"Good"},"-",null,null,null,{"$f":"IFERROR(INDEX(#REF!,MATCH(A6,#REF!,0)),\"\")","v":""},null,5,{"$f":"IF(K6=\"Poor\",Scoring!$B$50,IF(K6=\"Fair -\",Scoring!$B$49,IF(K6=\"Fair\",Scoring!$B$48,IF(K6=\"Good -\",Scoring!$B$47,IF(K6=\"Good\",Scoring!$B$46,IF(K6=\"Very Good\",Scoring!$B$45,IF(K6=\"\",0)))))))","v":40.04},{"$f":"IF(L6=\"Poor\",Scoring!$B$50,IF(L6=\"Fair -\",Scoring!$B$49,IF(L6=\"Fair\",Scoring!$B$48,IF(L6=\"Good -\",Scoring!$B$47,IF(L6=\"Good\",Scoring!$B$46,IF(L6=\"Very Good\",Scoring!$B$45,IF(L6=\"\",0)))))))","v":40.04},{"$f":"IF(T6=\"Poor\",Scoring!$B$50,IF(T6=\"Fair -\",Scoring!$B$49,IF(T6=\"Fair\",Scoring!$B$48,IF(T6=\"Good -\",Scoring!$B$47,IF(T6=\"Good\",Scoring!$B$46,IF(T6=\"Very Good\",Scoring!$B$45,IF(T6=\"\",0)))))))","v":80.03},{"$f":"IF(K6=\"Poor\",Scoring!$C$50,IF(K6=\"Fair -\",Scoring!$C$49,IF(K6=\"Fair\",Scoring!$C$48,IF(K6=\"Good -\",Scoring!$C$47,IF(K6=\"Good\",Scoring!$C$46,IF(K6=\"Very Good\",Scoring!$C$45,IF(K6=\"\",0)))))))","v":1},{"$f":"IF(L6=\"Poor\",Scoring!$C$50,IF(L6=\"Fair -\",Scoring!$C$49,IF(L6=\"Fair\",Scoring!$C$48,IF(L6=\"Good -\",Scoring!$C$47,IF(L6=\"Good\",Scoring!$C$46,IF(L6=\"Very Good\",Scoring!$C$45,IF(L6=\"\",0)))))))","v":1},{"$f":"IF(T6=\"Poor\",Scoring!$C$50,IF(T6=\"Fair -\",Scoring!$C$49,IF(T6=\"Fair\",Scoring!$C$48,IF(T6=\"Good -\",Scoring!$C$47,IF(T6=\"Good\",Scoring!$C$46,IF(T6=\"Very Good\",Scoring!$C$45,IF(T6=\"\",0)))))))","v":1},40.04,40.04,80.03]
[507,5,"Tributaries - Lower Chena","Condition","Characteristic native communities","Presence of characteristic native communities within habitats","Few habitats have the characteristic native communities to accom-modate most nested targets in abundance","Some habitats have the characteristic native communities to accom-modate most nested targets in abundance","Most habitats have the characteristic native communities to accom-modate most nested targets in abundance","Almost all habitats have the characteristic native communities to accom­modate almost all nested targets in abundance","Good","Good -","Medium",null,null,null,null,null,null,{"$f":"IF(L7=\"\",\"\",IFERROR(INDEX(Outcomes!$F:$F, MATCH(A7,Outcomes!$H:$H,0)),L7))","v":"Good -"},"Medium",null,null,null,{"$f":"IFERROR(INDEX(#REF!,MATCH(A7,#REF!,0)),\"\")","v":""},null,5,{"$f":"IF(K7=\"Poor\",Scoring!$B$50,IF(K7=\"Fair -\",Scoring!$B$49,IF(K7=\"Fair\",Scoring!$B$48,IF(K7=\"Good -\",Scoring!$B$47,IF(K7=\"Good\",Scoring!$B$46,IF(K7=\"Very Good\",Scoring!$B$45,IF(K7=\"\",0)))))))","v":80.03},{"$f":"IF(L7=\"Poor\",Scoring!$B$50,IF(L7=\"Fair -\",Scoring!$B$49,IF(L7=\"Fair\",Scoring!$B$48,IF(L7=\"Good -\",Scoring!$B$47,IF(L7=\"Good\",Scoring!$B$46,IF(L7=\"Very Good\",Scoring!$B$45,IF(L7=\"\",0)))))))","v":60.04},{"$f":"IF(T7=\"Poor\",Scoring!$B$50,IF(T7=\"Fair -\",Scoring!$B$49,IF(T7=\"Fair\",Scoring!$B$48,IF(T7=\"Good -\",Scoring!$B$47,IF(T7=\"Good\",Scoring!$B$46,IF(T7=\"Very Good\",Scoring!$B$45,IF(T7=\"\",0)))))))","v":60.04},{"$f":"IF(K7=\"Poor\",Scoring!$C$50,IF(K7=\"Fair -\",Scoring!$C$49,IF(K7=\"Fair\",Scoring!$C$48,IF(K7=\"Good -\",Scoring!$C$47,IF(K7=\"Good\",Scoring!$C$46,IF(K7=\"Very Good\",Scoring!$C$45,IF(K7=\"\",0)))))))","v":1},{"$f":"IF(L7=\"Poor\",Scoring!$C$50,IF(L7=\"Fair -\",Scoring!$C$49,IF(L7=\"Fair\",Scoring!$C$48,IF(L7=\"Good -\",Scoring!$C$47,IF(L7=\"Good\",Scoring!$C$46,IF(L7=\"Very Good\",Scoring!$C$45,IF(L7=\"\",0)))))))","v":1},{"$f":"IF(T7=\"Poor\",Scoring!$C$50,IF(T7=\"Fair -\",Scoring!$C$49,IF(T7=\"Fair\",Scoring!$C$48,IF(T7=\"Good -\",Scoring!$C$47,IF(T7=\"Good\",Scoring!$C$46,IF(T7=\"Very Good\",Scoring!$C$45,IF(T7=\"\",0)))))))","v":1},80.03,60.04,60.04]
[508,5,"Tributaries - Lower Chena","Condition","Species composition","Presence/absence, extent of invasive species","High abundance of  invasive/non-native species in most habitats"," Moderate abundance of  invasive/non-native species in most habitats","Low presence of existing invasive/non-native species in most habitats with NO new invasive species  "," Mimimal to no abundance of  invasive/non-native species in most habitats","Good","Good -","Medium",null,null,null,null,null,null,{"$f":"IF(L8=\"\",\"\",IFERROR(INDEX(Outcomes!$F:$F, MATCH(A8,Outcomes!$H:$H,0)),L8))","v":"Good"},"-",null,null,null,{"$f":"IFERROR(INDEX(#REF!,MATCH(A8,#REF!,0)),\"\")","v":""},null,5,{"$f":"IF(K8=\"Poor\",Scoring!$B$50,IF(K8=\"Fair -\",Scoring!$B$49,IF(K8=\"Fair\",Scoring!$B$48,IF(K8=\"Good -\",Scoring!$B$47,IF(K8=\"Good\",Scoring!$B$46,IF(K8=\"Very Good\",Scoring!$B$45,IF(K8=\"\",0)))))))","v":80.03},{"$f":"IF(L8=\"Poor\",Scoring!$B$50,IF(L8=\"Fair -\",Scoring!$B$49,IF(L8=\"Fair\",Scoring!$B$48,IF(L8=\"Good -\",Scoring!$B$47,IF(L8=\"Good\",Scoring!$B$46,IF(L8=\"Very Good\",Scoring!$B$45,IF(L8=\"\",0)))))))","v":60.04},{"$f":"IF(T8=\"Poor\",Scoring!$B$50,IF(T8=\"Fair -\",Scoring!$B$49,IF(T8=\"Fair\",Scoring!$B$48,IF(T8=\"Good -\",Scoring!$B$47,IF(T8=\"Good\",Scoring!$B$46,IF(T8=\"Very Good\",Scoring!$B$45,IF(T8=\"\",0)))))))","v":80.03},{"$f":"IF(K8=\"Poor\",Scoring!$C$50,IF(K8=\"Fair -\",Scoring!$C$49,IF(K8=\"Fair\",Scoring!$C$48,IF(K8=\"Good -\",Scoring!$C$47,IF(K8=\"Good\",Scoring!$C$46,IF(K8=\"Very Good\",Scoring!$C$45,IF(K8=\"\",0)))))))","v":1},{"$f":"IF(L8=\"Poor\",Scoring!$C$50,IF(L8=\"Fair -\",Scoring!$C$49,IF(L8=\"Fair\",Scoring!$C$48,IF(L8=\"Good -\",Scoring!$C$47,IF(L8=\"Good\",Scoring!$C$46,IF(L8=\"Very Good\",Scoring!$C$45,IF(L8=\"\",0)))))))","v":1},{"$f":"IF(T8=\"Poor\",Scoring!$C$50,IF(T8=\"Fair -\",Scoring!$C$49,IF(T8=\"Fair\",Scoring!$C$48,IF(T8=\"Good -\",Scoring!$C$47,IF(T8=\"Good\",Scoring!$C$46,IF(T8=\"Very Good\",Scoring!$C$45,IF(T8=\"\",0)))))))","v":1},80.03,60.04,80.03]
[509,5,"Tributaries - Lower Chena","Condition","Water quality","Sediment, temperature, DO, toxins, or litter/trash/residues","High % (TBD) not meeting most ADEC's standards "," Moderate habitats meet most ADEC’s standards","Most habitats are meeting most ADEC's standards","Majority to all habitats meet most ADEC’s standards","Fair","Fair -","High",null,null,null,null,null,null,{"$f":"IF(L9=\"\",\"\",IFERROR(INDEX(Outcomes!$F:$F, MATCH(A9,Outcomes!$H:$H,0)),L9))","v":"Good -"},"-",null,null,null,{"$f":"IFERROR(INDEX(#REF!,MATCH(A9,#REF!,0)),\"\")","v":""},null,5,{"$f":"IF(K9=\"Poor\",Scoring!$B$50,IF(K9=\"Fair -\",Scoring!$B$49,IF(K9=\"Fair\",Scoring!$B$48,IF(K9=\"Good -\",Scoring!$B$47,IF(K9=\"Good\",Scoring!$B$46,IF(K9=\"Very Good\",Scoring!$B$45,IF(K9=\"\",0)))))))","v":40.04},{"$f":"IF(L9=\"Poor\",Scoring!$B$50,IF(L9=\"Fair -\",Scoring!$B$49,IF(L9=\"Fair\",Scoring!$B$48,IF(L9=\"Good -\",Scoring!$B$47,IF(L9=\"Good\",Scoring!$B$46,IF(L9=\"Very Good\",Scoring!$B$45,IF(L9=\"\",0)))))))","v":20.03},{"$f":"IF(T9=\"Poor\",Scoring!$B$50,IF(T9=\"Fair -\",Scoring!$B$49,IF(T9=\"Fair\",Scoring!$B$48,IF(T9=\"Good -\",Scoring!$B$47,IF(T9=\"Good\",Scoring!$B$46,IF(T9=\"Very Good\",Scoring!$B$45,IF(T9=\"\",0)))))))","v":60.04},{"$f":"IF(K9=\"Poor\",Scoring!$C$50,IF(K9=\"Fair -\",Scoring!$C$49,IF(K9=\"Fair\",Scoring!$C$48,IF(K9=\"Good -\",Scoring!$C$47,IF(K9=\"Good\",Scoring!$C$46,IF(K9=\"Very Good\",Scoring!$C$45,IF(K9=\"\",0)))))))","v":1},{"$f":"IF(L9=\"Poor\",Scoring!$C$50,IF(L9=\"Fair -\",Scoring!$C$49,IF(L9=\"Fair\",Scoring!$C$48,IF(L9=\"Good -\",Scoring!$C$47,IF(L9=\"Good\",Scoring!$C$46,IF(L9=\"Very Good\",Scoring!$C$45,IF(L9=\"\",0)))))))","v":1},{"$f":"IF(T9=\"Poor\",Scoring!$C$50,IF(T9=\"Fair -\",Scoring!$C$49,IF(T9=\"Fair\",Scoring!$C$48,IF(T9=\"Good -\",Scoring!$C$47,IF(T9=\"Good\",Scoring!$C$46,IF(T9=\"Very Good\",Scoring!$C$45,IF(T9=\"\",0)))))))","v":1},40.04,20.03,60.04]
[510,5,"Tributaries - Lower Chena","Size","Extent of area","Riparian area and river length","Severe, mostly gone","Moderate to substantial loss","Minimal loss","Mother Nature","Fair","Fair -","High",null,null,null,null,null,null,{"$f":"IF(L10=\"\",\"\",IFERROR(INDEX(Outcomes!$F:$F, MATCH(A10,Outcomes!$H:$H,0)),L10))","v":"Good -"},"-",null,null,null,{"$f":"IFERROR(INDEX(#REF!,MATCH(A10,#REF!,0)),\"\")","v":""},null,5,{"$f":"IF(K10=\"Poor\",Scoring!$B$50,IF(K10=\"Fair -\",Scoring!$B$49,IF(K10=\"Fair\",Scoring!$B$48,IF(K10=\"Good -\",Scoring!$B$47,IF(K10=\"Good\",Scoring!$B$46,IF(K10=\"Very Good\",Scoring!$B$45,IF(K10=\"\",0)))))))","v":40.04},{"$f":"IF(L10=\"Poor\",Scoring!$B$50,IF(L10=\"Fair -\",Scoring!$B$49,IF(L10=\"Fair\",Scoring!$B$48,IF(L10=\"Good -\",Scoring!$B$47,IF(L10=\"Good\",Scoring!$B$46,IF(L10=\"Very Good\",Scoring!$B$45,IF(L10=\"\",0)))))))","v":20.03},{"$f":"IF(T10=\"Poor\",Scoring!$B$50,IF(T10=\"Fair -\",Scoring!$B$49,IF(T10=\"Fair\",Scoring!$B$48,IF(T10=\"Good -\",Scoring!$B$47,IF(T10=\"Good\",Scoring!$B$46,IF(T10=\"Very Good\",Scoring!$B$45,IF(T10=\"\",0)))))))","v":60.04},{"$f":"IF(K10=\"Poor\",Scoring!$C$50,IF(K10=\"Fair -\",Scoring!$C$49,IF(K10=\"Fair\",Scoring!$C$48,IF(K10=\"Good -\",Scoring!$C$47,IF(K10=\"Good\",Scoring!$C$46,IF(K10=\"Very Good\",Scoring!$C$45,IF(K10=\"\",0)))))))","v":1},{"$f":"IF(L10=\"Poor\",Scoring!$C$50,IF(L10=\"Fair -\",Scoring!$C$49,IF(L10=\"Fair\",Scoring!$C$48,IF(L10=\"Good -\",Scoring!$C$47,IF(L10=\"Good\",Scoring!$C$46,IF(L10=\"Very Good\",Scoring!$C$45,IF(L10=\"\",0)))))))","v":1},{"$f":"IF(T10=\"Poor\",Scoring!$C$50,IF(T10=\"Fair -\",Scoring!$C$49,IF(T10=\"Fair\",Scoring!$C$48,IF(T10=\"Good -\",Scoring!$C$47,IF(T10=\"Good\",Scoring!$C$46,IF(T10=\"Very Good\",Scoring!$C$45,IF(T10=\"\",0)))))))","v":1},40.04,20.03,60.04]
[511,5,"Tributaries - Lower Chena",null,null,null,null,null,null,null,null,null,"",null,null,null,null,null,null,{"$f":"IF(L11=\"\",\"\",IFERROR(INDEX(Outcomes!$F:$F, MATCH(A11,Outcomes!$H:$H,0)),L11))","v":""},"",null,null,null,{"$f":"IFERROR(INDEX(#REF!,MATCH(A11,#REF!,0)),\"\")","v":""},null,"",{"$f":"IF(K11=\"Poor\",Scoring!$B$50,IF(K11=\"Fair -\",Scoring!$B$49,IF(K11=\"Fair\",Scoring!$B$48,IF(K11=\"Good -\",Scoring!$B$47,IF(K11=\"Good\",Scoring!$B$46,IF(K11=\"Very Good\",Scoring!$B$45,IF(K11=\"\",0)))))))","v":0},{"$f":"IF(L11=\"Poor\",Scoring!$B$50,IF(L11=\"Fair -\",Scoring!$B$49,IF(L11=\"Fair\",Scoring!$B$48,IF(L11=\"Good -\",Scoring!$B$47,IF(L11=\"Good\",Scoring!$B$46,IF(L11=\"Very Good\",Scoring!$B$45,IF(L11=\"\",0)))))))","v":0},{"$f":"IF(T11=\"Poor\",Scoring!$B$50,IF(T11=\"Fair -\",Scoring!$B$49,IF(T11=\"Fair\",Scoring!$B$48,IF(T11=\"Good -\",Scoring!$B$47,IF(T11=\"Good\",Scoring!$B$46,IF(T11=\"Very Good\",Scoring!$B$45,IF(T11=\"\",0)))))))","v":0},{"$f":"IF(K11=\"Poor\",Scoring!$C$50,IF(K11=\"Fair -\",Scoring!$C$49,IF(K11=\"Fair\",Scoring!$C$48,IF(K11=\"Good -\",Scoring!$C$47,IF(K11=\"Good\",Scoring!$C$46,IF(K11=\"Very Good\",Scoring!$C$45,IF(K11=\"\",0)))))))","v":0},{"$f":"IF(L11=\"Poor\",Scoring!$C$50,IF(L11=\"Fair -\",Scoring!$C$49,IF(L11=\"Fair\",Scoring!$C$48,IF(L11=\"Good -\",Scoring!$C$47,IF(L11=\"Good\",Scoring!$C$46,IF(L11=\"Very Good\",Scoring!$C$45,IF(L11=\"\",0)))))))","v":0},{"$f":"IF(T11=\"Poor\",Scoring!$C$50,IF(T11=\"Fair -\",Scoring!$C$49,IF(T11=\"Fair\",Scoring!$C$48,IF(T11=\"Good -\",Scoring!$C$47,IF(T11=\"Good\",Scoring!$C$46,IF(T11=\"Very Good\",Scoring!$C$45,IF(T11=\"\",0)))))))","v":0},0,0,0]
[512,5,"Tributaries - Lower Chena",null,null,null,null,null,null,null,null,null,"",null,null,null,null,null,null,{"$f":"IF(L12=\"\",\"\",IFERROR(INDEX(Outcomes!$F:$F, MATCH(A12,Outcomes!$H:$H,0)),L12))","v":""},"",null,null,null,{"$f":"IFERROR(INDEX(#REF!,MATCH(A12,#REF!,0)),\"\")","v":""},null,"",{"$f":"IF(K12=\"Poor\",Scoring!$B$50,IF(K12=\"Fair -\",Scoring!$B$49,IF(K12=\"Fair\",Scoring!$B$48,IF(K12=\"Good -\",Scoring!$B$47,IF(K12=\"Good\",Scoring!$B$46,IF(K12=\"Very Good\",Scoring!$B$45,IF(K12=\"\",0)))))))","v":0},{"$f":"IF(L12=\"Poor\",Scoring!$B$50,IF(L12=\"Fair -\",Scoring!$B$49,IF(L12=\"Fair\",Scoring!$B$48,IF(L12=\"Good -\",Scoring!$B$47,IF(L12=\"Good\",Scoring!$B$46,IF(L12=\"Very Good\",Scoring!$B$45,IF(L12=\"\",0)))))))","v":0},{"$f":"IF(T12=\"Poor\",Scoring!$B$50,IF(T12=\"Fair -\",Scoring!$B$49,IF(T12=\"Fair\",Scoring!$B$48,IF(T12=\"Good -\",Scoring!$B$47,IF(T12=\"Good\",Scoring!$B$46,IF(T12=\"Very Good\",Scoring!$B$45,IF(T12=\"\",0)))))))","v":0},{"$f":"IF(K12=\"Poor\",Scoring!$C$50,IF(K12=\"Fair -\",Scoring!$C$49,IF(K12=\"Fair\",Scoring!$C$48,IF(K12=\"Good -\",Scoring!$C$47,IF(K12=\"Good\",Scoring!$C$46,IF(K12=\"Very Good\",Scoring!$C$45,IF(K12=\"\",0)))))))","v":0},{"$f":"IF(L12=\"Poor\",Scoring!$C$50,IF(L12=\"Fair -\",Scoring!$C$49,IF(L12=\"Fair\",Scoring!$C$48,IF(L12=\"Good -\",Scoring!$C$47,IF(L12=\"Good\",Scoring!$C$46,IF(L12=\"Very Good\",Scoring!$C$45,IF(L12=\"\",0)))))))","v":0},{"$f":"IF(T12=\"Poor\",Scoring!$C$50,IF(T12=\"Fair -\",Scoring!$C$49,IF(T12=\"Fair\",Scoring!$C$48,IF(T12=\"Good -\",Scoring!$C$47,IF(T12=\"Good\",Scoring!$C$46,IF(T12=\"Very Good\",Scoring!$C$45,IF(T12=\"\",0)))))))","v":0},0,0,0]
[513,5,"Tributaries - Lower Chena",null,null,null,null,null,null,null,null,null,"",null,null,null,null,null,null,{"$f":"IF(L13=\"\",\"\",IFERROR(INDEX(Outcomes!$F:$F, MATCH(A13,Outcomes!$H:$H,0)),L13))","v":""},{"$f":"IF(K13=0,\"\",IF(T13=0,\"\",INDEX(StressRankMatrix,MATCH(K13,Rating,0),MATCH(T13,Rating,0))))","v":""},null,null,null,{"$f":"IFERROR(INDEX(#REF!,MATCH(A13,#REF!,0)),\"\")","v":""},null,"",{"$f":"IF(K13=\"Poor\",Scoring!$B$50,IF(K13=\"Fair -\",Scoring!$B$49,IF(K13=\"Fair\",Scoring!$B$48,IF(K13=\"Good -\",Scoring!$B$47,IF(K13=\"Good\",Scoring!$B$46,IF(K13=\"Very Good\",Scoring!$B$45,IF(K13=\"\",0)))))))","v":0},{"$f":"IF(L13=\"Poor\",Scoring!$B$50,IF(L13=\"Fair -\",Scoring!$B$49,IF(L13=\"Fair\",Scoring!$B$48,IF(L13=\"Good -\",Scoring!$B$47,IF(L13=\"Good\",Scoring!$B$46,IF(L13=\"Very Good\",Scoring!$B$45,IF(L13=\"\",0)))))))","v":0},{"$f":"IF(T13=\"Poor\",Scoring!$B$50,IF(T13=\"Fair -\",Scoring!$B$49,IF(T13=\"Fair\",Scoring!$B$48,IF(T13=\"Good -\",Scoring!$B$47,IF(T13=\"Good\",Scoring!$B$46,IF(T13=\"Very Good\",Scoring!$B$45,IF(T13=\"\",0)))))))","v":0},{"$f":"IF(K13=\"Poor\",Scoring!$C$50,IF(K13=\"Fair -\",Scoring!$C$49,IF(K13=\"Fair\",Scoring!$C$48,IF(K13=\"Good -\",Scoring!$C$47,IF(K13=\"Good\",Scoring!$C$46,IF(K13=\"Very Good\",Scoring!$C$45,IF(K13=\"\",0)))))))","v":0},{"$f":"IF(L13=\"Poor\",Scoring!$C$50,IF(L13=\"Fair -\",Scoring!$C$49,IF(L13=\"Fair\",Scoring!$C$48,IF(L13=\"Good -\",Scoring!$C$47,IF(L13=\"Good\",Scoring!$C$46,IF(L13=\"Very Good\",Scoring!$C$45,IF(L13=\"\",0)))))))","v":0},{"$f":"IF(T13=\"Poor\",Scoring!$C$50,IF(T13=\"Fair -\",Scoring!$C$49,IF(T13=\"Fair\",Scoring!$C$48,IF(T13=\"Good -\",Scoring!$C$47,IF(T13=\"Good\",Scoring!$C$46,IF(T13=\"Very Good\",Scoring!$C$45,IF(T13=\"\",0)))))))","v":0},0,0,0]
[null,null,null,"Overall Target Health Score                           (0 = Poor - 100 = Very Good)",null,null,null,null,null,null,{"$f":"AK14","v":51.465714285714292},{"$f":"AL14","v":34.32},null,null,null,null,null,null,null,{"$f":"AM14","v":65.75142857142859},null,null,null,null,null,null,null,null,null,null,{"$f":"SUM(AE4:AE13)","v":7},7,7,360.26000000000005,240.23999999999998,460.2600000000001,{"$f":"IF(AH14=0,\"\",AH14/AE14)","v":51.465714285714292},{"$f":"IF(AI14=0,\"\",AI14/AF14)","v":34.32},{"$f":"IF(AJ14=0,\"\",AJ14/AG14)","v":65.75142857142859}]
[]
[null,null,null,null,"Threats (Sources of Stress)         List Sources of stress below (max of 12 per target).  Enter Contribution of each source where applicable.","  Key Attribute >",{"$f":"IF(E4=0,\"\",E4)","v":"Connectivity to mainstem river and within tributaries"},{"$f":"IF(E5=0,\"\",E5)","v":"Hydrologic regime"},{"$f":"IF(E6=0,\"\",E6)","v":"Substrate and banks"},{"$f":"IF(E7=0,\"\",E7)","v":"Characteristic native communities"},{"$f":"IF(E8=0,\"\",E8)","v":"Species composition"},{"$f":"IF(E9=0,\"\",E9)","v":"Water quality"},{"$f":"IF(E10=0,\"\",E10)","v":"Extent of area"},{"$f":"IF(E11=0,\"\",E11)","v":""},{"$f":"IF(E12=0,\"\",E12)","v":""},{"$f":"IF(E13=0,\"\",E13)","v":""},"Threat to Target Rank"]
[null,null,null,null,null,"Stress Rank>",{"$f":"IF(M4=\"\",\"\", IF(N4=0,M4,N4))","v":"High"},{"$f":"IF(M5=\"\",\"\", IF(N5=0,M5,N5))","v":"High"},{"$f":"IF(M6=\"\",\"\", IF(N6=0,M6,N6))","v":"Medium"},{"$f":"IF(M7=\"\",\"\", IF(N7=0,M7,N7))","v":"Medium"},{"$f":"IF(M8=\"\",\"\", IF(N8=0,M8,N8))","v":"Medium"},{"$f":"IF(M9=\"\",\"\", IF(N9=0,M9,N9))","v":"High"},{"$f":"IF(M10=\"\",\"\", IF(N10=0,M10,N10))","v":"High"},{"$f":"IF(M11=\"\",\"\", IF(N11=0,M11,N11))","v":""},{"$f":"IF(M12=\"\",\"\", IF(N12=0,M12,N12))","v":""},{"$f":"IF(M13=\"\",\"\", IF(N13=0,M13,N13))","v":""}]
[null,null,null,null,"Invasive terrestrial species/pests/pathogens","Contribution",null,null,null,"High","High",null,null,null,null,null,{"$f":"IF(AF19>=Scoring!$B$24,\"Very High\",IF(AF19>=Scoring!$B$25,\"High\",IF(AF19>=Scoring!$B$26,\"Medium\",IF(AF19>=Scoring!$B$27,\"Low\",\"-\"))))","v":"Medium"}]
[null,null,null,null,null,"Threat Rank ",{"$f":"IF(G18=0,\"\",INDEX(ThreatRankMatrix,MATCH($G$17,Rank,0),MATCH(G18,Rank,0)))","v":""},{"$f":"IF(H18=0,\"\",INDEX(ThreatRankMatrix,MATCH($H$17,Rank,0),MATCH(H18,Rank,0)))","v":""},{"$f":"IF(I18=0,\"\",INDEX(ThreatRankMatrix,MATCH($I$17,Rank,0),MATCH(I18,Rank,0)))","v":""},{"$f":"IF(J18=0,\"\",INDEX(ThreatRankMatrix,MATCH($J$17,Rank,0),MATCH(J18,Rank,0)))","v":"Medium"},{"$f":"IF(K18=0,\"\",INDEX(ThreatRankMatrix,MATCH($K$17,Rank,0),MATCH(K18,Rank,0)))","v":"Medium"},{"$f":"IF(L18=0,\"\",INDEX(ThreatRankMatrix,MATCH($L$17,Rank,0),MATCH(L18,Rank,0)))","v":""},{"$f":"IF(M18=0,\"\",INDEX(ThreatRankMatrix,MATCH($M$17,Rank,0),MATCH(M18,Rank,0)))","v":""},{"$f":"IF(N18=0,\"\",INDEX(ThreatRankMatrix,MATCH($N$17,Rank,0),MATCH(N18,Rank,0)))","v":""},{"$f":"IF(O18=0,\"\",INDEX(ThreatRankMatrix,MATCH($O$17,Rank,0),MATCH(O18,Rank,0)))","v":""},{"$f":"IF(P18=0,\"\",INDEX(ThreatRankMatrix,MATCH($P$17,Rank,0),MATCH(P18,Rank,0)))","v":""},null,null,null,null,null,null,null,null,null,null,null,null,null,null,null,{"$f":"SUM(AG19:AP19)","v":14},{"$f":"IF(G$17=\"\",0,(IF(G18=0,0,IF(G19=0,0,INDEX(ThreatScore,MATCH(G19,Rank,0))))))","v":0},0,0,7,7,0,0,0,0,0]
[null,null,null,null,"Invasive aquatic species/pests/pathogens","Contribution",null,null,null,"Low","Low",null,null,null,null,null,{"$f":"IF(AF21>=Scoring!$B$24,\"Very High\",IF(AF21>=Scoring!$B$25,\"High\",IF(AF21>=Scoring!$B$26,\"Medium\",IF(AF21>=Scoring!$B$27,\"Low\",\"-\"))))","v":"Low"}]
[null,null,null,null,null,"Threat Rank ",{"$f":"IF(G20=0,\"\",INDEX(ThreatRankMatrix,MATCH($G$17,Rank,0),MATCH(G20,Rank,0)))","v":""},{"$f":"IF(H20=0,\"\",INDEX(ThreatRankMatrix,MATCH($H$17,Rank,0),MATCH(H20,Rank,0)))","v":""},{"$f":"IF(I20=0,\"\",INDEX(ThreatRankMatrix,MATCH($I$17,Rank,0),MATCH(I20,Rank,0)))","v":""},{"$f":"IF(J20=0,\"\",INDEX(ThreatRankMatrix,MATCH($J$17,Rank,0),MATCH(J20,Rank,0)))","v":"Low"},{"$f":"IF(K20=0,\"\",INDEX(ThreatRankMatrix,MATCH($K$17,Rank,0),MATCH(K20,Rank,0)))","v":"Low"},{"$f":"IF(L20=0,\"\",INDEX(ThreatRankMatrix,MATCH($L$17,Rank,0),MATCH(L20,Rank,0)))","v":""},{"$f":"IF(M20=0,\"\",INDEX(ThreatRankMatrix,MATCH($M$17,Rank,0),MATCH(M20,Rank,0)))","v":""},{"$f":"IF(N20=0,\"\",INDEX(ThreatRankMatrix,MATCH($N$17,Rank,0),MATCH(N20,Rank,0)))","v":""},{"$f":"IF(O20=0,\"\",INDEX(ThreatRankMatrix,MATCH($O$17,Rank,0),MATCH(O20,Rank,0)))","v":""},{"$f":"IF(P20=0,\"\",INDEX(ThreatRankMatrix,MATCH($P$17,Rank,0),MATCH(P20,Rank,0)))","v":""},null,null,null,null,null,null,null,null,null,null,null,null,null,null,null,{"$f":"SUM(AG21:AP21)","v":2},{"$f":"IF(G$17=\"\",0,(IF(G20=0,0,IF(G21=0,0,INDEX(ThreatScore,MATCH(G21,Rank,0))))))","v":0},0,0,1,1,0,0,0,0,0]
[null,null,null,null,"Hardening stream banks with rip rap, channelization, etc.","Contribution",null,"Medium","High",null,null,"Medium","Medium",null,null,null,{"$f":"IF(AF23>=Scoring!$B$24,\"Very High\",IF(AF23>=Scoring!$B$25,\"High\",IF(AF23>=Scoring!$B$26,\"Medium\",IF(AF23>=Scoring!$B$27,\"Low\",\"-\"))))","v":"Medium"}]
[null,null,null,null,null,"Threat Rank ",{"$f":"IF(G22=0,\"\",INDEX(ThreatRankMatrix,MATCH($G$17,Rank,0),MATCH(G22,Rank,0)))","v":""},{"$f":"IF(H22=0,\"\",INDEX(ThreatRankMatrix,MATCH($H$17,Rank,0),MATCH(H22,Rank,0)))","v":"Medium"},{"$f":"IF(I22=0,\"\",INDEX(ThreatRankMatrix,MATCH($I$17,Rank,0),MATCH(I22,Rank,0)))","v":"Medium"},{"$f":"IF(J22=0,\"\",INDEX(ThreatRankMatrix,MATCH($J$17,Rank,0),MATCH(J22,Rank,0)))","v":""},{"$f":"IF(K22=0,\"\",INDEX(ThreatRankMatrix,MATCH($K$17,Rank,0),MATCH(K22,Rank,0)))","v":""},{"$f":"IF(L22=0,\"\",INDEX(ThreatRankMatrix,MATCH($L$17,Rank,0),MATCH(L22,Rank,0)))","v":"Medium"},{"$f":"IF(M22=0,\"\",INDEX(ThreatRankMatrix,MATCH($M$17,Rank,0),MATCH(M22,Rank,0)))","v":"Medium"},{"$f":"IF(N22=0,\"\",INDEX(ThreatRankMatrix,MATCH($N$17,Rank,0),MATCH(N22,Rank,0)))","v":""},{"$f":"IF(O22=0,\"\",INDEX(ThreatRankMatrix,MATCH($O$17,Rank,0),MATCH(O22,Rank,0)))","v":""},{"$f":"IF(P22=0,\"\",INDEX(ThreatRankMatrix,MATCH($P$17,Rank,0),MATCH(P22,Rank,0)))","v":""},null,null,null,null,null,null,null,null,null,null,null,null,null,null,null,{"$f":"SUM(AG23:AP23)","v":28},{"$f":"IF(G$17=\"\",0,(IF(G22=0,0,IF(G23=0,0,INDEX(ThreatScore,MATCH(G23,Rank,0))))))","v":0},7,7,0,0,7,7,0,0,0]
[null,null,null,null,"Removal of native vegetation from riparian zone","Contribution",null,"Medium","High","High","High","High","High",null,null,null,{"$f":"IF(AF25>=Scoring!$B$24,\"Very High\",IF(AF25>=Scoring!$B$25,\"High\",IF(AF25>=Scoring!$B$26,\"Medium\",IF(AF25>=Scoring!$B$27,\"Low\",\"-\"))))","v":"High"}]
[null,null,null,null,null,"Threat Rank ",{"$f":"IF(G24=0,\"\",INDEX(ThreatRankMatrix,MATCH($G$17,Rank,0),MATCH(G24,Rank,0)))","v":""},{"$f":"IF(H24=0,\"\",INDEX(ThreatRankMatrix,MATCH($H$17,Rank,0),MATCH(H24,Rank,0)))","v":"Medium"},{"$f":"IF(I24=0,\"\",INDEX(ThreatRankMatrix,MATCH($I$17,Rank,0),MATCH(I24,Rank,0)))","v":"Medium"},{"$f":"IF(J24=0,\"\",INDEX(ThreatRankMatrix,MATCH($J$17,Rank,0),MATCH(J24,Rank,0)))","v":"Medium"},{"$f":"IF(K24=0,\"\",INDEX(ThreatRankMatrix,MATCH($K$17,Rank,0),MATCH(K24,Rank,0)))","v":"Medium"},{"$f":"IF(L24=0,\"\",INDEX(ThreatRankMatrix,MATCH($L$17,Rank,0),MATCH(L24,Rank,0)))","v":"High"},{"$f":"IF(M24=0,\"\",INDEX(ThreatRankMatrix,MATCH($M$17,Rank,0),MATCH(M24,Rank,0)))","v":"High"},{"$f":"IF(N24=0,\"\",INDEX(ThreatRankMatrix,MATCH($N$17,Rank,0),MATCH(N24,Rank,0)))","v":""},{"$f":"IF(O24=0,\"\",INDEX(ThreatRankMatrix,MATCH($O$17,Rank,0),MATCH(O24,Rank,0)))","v":""},{"$f":"IF(P24=0,\"\",INDEX(ThreatRankMatrix,MATCH($P$17,Rank,0),MATCH(P24,Rank,0)))","v":""},null,null,null,null,null,null,null,null,null,null,null,null,null,null,null,{"$f":"SUM(AG25:AP25)","v":98},{"$f":"IF(G$17=\"\",0,(IF(G24=0,0,IF(G25=0,0,INDEX(ThreatScore,MATCH(G25,Rank,0))))))","v":0},7,7,7,7,35,35,0,0,0]
[null,null,null,null,"Residential / commercial development","Contribution",null,"Very High","High",null,"Medium","High","Medium",null,null,null,{"$f":"IF(AF27>=Scoring!$B$24,\"Very High\",IF(AF27>=Scoring!$B$25,\"High\",IF(AF27>=Scoring!$B$26,\"Medium\",IF(AF27>=Scoring!$B$27,\"Low\",\"-\"))))","v":"High"}]
[null,null,null,null,null,"Threat Rank ",{"$f":"IF(G26=0,\"\",INDEX(ThreatRankMatrix,MATCH($G$17,Rank,0),MATCH(G26,Rank,0)))","v":""},{"$f":"IF(H26=0,\"\",INDEX(ThreatRankMatrix,MATCH($H$17,Rank,0),MATCH(H26,Rank,0)))","v":"High"},{"$f":"IF(I26=0,\"\",INDEX(ThreatRankMatrix,MATCH($I$17,Rank,0),MATCH(I26,Rank,0)))","v":"Medium"},{"$f":"IF(J26=0,\"\",INDEX(ThreatRankMatrix,MATCH($J$17,Rank,0),MATCH(J26,Rank,0)))","v":""},{"$f":"IF(K26=0,\"\",INDEX(ThreatRankMatrix,MATCH($K$17,Rank,0),MATCH(K26,Rank,0)))","v":"Low"},{"$f":"IF(L26=0,\"\",INDEX(ThreatRankMatrix,MATCH($L$17,Rank,0),MATCH(L26,Rank,0)))","v":"High"},{"$f":"IF(M26=0,\"\",INDEX(ThreatRankMatrix,MATCH($M$17,Rank,0),MATCH(M26,Rank,0)))","v":"Medium"},{"$f":"IF(N26=0,\"\",INDEX(ThreatRankMatrix,MATCH($N$17,Rank,0),MATCH(N26,Rank,0)))","v":""},{"$f":"IF(O26=0,\"\",INDEX(ThreatRankMatrix,MATCH($O$17,Rank,0),MATCH(O26,Rank,0)))","v":""},{"$f":"IF(P26=0,\"\",INDEX(ThreatRankMatrix,MATCH($P$17,Rank,0),MATCH(P26,Rank,0)))","v":""},null,null,null,null,null,null,null,null,null,null,null,null,null,null,null,{"$f":"SUM(AG27:AP27)","v":85},{"$f":"IF(G$17=\"\",0,(IF(G26=0,0,IF(G27=0,0,INDEX(ThreatScore,MATCH(G27,Rank,0))))))","v":0},35,7,0,1,35,7,0,0,0]
[null,null,null,null,"Construction of ditches, dikes, drainage, dredging","Contribution","Medium","High","High","Medium","Medium","High","Medium",null,null,null,{"$f":"IF(AF29>=Scoring!$B$24,\"Very High\",IF(AF29>=Scoring!$B$25,\"High\",IF(AF29>=Scoring!$B$26,\"Medium\",IF(AF29>=Scoring!$B$27,\"Low\",\"-\"))))","v":"High"}]
[null,null,null,null,null,"Threat Rank ",{"$f":"IF(G28=0,\"\",INDEX(ThreatRankMatrix,MATCH($G$17,Rank,0),MATCH(G28,Rank,0)))","v":"Medium"},{"$f":"IF(H28=0,\"\",INDEX(ThreatRankMatrix,MATCH($H$17,Rank,0),MATCH(H28,Rank,0)))","v":"High"},{"$f":"IF(I28=0,\"\",INDEX(ThreatRankMatrix,MATCH($I$17,Rank,0),MATCH(I28,Rank,0)))","v":"Medium"},{"$f":"IF(J28=0,\"\",INDEX(ThreatRankMatrix,MATCH($J$17,Rank,0),MATCH(J28,Rank,0)))","v":"Low"},{"$f":"IF(K28=0,\"\",INDEX(ThreatRankMatrix,MATCH($K$17,Rank,0),MATCH(K28,Rank,0)))","v":"Low"},{"$f":"IF(L28=0,\"\",INDEX(ThreatRankMatrix,MATCH($L$17,Rank,0),MATCH(L28,Rank,0)))","v":"High"},{"$f":"IF(M28=0,\"\",INDEX(ThreatRankMatrix,MATCH($M$17,Rank,0),MATCH(M28,Rank,0)))","v":"Medium"},{"$f":"IF(N28=0,\"\",INDEX(ThreatRankMatrix,MATCH($N$17,Rank,0),MATCH(N28,Rank,0)))","v":""},{"$f":"IF(O28=0,\"\",INDEX(ThreatRankMatrix,MATCH($O$17,Rank,0),MATCH(O28,Rank,0)))","v":""},{"$f":"IF(P28=0,\"\",INDEX(ThreatRankMatrix,MATCH($P$17,Rank,0),MATCH(P28,Rank,0)))","v":""},null,null,null,null,null,null,null,null,null,null,null,null,null,null,null,{"$f":"SUM(AG29:AP29)","v":93},{"$f":"IF(G$17=\"\",0,(IF(G28=0,0,IF(G29=0,0,INDEX(ThreatScore,MATCH(G29,Rank,0))))))","v":7},35,7,1,1,35,7,0,0,0]
[null,null,null,null,"Incompatible road design / maintenance","Contribution","Medium",null,null,null,"High","Medium",null,null,null,null,{"$f":"IF(AF31>=Scoring!$B$24,\"Very High\",IF(AF31>=Scoring!$B$25,\"High\",IF(AF31>=Scoring!$B$26,\"Medium\",IF(AF31>=Scoring!$B$27,\"Low\",\"-\"))))","v":"Medium"}]
[null,null,null,null,null,"Threat Rank ",{"$f":"IF(G30=0,\"\",INDEX(ThreatRankMatrix,MATCH($G$17,Rank,0),MATCH(G30,Rank,0)))","v":"Medium"},{"$f":"IF(H30=0,\"\",INDEX(ThreatRankMatrix,MATCH($H$17,Rank,0),MATCH(H30,Rank,0)))","v":""},{"$f":"IF(I30=0,\"\",INDEX(ThreatRankMatrix,MATCH($I$17,Rank,0),MATCH(I30,Rank,0)))","v":""},{"$f":"IF(J30=0,\"\",INDEX(ThreatRankMatrix,MATCH($J$17,Rank,0),MATCH(J30,Rank,0)))","v":""},{"$f":"IF(K30=0,\"\",INDEX(ThreatRankMatrix,MATCH($K$17,Rank,0),MATCH(K30,Rank,0)))","v":"Medium"},{"$f":"IF(L30=0,\"\",INDEX(ThreatRankMatrix,MATCH($L$17,Rank,0),MATCH(L30,Rank,0)))","v":"Medium"},{"$f":"IF(M30=0,\"\",INDEX(ThreatRankMatrix,MATCH($M$17,Rank,0),MATCH(M30,Rank,0)))","v":""},{"$f":"IF(N30=0,\"\",INDEX(ThreatRankMatrix,MATCH($N$17,Rank,0),MATCH(N30,Rank,0)))","v":""},{"$f":"IF(O30=0,\"\",INDEX(ThreatRankMatrix,MATCH($O$17,Rank,0),MATCH(O30,Rank,0)))","v":""},{"$f":"IF(P30=0,\"\",INDEX(ThreatRankMatrix,MATCH($P$17,Rank,0),MATCH(P30,Rank,0)))","v":""},null,null,null,null,null,null,null,null,null,null,null,null,null,null,null,{"$f":"SUM(AG31:AP31)","v":21},{"$f":"IF(G$17=\"\",0,(IF(G30=0,0,IF(G31=0,0,INDEX(ThreatScore,MATCH(G31,Rank,0))))))","v":7},0,0,0,7,7,0,0,0,0]
[null,null,null,null,"Culverts that impede fish passage","Contribution","Medium",null,null,null,null,null,"Medium",null,null,null,{"$f":"IF(AF33>=Scoring!$B$24,\"Very High\",IF(AF33>=Scoring!$B$25,\"High\",IF(AF33>=Scoring!$B$26,\"Medium\",IF(AF33>=Scoring!$B$27,\"Low\",\"-\"))))","v":"Medium"}]
[null,null,null,null,null,"Threat Rank ",{"$f":"IF(G32=0,\"\",INDEX(ThreatRankMatrix,MATCH($G$17,Rank,0),MATCH(G32,Rank,0)))","v":"Medium"},{"$f":"IF(H32=0,\"\",INDEX(ThreatRankMatrix,MATCH($H$17,Rank,0),MATCH(H32,Rank,0)))","v":""},{"$f":"IF(I32=0,\"\",INDEX(ThreatRankMatrix,MATCH($I$17,Rank,0),MATCH(I32,Rank,0)))","v":""},{"$f":"IF(J32=0,\"\",INDEX(ThreatRankMatrix,MATCH($J$17,Rank,0),MATCH(J32,Rank,0)))","v":""},{"$f":"IF(K32=0,\"\",INDEX(ThreatRankMatrix,MATCH($K$17,Rank,0),MATCH(K32,Rank,0)))","v":""},{"$f":"IF(L32=0,\"\",INDEX(ThreatRankMatrix,MATCH($L$17,Rank,0),MATCH(L32,Rank,0)))","v":""},{"$f":"IF(M32=0,\"\",INDEX(ThreatRankMatrix,MATCH($M$17,Rank,0),MATCH(M32,Rank,0)))","v":"Medium"},{"$f":"IF(N32=0,\"\",INDEX(ThreatRankMatrix,MATCH($N$17,Rank,0),MATCH(N32,Rank,0)))","v":""},{"$f":"IF(O32=0,\"\",INDEX(ThreatRankMatrix,MATCH($O$17,Rank,0),MATCH(O32,Rank,0)))","v":""},{"$f":"IF(P32=0,\"\",INDEX(ThreatRankMatrix,MATCH($P$17,Rank,0),MATCH(P32,Rank,0)))","v":""},null,null,null,null,null,null,null,null,null,null,null,null,null,null,null,{"$f":"SUM(AG33:AP33)","v":14},{"$f":"IF(G$17=\"\",0,(IF(G32=0,0,IF(G33=0,0,INDEX(ThreatScore,MATCH(G33,Rank,0))))))","v":7},0,0,0,0,0,7,0,0,0]
[null,null,null,null,null,"Contribution",null,null,null,null,null,null,null,null,null,null,{"$f":"IF(AF35>=Scoring!$B$24,\"Very High\",IF(AF35>=Scoring!$B$25,\"High\",IF(AF35>=Scoring!$B$26,\"Medium\",IF(AF35>=Scoring!$B$27,\"Low\",\"-\"))))","v":"-"}]
[null,null,null,null,null,"Threat Rank ",{"$f":"IF(G34=0,\"\",INDEX(ThreatRankMatrix,MATCH($G$17,Rank,0),MATCH(G34,Rank,0)))","v":""},{"$f":"IF(H34=0,\"\",INDEX(ThreatRankMatrix,MATCH($H$17,Rank,0),MATCH(H34,Rank,0)))","v":""},{"$f":"IF(I34=0,\"\",INDEX(ThreatRankMatrix,MATCH($I$17,Rank,0),MATCH(I34,Rank,0)))","v":""},{"$f":"IF(J34=0,\"\",INDEX(ThreatRankMatrix,MATCH($J$17,Rank,0),MATCH(J34,Rank,0)))","v":""},{"$f":"IF(K34=0,\"\",INDEX(ThreatRankMatrix,MATCH($K$17,Rank,0),MATCH(K34,Rank,0)))","v":""},{"$f":"IF(L34=0,\"\",INDEX(ThreatRankMatrix,MATCH($L$17,Rank,0),MATCH(L34,Rank,0)))","v":""},{"$f":"IF(M34=0,\"\",INDEX(ThreatRankMatrix,MATCH($M$17,Rank,0),MATCH(M34,Rank,0)))","v":""},{"$f":"IF(N34=0,\"\",INDEX(ThreatRankMatrix,MATCH($N$17,Rank,0),MATCH(N34,Rank,0)))","v":""},{"$f":"IF(O34=0,\"\",INDEX(ThreatRankMatrix,MATCH($O$17,Rank,0),MATCH(O34,Rank,0)))","v":""},{"$f":"IF(P34=0,\"\",INDEX(ThreatRankMatrix,MATCH($P$17,Rank,0),MATCH(P34,Rank,0)))","v":""},null,null,null,null,null,null,null,null,null,null,null,null,null,null,null,{"$f":"SUM(AG35:AP35)","v":0},{"$f":"IF(G$17=\"\",0,(IF(G34=0,0,IF(G35=0,0,INDEX(ThreatScore,MATCH(G35,Rank,0))))))","v":0},0,0,0,0,0,0,0,0,0]
[null,null,null,null,null,"Contribution",null,null,null,null,null,null,null,null,null,null,{"$f":"IF(AF37>=Scoring!$B$24,\"Very High\",IF(AF37>=Scoring!$B$25,\"High\",IF(AF37>=Scoring!$B$26,\"Medium\",IF(AF37>=Scoring!$B$27,\"Low\",\"-\"))))","v":"-"}]
[null,null,null,null,null,"Threat Rank ",{"$f":"IF(G36=0,\"\",INDEX(ThreatRankMatrix,MATCH($G$17,Rank,0),MATCH(G36,Rank,0)))","v":""},{"$f":"IF(H36=0,\"\",INDEX(ThreatRankMatrix,MATCH($H$17,Rank,0),MATCH(H36,Rank,0)))","v":""},{"$f":"IF(I36=0,\"\",INDEX(ThreatRankMatrix,MATCH($I$17,Rank,0),MATCH(I36,Rank,0)))","v":""},{"$f":"IF(J36=0,\"\",INDEX(ThreatRankMatrix,MATCH($J$17,Rank,0),MATCH(J36,Rank,0)))","v":""},{"$f":"IF(K36=0,\"\",INDEX(ThreatRankMatrix,MATCH($K$17,Rank,0),MATCH(K36,Rank,0)))","v":""},{"$f":"IF(L36=0,\"\",INDEX(ThreatRankMatrix,MATCH($L$17,Rank,0),MATCH(L36,Rank,0)))","v":""},{"$f":"IF(M36=0,\"\",INDEX(ThreatRankMatrix,MATCH($M$17,Rank,0),MATCH(M36,Rank,0)))","v":""},{"$f":"IF(N36=0,\"\",INDEX(ThreatRankMatrix,MATCH($N$17,Rank,0),MATCH(N36,Rank,0)))","v":""},{"$f":"IF(O36=0,\"\",INDEX(ThreatRankMatrix,MATCH($O$17,Rank,0),MATCH(O36,Rank,0)))","v":""},{"$f":"IF(P36=0,\"\",INDEX(ThreatRankMatrix,MATCH($P$17,Rank,0),MATCH(P36,Rank,0)))","v":""},null,null,null,null,null,null,null,null,null,null,null,null,null,null,null,{"$f":"SUM(AG37:AP37)","v":0},{"$f":"IF(G$17=\"\",0,(IF(G36=0,0,IF(G37=0,0,INDEX(ThreatScore,MATCH(G37,Rank,0))))))","v":0},{"$f":"IF(H$17=\"\",0,(IF(H36=0,0,IF(H37=0,0,INDEX(ThreatScore,MATCH(H37,Rank,0))))))","v":0},{"$f":"IF(I$17=\"\",0,(IF(I36=0,0,IF(I37=0,0,INDEX(ThreatScore,MATCH(I37,Rank,0))))))","v":0},{"$f":"IF(J$17=\"\",0,(IF(J36=0,0,IF(J37=0,0,INDEX(ThreatScore,MATCH(J37,Rank,0))))))","v":0},{"$f":"IF(K$17=\"\",0,(IF(K36=0,0,IF(K37=0,0,INDEX(ThreatScore,MATCH(K37,Rank,0))))))","v":0},{"$f":"IF(L$17=\"\",0,(IF(L36=0,0,IF(L37=0,0,INDEX(ThreatScore,MATCH(L37,Rank,0))))))","v":0},{"$f":"IF(M$17=\"\",0,(IF(M36=0,0,IF(M37=0,0,INDEX(ThreatScore,MATCH(M37,Rank,0))))))","v":0},{"$f":"IF(N$17=\"\",0,(IF(N36=0,0,IF(N37=0,0,INDEX(ThreatScore,MATCH(N37,Rank,0))))))","v":0},{"$f":"IF(O$17=\"\",0,(IF(O36=0,0,IF(O37=0,0,INDEX(ThreatScore,MATCH(O37,Rank,0))))))","v":0},{"$f":"IF(P$17=\"\",0,(IF(P36=0,0,IF(P37=0,0,INDEX(ThreatScore,MATCH(P37,Rank,0))))))","v":0}]
[null,null,null,null,null,"Contribution",null,null,null,null,null,null,null,null,null,null,{"$f":"IF(AF39>=Scoring!$B$24,\"Very High\",IF(AF39>=Scoring!$B$25,\"High\",IF(AF39>=Scoring!$B$26,\"Medium\",IF(AF39>=Scoring!$B$27,\"Low\",\"-\"))))","v":"-"}]
[null,null,null,null,null,"Threat Rank ",{"$f":"IF(G38=0,\"\",INDEX(ThreatRankMatrix,MATCH($G$17,Rank,0),MATCH(G38,Rank,0)))","v":""},{"$f":"IF(H38=0,\"\",INDEX(ThreatRankMatrix,MATCH($H$17,Rank,0),MATCH(H38,Rank,0)))","v":""},{"$f":"IF(I38=0,\"\",INDEX(ThreatRankMatrix,MATCH($I$17,Rank,0),MATCH(I38,Rank,0)))","v":""},{"$f":"IF(J38=0,\"\",INDEX(ThreatRankMatrix,MATCH($J$17,Rank,0),MATCH(J38,Rank,0)))","v":""},{"$f":"IF(K38=0,\"\",INDEX(ThreatRankMatrix,MATCH($K$17,Rank,0),MATCH(K38,Rank,0)))","v":""},{"$f":"IF(L38=0,\"\",INDEX(ThreatRankMatrix,MATCH($L$17,Rank,0),MATCH(L38,Rank,0)))","v":""},{"$f":"IF(M38=0,\"\",INDEX(ThreatRankMatrix,MATCH($M$17,Rank,0),MATCH(M38,Rank,0)))","v":""},{"$f":"IF(N38=0,\"\",INDEX(ThreatRankMatrix,MATCH($N$17,Rank,0),MATCH(N38,Rank,0)))","v":""},{"$f":"IF(O38=0,\"\",INDEX(ThreatRankMatrix,MATCH($O$17,Rank,0),MATCH(O38,Rank,0)))","v":""},{"$f":"IF(P38=0,\"\",INDEX(ThreatRankMatrix,MATCH($P$17,Rank,0),MATCH(P38,Rank,0)))","v":""},null,null,null,null,null,null,null,null,null,null,null,null,null,null,null,{"$f":"SUM(AG39:AP39)","v":0},{"$f":"IF(G$17=\"\",0,(IF(G38=0,0,IF(G39=0,0,INDEX(ThreatScore,MATCH(G39,Rank,0))))))","v":0},{"$f":"IF(H$17=\"\",0,(IF(H38=0,0,IF(H39=0,0,INDEX(ThreatScore,MATCH(H39,Rank,0))))))","v":0},{"$f":"IF(I$17=\"\",0,(IF(I38=0,0,IF(I39=0,0,INDEX(ThreatScore,MATCH(I39,Rank,0))))))","v":0},{"$f":"IF(J$17=\"\",0,(IF(J38=0,0,IF(J39=0,0,INDEX(ThreatScore,MATCH(J39,Rank,0))))))","v":0},{"$f":"IF(K$17=\"\",0,(IF(K38=0,0,IF(K39=0,0,INDEX(ThreatScore,MATCH(K39,Rank,0))))))","v":0},{"$f":"IF(L$17=\"\",0,(IF(L38=0,0,IF(L39=0,0,INDEX(ThreatScore,MATCH(L39,Rank,0))))))","v":0},{"$f":"IF(M$17=\"\",0,(IF(M38=0,0,IF(M39=0,0,INDEX(ThreatScore,MATCH(M39,Rank,0))))))","v":0},{"$f":"IF(N$17=\"\",0,(IF(N38=0,0,IF(N39=0,0,INDEX(ThreatScore,MATCH(N39,Rank,0))))))","v":0},{"$f":"IF(O$17=\"\",0,(IF(O38=0,0,IF(O39=0,0,INDEX(ThreatScore,MATCH(O39,Rank,0))))))","v":0},{"$f":"IF(P$17=\"\",0,(IF(P38=0,0,IF(P39=0,0,INDEX(ThreatScore,MATCH(P39,Rank,0))))))","v":0}]
[null,null,null,null,null,"Contribution",null,null,null,null,null,null,null,null,null,null,{"$f":"IF(AF41>=Scoring!$B$24,\"Very High\",IF(AF41>=Scoring!$B$25,\"High\",IF(AF41>=Scoring!$B$26,\"Medium\",IF(AF41>=Scoring!$B$27,\"Low\",\"-\"))))","v":"-"}]
[null,null,null,null,null,"Threat Rank ",{"$f":"IF(G40=0,\"\",INDEX(ThreatRankMatrix,MATCH($G$17,Rank,0),MATCH(G40,Rank,0)))","v":""},{"$f":"IF(H40=0,\"\",INDEX(ThreatRankMatrix,MATCH($H$17,Rank,0),MATCH(H40,Rank,0)))","v":""},{"$f":"IF(I40=0,\"\",INDEX(ThreatRankMatrix,MATCH($I$17,Rank,0),MATCH(I40,Rank,0)))","v":""},{"$f":"IF(J40=0,\"\",INDEX(ThreatRankMatrix,MATCH($J$17,Rank,0),MATCH(J40,Rank,0)))","v":""},{"$f":"IF(K40=0,\"\",INDEX(ThreatRankMatrix,MATCH($K$17,Rank,0),MATCH(K40,Rank,0)))","v":""},{"$f":"IF(L40=0,\"\",INDEX(ThreatRankMatrix,MATCH($L$17,Rank,0),MATCH(L40,Rank,0)))","v":""},{"$f":"IF(M40=0,\"\",INDEX(ThreatRankMatrix,MATCH($M$17,Rank,0),MATCH(M40,Rank,0)))","v":""},{"$f":"IF(N40=0,\"\",INDEX(ThreatRankMatrix,MATCH($N$17,Rank,0),MATCH(N40,Rank,0)))","v":""},{"$f":"IF(O40=0,\"\",INDEX(ThreatRankMatrix,MATCH($O$17,Rank,0),MATCH(O40,Rank,0)))","v":""},{"$f":"IF(P40=0,\"\",INDEX(ThreatRankMatrix,MATCH($P$17,Rank,0),MATCH(P40,Rank,0)))","v":""},null,null,null,null,null,null,null,null,null,null,null,null,null,null,null,{"$f":"SUM(AG41:AP41)","v":0},{"$f":"IF(G$17=\"\",0,(IF(G40=0,0,IF(G41=0,0,INDEX(ThreatScore,MATCH(G41,Rank,0))))))","v":0},0,0,0,0,0,0,0,0,0]

{"sheet":"6","index":10,"n_rows":41,"n_cols":42,"rows_kept":41,"cut":false,"hidden":false,"merged":[[0,3,0,4],[15,4,16,4],[15,16,16,16],[17,4,18,4],[17,16,18,16],[13,3,13,4],[19,4,20,4],[19,16,20,16],[21,4,22,4],[21,16,22,16],[23,4,24,4],[23,16,24,16],[25,4,26,4],[25,16,26,16],[33,4,34,4],[33,16,34,16],[39,4,40,4],[39,16,40,16],[27,4,28,4],[27,16,28,16],[29,4,30,4],[29,16,30,16],[31,4,32,4],[31,16,32,16],[35,4,36,4],[35,16,36,16],[37,4,38,4],[37,16,38,16]]}
[null,null,null,{"$f":"IF(Targets!C31=0,\"\",Targets!C31)","v":"Sloughs and Wetlands - Upper Chena"},{"$f":"IF(Targets!C31=0,\"\",Targets!C31)","v":"Sloughs and Wetlands - Upper Chena"},"  Key Attributes & Future Threats"]
[null,null,null,null,null,"Place cursor over cells with red triangles in top corner for hint"]
["KEA ID","Target ID","Target Name","Category","Key Attribute","Indicator","Poor","Fair","Good","Very Good","Current Rating","Projected Future Rating w No Action","Stress Ranking (calculated)","Stress Ranking (User Override)",null,null,null,null,null,"Projected Future Rating w Strategies","New Stress Ranking (calculated)","New Stress Ranking (User Override)",null,null,"Temp Indicator ID",null,"Target #","Current Score","Score w No Action","Score w Strategies","Current Weight","Future Weight No Action","Future Weight w Action","Current Weighted Score","Future No Action Weighted Score","Future Action Weighted Score","Current Weighted Average","Future No Action Weighted Average","Future Action Weighted Average"]
[{"$f":"ROW()+600","v":604},6,{"$f":"$D$1","v":"Sloughs and Wetlands - Upper Chena"},"Landscape Context","Connectivity to mainstem river and tributaries","Number, extent, & type of barriers","Many widespread or complete manmade or natural blockages, Where culverts exist % of red barriers based on ADFG fish passage inventory"," Some widespread or complete manmade or natural blockages, Where culverts exist % of red barriers based on ADFG fish passage inventory","Few widespread or complete manmade or natural blockages, Where culverts exist % of green barriers based on ADFG fish passage inventory"," No widespread or complete manmade or natural blockages,","Fair","Fair -",{"$f":"IF(K4=0,\"\",IF(L4=0,\"\",INDEX(StressRankMatrix,MATCH(K4,Rating,0),MATCH(L4,Rating,0))))","v":"High"},null,null,null,null,null,null,{"$f":"IF(L4=\"\",\"\",IFERROR(INDEX(Outcomes!$F:$F, MATCH(A4,Outcomes!$H:$H,0)),L4))","v":"Good -"},{"$f":"IF(K4=\"\",\"\",IF(T4=0,\"\",INDEX(StressRankMatrix,MATCH(K4,Rating,0),MATCH(T4,Rating,0))))","v":"-"},null,null,null,{"$f":"IFERROR(INDEX(#REF!,MATCH(A4,#REF!,0)),\"\")","v":""},null,{"$f":"IF(E4=\"\",\"\",IF(E4>0,$B$4,\"error\"))","v":6},{"$f":"IF(K4=\"Poor\",Scoring!$B$50,IF(K4=\"Fair -\",Scoring!$B$49,IF(K4=\"Fair\",Scoring!$B$48,IF(K4=\"Good -\",Scoring!$B$47,IF(K4=\"Good\",Scoring!$B$46,IF(K4=\"Very Good\",Scoring!$B$45,IF(K4=\"\",0)))))))","v":40.04},{"$f":"IF(L4=\"Poor\",Scoring!$B$50,IF(L4=\"Fair -\",Scoring!$B$49,IF(L4=\"Fair\",Scoring!$B$48,IF(L4=\"Good -\",Scoring!$B$47,IF(L4=\"Good\",Scoring!$B$46,IF(L4=\"Very Good\",Scoring!$B$45,IF(L4=\"\",0)))))))","v":20.03},{"$f":"IF(T4=\"Poor\",Scoring!$B$50,IF(T4=\"Fair -\",Scoring!$B$49,IF(T4=\"Fair\",Scoring!$B$48,IF(T4=\"Good -\",Scoring!$B$47,IF(T4=\"Good\",Scoring!$B$46,IF(T4=\"Very Good\",Scoring!$B$45,IF(T4=\"\",0)))))))","v":60.04},{"$f":"IF(K4=\"Poor\",Scoring!$C$50,IF(K4=\"Fair -\",Scoring!$C$49,IF(K4=\"Fair\",Scoring!$C$48,IF(K4=\"Good -\",Scoring!$C$47,IF(K4=\"Good\",Scoring!$C$46,IF(K4=\"Very Good\",Scoring!$C$45,IF(K4=\"\",0)))))))","v":1},{"$f":"IF(L4=\"Poor\",Scoring!$C$50,IF(L4=\"Fair -\",Scoring!$C$49,IF(L4=\"Fair\",Scoring!$C$48,IF(L4=\"Good -\",Scoring!$C$47,IF(L4=\"Good\",Scoring!$C$46,IF(L4=\"Very Good\",Scoring!$C$45,IF(L4=\"\",0)))))))","v":1},{"$f":"IF(T4=\"Poor\",Scoring!$C$50,IF(T4=\"Fair -\",Scoring!$C$49,IF(T4=\"Fair\",Scoring!$C$48,IF(T4=\"Good -\",Scoring!$C$47,IF(T4=\"Good\",Scoring!$C$46,IF(T4=\"Very Good\",Scoring!$C$45,IF(T4=\"\",0)))))))","v":1},{"$f":"AB4*AE4","v":40.04},{"$f":"AC4*AF4","v":20.03},{"$f":"AD4*AG4","v":60.04}]
[{"$f":"ROW()+600","v":605},6,{"$f":"$D$1","v":"Sloughs and Wetlands - Upper Chena"},"Landscape Context","Hydrologic regime","Natural fluctuations of surface and ground water -amount, frequency, timing, duration","Water levels, flows or fluctuations are too high or too low, not related to the precipitation, and unlikely to maintain nested targets in many habitats within the target area and downstream","Water levels, flows or fluctuations in relationship to precipitation and ground water are likely to maintain nested targets in some habitats within the target and downstream","Water levels, flows or fluctuations in relationship to precipitation and ground water are likely to maintain nested targets in most habitats within the target area and downstream","Water levels, flows or fluctuations in relationship to precipitation and ground water are likely to maintain nested targets in almost all habitats within the target area and downstream","Good","Good -","Medium",null,null,null,null,null,null,{"$f":"IF(L5=\"\",\"\",IFERROR(INDEX(Outcomes!$F:$F, MATCH(A5,Outcomes!$H:$H,0)),L5))","v":"Good"},"-",null,null,null,{"$f":"IFERROR(INDEX(#REF!,MATCH(A5,#REF!,0)),\"\")","v":""},null,6,{"$f":"IF(K5=\"Poor\",Scoring!$B$50,IF(K5=\"Fair -\",Scoring!$B$49,IF(K5=\"Fair\",Scoring!$B$48,IF(K5=\"Good -\",Scoring!$B$47,IF(K5=\"Good\",Scoring!$B$46,IF(K5=\"Very Good\",Scoring!$B$45,IF(K5=\"\",0)))))))","v":80.03},{"$f":"IF(L5=\"Poor\",Scoring!$B$50,IF(L5=\"Fair -\",Scoring!$B$49,IF(L5=\"Fair\",Scoring!$B$48,IF(L5=\"Good -\",Scoring!$B$47,IF(L5=\"Good\",Scoring!$B$46,IF(L5=\"Very Good\",Scoring!$B$45,IF(L5=\"\",0)))))))","v":60.04},{"$f":"IF(T5=\"Poor\",Scoring!$B$50,IF(T5=\"Fair -\",Scoring!$B$49,IF(T5=\"Fair\",Scoring!$B$48,IF(T5=\"Good -\",Scoring!$B$47,IF(T5=\"Good\",Scoring!$B$46,IF(T5=\"Very Good\",Scoring!$B$45,IF(T5=\"\",0)))))))","v":80.03},{"$f":"IF(K5=\"Poor\",Scoring!$C$50,IF(K5=\"Fair -\",Scoring!$C$49,IF(K5=\"Fair\",Scoring!$C$48,IF(K5=\"Good -\",Scoring!$C$47,IF(K5=\"Good\",Scoring!$C$46,IF(K5=\"Very Good\",Scoring!$C$45,IF(K5=\"\",0)))))))","v":1},{"$f":"IF(L5=\"Poor\",Scoring!$C$50,IF(L5=\"Fair -\",Scoring!$C$49,IF(L5=\"Fair\",Scoring!$C$48,IF(L5=\"Good -\",Scoring!$C$47,IF(L5=\"Good\",Scoring!$C$46,IF(L5=\"Very Good\",Scoring!$C$45,IF(L5=\"\",0)))))))","v":1},{"$f":"IF(T5=\"Poor\",Scoring!$C$50,IF(T5=\"Fair -\",Scoring!$C$49,IF(T5=\"Fair\",Scoring!$C$48,IF(T5=\"Good -\",Scoring!$C$47,IF(T5=\"Good\",Scoring!$C$46,IF(T5=\"Very Good\",Scoring!$C$45,IF(T5=\"\",0)))))))","v":1},{"$f":"AB5*AE5","v":80.03},60.04,80.03]
[606,6,"Sloughs and Wetlands - Upper Chena","Landscape Context","Substrate and banks","Amount, type, size, availability of, & distribution","Low diversity of and abundance of suitable substrates in most habitats"," Moderate diversity of abundance of suitable substrates/material in most habitats","Diversity and abundance of suitable substrates/ material in most habitat for aquatic - "," High diversity and abundance of suitable substrates/ material in most habitat for aquatic species","Good","Good -","Medium",null,null,null,null,null,null,{"$f":"IF(L6=\"\",\"\",IFERROR(INDEX(Outcomes!$F:$F, MATCH(A6,Outcomes!$H:$H,0)),L6))","v":"Good -"},"Medium",null,null,null,{"$f":"IFERROR(INDEX(#REF!,MATCH(A6,#REF!,0)),\"\")","v":""},null,6,{"$f":"IF(K6=\"Poor\",Scoring!$B$50,IF(K6=\"Fair -\",Scoring!$B$49,IF(K6=\"Fair\",Scoring!$B$48,IF(K6=\"Good -\",Scoring!$B$47,IF(K6=\"Good\",Scoring!$B$46,IF(K6=\"Very Good\",Scoring!$B$45,IF(K6=\"\",0)))))))","v":80.03},{"$f":"IF(L6=\"Poor\",Scoring!$B$50,IF(L6=\"Fair -\",Scoring!$B$49,IF(L6=\"Fair\",Scoring!$B$48,IF(L6=\"Good -\",Scoring!$B$47,IF(L6=\"Good\",Scoring!$B$46,IF(L6=\"Very Good\",Scoring!$B$45,IF(L6=\"\",0)))))))","v":60.04},{"$f":"IF(T6=\"Poor\",Scoring!$B$50,IF(T6=\"Fair -\",Scoring!$B$49,IF(T6=\"Fair\",Scoring!$B$48,IF(T6=\"Good -\",Scoring!$B$47,IF(T6=\"Good\",Scoring!$B$46,IF(T6=\"Very Good\",Scoring!$B$45,IF(T6=\"\",0)))))))","v":60.04},{"$f":"IF(K6=\"Poor\",Scoring!$C$50,IF(K6=\"Fair -\",Scoring!$C$49,IF(K6=\"Fair\",Scoring!$C$48,IF(K6=\"Good -\",Scoring!$C$47,IF(K6=\"Good\",Scoring!$C$46,IF(K6=\"Very Good\",Scoring!$C$45,IF(K6=\"\",0)))))))","v":1},{"$f":"IF(L6=\"Poor\",Scoring!$C$50,IF(L6=\"Fair -\",Scoring!$C$49,IF(L6=\"Fair\",Scoring!$C$48,IF(L6=\"Good -\",Scoring!$C$47,IF(L6=\"Good\",Scoring!$C$46,IF(L6=\"Very Good\",Scoring!$C$45,IF(L6=\"\",0)))))))","v":1},{"$f":"IF(T6=\"Poor\",Scoring!$C$50,IF(T6=\"Fair -\",Scoring!$C$49,IF(T6=\"Fair\",Scoring!$C$48,IF(T6=\"Good -\",Scoring!$C$47,IF(T6=\"Good\",Scoring!$C$46,IF(T6=\"Very Good\",Scoring!$C$45,IF(T6=\"\",0)))))))","v":1},80.03,60.04,60.04]
[607,6,"Sloughs and Wetlands - Upper Chena","Condition","Characteristic native communities","Presence of characteristic native communities within habitats","Few habitats have the characteristic native communities to accom-modate most nested targets in abundance","Some habitats have the characteristic native communities to accom-modate most nested targets in abundance","Most habitats have the characteristic native communities to accom-modate most nested targets in abundance","Almost all habitats have the characteristic native communities to accom­modate almost all nested targets in abundance","Good","Good -","Medium",null,null,null,null,null,null,{"$f":"IF(L7=\"\",\"\",IFERROR(INDEX(Outcomes!$F:$F, MATCH(A7,Outcomes!$H:$H,0)),L7))","v":"Good -"},"Medium",null,null,null,{"$f":"IFERROR(INDEX(#REF!,MATCH(A7,#REF!,0)),\"\")","v":""},null,6,{"$f":"IF(K7=\"Poor\",Scoring!$B$50,IF(K7=\"Fair -\",Scoring!$B$49,IF(K7=\"Fair\",Scoring!$B$48,IF(K7=\"Good -\",Scoring!$B$47,IF(K7=\"Good\",Scoring!$B$46,IF(K7=\"Very Good\",Scoring!$B$45,IF(K7=\"\",0)))))))","v":80.03},{"$f":"IF(L7=\"Poor\",Scoring!$B$50,IF(L7=\"Fair -\",Scoring!$B$49,IF(L7=\"Fair\",Scoring!$B$48,IF(L7=\"Good -\",Scoring!$B$47,IF(L7=\"Good\",Scoring!$B$46,IF(L7=\"Very Good\",Scoring!$B$45,IF(L7=\"\",0)))))))","v":60.04},{"$f":"IF(T7=\"Poor\",Scoring!$B$50,IF(T7=\"Fair -\",Scoring!$B$49,IF(T7=\"Fair\",Scoring!$B$48,IF(T7=\"Good -\",Scoring!$B$47,IF(T7=\"Good\",Scoring!$B$46,IF(T7=\"Very Good\",Scoring!$B$45,IF(T7=\"\",0)))))))","v":60.04},{"$f":"IF(K7=\"Poor\",Scoring!$C$50,IF(K7=\"Fair -\",Scoring!$C$49,IF(K7=\"Fair\",Scoring!$C$48,IF(K7=\"Good -\",Scoring!$C$47,IF(K7=\"Good\",Scoring!$C$46,IF(K7=\"Very Good\",Scoring!$C$45,IF(K7=\"\",0)))))))","v":1},{"$f":"IF(L7=\"Poor\",Scoring!$C$50,IF(L7=\"Fair -\",Scoring!$C$49,IF(L7=\"Fair\",Scoring!$C$48,IF(L7=\"Good -\",Scoring!$C$47,IF(L7=\"Good\",Scoring!$C$46,IF(L7=\"Very Good\",Scoring!$C$45,IF(L7=\"\",0)))))))","v":1},{"$f":"IF(T7=\"Poor\",Scoring!$C$50,IF(T7=\"Fair -\",Scoring!$C$49,IF(T7=\"Fair\",Scoring!$C$48,IF(T7=\"Good -\",Scoring!$C$47,IF(T7=\"Good\",Scoring!$C$46,IF(T7=\"Very Good\",Scoring!$C$45,IF(T7=\"\",0)))))))","v":1},80.03,60.04,60.04]
[608,6,"Sloughs and Wetlands - Upper Chena","Condition","Species composition","Presence/absence, extent of invasive species"," High abundance of  invasive/non-native species in most habitats"," Moderate abundance of  invasive/non-native species in most habitats","Low presence of existing invasive/non-native species in most habitats with NO new invasive species  "," Mimimal to no abundance of  invasive/non-native species in most habitats","Good","Good -","Medium",null,null,null,null,null,null,{"$f":"IF(L8=\"\",\"\",IFERROR(INDEX(Outcomes!$F:$F, MATCH(A8,Outcomes!$H:$H,0)),L8))","v":"Good"},"-",null,null,null,{"$f":"IFERROR(INDEX(#REF!,MATCH(A8,#REF!,0)),\"\")","v":""},null,6,{"$f":"IF(K8=\"Poor\",Scoring!$B$50,IF(K8=\"Fair -\",Scoring!$B$49,IF(K8=\"Fair\",Scoring!$B$48,IF(K8=\"Good -\",Scoring!$B$47,IF(K8=\"Good\",Scoring!$B$46,IF(K8=\"Very Good\",Scoring!$B$45,IF(K8=\"\",0)))))))","v":80.03},{"$f":"IF(L8=\"Poor\",Scoring!$B$50,IF(L8=\"Fair -\",Scoring!$B$49,IF(L8=\"Fair\",Scoring!$B$48,IF(L8=\"Good -\",Scoring!$B$47,IF(L8=\"Good\",Scoring!$B$46,IF(L8=\"Very Good\",Scoring!$B$45,IF(L8=\"\",0)))))))","v":60.04},{"$f":"IF(T8=\"Poor\",Scoring!$B$50,IF(T8=\"Fair -\",Scoring!$B$49,IF(T8=\"Fair\",Scoring!$B$48,IF(T8=\"Good -\",Scoring!$B$47,IF(T8=\"Good\",Scoring!$B$46,IF(T8=\"Very Good\",Scoring!$B$45,IF(T8=\"\",0)))))))","v":80.03},{"$f":"IF(K8=\"Poor\",Scoring!$C$50,IF(K8=\"Fair -\",Scoring!$C$49,IF(K8=\"Fair\",Scoring!$C$48,IF(K8=\"Good -\",Scoring!$C$47,IF(K8=\"Good\",Scoring!$C$46,IF(K8=\"Very Good\",Scoring!$C$45,IF(K8=\"\",0)))))))","v":1},{"$f":"IF(L8=\"Poor\",Scoring!$C$50,IF(L8=\"Fair -\",Scoring!$C$49,IF(L8=\"Fair\",Scoring!$C$48,IF(L8=\"Good -\",Scoring!$C$47,IF(L8=\"Good\",Scoring!$C$46,IF(L8=\"Very Good\",Scoring!$C$45,IF(L8=\"\",0)))))))","v":1},{"$f":"IF(T8=\"Poor\",Scoring!$C$50,IF(T8=\"Fair -\",Scoring!$C$49,IF(T8=\"Fair\",Scoring!$C$48,IF(T8=\"Good -\",Scoring!$C$47,IF(T8=\"Good\",Scoring!$C$46,IF(T8=\"Very Good\",Scoring!$C$45,IF(T8=\"\",0)))))))","v":1},80.03,60.04,80.03]
[609,6,"Sloughs and Wetlands - Upper Chena","Condition","Water quality","Temperature, DO, toxins, or litter/trash/residues","High % (TBD) not meeting most ADEC's standards "," Moderate habitats meet most ADEC’s standards","Most habitats are meeting most ADEC's standards","Majority to all habitats meet most ADEC’s standards","Good","Good -","Medium",null,null,null,null,null,null,{"$f":"IF(L9=\"\",\"\",IFERROR(INDEX(Outcomes!$F:$F, MATCH(A9,Outcomes!$H:$H,0)),L9))","v":"Good -"},"Medium",null,null,null,{"$f":"IFERROR(INDEX(#REF!,MATCH(A9,#REF!,0)),\"\")","v":""},null,6,{"$f":"IF(K9=\"Poor\",Scoring!$B$50,IF(K9=\"Fair -\",Scoring!$B$49,IF(K9=\"Fair\",Scoring!$B$48,IF(K9=\"Good -\",Scoring!$B$47,IF(K9=\"Good\",Scoring!$B$46,IF(K9=\"Very Good\",Scoring!$B$45,IF(K9=\"\",0)))))))","v":80.03},{"$f":"IF(L9=\"Poor\",Scoring!$B$50,IF(L9=\"Fair -\",Scoring!$B$49,IF(L9=\"Fair\",Scoring!$B$48,IF(L9=\"Good -\",Scoring!$B$47,IF(L9=\"Good\",Scoring!$B$46,IF(L9=\"Very Good\",Scoring!$B$45,IF(L9=\"\",0)))))))","v":60.04},{"$f":"IF(T9=\"Poor\",Scoring!$B$50,IF(T9=\"Fair -\",Scoring!$B$49,IF(T9=\"Fair\",Scoring!$B$48,IF(T9=\"Good -\",Scoring!$B$47,IF(T9=\"Good\",Scoring!$B$46,IF(T9=\"Very Good\",Scoring!$B$45,IF(T9=\"\",0)))))))","v":60.04},{"$f":"IF(K9=\"Poor\",Scoring!$C$50,IF(K9=\"Fair -\",Scoring!$C$49,IF(K9=\"Fair\",Scoring!$C$48,IF(K9=\"Good -\",Scoring!$C$47,IF(K9=\"Good\",Scoring!$C$46,IF(K9=\"Very Good\",Scoring!$C$45,IF(K9=\"\",0)))))))","v":1},{"$f":"IF(L9=\"Poor\",Scoring!$C$50,IF(L9=\"Fair -\",Scoring!$C$49,IF(L9=\"Fair\",Scoring!$C$48,IF(L9=\"Good -\",Scoring!$C$47,IF(L9=\"Good\",Scoring!$C$46,IF(L9=\"Very Good\",Scoring!$C$45,IF(L9=\"\",0)))))))","v":1},{"$f":"IF(T9=\"Poor\",Scoring!$C$50,IF(T9=\"Fair -\",Scoring!$C$49,IF(T9=\"Fair\",Scoring!$C$48,IF(T9=\"Good -\",Scoring!$C$47,IF(T9=\"Good\",Scoring!$C$46,IF(T9=\"Very Good\",Scoring!$C$45,IF(T9=\"\",0)))))))","v":1},80.03,60.04,60.04]
[610,6,"Sloughs and Wetlands - Upper Chena","Size","Extent of area","Acres of habitat types","Severe, mostly gone","Moderate to substantial loss","Minimal loss","Mother Nature","Good","Fair","High",null,null,null,null,null,null,{"$f":"IF(L10=\"\",\"\",IFERROR(INDEX(Outcomes!$F:$F, MATCH(A10,Outcomes!$H:$H,0)),L10))","v":"Good"},"-",null,null,null,{"$f":"IFERROR(INDEX(#REF!,MATCH(A10,#REF!,0)),\"\")","v":""},null,6,{"$f":"IF(K10=\"Poor\",Scoring!$B$50,IF(K10=\"Fair -\",Scoring!$B$49,IF(K10=\"Fair\",Scoring!$B$48,IF(K10=\"Good -\",Scoring!$B$47,IF(K10=\"Good\",Scoring!$B$46,IF(K10=\"Very Good\",Scoring!$B$45,IF(K10=\"\",0)))))))","v":80.03},{"$f":"IF(L10=\"Poor\",Scoring!$B$50,IF(L10=\"Fair -\",Scoring!$B$49,IF(L10=\"Fair\",Scoring!$B$48,IF(L10=\"Good -\",Scoring!$B$47,IF(L10=\"Good\",Scoring!$B$46,IF(L10=\"Very Good\",Scoring!$B$45,IF(L10=\"\",0)))))))","v":40.04},{"$f":"IF(T10=\"Poor\",Scoring!$B$50,IF(T10=\"Fair -\",Scoring!$B$49,IF(T10=\"Fair\",Scoring!$B$48,IF(T10=\"Good -\",Scoring!$B$47,IF(T10=\"Good\",Scoring!$B$46,IF(T10=\"Very Good\",Scoring!$B$45,IF(T10=\"\",0)))))))","v":80.03},{"$f":"IF(K10=\"Poor\",Scoring!$C$50,IF(K10=\"Fair -\",Scoring!$C$49,IF(K10=\"Fair\",Scoring!$C$48,IF(K10=\"Good -\",Scoring!$C$47,IF(K10=\"Good\",Scoring!$C$46,IF(K10=\"Very Good\",Scoring!$C$45,IF(K10=\"\",0)))))))","v":1},{"$f":"IF(L10=\"Poor\",Scoring!$C$50,IF(L10=\"Fair -\",Scoring!$C$49,IF(L10=\"Fair\",Scoring!$C$48,IF(L10=\"Good -\",Scoring!$C$47,IF(L10=\"Good\",Scoring!$C$46,IF(L10=\"Very Good\",Scoring!$C$45,IF(L10=\"\",0)))))))","v":1},{"$f":"IF(T10=\"Poor\",Scoring!$C$50,IF(T10=\"Fair -\",Scoring!$C$49,IF(T10=\"Fair\",Scoring!$C$48,IF(T10=\"Good -\",Scoring!$C$47,IF(T10=\"Good\",Scoring!$C$46,IF(T10=\"Very Good\",Scoring!$C$45,IF(T10=\"\",0)))))))","v":1},80.03,40.04,80.03]
[611,6,"Sloughs and Wetlands - Upper Chena",null,null,null,null,null,null,null,null,null,"",null,null,null,null,null,null,{"$f":"IF(L11=\"\",\"\",IFERROR(INDEX(Outcomes!$F:$F, MATCH(A11,Outcomes!$H:$H,0)),L11))","v":""},"",null,null,null,{"$f":"IFERROR(INDEX(#REF!,MATCH(A11,#REF!,0)),\"\")","v":""},null,"",{"$f":"IF(K11=\"Poor\",Scoring!$B$50,IF(K11=\"Fair -\",Scoring!$B$49,IF(K11=\"Fair\",Scoring!$B$48,IF(K11=\"Good -\",Scoring!$B$47,IF(K11=\"Good\",Scoring!$B$46,IF(K11=\"Very Good\",Scoring!$B$45,IF(K11=\"\",0)))))))","v":0},{"$f":"IF(L11=\"Poor\",Scoring!$B$50,IF(L11=\"Fair -\",Scoring!$B$49,IF(L11=\"Fair\",Scoring!$B$48,IF(L11=\"Good -\",Scoring!$B$47,IF(L11=\"Good\",Scoring!$B$46,IF(L11=\"Very Good\",Scoring!$B$45,IF(L11=\"\",0)))))))","v":0},{"$f":"IF(T11=\"Poor\",Scoring!$B$50,IF(T11=\"Fair -\",Scoring!$B$49,IF(T11=\"Fair\",Scoring!$B$48,IF(T11=\"Good -\",Scoring!$B$47,IF(T11=\"Good\",Scoring!$B$46,IF(T11=\"Very Good\",Scoring!$B$45,IF(T11=\"\",0)))))))","v":0},{"$f":"IF(K11=\"Poor\",Scoring!$C$50,IF(K11=\"Fair -\",Scoring!$C$49,IF(K11=\"Fair\",Scoring!$C$48,IF(K11=\"Good -\",Scoring!$C$47,IF(K11=\"Good\",Scoring!$C$46,IF(K11=\"Very Good\",Scoring!$C$45,IF(K11=\"\",0)))))))","v":0},{"$f":"IF(L11=\"Poor\",Scoring!$C$50,IF(L11=\"Fair -\",Scoring!$C$49,IF(L11=\"Fair\",Scoring!$C$48,IF(L11=\"Good -\",Scoring!$C$47,IF(L11=\"Good\",Scoring!$C$46,IF(L11=\"Very Good\",Scoring!$C$45,IF(L11=\"\",0)))))))","v":0},{"$f":"IF(T11=\"Poor\",Scoring!$C$50,IF(T11=\"Fair -\",Scoring!$C$49,IF(T11=\"Fair\",Scoring!$C$48,IF(T11=\"Good -\",Scoring!$C$47,IF(T11=\"Good\",Scoring!$C$46,IF(T11=\"Very Good\",Scoring!$C$45,IF(T11=\"\",0)))))))","v":0},0,0,0]
[612,6,"Sloughs and Wetlands - Upper Chena",null,null,null,null,null,null,null,null,null,"",null,null,null,null,null,null,{"$f":"IF(L12=\"\",\"\",IFERROR(INDEX(Outcomes!$F:$F, MATCH(A12,Outcomes!$H:$H,0)),L12))","v":""},"",null,null,null,{"$f":"IFERROR(INDEX(#REF!,MATCH(A12,#REF!,0)),\"\")","v":""},null,"",{"$f":"IF(K12=\"Poor\",Scoring!$B$50,IF(K12=\"Fair -\",Scoring!$B$49,IF(K12=\"Fair\",Scoring!$B$48,IF(K12=\"Good -\",Scoring!$B$47,IF(K12=\"Good\",Scoring!$B$46,IF(K12=\"Very Good\",Scoring!$B$45,IF(K12=\"\",0)))))))","v":0},{"$f":"IF(L12=\"Poor\",Scoring!$B$50,IF(L12=\"Fair -\",Scoring!$B$49,IF(L12=\"Fair\",Scoring!$B$48,IF(L12=\"Good -\",Scoring!$B$47,IF(L12=\"Good\",Scoring!$B$46,IF(L12=\"Very Good\",Scoring!$B$45,IF(L12=\"\",0)))))))","v":0},{"$f":"IF(T12=\"Poor\",Scoring!$B$50,IF(T12=\"Fair -\",Scoring!$B$49,IF(T12=\"Fair\",Scoring!$B$48,IF(T12=\"Good -\",Scoring!$B$47,IF(T12=\"Good\",Scoring!$B$46,IF(T12=\"Very Good\",Scoring!$B$45,IF(T12=\"\",0)))))))","v":0},{"$f":"IF(K12=\"Poor\",Scoring!$C$50,IF(K12=\"Fair -\",Scoring!$C$49,IF(K12=\"Fair\",Scoring!$C$48,IF(K12=\"Good -\",Scoring!$C$47,IF(K12=\"Good\",Scoring!$C$46,IF(K12=\"Very Good\",Scoring!$C$45,IF(K12=\"\",0)))))))","v":0},{"$f":"IF(L12=\"Poor\",Scoring!$C$50,IF(L12=\"Fair -\",Scoring!$C$49,IF(L12=\"Fair\",Scoring!$C$48,IF(L12=\"Good -\",Scoring!$C$47,IF(L12=\"Good\",Scoring!$C$46,IF(L12=\"Very Good\",Scoring!$C$45,IF(L12=\"\",0)))))))","v":0},{"$f":"IF(T12=\"Poor\",Scoring!$C$50,IF(T12=\"Fair -\",Scoring!$C$49,IF(T12=\"Fair\",Scoring!$C$48,IF(T12=\"Good -\",Scoring!$C$47,IF(T12=\"Good\",Scoring!$C$46,IF(T12=\"Very Good\",Scoring!$C$45,IF(T12=\"\",0)))))))","v":0},0,0,0]
[613,6,"Sloughs and Wetlands - Upper Chena",null,null,null,null,null,null,null,null,null,"",null,null,null,null,null,null,{"$f":"IF(L13=\"\",\"\",IFERROR(INDEX(Outcomes!$F:$F, MATCH(A13,Outcomes!$H:$H,0)),L13))","v":""},{"$f":"IF(K13=0,\"\",IF(T13=0,\"\",INDEX(StressRankMatrix,MATCH(K13,Rating,0),MATCH(T13,Rating,0))))","v":""},null,null,null,{"$f":"IFERROR(INDEX(#REF!,MATCH(A13,#REF!,0)),\"\")","v":""},null,"",{"$f":"IF(K13=\"Poor\",Scoring!$B$50,IF(K13=\"Fair -\",Scoring!$B$49,IF(K13=\"Fair\",Scoring!$B$48,IF(K13=\"Good -\",Scoring!$B$47,IF(K13=\"Good\",Scoring!$B$46,IF(K13=\"Very Good\",Scoring!$B$45,IF(K13=\"\",0)))))))","v":0},{"$f":"IF(L13=\"Poor\",Scoring!$B$50,IF(L13=\"Fair -\",Scoring!$B$49,IF(L13=\"Fair\",Scoring!$B$48,IF(L13=\"Good -\",Scoring!$B$47,IF(L13=\"Good\",Scoring!$B$46,IF(L13=\"Very Good\",Scoring!$B$45,IF(L13=\"\",0)))))))","v":0},{"$f":"IF(T13=\"Poor\",Scoring!$B$50,IF(T13=\"Fair -\",Scoring!$B$49,IF(T13=\"Fair\",Scoring!$B$48,IF(T13=\"Good -\",Scoring!$B$47,IF(T13=\"Good\",Scoring!$B$46,IF(T13=\"Very Good\",Scoring!$B$45,IF(T13=\"\",0)))))))","v":0},{"$f":"IF(K13=\"Poor\",Scoring!$C$50,IF(K13=\"Fair -\",Scoring!$C$49,IF(K13=\"Fair\",Scoring!$C$48,IF(K13=\"Good -\",Scoring!$C$47,IF(K13=\"Good\",Scoring!$C$46,IF(K13=\"Very Good\",Scoring!$C$45,IF(K13=\"\",0)))))))","v":0},{"$f":"IF(L13=\"Poor\",Scoring!$C$50,IF(L13=\"Fair -\",Scoring!$C$49,IF(L13=\"Fair\",Scoring!$C$48,IF(L13=\"Good -\",Scoring!$C$47,IF(L13=\"Good\",Scoring!$C$46,IF(L13=\"Very Good\",Scoring!$C$45,IF(L13=\"\",0)))))))","v":0},{"$f":"IF(T13=\"Poor\",Scoring!$C$50,IF(T13=\"Fair -\",Scoring!$C$49,IF(T13=\"Fair\",Scoring!$C$48,IF(T13=\"Good -\",Scoring!$C$47,IF(T13=\"Good\",Scoring!$C$46,IF(T13=\"Very Good\",Scoring!$C$45,IF(T13=\"\",0)))))))","v":0},0,0,0]
[null,null,null,"Overall Target Health Score                           (0 = Poor - 100 = Very Good)",null,null,null,null,null,null,{"$f":"AK14","v":74.317142857142841},{"$f":"AL14","v":51.467142857142861},null,null,null,null,null,null,null,{"$f":"AM14","v":68.607142857142861},null,null,null,null,null,null,null,null,null,null,{"$f":"SUM(AE4:AE13)","v":7},7,7,520.21999999999991,360.27000000000004,480.25,{"$f":"IF(AH14=0,\"\",AH14/AE14)","v":74.317142857142841},{"$f":"IF(AI14=0,\"\",AI14/AF14)","v":51.467142857142861},{"$f":"IF(AJ14=0,\"\",AJ14/AG14)","v":68.607142857142861}]
[]
[null,null,null,null,"Threats (Sources of Stress)         List Sources of stress below (max of 12 per target).  Enter Contribution of each source where applicable.","  Key Attribute >",{"$f":"IF(E4=0,\"\",E4)","v":"Connectivity to mainstem river and tributaries"},{"$f":"IF(E5=0,\"\",E5)","v":"Hydrologic regime"},{"$f":"IF(E6=0,\"\",E6)","v":"Substrate and banks"},{"$f":"IF(E7=0,\"\",E7)","v":"Characteristic native communities"},{"$f":"IF(E8=0,\"\",E8)","v":"Species composition"},{"$f":"IF(E9=0,\"\",E9)","v":"Water quality"},{"$f":"IF(E10=0,\"\",E10)","v":"Extent of area"},{"$f":"IF(E11=0,\"\",E11)","v":""},{"$f":"IF(E12=0,\"\",E12)","v":""},{"$f":"IF(E13=0,\"\",E13)","v":""},"Threat to Target Rank"]
[null,null,null,null,null,"Stress Rank>",{"$f":"IF(M4=\"\",\"\", IF(N4=0,M4,N4))","v":"High"},{"$f":"IF(M5=\"\",\"\", IF(N5=0,M5,N5))","v":"Medium"},{"$f":"IF(M6=\"\",\"\", IF(N6=0,M6,N6))","v":"Medium"},{"$f":"IF(M7=\"\",\"\", IF(N7=0,M7,N7))","v":"Medium"},{"$f":"IF(M8=\"\",\"\", IF(N8=0,M8,N8))","v":"Medium"},{"$f":"IF(M9=\"\",\"\", IF(N9=0,M9,N9))","v":"Medium"},{"$f":"IF(M10=\"\",\"\", IF(N10=0,M10,N10))","v":"High"},{"$f":"IF(M11=\"\",\"\", IF(N11=0,M11,N11))","v":""},{"$f":"IF(M12=\"\",\"\", IF(N12=0,M12,N12))","v":""},{"$f":"IF(M13=\"\",\"\", IF(N13=0,M13,N13))","v":""}]
[null,null,null,null,"Incompatible road design / maintenance","Contribution","High","Low","Low",null,null,"Low","Low",null,null,null,{"$f":"IF(AF19>=Scoring!$B$24,\"Very High\",IF(AF19>=Scoring!$B$25,\"High\",IF(AF19>=Scoring!$B$26,\"Medium\",IF(AF19>=Scoring!$B$27,\"Low\",\"-\"))))","v":"High"}]
[null,null,null,null,null,"Threat Rank ",{"$f":"IF(G18=0,\"\",INDEX(ThreatRankMatrix,MATCH($G$17,Rank,0),MATCH(G18,Rank,0)))","v":"High"},{"$f":"IF(H18=0,\"\",INDEX(ThreatRankMatrix,MATCH($H$17,Rank,0),MATCH(H18,Rank,0)))","v":"Low"},{"$f":"IF(I18=0,\"\",INDEX(ThreatRankMatrix,MATCH($I$17,Rank,0),MATCH(I18,Rank,0)))","v":"Low"},{"$f":"IF(J18=0,\"\",INDEX(ThreatRankMatrix,MATCH($J$17,Rank,0),MATCH(J18,Rank,0)))","v":""},{"$f":"IF(K18=0,\"\",INDEX(ThreatRankMatrix,MATCH($K$17,Rank,0),MATCH(K18,Rank,0)))","v":""},{"$f":"IF(L18=0,\"\",INDEX(ThreatRankMatrix,MATCH($L$17,Rank,0),MATCH(L18,Rank,0)))","v":"Low"},{"$f":"IF(M18=0,\"\",INDEX(ThreatRankMatrix,MATCH($M$17,Rank,0),MATCH(M18,Rank,0)))","v":"Low"},{"$f":"IF(N18=0,\"\",INDEX(ThreatRankMatrix,MATCH($N$17,Rank,0),MATCH(N18,Rank,0)))","v":""},{"$f":"IF(O18=0,\"\",INDEX(ThreatRankMatrix,MATCH($O$17,Rank,0),MATCH(O18,Rank,0)))","v":""},{"$f":"IF(P18=0,\"\",INDEX(ThreatRankMatrix,MATCH($P$17,Rank,0),MATCH(P18,Rank,0)))","v":""},null,null,null,null,null,null,null,null,null,null,null,null,null,null,null,{"$f":"SUM(AG19:AP19)","v":39},{"$f":"IF(G$17=\"\",0,(IF(G18=0,0,IF(G19=0,0,INDEX(ThreatScore,MATCH(G19,Rank,0))))))","v":35},1,1,0,0,1,1,0,0,0]
[null,null,null,null,"Construction of ditches, dikes, drainage, dredging","Contribution","Low","Medium","Low",null,null,"Low","Medium",null,null,null,{"$f":"IF(AF21>=Scoring!$B$24,\"Very High\",IF(AF21>=Scoring!$B$25,\"High\",IF(AF21>=Scoring!$B$26,\"Medium\",IF(AF21>=Scoring!$B$27,\"Low\",\"-\"))))","v":"Medium"}]
[null,null,null,null,null,"Threat Rank ",{"$f":"IF(G20=0,\"\",INDEX(ThreatRankMatrix,MATCH($G$17,Rank,0),MATCH(G20,Rank,0)))","v":"Low"},{"$f":"IF(H20=0,\"\",INDEX(ThreatRankMatrix,MATCH($H$17,Rank,0),MATCH(H20,Rank,0)))","v":"Low"},{"$f":"IF(I20=0,\"\",INDEX(ThreatRankMatrix,MATCH($I$17,Rank,0),MATCH(I20,Rank,0)))","v":"Low"},{"$f":"IF(J20=0,\"\",INDEX(ThreatRankMatrix,MATCH($J$17,Rank,0),MATCH(J20,Rank,0)))","v":""},{"$f":"IF(K20=0,\"\",INDEX(ThreatRankMatrix,MATCH($K$17,Rank,0),MATCH(K20,Rank,0)))","v":""},{"$f":"IF(L20=0,\"\",INDEX(ThreatRankMatrix,MATCH($L$17,Rank,0),MATCH(L20,Rank,0)))","v":"Low"},{"$f":"IF(M20=0,\"\",INDEX(ThreatRankMatrix,MATCH($M$17,Rank,0),MATCH(M20,Rank,0)))","v":"Medium"},{"$f":"IF(N20=0,\"\",INDEX(ThreatRankMatrix,MATCH($N$17,Rank,0),MATCH(N20,Rank,0)))","v":""},{"$f":"IF(O20=0,\"\",INDEX(ThreatRankMatrix,MATCH($O$17,Rank,0),MATCH(O20,Rank,0)))","v":""},{"$f":"IF(P20=0,\"\",INDEX(ThreatRankMatrix,MATCH($P$17,Rank,0),MATCH(P20,Rank,0)))","v":""},null,null,null,null,null,null,null,null,null,null,null,null,null,null,null,{"$f":"SUM(AG21:AP21)","v":11},{"$f":"IF(G$17=\"\",0,(IF(G20=0,0,IF(G21=0,0,INDEX(ThreatScore,MATCH(G21,Rank,0))))))","v":1},1,1,0,0,1,7,0,0,0]
[null,null,null,null,"Culverts that impede fish passage","Contribution","High",null,null,null,"Medium",null,null,null,null,null,{"$f":"IF(AF23>=Scoring!$B$24,\"Very High\",IF(AF23>=Scoring!$B$25,\"High\",IF(AF23>=Scoring!$B$26,\"Medium\",IF(AF23>=Scoring!$B$27,\"Low\",\"-\"))))","v":"High"}]
[null,null,null,null,null,"Threat Rank ",{"$f":"IF(G22=0,\"\",INDEX(ThreatRankMatrix,MATCH($G$17,Rank,0),MATCH(G22,Rank,0)))","v":"High"},{"$f":"IF(H22=0,\"\",INDEX(ThreatRankMatrix,MATCH($H$17,Rank,0),MATCH(H22,Rank,0)))","v":""},{"$f":"IF(I22=0,\"\",INDEX(ThreatRankMatrix,MATCH($I$17,Rank,0),MATCH(I22,Rank,0)))","v":""},{"$f":"IF(J22=0,\"\",INDEX(ThreatRankMatrix,MATCH($J$17,Rank,0),MATCH(J22,Rank,0)))","v":""},{"$f":"IF(K22=0,\"\",INDEX(ThreatRankMatrix,MATCH($K$17,Rank,0),MATCH(K22,Rank,0)))","v":"Low"},{"$f":"IF(L22=0,\"\",INDEX(ThreatRankMatrix,MATCH($L$17,Rank,0),MATCH(L22,Rank,0)))","v":""},{"$f":"IF(M22=0,\"\",INDEX(ThreatRankMatrix,MATCH($M$17,Rank,0),MATCH(M22,Rank,0)))","v":""},{"$f":"IF(N22=0,\"\",INDEX(ThreatRankMatrix,MATCH($N$17,Rank,0),MATCH(N22,Rank,0)))","v":""},{"$f":"IF(O22=0,\"\",INDEX(ThreatRankMatrix,MATCH($O$17,Rank,0),MATCH(O22,Rank,0)))","v":""},{"$f":"IF(P22=0,\"\",INDEX(ThreatRankMatrix,MATCH($P$17,Rank,0),MATCH(P22,Rank,0)))","v":""},null,null,null,null,null,null,null,null,null,null,null,null,null,null,null,{"$f":"SUM(AG23:AP23)","v":36},{"$f":"IF(G$17=\"\",0,(IF(G22=0,0,IF(G23=0,0,INDEX(ThreatScore,MATCH(G23,Rank,0))))))","v":35},0,0,0,1,0,0,0,0,0]
[null,null,null,null,"Filling in sloughs or wetlands","Contribution","Low","Medium",null,null,"Medium","High","High",null,null,null,{"$f":"IF(AF25>=Scoring!$B$24,\"Very High\",IF(AF25>=Scoring!$B$25,\"High\",IF(AF25>=Scoring!$B$26,\"Medium\",IF(AF25>=Scoring!$B$27,\"Low\",\"-\"))))","v":"High"}]
[null,null,null,null,null,"Threat Rank ",{"$f":"IF(G24=0,\"\",INDEX(ThreatRankMatrix,MATCH($G$17,Rank,0),MATCH(G24,Rank,0)))","v":"Low"},{"$f":"IF(H24=0,\"\",INDEX(ThreatRankMatrix,MATCH($H$17,Rank,0),MATCH(H24,Rank,0)))","v":"Low"},{"$f":"IF(I24=0,\"\",INDEX(ThreatRankMatrix,MATCH($I$17,Rank,0),MATCH(I24,Rank,0)))","v":""},{"$f":"IF(J24=0,\"\",INDEX(ThreatRankMatrix,MATCH($J$17,Rank,0),MATCH(J24,Rank,0)))","v":""},{"$f":"IF(K24=0,\"\",INDEX(ThreatRankMatrix,MATCH($K$17,Rank,0),MATCH(K24,Rank,0)))","v":"Low"},{"$f":"IF(L24=0,\"\",INDEX(ThreatRankMatrix,MATCH($L$17,Rank,0),MATCH(L24,Rank,0)))","v":"Medium"},{"$f":"IF(M24=0,\"\",INDEX(ThreatRankMatrix,MATCH($M$17,Rank,0),MATCH(M24,Rank,0)))","v":"High"},{"$f":"IF(N24=0,\"\",INDEX(ThreatRankMatrix,MATCH($N$17,Rank,0),MATCH(N24,Rank,0)))","v":""},{"$f":"IF(O24=0,\"\",INDEX(ThreatRankMatrix,MATCH($O$17,Rank,0),MATCH(O24,Rank,0)))","v":""},{"$f":"IF(P24=0,\"\",INDEX(ThreatRankMatrix,MATCH($P$17,Rank,0),MATCH(P24,Rank,0)))","v":""},null,null,null,null,null,null,null,null,null,null,null,null,null,null,null,{"$f":"SUM(AG25:AP25)","v":45},{"$f":"IF(G$17=\"\",0,(IF(G24=0,0,IF(G25=0,0,INDEX(ThreatScore,MATCH(G25,Rank,0))))))","v":1},1,0,0,1,7,35,0,0,0]
[null,null,null,null,"Incompatible mining (excluding roads)","Contribution","Low","Low",null,null,null,"Medium",null,null,null,null,{"$f":"IF(AF27>=Scoring!$B$24,\"Very High\",IF(AF27>=Scoring!$B$25,\"High\",IF(AF27>=Scoring!$B$26,\"Medium\",IF(AF27>=Scoring!$B$27,\"Low\",\"-\"))))","v":"Low"}]
[null,null,null,null,null,"Threat Rank ",{"$f":"IF(G26=0,\"\",INDEX(ThreatRankMatrix,MATCH($G$17,Rank,0),MATCH(G26,Rank,0)))","v":"Low"},{"$f":"IF(H26=0,\"\",INDEX(ThreatRankMatrix,MATCH($H$17,Rank,0),MATCH(H26,Rank,0)))","v":"Low"},{"$f":"IF(I26=0,\"\",INDEX(ThreatRankMatrix,MATCH($I$17,Rank,0),MATCH(I26,Rank,0)))","v":""},{"$f":"IF(J26=0,\"\",INDEX(ThreatRankMatrix,MATCH($J$17,Rank,0),MATCH(J26,Rank,0)))","v":""},{"$f":"IF(K26=0,\"\",INDEX(ThreatRankMatrix,MATCH($K$17,Rank,0),MATCH(K26,Rank,0)))","v":""},{"$f":"IF(L26=0,\"\",INDEX(ThreatRankMatrix,MATCH($L$17,Rank,0),MATCH(L26,Rank,0)))","v":"Low"},{"$f":"IF(M26=0,\"\",INDEX(ThreatRankMatrix,MATCH($M$17,Rank,0),MATCH(M26,Rank,0)))","v":""},{"$f":"IF(N26=0,\"\",INDEX(ThreatRankMatrix,MATCH($N$17,Rank,0),MATCH(N26,Rank,0)))","v":""},{"$f":"IF(O26=0,\"\",INDEX(ThreatRankMatrix,MATCH($O$17,Rank,0),MATCH(O26,Rank,0)))","v":""},{"$f":"IF(P26=0,\"\",INDEX(ThreatRankMatrix,MATCH($P$17,Rank,0),MATCH(P26,Rank,0)))","v":""},null,null,null,null,null,null,null,null,null,null,null,null,null,null,null,{"$f":"SUM(AG27:AP27)","v":3},{"$f":"IF(G$17=\"\",0,(IF(G26=0,0,IF(G27=0,0,INDEX(ThreatScore,MATCH(G27,Rank,0))))))","v":1},1,0,0,0,1,0,0,0,0]
[null,null,null,null,"Residential / commercial development","Contribution","Low","Medium",null,null,null,"Medium","High",null,null,null,{"$f":"IF(AF29>=Scoring!$B$24,\"Very High\",IF(AF29>=Scoring!$B$25,\"High\",IF(AF29>=Scoring!$B$26,\"Medium\",IF(AF29>=Scoring!$B$27,\"Low\",\"-\"))))","v":"High"}]
[null,null,null,null,null,"Threat Rank ",{"$f":"IF(G28=0,\"\",INDEX(ThreatRankMatrix,MATCH($G$17,Rank,0),MATCH(G28,Rank,0)))","v":"Low"},{"$f":"IF(H28=0,\"\",INDEX(ThreatRankMatrix,MATCH($H$17,Rank,0),MATCH(H28,Rank,0)))","v":"Low"},{"$f":"IF(I28=0,\"\",INDEX(ThreatRankMatrix,MATCH($I$17,Rank,0),MATCH(I28,Rank,0)))","v":""},{"$f":"IF(J28=0,\"\",INDEX(ThreatRankMatrix,MATCH($J$17,Rank,0),MATCH(J28,Rank,0)))","v":""},{"$f":"IF(K28=0,\"\",INDEX(ThreatRankMatrix,MATCH($K$17,Rank,0),MATCH(K28,Rank,0)))","v":""},{"$f":"IF(L28=0,\"\",INDEX(ThreatRankMatrix,MATCH($L$17,Rank,0),MATCH(L28,Rank,0)))","v":"Low"},{"$f":"IF(M28=0,\"\",INDEX(ThreatRankMatrix,MATCH($M$17,Rank,0),MATCH(M28,Rank,0)))","v":"High"},{"$f":"IF(N28=0,\"\",INDEX(ThreatRankMatrix,MATCH($N$17,Rank,0),MATCH(N28,Rank,0)))","v":""},{"$f":"IF(O28=0,\"\",INDEX(ThreatRankMatrix,MATCH($O$17,Rank,0),MATCH(O28,Rank,0)))","v":""},{"$f":"IF(P28=0,\"\",INDEX(ThreatRankMatrix,MATCH($P$17,Rank,0),MATCH(P28,Rank,0)))","v":""},null,null,null,null,null,null,null,null,null,null,null,null,null,null,null,{"$f":"SUM(AG29:AP29)","v":38},{"$f":"IF(G$17=\"\",0,(IF(G28=0,0,IF(G29=0,0,INDEX(ThreatScore,MATCH(G29,Rank,0))))))","v":1},1,0,0,0,1,35,0,0,0]
[null,null,null,null,"Hardening stream banks with rip rap, channelization, etc.","Contribution",null,null,"Low",null,"Low","Low","Medium",null,null,null,{"$f":"IF(AF31>=Scoring!$B$24,\"Very High\",IF(AF31>=Scoring!$B$25,\"High\",IF(AF31>=Scoring!$B$26,\"Medium\",IF(AF31>=Scoring!$B$27,\"Low\",\"-\"))))","v":"Medium"}]
[null,null,null,null,null,"Threat Rank ",{"$f":"IF(G30=0,\"\",INDEX(ThreatRankMatrix,MATCH($G$17,Rank,0),MATCH(G30,Rank,0)))","v":""},{"$f":"IF(H30=0,\"\",INDEX(ThreatRankMatrix,MATCH($H$17,Rank,0),MATCH(H30,Rank,0)))","v":""},{"$f":"IF(I30=0,\"\",INDEX(ThreatRankMatrix,MATCH($I$17,Rank,0),MATCH(I30,Rank,0)))","v":"Low"},{"$f":"IF(J30=0,\"\",INDEX(ThreatRankMatrix,MATCH($J$17,Rank,0),MATCH(J30,Rank,0)))","v":""},{"$f":"IF(K30=0,\"\",INDEX(ThreatRankMatrix,MATCH($K$17,Rank,0),MATCH(K30,Rank,0)))","v":"Low"},{"$f":"IF(L30=0,\"\",INDEX(ThreatRankMatrix,MATCH($L$17,Rank,0),MATCH(L30,Rank,0)))","v":"Low"},{"$f":"IF(M30=0,\"\",INDEX(ThreatRankMatrix,MATCH($M$17,Rank,0),MATCH(M30,Rank,0)))","v":"Medium"},{"$f":"IF(N30=0,\"\",INDEX(ThreatRankMatrix,MATCH($N$17,Rank,0),MATCH(N30,Rank,0)))","v":""},{"$f":"IF(O30=0,\"\",INDEX(ThreatRankMatrix,MATCH($O$17,Rank,0),MATCH(O30,Rank,0)))","v":""},{"$f":"IF(P30=0,\"\",INDEX(ThreatRankMatrix,MATCH($P$17,Rank,0),MATCH(P30,Rank,0)))","v":""},null,null,null,null,null,null,null,null,null,null,null,null,null,null,null,{"$f":"SUM(AG31:AP31)","v":10},{"$f":"IF(G$17=\"\",0,(IF(G30=0,0,IF(G31=0,0,INDEX(ThreatScore,MATCH(G31,Rank,0))))))","v":0},0,1,0,1,1,7,0,0,0]
[null,null,null,null,"Dumping of trash, debris, etc. ","Contribution",null,null,null,null,null,"Low",null,null,null,null,{"$f":"IF(AF33>=Scoring!$B$24,\"Very High\",IF(AF33>=Scoring!$B$25,\"High\",IF(AF33>=Scoring!$B$26,\"Medium\",IF(AF33>=Scoring!$B$27,\"Low\",\"-\"))))","v":"Low"}]
[null,null,null,null,null,"Threat Rank ",{"$f":"IF(G32=0,\"\",INDEX(ThreatRankMatrix,MATCH($G$17,Rank,0),MATCH(G32,Rank,0)))","v":""},{"$f":"IF(H32=0,\"\",INDEX(ThreatRankMatrix,MATCH($H$17,Rank,0),MATCH(H32,Rank,0)))","v":""},{"$f":"IF(I32=0,\"\",INDEX(ThreatRankMatrix,MATCH($I$17,Rank,0),MATCH(I32,Rank,0)))","v":""},{"$f":"IF(J32=0,\"\",INDEX(ThreatRankMatrix,MATCH($J$17,Rank,0),MATCH(J32,Rank,0)))","v":""},{"$f":"IF(K32=0,\"\",INDEX(ThreatRankMatrix,MATCH($K$17,Rank,0),MATCH(K32,Rank,0)))","v":""},{"$f":"IF(L32=0,\"\",INDEX(ThreatRankMatrix,MATCH($L$17,Rank,0),MATCH(L32,Rank,0)))","v":"Low"},{"$f":"IF(M32=0,\"\",INDEX(ThreatRankMatrix,MATCH($M$17,Rank,0),MATCH(M32,Rank,0)))","v":""},{"$f":"IF(N32=0,\"\",INDEX(ThreatRankMatrix,MATCH($N$17,Rank,0),MATCH(N32,Rank,0)))","v":""},{"$f":"IF(O32=0,\"\",INDEX(ThreatRankMatrix,MATCH($O$17,Rank,0),MATCH(O32,Rank,0)))","v":""},{"$f":"IF(P32=0,\"\",INDEX(ThreatRankMatrix,MATCH($P$17,Rank,0),MATCH(P32,Rank,0)))","v":""},null,null,null,null,null,null,null,null,null,null,null,null,null,null,null,{"$f":"SUM(AG33:AP33)","v":1},{"$f":"IF(G$17=\"\",0,(IF(G32=0,0,IF(G33=0,0,INDEX(ThreatScore,MATCH(G33,Rank,0))))))","v":0},0,0,0,0,1,0,0,0,0]
[null,null,null,null,"Stormwater","Contribution",null,"Low",null,null,null,"Medium",null,null,null,null,{"$f":"IF(AF35>=Scoring!$B$24,\"Very High\",IF(AF35>=Scoring!$B$25,\"High\",IF(AF35>=Scoring!$B$26,\"Medium\",IF(AF35>=Scoring!$B$27,\"Low\",\"-\"))))","v":"Low"}]
[null,null,null,null,null,"Threat Rank ",{"$f":"IF(G34=0,\"\",INDEX(ThreatRankMatrix,MATCH($G$17,Rank,0),MATCH(G34,Rank,0)))","v":""},{"$f":"IF(H34=0,\"\",INDEX(ThreatRankMatrix,MATCH($H$17,Rank,0),MATCH(H34,Rank,0)))","v":"Low"},{"$f":"IF(I34=0,\"\",INDEX(ThreatRankMatrix,MATCH($I$17,Rank,0),MATCH(I34,Rank,0)))","v":""},{"$f":"IF(J34=0,\"\",INDEX(ThreatRankMatrix,MATCH($J$17,Rank,0),MATCH(J34,Rank,0)))","v":""},{"$f":"IF(K34=0,\"\",INDEX(ThreatRankMatrix,MATCH($K$17,Rank,0),MATCH(K34,Rank,0)))","v":""},{"$f":"IF(L34=0,\"\",INDEX(ThreatRankMatrix,MATCH($L$17,Rank,0),MATCH(L34,Rank,0)))","v":"Low"},{"$f":"IF(M34=0,\"\",INDEX(ThreatRankMatrix,MATCH($M$17,Rank,0),MATCH(M34,Rank,0)))","v":""},{"$f":"IF(N34=0,\"\",INDEX(ThreatRankMatrix,MATCH($N$17,Rank,0),MATCH(N34,Rank,0)))","v":""},{"$f":"IF(O34=0,\"\",INDEX(ThreatRankMatrix,MATCH($O$17,Rank,0),MATCH(O34,Rank,0)))","v":""},{"$f":"IF(P34=0,\"\",INDEX(ThreatRankMatrix,MATCH($P$17,Rank,0),MATCH(P34,Rank,0)))","v":""},null,null,null,null,null,null,null,null,null,null,null,null,null,null,null,{"$f":"SUM(AG35:AP35)","v":2},{"$f":"IF(G$17=\"\",0,(IF(G34=0,0,IF(G35=0,0,INDEX(ThreatScore,MATCH(G35,Rank,0))))))","v":0},1,0,0,0,1,0,0,0,0]
[null,null,null,null,"Fire suppression","Contribution",null,null,null,null,null,"Low",null,null,null,null,{"$f":"IF(AF37>=Scoring!$B$24,\"Very High\",IF(AF37>=Scoring!$B$25,\"High\",IF(AF37>=Scoring!$B$26,\"Medium\",IF(AF37>=Scoring!$B$27,\"Low\",\"-\"))))","v":"Low"}]
[null,null,null,null,null,"Threat Rank ",{"$f":"IF(G36=0,\"\",INDEX(ThreatRankMatrix,MATCH($G$17,Rank,0),MATCH(G36,Rank,0)))","v":""},{"$f":"IF(H36=0,\"\",INDEX(ThreatRankMatrix,MATCH($H$17,Rank,0),MATCH(H36,Rank,0)))","v":""},{"$f":"IF(I36=0,\"\",INDEX(ThreatRankMatrix,MATCH($I$17,Rank,0),MATCH(I36,Rank,0)))","v":""},{"$f":"IF(J36=0,\"\",INDEX(ThreatRankMatrix,MATCH($J$17,Rank,0),MATCH(J36,Rank,0)))","v":""},{"$f":"IF(K36=0,\"\",INDEX(ThreatRankMatrix,MATCH($K$17,Rank,0),MATCH(K36,Rank,0)))","v":""},{"$f":"IF(L36=0,\"\",INDEX(ThreatRankMatrix,MATCH($L$17,Rank,0),MATCH(L36,Rank,0)))","v":"Low"},{"$f":"IF(M36=0,\"\",INDEX(ThreatRankMatrix,MATCH($M$17,Rank,0),MATCH(M36,Rank,0)))","v":""},{"$f":"IF(N36=0,\"\",INDEX(ThreatRankMatrix,MATCH($N$17,Rank,0),MATCH(N36,Rank,0)))","v":""},{"$f":"IF(O36=0,\"\",INDEX(ThreatRankMatrix,MATCH($O$17,Rank,0),MATCH(O36,Rank,0)))","v":""},{"$f":"IF(P36=0,\"\",INDEX(ThreatRankMatrix,MATCH($P$17,Rank,0),MATCH(P36,Rank,0)))","v":""},null,null,null,null,null,null,null,null,null,null,null,null,null,null,null,{"$f":"SUM(AG37:AP37)","v":1},{"$f":"IF(G$17=\"\",0,(IF(G36=0,0,IF(G37=0,0,INDEX(ThreatScore,MATCH(G37,Rank,0))))))","v":0},{"$f":"IF(H$17=\"\",0,(IF(H36=0,0,IF(H37=0,0,INDEX(ThreatScore,MATCH(H37,Rank,0))))))","v":0},{"$f":"IF(I$17=\"\",0,(IF(I36=0,0,IF(I37=0,0,INDEX(ThreatScore,MATCH(I37,Rank,0))))))","v":0},{"$f":"IF(J$17=\"\",0,(IF(J36=0,0,IF(J37=0,0,INDEX(ThreatScore,MATCH(J37,Rank,0))))))","v":0},{"$f":"IF(K$17=\"\",0,(IF(K36=0,0,IF(K37=0,0,INDEX(ThreatScore,MATCH(K37,Rank,0))))))","v":0},{"$f":"IF(L$17=\"\",0,(IF(L36=0,0,IF(L37=0,0,INDEX(ThreatScore,MATCH(L37,Rank,0))))))","v":1},{"$f":"IF(M$17=\"\",0,(IF(M36=0,0,IF(M37=0,0,INDEX(ThreatScore,MATCH(M37,Rank,0))))))","v":0},{"$f":"IF(N$17=\"\",0,(IF(N36=0,0,IF(N37=0,0,INDEX(ThreatScore,MATCH(N37,Rank,0))))))","v":0},{"$f":"IF(O$17=\"\",0,(IF(O36=0,0,IF(O37=0,0,INDEX(ThreatScore,MATCH(O37,Rank,0))))))","v":0},{"$f":"IF(P$17=\"\",0,(IF(P36=0,0,IF(P37=0,0,INDEX(ThreatScore,MATCH(P37,Rank,0))))))","v":0}]
[null,null,null,null,"Incompatible timber management practices","Contribution",null,null,null,null,null,"Low",null,null,null,null,{"$f":"IF(AF39>=Scoring!$B$24,\"Very High\",IF(AF39>=Scoring!$B$25,\"High\",IF(AF39>=Scoring!$B$26,\"Medium\",IF(AF39>=Scoring!$B$27,\"Low\",\"-\"))))","v":"Low"}]
[null,null,null,null,null,"Threat Rank ",{"$f":"IF(G38=0,\"\",INDEX(ThreatRankMatrix,MATCH($G$17,Rank,0),MATCH(G38,Rank,0)))","v":""},{"$f":"IF(H38=0,\"\",INDEX(ThreatRankMatrix,MATCH($H$17,Rank,0),MATCH(H38,Rank,0)))","v":""},{"$f":"IF(I38=0,\"\",INDEX(ThreatRankMatrix,MATCH($I$17,Rank,0),MATCH(I38,Rank,0)))","v":""},{"$f":"IF(J38=0,\"\",INDEX(ThreatRankMatrix,MATCH($J$17,Rank,0),MATCH(J38,Rank,0)))","v":""},{"$f":"IF(K38=0,\"\",INDEX(ThreatRankMatrix,MATCH($K$17,Rank,0),MATCH(K38,Rank,0)))","v":""},{"$f":"IF(L38=0,\"\",INDEX(ThreatRankMatrix,MATCH($L$17,Rank,0),MATCH(L38,Rank,0)))","v":"Low"},{"$f":"IF(M38=0,\"\",INDEX(ThreatRankMatrix,MATCH($M$17,Rank,0),MATCH(M38,Rank,0)))","v":""},{"$f":"IF(N38=0,\"\",INDEX(ThreatRankMatrix,MATCH($N$17,Rank,0),MATCH(N38,Rank,0)))","v":""},{"$f":"IF(O38=0,\"\",INDEX(ThreatRankMatrix,MATCH($O$17,Rank,0),MATCH(O38,Rank,0)))","v":""},{"$f":"IF(P38=0,\"\",INDEX(ThreatRankMatrix,MATCH($P$17,Rank,0),MATCH(P38,Rank,0)))","v":""},null,null,null,null,null,null,null,null,null,null,null,null,null,null,null,{"$f":"SUM(AG39:AP39)","v":1},{"$f":"IF(G$17=\"\",0,(IF(G38=0,0,IF(G39=0,0,INDEX(ThreatScore,MATCH(G39,Rank,0))))))","v":0},{"$f":"IF(H$17=\"\",0,(IF(H38=0,0,IF(H39=0,0,INDEX(ThreatScore,MATCH(H39,Rank,0))))))","v":0},{"$f":"IF(I$17=\"\",0,(IF(I38=0,0,IF(I39=0,0,INDEX(ThreatScore,MATCH(I39,Rank,0))))))","v":0},{"$f":"IF(J$17=\"\",0,(IF(J38=0,0,IF(J39=0,0,INDEX(ThreatScore,MATCH(J39,Rank,0))))))","v":0},{"$f":"IF(K$17=\"\",0,(IF(K38=0,0,IF(K39=0,0,INDEX(ThreatScore,MATCH(K39,Rank,0))))))","v":0},{"$f":"IF(L$17=\"\",0,(IF(L38=0,0,IF(L39=0,0,INDEX(ThreatScore,MATCH(L39,Rank,0))))))","v":1},{"$f":"IF(M$17=\"\",0,(IF(M38=0,0,IF(M39=0,0,INDEX(ThreatScore,MATCH(M39,Rank,0))))))","v":0},{"$f":"IF(N$17=\"\",0,(IF(N38=0,0,IF(N39=0,0,INDEX(ThreatScore,MATCH(N39,Rank,0))))))","v":0},{"$f":"IF(O$17=\"\",0,(IF(O38=0,0,IF(O39=0,0,INDEX(ThreatScore,MATCH(O39,Rank,0))))))","v":0},{"$f":"IF(P$17=\"\",0,(IF(P38=0,0,IF(P39=0,0,INDEX(ThreatScore,MATCH(P39,Rank,0))))))","v":0}]
[null,null,null,null,"Incompatible motorized vehicle use off-roads/ATV/bulldozers (e.g. pioneering, etc.)","Contribution",null,null,"Low","-","Low","Low",null,null,null,null,{"$f":"IF(AF41>=Scoring!$B$24,\"Very High\",IF(AF41>=Scoring!$B$25,\"High\",IF(AF41>=Scoring!$B$26,\"Medium\",IF(AF41>=Scoring!$B$27,\"Low\",\"-\"))))","v":"Low"}]
[null,null,null,null,null,"Threat Rank ",{"$f":"IF(G40=0,\"\",INDEX(ThreatRankMatrix,MATCH($G$17,Rank,0),MATCH(G40,Rank,0)))","v":""},{"$f":"IF(H40=0,\"\",INDEX(ThreatRankMatrix,MATCH($H$17,Rank,0),MATCH(H40,Rank,0)))","v":""},{"$f":"IF(I40=0,\"\",INDEX(ThreatRankMatrix,MATCH($I$17,Rank,0),MATCH(I40,Rank,0)))","v":"Low"},{"$f":"IF(J40=0,\"\",INDEX(ThreatRankMatrix,MATCH($J$17,Rank,0),MATCH(J40,Rank,0)))","v":"-"},{"$f":"IF(K40=0,\"\",INDEX(ThreatRankMatrix,MATCH($K$17,Rank,0),MATCH(K40,Rank,0)))","v":"Low"},{"$f":"IF(L40=0,\"\",INDEX(ThreatRankMatrix,MATCH($L$17,Rank,0),MATCH(L40,Rank,0)))","v":"Low"},{"$f":"IF(M40=0,\"\",INDEX(ThreatRankMatrix,MATCH($M$17,Rank,0),MATCH(M40,Rank,0)))","v":""},{"$f":"IF(N40=0,\"\",INDEX(ThreatRankMatrix,MATCH($N$17,Rank,0),MATCH(N40,Rank,0)))","v":""},{"$f":"IF(O40=0,\"\",INDEX(ThreatRankMatrix,MATCH($O$17,Rank,0),MATCH(O40,Rank,0)))","v":""},{"$f":"IF(P40=0,\"\",INDEX(ThreatRankMatrix,MATCH($P$17,Rank,0),MATCH(P40,Rank,0)))","v":""},null,null,null,null,null,null,null,null,null,null,null,null,null,null,null,{"$f":"SUM(AG41:AP41)","v":3},{"$f":"IF(G$17=\"\",0,(IF(G40=0,0,IF(G41=0,0,INDEX(ThreatScore,MATCH(G41,Rank,0))))))","v":0},0,1,0,1,1,0,0,0,0]

{"sheet":"7","index":11,"n_rows":41,"n_cols":42,"rows_kept":41,"cut":false,"hidden":false,"merged":[[0,3,0,4],[15,4,16,4],[15,16,16,16],[17,4,18,4],[17,16,18,16],[13,3,13,4],[19,4,20,4],[19,16,20,16],[21,4,22,4],[21,16,22,16],[23,4,24,4],[23,16,24,16],[25,4,26,4],[25,16,26,16],[33,4,34,4],[33,16,34,16],[39,4,40,4],[39,16,40,16],[27,4,28,4],[27,16,28,16],[29,4,30,4],[29,16,30,16],[31,4,32,4],[31,16,32,16],[35,4,36,4],[35,16,36,16],[37,4,38,4],[37,16,38,16]]}
[null,null,null,{"$f":"IF(Targets!C38=0,\"\",Targets!C38)","v":"Sloughs and Wetlands - Lower Chena"},{"$f":"IF(Targets!C38=0,\"\",Targets!C38)","v":"Sloughs and Wetlands - Lower Chena"},"  Key Attributes & Future Threats"]
[null,null,null,null,null,"Place cursor over cells with red triangles in top corner for hint"]
["KEA ID","Target ID","Target Name","Category","Key Attribute","Indicator","Poor","Fair","Good","Very Good","Current Rating","Projected Future Rating w No Action","Stress Ranking (calculated)","Stress Ranking (User Override)",null,null,null,null,null,"Projected Future Rating w Strategies","New Stress Ranking (calculated)","New Stress Ranking (User Override)",null,null,"Temp Indicator ID",null,"Target #","Current Score","Score w No Action","Score w Strategies","Current Weight","Future Weight No Action","Future Weight w Action","Current Weighted Score","Future No Action Weighted Score","Future Action Weighted Score","Current Weighted Average","Future No Action Weighted Average","Future Action Weighted Average"]
[{"$f":"ROW()+700","v":704},7,{"$f":"$D$1","v":"Sloughs and Wetlands - Lower Chena"},"Landscape Context","Connectivity to mainstem river and tributaries","Number, extent, & type of barriers","Many widespread or complete manmade or natural blockages, Where culverts exist % of red barriers based on ADFG fish passage inventory"," Some widespread or complete manmade or natural blockages, Where culverts exist % of red barriers based on ADFG fish passage inventory","Few widespread or complete manmade or natural blockages, Where culverts exist % of green barriers based on ADFG fish passage inventory"," No widespread or complete manmade or natural blockages,","Fair","Fair -",{"$f":"IF(K4=0,\"\",IF(L4=0,\"\",INDEX(StressRankMatrix,MATCH(K4,Rating,0),MATCH(L4,Rating,0))))","v":"High"},null,null,null,null,null,null,{"$f":"IF(L4=\"\",\"\",IFERROR(INDEX(Outcomes!$F:$F, MATCH(A4,Outcomes!$H:$H,0)),L4))","v":"Good -"},{"$f":"IF(K4=\"\",\"\",IF(T4=0,\"\",INDEX(StressRankMatrix,MATCH(K4,Rating,0),MATCH(T4,Rating,0))))","v":"-"},null,null,null,{"$f":"IFERROR(INDEX(#REF!,MATCH(A4,#REF!,0)),\"\")","v":""},null,{"$f":"IF(E4=\"\",\"\",IF(E4>0,$B$4,\"error\"))","v":7},{"$f":"IF(K4=\"Poor\",Scoring!$B$50,IF(K4=\"Fair -\",Scoring!$B$49,IF(K4=\"Fair\",Scoring!$B$48,IF(K4=\"Good -\",Scoring!$B$47,IF(K4=\"Good\",Scoring!$B$46,IF(K4=\"Very Good\",Scoring!$B$45,IF(K4=\"\",0)))))))","v":40.04},{"$f":"IF(L4=\"Poor\",Scoring!$B$50,IF(L4=\"Fair -\",Scoring!$B$49,IF(L4=\"Fair\",Scoring!$B$48,IF(L4=\"Good -\",Scoring!$B$47,IF(L4=\"Good\",Scoring!$B$46,IF(L4=\"Very Good\",Scoring!$B$45,IF(L4=\"\",0)))))))","v":20.03},{"$f":"IF(T4=\"Poor\",Scoring!$B$50,IF(T4=\"Fair -\",Scoring!$B$49,IF(T4=\"Fair\",Scoring!$B$48,IF(T4=\"Good -\",Scoring!$B$47,IF(T4=\"Good\",Scoring!$B$46,IF(T4=\"Very Good\",Scoring!$B$45,IF(T4=\"\",0)))))))","v":60.04},{"$f":"IF(K4=\"Poor\",Scoring!$C$50,IF(K4=\"Fair -\",Scoring!$C$49,IF(K4=\"Fair\",Scoring!$C$48,IF(K4=\"Good -\",Scoring!$C$47,IF(K4=\"Good\",Scoring!$C$46,IF(K4=\"Very Good\",Scoring!$C$45,IF(K4=\"\",0)))))))","v":1},{"$f":"IF(L4=\"Poor\",Scoring!$C$50,IF(L4=\"Fair -\",Scoring!$C$49,IF(L4=\"Fair\",Scoring!$C$48,IF(L4=\"Good -\",Scoring!$C$47,IF(L4=\"Good\",Scoring!$C$46,IF(L4=\"Very Good\",Scoring!$C$45,IF(L4=\"\",0)))))))","v":1},{"$f":"IF(T4=\"Poor\",Scoring!$C$50,IF(T4=\"Fair -\",Scoring!$C$49,IF(T4=\"Fair\",Scoring!$C$48,IF(T4=\"Good -\",Scoring!$C$47,IF(T4=\"Good\",Scoring!$C$46,IF(T4=\"Very Good\",Scoring!$C$45,IF(T4=\"\",0)))))))","v":1},{"$f":"AB4*AE4","v":40.04},{"$f":"AC4*AF4","v":20.03},{"$f":"AD4*AG4","v":60.04}]
[{"$f":"ROW()+700","v":705},7,{"$f":"$D$1","v":"Sloughs and Wetlands - Lower Chena"},"Landscape Context","Hydrologic regime","Natural fluctuations of surface and ground water -amount, frequency, timing, duration","Water levels, flows or fluctuations are too high or too low, not related to the precipitation, and unlikely to maintain nested targets in many habitats within the target area and downstream","Water levels, flows or fluctuations in relationship to precipitation and ground water are likely to maintain nested targets in some habitats within the target and downstream","Water levels, flows or fluctuations in relationship to precipitation and ground water are likely to maintain nested targets in most habitats within the target area and downstream","Water levels, flows or fluctuations in relationship to precipitation and ground water are likely to maintain nested targets in almost all habitats within the target area and downstream","Fair","Fair -","High",null,null,null,null,null,null,{"$f":"IF(L5=\"\",\"\",IFERROR(INDEX(Outcomes!$F:$F, MATCH(A5,Outcomes!$H:$H,0)),L5))","v":"Good -"},"-",null,null,null,{"$f":"IFERROR(INDEX(#REF!,MATCH(A5,#REF!,0)),\"\")","v":""},null,7,{"$f":"IF(K5=\"Poor\",Scoring!$B$50,IF(K5=\"Fair -\",Scoring!$B$49,IF(K5=\"Fair\",Scoring!$B$48,IF(K5=\"Good -\",Scoring!$B$47,IF(K5=\"Good\",Scoring!$B$46,IF(K5=\"Very Good\",Scoring!$B$45,IF(K5=\"\",0)))))))","v":40.04},{"$f":"IF(L5=\"Poor\",Scoring!$B$50,IF(L5=\"Fair -\",Scoring!$B$49,IF(L5=\"Fair\",Scoring!$B$48,IF(L5=\"Good -\",Scoring!$B$47,IF(L5=\"Good\",Scoring!$B$46,IF(L5=\"Very Good\",Scoring!$B$45,IF(L5=\"\",0)))))))","v":20.03},{"$f":"IF(T5=\"Poor\",Scoring!$B$50,IF(T5=\"Fair -\",Scoring!$B$49,IF(T5=\"Fair\",Scoring!$B$48,IF(T5=\"Good -\",Scoring!$B$47,IF(T5=\"Good\",Scoring!$B$46,IF(T5=\"Very Good\",Scoring!$B$45,IF(T5=\"\",0)))))))","v":60.04},{"$f":"IF(K5=\"Poor\",Scoring!$C$50,IF(K5=\"Fair -\",Scoring!$C$49,IF(K5=\"Fair\",Scoring!$C$48,IF(K5=\"Good -\",Scoring!$C$47,IF(K5=\"Good\",Scoring!$C$46,IF(K5=\"Very Good\",Scoring!$C$45,IF(K5=\"\",0)))))))","v":1},{"$f":"IF(L5=\"Poor\",Scoring!$C$50,IF(L5=\"Fair -\",Scoring!$C$49,IF(L5=\"Fair\",Scoring!$C$48,IF(L5=\"Good -\",Scoring!$C$47,IF(L5=\"Good\",Scoring!$C$46,IF(L5=\"Very Good\",Scoring!$C$45,IF(L5=\"\",0)))))))","v":1},{"$f":"IF(T5=\"Poor\",Scoring!$C$50,IF(T5=\"Fair -\",Scoring!$C$49,IF(T5=\"Fair\",Scoring!$C$48,IF(T5=\"Good -\",Scoring!$C$47,IF(T5=\"Good\",Scoring!$C$46,IF(T5=\"Very Good\",Scoring!$C$45,IF(T5=\"\",0)))))))","v":1},{"$f":"AB5*AE5","v":40.04},20.03,60.04]
[706,7,"Sloughs and Wetlands - Lower Chena","Landscape Context","Substrate and banks","Amount, type, size, availability of, & distribution","Low diversity of and abundance of suitable substrates in most habitats"," Moderate diversity of abundance of suitable substrates/material in most habitats","Diversity and abundance of suitable substrates/ material in most habitat for aquatic - "," High diversity and abundance of suitable substrates/ material in most habitat for aquatic species","Fair","Fair","Medium",null,null,null,null,null,null,{"$f":"IF(L6=\"\",\"\",IFERROR(INDEX(Outcomes!$F:$F, MATCH(A6,Outcomes!$H:$H,0)),L6))","v":"Good"},"-",null,null,null,{"$f":"IFERROR(INDEX(#REF!,MATCH(A6,#REF!,0)),\"\")","v":""},null,7,{"$f":"IF(K6=\"Poor\",Scoring!$B$50,IF(K6=\"Fair -\",Scoring!$B$49,IF(K6=\"Fair\",Scoring!$B$48,IF(K6=\"Good -\",Scoring!$B$47,IF(K6=\"Good\",Scoring!$B$46,IF(K6=\"Very Good\",Scoring!$B$45,IF(K6=\"\",0)))))))","v":40.04},{"$f":"IF(L6=\"Poor\",Scoring!$B$50,IF(L6=\"Fair -\",Scoring!$B$49,IF(L6=\"Fair\",Scoring!$B$48,IF(L6=\"Good -\",Scoring!$B$47,IF(L6=\"Good\",Scoring!$B$46,IF(L6=\"Very Good\",Scoring!$B$45,IF(L6=\"\",0)))))))","v":40.04},{"$f":"IF(T6=\"Poor\",Scoring!$B$50,IF(T6=\"Fair -\",Scoring!$B$49,IF(T6=\"Fair\",Scoring!$B$48,IF(T6=\"Good -\",Scoring!$B$47,IF(T6=\"Good\",Scoring!$B$46,IF(T6=\"Very Good\",Scoring!$B$45,IF(T6=\"\",0)))))))","v":80.03},{"$f":"IF(K6=\"Poor\",Scoring!$C$50,IF(K6=\"Fair -\",Scoring!$C$49,IF(K6=\"Fair\",Scoring!$C$48,IF(K6=\"Good -\",Scoring!$C$47,IF(K6=\"Good\",Scoring!$C$46,IF(K6=\"Very Good\",Scoring!$C$45,IF(K6=\"\",0)))))))","v":1},{"$f":"IF(L6=\"Poor\",Scoring!$C$50,IF(L6=\"Fair -\",Scoring!$C$49,IF(L6=\"Fair\",Scoring!$C$48,IF(L6=\"Good -\",Scoring!$C$47,IF(L6=\"Good\",Scoring!$C$46,IF(L6=\"Very Good\",Scoring!$C$45,IF(L6=\"\",0)))))))","v":1},{"$f":"IF(T6=\"Poor\",Scoring!$C$50,IF(T6=\"Fair -\",Scoring!$C$49,IF(T6=\"Fair\",Scoring!$C$48,IF(T6=\"Good -\",Scoring!$C$47,IF(T6=\"Good\",Scoring!$C$46,IF(T6=\"Very Good\",Scoring!$C$45,IF(T6=\"\",0)))))))","v":1},40.04,40.04,80.03]
[707,7,"Sloughs and Wetlands - Lower Chena","Condition","Characteristic native communities","Presence of characteristic native communities within habitats","Few habitats have the characteristic native communities to accom-modate most nested targets in abundance","Some habitats have the characteristic native communities to accom-modate most nested targets in abundance","Most habitats have the characteristic native communities to accom-modate most nested targets in abundance","Almost all habitats have the characteristic native communities to accom­modate almost all nested targets in abundance","Fair","Fair","Medium",null,null,null,null,null,null,{"$f":"IF(L7=\"\",\"\",IFERROR(INDEX(Outcomes!$F:$F, MATCH(A7,Outcomes!$H:$H,0)),L7))","v":"Good -"},"-",null,null,null,{"$f":"IFERROR(INDEX(#REF!,MATCH(A7,#REF!,0)),\"\")","v":""},null,7,{"$f":"IF(K7=\"Poor\",Scoring!$B$50,IF(K7=\"Fair -\",Scoring!$B$49,IF(K7=\"Fair\",Scoring!$B$48,IF(K7=\"Good -\",Scoring!$B$47,IF(K7=\"Good\",Scoring!$B$46,IF(K7=\"Very Good\",Scoring!$B$45,IF(K7=\"\",0)))))))","v":40.04},{"$f":"IF(L7=\"Poor\",Scoring!$B$50,IF(L7=\"Fair -\",Scoring!$B$49,IF(L7=\"Fair\",Scoring!$B$48,IF(L7=\"Good -\",Scoring!$B$47,IF(L7=\"Good\",Scoring!$B$46,IF(L7=\"Very Good\",Scoring!$B$45,IF(L7=\"\",0)))))))","v":40.04},{"$f":"IF(T7=\"Poor\",Scoring!$B$50,IF(T7=\"Fair -\",Scoring!$B$49,IF(T7=\"Fair\",Scoring!$B$48,IF(T7=\"Good -\",Scoring!$B$47,IF(T7=\"Good\",Scoring!$B$46,IF(T7=\"Very Good\",Scoring!$B$45,IF(T7=\"\",0)))))))","v":60.04},{"$f":"IF(K7=\"Poor\",Scoring!$C$50,IF(K7=\"Fair -\",Scoring!$C$49,IF(K7=\"Fair\",Scoring!$C$48,IF(K7=\"Good -\",Scoring!$C$47,IF(K7=\"Good\",Scoring!$C$46,IF(K7=\"Very Good\",Scoring!$C$45,IF(K7=\"\",0)))))))","v":1},{"$f":"IF(L7=\"Poor\",Scoring!$C$50,IF(L7=\"Fair -\",Scoring!$C$49,IF(L7=\"Fair\",Scoring!$C$48,IF(L7=\"Good -\",Scoring!$C$47,IF(L7=\"Good\",Scoring!$C$46,IF(L7=\"Very Good\",Scoring!$C$45,IF(L7=\"\",0)))))))","v":1},{"$f":"IF(T7=\"Poor\",Scoring!$C$50,IF(T7=\"Fair -\",Scoring!$C$49,IF(T7=\"Fair\",Scoring!$C$48,IF(T7=\"Good -\",Scoring!$C$47,IF(T7=\"Good\",Scoring!$C$46,IF(T7=\"Very Good\",Scoring!$C$45,IF(T7=\"\",0)))))))","v":1},40.04,40.04,60.04]
[708,7,"Sloughs and Wetlands - Lower Chena","Condition","Species composition","Presence/absence, extent of invasive species"," High abundance of  invasive/non-native species in most habitats"," Moderate abundance of  invasive/non-native species in most habitats","Low presence of existing invasive/non-native species in most habitats with NO new invasive species  "," Mimimal to no abundance of  invasive/non-native species in most habitats","Fair","Fair -","High",null,null,null,null,null,null,{"$f":"IF(L8=\"\",\"\",IFERROR(INDEX(Outcomes!$F:$F, MATCH(A8,Outcomes!$H:$H,0)),L8))","v":"Fair"},"Medium",null,null,null,{"$f":"IFERROR(INDEX(#REF!,MATCH(A8,#REF!,0)),\"\")","v":""},null,7,{"$f":"IF(K8=\"Poor\",Scoring!$B$50,IF(K8=\"Fair -\",Scoring!$B$49,IF(K8=\"Fair\",Scoring!$B$48,IF(K8=\"Good -\",Scoring!$B$47,IF(K8=\"Good\",Scoring!$B$46,IF(K8=\"Very Good\",Scoring!$B$45,IF(K8=\"\",0)))))))","v":40.04},{"$f":"IF(L8=\"Poor\",Scoring!$B$50,IF(L8=\"Fair -\",Scoring!$B$49,IF(L8=\"Fair\",Scoring!$B$48,IF(L8=\"Good -\",Scoring!$B$47,IF(L8=\"Good\",Scoring!$B$46,IF(L8=\"Very Good\",Scoring!$B$45,IF(L8=\"\",0)))))))","v":20.03},{"$f":"IF(T8=\"Poor\",Scoring!$B$50,IF(T8=\"Fair -\",Scoring!$B$49,IF(T8=\"Fair\",Scoring!$B$48,IF(T8=\"Good -\",Scoring!$B$47,IF(T8=\"Good\",Scoring!$B$46,IF(T8=\"Very Good\",Scoring!$B$45,IF(T8=\"\",0)))))))","v":40.04},{"$f":"IF(K8=\"Poor\",Scoring!$C$50,IF(K8=\"Fair -\",Scoring!$C$49,IF(K8=\"Fair\",Scoring!$C$48,IF(K8=\"Good -\",Scoring!$C$47,IF(K8=\"Good\",Scoring!$C$46,IF(K8=\"Very Good\",Scoring!$C$45,IF(K8=\"\",0)))))))","v":1},{"$f":"IF(L8=\"Poor\",Scoring!$C$50,IF(L8=\"Fair -\",Scoring!$C$49,IF(L8=\"Fair\",Scoring!$C$48,IF(L8=\"Good -\",Scoring!$C$47,IF(L8=\"Good\",Scoring!$C$46,IF(L8=\"Very Good\",Scoring!$C$45,IF(L8=\"\",0)))))))","v":1},{"$f":"IF(T8=\"Poor\",Scoring!$C$50,IF(T8=\"Fair -\",Scoring!$C$49,IF(T8=\"Fair\",Scoring!$C$48,IF(T8=\"Good -\",Scoring!$C$47,IF(T8=\"Good\",Scoring!$C$46,IF(T8=\"Very Good\",Scoring!$C$45,IF(T8=\"\",0)))))))","v":1},40.04,20.03,40.04]
[709,7,"Sloughs and Wetlands - Lower Chena","Condition","Water quality","Temperature, DO, toxins, or litter/trash/residues","High % (TBD) not meeting most ADEC's standards "," Moderate habitats meet most ADEC’s standards","Most habitats are meeting most ADEC's standards","Majority to all habitats meet most ADEC’s standards","Fair","Fair","Medium",null,null,null,null,null,null,{"$f":"IF(L9=\"\",\"\",IFERROR(INDEX(Outcomes!$F:$F, MATCH(A9,Outcomes!$H:$H,0)),L9))","v":"Good -"},"-",null,null,null,{"$f":"IFERROR(INDEX(#REF!,MATCH(A9,#REF!,0)),\"\")","v":""},null,7,{"$f":"IF(K9=\"Poor\",Scoring!$B$50,IF(K9=\"Fair -\",Scoring!$B$49,IF(K9=\"Fair\",Scoring!$B$48,IF(K9=\"Good -\",Scoring!$B$47,IF(K9=\"Good\",Scoring!$B$46,IF(K9=\"Very Good\",Scoring!$B$45,IF(K9=\"\",0)))))))","v":40.04},{"$f":"IF(L9=\"Poor\",Scoring!$B$50,IF(L9=\"Fair -\",Scoring!$B$49,IF(L9=\"Fair\",Scoring!$B$48,IF(L9=\"Good -\",Scoring!$B$47,IF(L9=\"Good\",Scoring!$B$46,IF(L9=\"Very Good\",Scoring!$B$45,IF(L9=\"\",0)))))))","v":40.04},{"$f":"IF(T9=\"Poor\",Scoring!$B$50,IF(T9=\"Fair -\",Scoring!$B$49,IF(T9=\"Fair\",Scoring!$B$48,IF(T9=\"Good -\",Scoring!$B$47,IF(T9=\"Good\",Scoring!$B$46,IF(T9=\"Very Good\",Scoring!$B$45,IF(T9=\"\",0)))))))","v":60.04},{"$f":"IF(K9=\"Poor\",Scoring!$C$50,IF(K9=\"Fair -\",Scoring!$C$49,IF(K9=\"Fair\",Scoring!$C$48,IF(K9=\"Good -\",Scoring!$C$47,IF(K9=\"Good\",Scoring!$C$46,IF(K9=\"Very Good\",Scoring!$C$45,IF(K9=\"\",0)))))))","v":1},{"$f":"IF(L9=\"Poor\",Scoring!$C$50,IF(L9=\"Fair -\",Scoring!$C$49,IF(L9=\"Fair\",Scoring!$C$48,IF(L9=\"Good -\",Scoring!$C$47,IF(L9=\"Good\",Scoring!$C$46,IF(L9=\"Very Good\",Scoring!$C$45,IF(L9=\"\",0)))))))","v":1},{"$f":"IF(T9=\"Poor\",Scoring!$C$50,IF(T9=\"Fair -\",Scoring!$C$49,IF(T9=\"Fair\",Scoring!$C$48,IF(T9=\"Good -\",Scoring!$C$47,IF(T9=\"Good\",Scoring!$C$46,IF(T9=\"Very Good\",Scoring!$C$45,IF(T9=\"\",0)))))))","v":1},40.04,40.04,60.04]
[710,7,"Sloughs and Wetlands - Lower Chena","Size","Extent of area","Acres of habitat types","Severe, mostly gone","Moderate to substantial loss","Minimal loss","Mother Nature","Fair","Fair","Medium",null,null,null,null,null,null,{"$f":"IF(L10=\"\",\"\",IFERROR(INDEX(Outcomes!$F:$F, MATCH(A10,Outcomes!$H:$H,0)),L10))","v":"Good -"},"-",null,null,null,{"$f":"IFERROR(INDEX(#REF!,MATCH(A10,#REF!,0)),\"\")","v":""},null,7,{"$f":"IF(K10=\"Poor\",Scoring!$B$50,IF(K10=\"Fair -\",Scoring!$B$49,IF(K10=\"Fair\",Scoring!$B$48,IF(K10=\"Good -\",Scoring!$B$47,IF(K10=\"Good\",Scoring!$B$46,IF(K10=\"Very Good\",Scoring!$B$45,IF(K10=\"\",0)))))))","v":40.04},{"$f":"IF(L10=\"Poor\",Scoring!$B$50,IF(L10=\"Fair -\",Scoring!$B$49,IF(L10=\"Fair\",Scoring!$B$48,IF(L10=\"Good -\",Scoring!$B$47,IF(L10=\"Good\",Scoring!$B$46,IF(L10=\"Very Good\",Scoring!$B$45,IF(L10=\"\",0)))))))","v":40.04},{"$f":"IF(T10=\"Poor\",Scoring!$B$50,IF(T10=\"Fair -\",Scoring!$B$49,IF(T10=\"Fair\",Scoring!$B$48,IF(T10=\"Good -\",Scoring!$B$47,IF(T10=\"Good\",Scoring!$B$46,IF(T10=\"Very Good\",Scoring!$B$45,IF(T10=\"\",0)))))))","v":60.04},{"$f":"IF(K10=\"Poor\",Scoring!$C$50,IF(K10=\"Fair -\",Scoring!$C$49,IF(K10=\"Fair\",Scoring!$C$48,IF(K10=\"Good -\",Scoring!$C$47,IF(K10=\"Good\",Scoring!$C$46,IF(K10=\"Very Good\",Scoring!$C$45,IF(K10=\"\",0)))))))","v":1},{"$f":"IF(L10=\"Poor\",Scoring!$C$50,IF(L10=\"Fair -\",Scoring!$C$49,IF(L10=\"Fair\",Scoring!$C$48,IF(L10=\"Good -\",Scoring!$C$47,IF(L10=\"Good\",Scoring!$C$46,IF(L10=\"Very Good\",Scoring!$C$45,IF(L10=\"\",0)))))))","v":1},{"$f":"IF(T10=\"Poor\",Scoring!$C$50,IF(T10=\"Fair -\",Scoring!$C$49,IF(T10=\"Fair\",Scoring!$C$48,IF(T10=\"Good -\",Scoring!$C$47,IF(T10=\"Good\",Scoring!$C$46,IF(T10=\"Very Good\",Scoring!$C$45,IF(T10=\"\",0)))))))","v":1},40.04,40.04,60.04]
[711,7,"Sloughs and Wetlands - Lower Chena",null,null,null,null,null,null,null,null,null,"",null,null,null,null,null,null,{"$f":"IF(L11=\"\",\"\",IFERROR(INDEX(Outcomes!$F:$F, MATCH(A11,Outcomes!$H:$H,0)),L11))","v":""},"",null,null,null,{"$f":"IFERROR(INDEX(#REF!,MATCH(A11,#REF!,0)),\"\")","v":""},null,"",{"$f":"IF(K11=\"Poor\",Scoring!$B$50,IF(K11=\"Fair -\",Scoring!$B$49,IF(K11=\"Fair\",Scoring!$B$48,IF(K11=\"Good -\",Scoring!$B$47,IF(K11=\"Good\",Scoring!$B$46,IF(K11=\"Very Good\",Scoring!$B$45,IF(K11=\"\",0)))))))","v":0},{"$f":"IF(L11=\"Poor\",Scoring!$B$50,IF(L11=\"Fair -\",Scoring!$B$49,IF(L11=\"Fair\",Scoring!$B$48,IF(L11=\"Good -\",Scoring!$B$47,IF(L11=\"Good\",Scoring!$B$46,IF(L11=\"Very Good\",Scoring!$B$45,IF(L11=\"\",0)))))))","v":0},{"$f":"IF(T11=\"Poor\",Scoring!$B$50,IF(T11=\"Fair -\",Scoring!$B$49,IF(T11=\"Fair\",Scoring!$B$48,IF(T11=\"Good -\",Scoring!$B$47,IF(T11=\"Good\",Scoring!$B$46,IF(T11=\"Very Good\",Scoring!$B$45,IF(T11=\"\",0)))))))","v":0},{"$f":"IF(K11=\"Poor\",Scoring!$C$50,IF(K11=\"Fair -\",Scoring!$C$49,IF(K11=\"Fair\",Scoring!$C$48,IF(K11=\"Good -\",Scoring!$C$47,IF(K11=\"Good\",Scoring!$C$46,IF(K11=\"Very Good\",Scoring!$C$45,IF(K11=\"\",0)))))))","v":0},{"$f":"IF(L11=\"Poor\",Scoring!$C$50,IF(L11=\"Fair -\",Scoring!$C$49,IF(L11=\"Fair\",Scoring!$C$48,IF(L11=\"Good -\",Scoring!$C$47,IF(L11=\"Good\",Scoring!$C$46,IF(L11=\"Very Good\",Scoring!$C$45,IF(L11=\"\",0)))))))","v":0},{"$f":"IF(T11=\"Poor\",Scoring!$C$50,IF(T11=\"Fair -\",Scoring!$C$49,IF(T11=\"Fair\",Scoring!$C$48,IF(T11=\"Good -\",Scoring!$C$47,IF(T11=\"Good\",Scoring!$C$46,IF(T11=\"Very Good\",Scoring!$C$45,IF(T11=\"\",0)))))))","v":0},0,0,0]
[712,7,"Sloughs and Wetlands - Lower Chena",null,null,null,null,null,null,null,null,null,"",null,null,null,null,null,null,{"$f":"IF(L12=\"\",\"\",IFERROR(INDEX(Outcomes!$F:$F, MATCH(A12,Outcomes!$H:$H,0)),L12))","v":""},"",null,null,null,{"$f":"IFERROR(INDEX(#REF!,MATCH(A12,#REF!,0)),\"\")","v":""},null,"",{"$f":"IF(K12=\"Poor\",Scoring!$B$50,IF(K12=\"Fair -\",Scoring!$B$49,IF(K12=\"Fair\",Scoring!$B$48,IF(K12=\"Good -\",Scoring!$B$47,IF(K12=\"Good\",Scoring!$B$46,IF(K12=\"Very Good\",Scoring!$B$45,IF(K12=\"\",0)))))))","v":0},{"$f":"IF(L12=\"Poor\",Scoring!$B$50,IF(L12=\"Fair -\",Scoring!$B$49,IF(L12=\"Fair\",Scoring!$B$48,IF(L12=\"Good -\",Scoring!$B$47,IF(L12=\"Good\",Scoring!$B$46,IF(L12=\"Very Good\",Scoring!$B$45,IF(L12=\"\",0)))))))","v":0},{"$f":"IF(T12=\"Poor\",Scoring!$B$50,IF(T12=\"Fair -\",Scoring!$B$49,IF(T12=\"Fair\",Scoring!$B$48,IF(T12=\"Good -\",Scoring!$B$47,IF(T12=\"Good\",Scoring!$B$46,IF(T12=\"Very Good\",Scoring!$B$45,IF(T12=\"\",0)))))))","v":0},{"$f":"IF(K12=\"Poor\",Scoring!$C$50,IF(K12=\"Fair -\",Scoring!$C$49,IF(K12=\"Fair\",Scoring!$C$48,IF(K12=\"Good -\",Scoring!$C$47,IF(K12=\"Good\",Scoring!$C$46,IF(K12=\"Very Good\",Scoring!$C$45,IF(K12=\"\",0)))))))","v":0},{"$f":"IF(L12=\"Poor\",Scoring!$C$50,IF(L12=\"Fair -\",Scoring!$C$49,IF(L12=\"Fair\",Scoring!$C$48,IF(L12=\"Good -\",Scoring!$C$47,IF(L12=\"Good\",Scoring!$C$46,IF(L12=\"Very Good\",Scoring!$C$45,IF(L12=\"\",0)))))))","v":0},{"$f":"IF(T12=\"Poor\",Scoring!$C$50,IF(T12=\"Fair -\",Scoring!$C$49,IF(T12=\"Fair\",Scoring!$C$48,IF(T12=\"Good -\",Scoring!$C$47,IF(T12=\"Good\",Scoring!$C$46,IF(T12=\"Very Good\",Scoring!$C$45,IF(T12=\"\",0)))))))","v":0},0,0,0]
[713,7,"Sloughs and Wetlands - Lower Chena",null,null,null,null,null,null,null,null,null,"",null,null,null,null,null,null,{"$f":"IF(L13=\"\",\"\",IFERROR(INDEX(Outcomes!$F:$F, MATCH(A13,Outcomes!$H:$H,0)),L13))","v":""},{"$f":"IF(K13=0,\"\",IF(T13=0,\"\",INDEX(StressRankMatrix,MATCH(K13,Rating,0),MATCH(T13,Rating,0))))","v":""},null,null,null,{"$f":"IFERROR(INDEX(#REF!,MATCH(A13,#REF!,0)),\"\")","v":""},null,"",{"$f":"IF(K13=\"Poor\",Scoring!$B$50,IF(K13=\"Fair -\",Scoring!$B$49,IF(K13=\"Fair\",Scoring!$B$48,IF(K13=\"Good -\",Scoring!$B$47,IF(K13=\"Good\",Scoring!$B$46,IF(K13=\"Very Good\",Scoring!$B$45,IF(K13=\"\",0)))))))","v":0},{"$f":"IF(L13=\"Poor\",Scoring!$B$50,IF(L13=\"Fair -\",Scoring!$B$49,IF(L13=\"Fair\",Scoring!$B$48,IF(L13=\"Good -\",Scoring!$B$47,IF(L13=\"Good\",Scoring!$B$46,IF(L13=\"Very Good\",Scoring!$B$45,IF(L13=\"\",0)))))))","v":0},{"$f":"IF(T13=\"Poor\",Scoring!$B$50,IF(T13=\"Fair -\",Scoring!$B$49,IF(T13=\"Fair\",Scoring!$B$48,IF(T13=\"Good -\",Scoring!$B$47,IF(T13=\"Good\",Scoring!$B$46,IF(T13=\"Very Good\",Scoring!$B$45,IF(T13=\"\",0)))))))","v":0},{"$f":"IF(K13=\"Poor\",Scoring!$C$50,IF(K13=\"Fair -\",Scoring!$C$49,IF(K13=\"Fair\",Scoring!$C$48,IF(K13=\"Good -\",Scoring!$C$47,IF(K13=\"Good\",Scoring!$C$46,IF(K13=\"Very Good\",Scoring!$C$45,IF(K13=\"\",0)))))))","v":0},{"$f":"IF(L13=\"Poor\",Scoring!$C$50,IF(L13=\"Fair -\",Scoring!$C$49,IF(L13=\"Fair\",Scoring!$C$48,IF(L13=\"Good -\",Scoring!$C$47,IF(L13=\"Good\",Scoring!$C$46,IF(L13=\"Very Good\",Scoring!$C$45,IF(L13=\"\",0)))))))","v":0},{"$f":"IF(T13=\"Poor\",Scoring!$C$50,IF(T13=\"Fair -\",Scoring!$C$49,IF(T13=\"Fair\",Scoring!$C$48,IF(T13=\"Good -\",Scoring!$C$47,IF(T13=\"Good\",Scoring!$C$46,IF(T13=\"Very Good\",Scoring!$C$45,IF(T13=\"\",0)))))))","v":0},0,0,0]
[null,null,null,"Overall Target Health Score                           (0 = Poor - 100 = Very Good)",null,null,null,null,null,null,{"$f":"AK14","v":40.04},{"$f":"AL14","v":31.464285714285712},null,null,null,null,null,null,null,{"$f":"AM14","v":60.038571428571444},null,null,null,null,null,null,null,null,null,null,{"$f":"SUM(AE4:AE13)","v":7},7,7,280.27999999999997,220.24999999999997,420.2700000000001,{"$f":"IF(AH14=0,\"\",AH14/AE14)","v":40.04},{"$f":"IF(AI14=0,\"\",AI14/AF14)","v":31.464285714285712},{"$f":"IF(AJ14=0,\"\",AJ14/AG14)","v":60.038571428571444}]
[]
[null,null,null,null,"Threats (Sources of Stress)         List Sources of stress below (max of 12 per target).  Enter Contribution of each source where applicable.","  Key Attribute >",{"$f":"IF(E4=0,\"\",E4)","v":"Connectivity to mainstem river and tributaries"},{"$f":"IF(E5=0,\"\",E5)","v":"Hydrologic regime"},{"$f":"IF(E6=0,\"\",E6)","v":"Substrate and banks"},{"$f":"IF(E7=0,\"\",E7)","v":"Characteristic native communities"},{"$f":"IF(E8=0,\"\",E8)","v":"Species composition"},{"$f":"IF(E9=0,\"\",E9)","v":"Water quality"},{"$f":"IF(E10=0,\"\",E10)","v":"Extent of area"},{"$f":"IF(E11=0,\"\",E11)","v":""},{"$f":"IF(E12=0,\"\",E12)","v":""},{"$f":"IF(E13=0,\"\",E13)","v":""},"Threat to Target Rank"]
[null,null,null,null,null,"Stress Rank>",{"$f":"IF(M4=\"\",\"\", IF(N4=0,M4,N4))","v":"High"},{"$f":"IF(M5=\"\",\"\", IF(N5=0,M5,N5))","v":"High"},{"$f":"IF(M6=\"\",\"\", IF(N6=0,M6,N6))","v":"Medium"},{"$f":"IF(M7=\"\",\"\", IF(N7=0,M7,N7))","v":"Medium"},{"$f":"IF(M8=\"\",\"\", IF(N8=0,M8,N8))","v":"High"},{"$f":"IF(M9=\"\",\"\", IF(N9=0,M9,N9))","v":"Medium"},{"$f":"IF(M10=\"\",\"\", IF(N10=0,M10,N10))","v":"Medium"},{"$f":"IF(M11=\"\",\"\", IF(N11=0,M11,N11))","v":""},{"$f":"IF(M12=\"\",\"\", IF(N12=0,M12,N12))","v":""},{"$f":"IF(M13=\"\",\"\", IF(N13=0,M13,N13))","v":""}]
[null,null,null,null,"Removal of native vegetation from riparian zone","Contribution",null,"High",null,null,"High",null,null,null,null,null,{"$f":"IF(AF19>=Scoring!$B$24,\"Very High\",IF(AF19>=Scoring!$B$25,\"High\",IF(AF19>=Scoring!$B$26,\"Medium\",IF(AF19>=Scoring!$B$27,\"Low\",\"-\"))))","v":"High"}]
[null,null,null,null,null,"Threat Rank ",{"$f":"IF(G18=0,\"\",INDEX(ThreatRankMatrix,MATCH($G$17,Rank,0),MATCH(G18,Rank,0)))","v":""},{"$f":"IF(H18=0,\"\",INDEX(ThreatRankMatrix,MATCH($H$17,Rank,0),MATCH(H18,Rank,0)))","v":"High"},{"$f":"IF(I18=0,\"\",INDEX(ThreatRankMatrix,MATCH($I$17,Rank,0),MATCH(I18,Rank,0)))","v":""},{"$f":"IF(J18=0,\"\",INDEX(ThreatRankMatrix,MATCH($J$17,Rank,0),MATCH(J18,Rank,0)))","v":""},{"$f":"IF(K18=0,\"\",INDEX(ThreatRankMatrix,MATCH($K$17,Rank,0),MATCH(K18,Rank,0)))","v":"High"},{"$f":"IF(L18=0,\"\",INDEX(ThreatRankMatrix,MATCH($L$17,Rank,0),MATCH(L18,Rank,0)))","v":""},{"$f":"IF(M18=0,\"\",INDEX(ThreatRankMatrix,MATCH($M$17,Rank,0),MATCH(M18,Rank,0)))","v":""},{"$f":"IF(N18=0,\"\",INDEX(ThreatRankMatrix,MATCH($N$17,Rank,0),MATCH(N18,Rank,0)))","v":""},{"$f":"IF(O18=0,\"\",INDEX(ThreatRankMatrix,MATCH($O$17,Rank,0),MATCH(O18,Rank,0)))","v":""},{"$f":"IF(P18=0,\"\",INDEX(ThreatRankMatrix,MATCH($P$17,Rank,0),MATCH(P18,Rank,0)))","v":""},null,null,null,null,null,null,null,null,null,null,null,null,null,null,null,{"$f":"SUM(AG19:AP19)","v":70},{"$f":"IF(G$17=\"\",0,(IF(G18=0,0,IF(G19=0,0,INDEX(ThreatScore,MATCH(G19,Rank,0))))))","v":0},35,0,0,35,0,0,0,0,0]
[null,null,null,null,"Invasive terrestrial species/pests/pathogens","Contribution",null,null,null,null,"High",null,null,null,null,null,{"$f":"IF(AF21>=Scoring!$B$24,\"Very High\",IF(AF21>=Scoring!$B$25,\"High\",IF(AF21>=Scoring!$B$26,\"Medium\",IF(AF21>=Scoring!$B$27,\"Low\",\"-\"))))","v":"High"}]
[null,null,null,null,null,"Threat Rank ",{"$f":"IF(G20=0,\"\",INDEX(ThreatRankMatrix,MATCH($G$17,Rank,0),MATCH(G20,Rank,0)))","v":""},{"$f":"IF(H20=0,\"\",INDEX(ThreatRankMatrix,MATCH($H$17,Rank,0),MATCH(H20,Rank,0)))","v":""},{"$f":"IF(I20=0,\"\",INDEX(ThreatRankMatrix,MATCH($I$17,Rank,0),MATCH(I20,Rank,0)))","v":""},{"$f":"IF(J20=0,\"\",INDEX(ThreatRankMatrix,MATCH($J$17,Rank,0),MATCH(J20,Rank,0)))","v":""},{"$f":"IF(K20=0,\"\",INDEX(ThreatRankMatrix,MATCH($K$17,Rank,0),MATCH(K20,Rank,0)))","v":"High"},{"$f":"IF(L20=0,\"\",INDEX(ThreatRankMatrix,MATCH($L$17,Rank,0),MATCH(L20,Rank,0)))","v":""},{"$f":"IF(M20=0,\"\",INDEX(ThreatRankMatrix,MATCH($M$17,Rank,0),MATCH(M20,Rank,0)))","v":""},{"$f":"IF(N20=0,\"\",INDEX(ThreatRankMatrix,MATCH($N$17,Rank,0),MATCH(N20,Rank,0)))","v":""},{"$f":"IF(O20=0,\"\",INDEX(ThreatRankMatrix,MATCH($O$17,Rank,0),MATCH(O20,Rank,0)))","v":""},{"$f":"IF(P20=0,\"\",INDEX(ThreatRankMatrix,MATCH($P$17,Rank,0),MATCH(P20,Rank,0)))","v":""},null,null,null,null,null,null,null,null,null,null,null,null,null,null,null,{"$f":"SUM(AG21:AP21)","v":35},{"$f":"IF(G$17=\"\",0,(IF(G20=0,0,IF(G21=0,0,INDEX(ThreatScore,MATCH(G21,Rank,0))))))","v":0},0,0,0,35,0,0,0,0,0]
[null,null,null,null,"Incompatible road design / maintenance","Contribution","High","High",null,null,"Medium",null,null,null,null,null,{"$f":"IF(AF23>=Scoring!$B$24,\"Very High\",IF(AF23>=Scoring!$B$25,\"High\",IF(AF23>=Scoring!$B$26,\"Medium\",IF(AF23>=Scoring!$B$27,\"Low\",\"-\"))))","v":"High"}]
[null,null,null,null,null,"Threat Rank ",{"$f":"IF(G22=0,\"\",INDEX(ThreatRankMatrix,MATCH($G$17,Rank,0),MATCH(G22,Rank,0)))","v":"High"},{"$f":"IF(H22=0,\"\",INDEX(ThreatRankMatrix,MATCH($H$17,Rank,0),MATCH(H22,Rank,0)))","v":"High"},{"$f":"IF(I22=0,\"\",INDEX(ThreatRankMatrix,MATCH($I$17,Rank,0),MATCH(I22,Rank,0)))","v":""},{"$f":"IF(J22=0,\"\",INDEX(ThreatRankMatrix,MATCH($J$17,Rank,0),MATCH(J22,Rank,0)))","v":""},{"$f":"IF(K22=0,\"\",INDEX(ThreatRankMatrix,MATCH($K$17,Rank,0),MATCH(K22,Rank,0)))","v":"Medium"},{"$f":"IF(L22=0,\"\",INDEX(ThreatRankMatrix,MATCH($L$17,Rank,0),MATCH(L22,Rank,0)))","v":""},{"$f":"IF(M22=0,\"\",INDEX(ThreatRankMatrix,MATCH($M$17,Rank,0),MATCH(M22,Rank,0)))","v":""},{"$f":"IF(N22=0,\"\",INDEX(ThreatRankMatrix,MATCH($N$17,Rank,0),MATCH(N22,Rank,0)))","v":""},{"$f":"IF(O22=0,\"\",INDEX(ThreatRankMatrix,MATCH($O$17,Rank,0),MATCH(O22,Rank,0)))","v":""},{"$f":"IF(P22=0,\"\",INDEX(ThreatRankMatrix,MATCH($P$17,Rank,0),MATCH(P22,Rank,0)))","v":""},null,null,null,null,null,null,null,null,null,null,null,null,null,null,null,{"$f":"SUM(AG23:AP23)","v":77},{"$f":"IF(G$17=\"\",0,(IF(G22=0,0,IF(G23=0,0,INDEX(ThreatScore,MATCH(G23,Rank,0))))))","v":35},35,0,0,7,0,0,0,0,0]
[null,null,null,null,"Residential / commercial development","Contribution",null,"High",null,null,null,null,null,null,null,null,{"$f":"IF(AF25>=Scoring!$B$24,\"Very High\",IF(AF25>=Scoring!$B$25,\"High\",IF(AF25>=Scoring!$B$26,\"Medium\",IF(AF25>=Scoring!$B$27,\"Low\",\"-\"))))","v":"High"}]
[null,null,null,null,null,"Threat Rank ",{"$f":"IF(G24=0,\"\",INDEX(ThreatRankMatrix,MATCH($G$17,Rank,0),MATCH(G24,Rank,0)))","v":""},{"$f":"IF(H24=0,\"\",INDEX(ThreatRankMatrix,MATCH($H$17,Rank,0),MATCH(H24,Rank,0)))","v":"High"},{"$f":"IF(I24=0,\"\",INDEX(ThreatRankMatrix,MATCH($I$17,Rank,0),MATCH(I24,Rank,0)))","v":""},{"$f":"IF(J24=0,\"\",INDEX(ThreatRankMatrix,MATCH($J$17,Rank,0),MATCH(J24,Rank,0)))","v":""},{"$f":"IF(K24=0,\"\",INDEX(ThreatRankMatrix,MATCH($K$17,Rank,0),MATCH(K24,Rank,0)))","v":""},{"$f":"IF(L24=0,\"\",INDEX(ThreatRankMatrix,MATCH($L$17,Rank,0),MATCH(L24,Rank,0)))","v":""},{"$f":"IF(M24=0,\"\",INDEX(ThreatRankMatrix,MATCH($M$17,Rank,0),MATCH(M24,Rank,0)))","v":""},{"$f":"IF(N24=0,\"\",INDEX(ThreatRankMatrix,MATCH($N$17,Rank,0),MATCH(N24,Rank,0)))","v":""},{"$f":"IF(O24=0,\"\",INDEX(ThreatRankMatrix,MATCH($O$17,Rank,0),MATCH(O24,Rank,0)))","v":""},{"$f":"IF(P24=0,\"\",INDEX(ThreatRankMatrix,MATCH($P$17,Rank,0),MATCH(P24,Rank,0)))","v":""},null,null,null,null,null,null,null,null,null,null,null,null,null,null,null,{"$f":"SUM(AG25:AP25)","v":35},{"$f":"IF(G$17=\"\",0,(IF(G24=0,0,IF(G25=0,0,INDEX(ThreatScore,MATCH(G25,Rank,0))))))","v":0},35,0,0,0,0,0,0,0,0]
[null,null,null,null,"Hardening stream banks with rip rap, channelization, etc.","Contribution",null,"Medium",null,"High","Medium",null,null,null,null,null,{"$f":"IF(AF27>=Scoring!$B$24,\"Very High\",IF(AF27>=Scoring!$B$25,\"High\",IF(AF27>=Scoring!$B$26,\"Medium\",IF(AF27>=Scoring!$B$27,\"Low\",\"-\"))))","v":"Medium"}]
[null,null,null,null,null,"Threat Rank ",{"$f":"IF(G26=0,\"\",INDEX(ThreatRankMatrix,MATCH($G$17,Rank,0),MATCH(G26,Rank,0)))","v":""},{"$f":"IF(H26=0,\"\",INDEX(ThreatRankMatrix,MATCH($H$17,Rank,0),MATCH(H26,Rank,0)))","v":"Medium"},{"$f":"IF(I26=0,\"\",INDEX(ThreatRankMatrix,MATCH($I$17,Rank,0),MATCH(I26,Rank,0)))","v":""},{"$f":"IF(J26=0,\"\",INDEX(ThreatRankMatrix,MATCH($J$17,Rank,0),MATCH(J26,Rank,0)))","v":"Medium"},{"$f":"IF(K26=0,\"\",INDEX(ThreatRankMatrix,MATCH($K$17,Rank,0),MATCH(K26,Rank,0)))","v":"Medium"},{"$f":"IF(L26=0,\"\",INDEX(ThreatRankMatrix,MATCH($L$17,Rank,0),MATCH(L26,Rank,0)))","v":""},{"$f":"IF(M26=0,\"\",INDEX(ThreatRankMatrix,MATCH($M$17,Rank,0),MATCH(M26,Rank,0)))","v":""},{"$f":"IF(N26=0,\"\",INDEX(ThreatRankMatrix,MATCH($N$17,Rank,0),MATCH(N26,Rank,0)))","v":""},{"$f":"IF(O26=0,\"\",INDEX(ThreatRankMatrix,MATCH($O$17,Rank,0),MATCH(O26,Rank,0)))","v":""},{"$f":"IF(P26=0,\"\",INDEX(ThreatRankMatrix,MATCH($P$17,Rank,0),MATCH(P26,Rank,0)))","v":""},null,null,null,null,null,null,null,null,null,null,null,null,null,null,null,{"$f":"SUM(AG27:AP27)","v":21},{"$f":"IF(G$17=\"\",0,(IF(G26=0,0,IF(G27=0,0,INDEX(ThreatScore,MATCH(G27,Rank,0))))))","v":0},7,0,7,7,0,0,0,0,0]
[null,null,null,null,"Warmer climate with more frequent weather extremes","Contribution",null,null,null,null,null,null,null,null,null,null,{"$f":"IF(AF29>=Scoring!$B$24,\"Very High\",IF(AF29>=Scoring!$B$25,\"High\",IF(AF29>=Scoring!$B$26,\"Medium\",IF(AF29>=Scoring!$B$27,\"Low\",\"-\"))))","v":"-"}]
[null,null,null,null,null,"Threat Rank ",{"$f":"IF(G28=0,\"\",INDEX(ThreatRankMatrix,MATCH($G$17,Rank,0),MATCH(G28,Rank,0)))","v":""},{"$f":"IF(H28=0,\"\",INDEX(ThreatRankMatrix,MATCH($H$17,Rank,0),MATCH(H28,Rank,0)))","v":""},{"$f":"IF(I28=0,\"\",INDEX(ThreatRankMatrix,MATCH($I$17,Rank,0),MATCH(I28,Rank,0)))","v":""},{"$f":"IF(J28=0,\"\",INDEX(ThreatRankMatrix,MATCH($J$17,Rank,0),MATCH(J28,Rank,0)))","v":""},{"$f":"IF(K28=0,\"\",INDEX(ThreatRankMatrix,MATCH($K$17,Rank,0),MATCH(K28,Rank,0)))","v":""},{"$f":"IF(L28=0,\"\",INDEX(ThreatRankMatrix,MATCH($L$17,Rank,0),MATCH(L28,Rank,0)))","v":""},{"$f":"IF(M28=0,\"\",INDEX(ThreatRankMatrix,MATCH($M$17,Rank,0),MATCH(M28,Rank,0)))","v":""},{"$f":"IF(N28=0,\"\",INDEX(ThreatRankMatrix,MATCH($N$17,Rank,0),MATCH(N28,Rank,0)))","v":""},{"$f":"IF(O28=0,\"\",INDEX(ThreatRankMatrix,MATCH($O$17,Rank,0),MATCH(O28,Rank,0)))","v":""},{"$f":"IF(P28=0,\"\",INDEX(ThreatRankMatrix,MATCH($P$17,Rank,0),MATCH(P28,Rank,0)))","v":""},null,null,null,null,null,null,null,null,null,null,null,null,null,null,null,{"$f":"SUM(AG29:AP29)","v":0},{"$f":"IF(G$17=\"\",0,(IF(G28=0,0,IF(G29=0,0,INDEX(ThreatScore,MATCH(G29,Rank,0))))))","v":0},0,0,0,0,0,0,0,0,0]
[null,null,null,null,"Invasive aquatic species/pests/pathogens","Contribution",null,null,null,null,"High",null,null,null,null,null,{"$f":"IF(AF31>=Scoring!$B$24,\"Very High\",IF(AF31>=Scoring!$B$25,\"High\",IF(AF31>=Scoring!$B$26,\"Medium\",IF(AF31>=Scoring!$B$27,\"Low\",\"-\"))))","v":"High"}]
[null,null,null,null,null,"Threat Rank ",{"$f":"IF(G30=0,\"\",INDEX(ThreatRankMatrix,MATCH($G$17,Rank,0),MATCH(G30,Rank,0)))","v":""},{"$f":"IF(H30=0,\"\",INDEX(ThreatRankMatrix,MATCH($H$17,Rank,0),MATCH(H30,Rank,0)))","v":""},{"$f":"IF(I30=0,\"\",INDEX(ThreatRankMatrix,MATCH($I$17,Rank,0),MATCH(I30,Rank,0)))","v":""},{"$f":"IF(J30=0,\"\",INDEX(ThreatRankMatrix,MATCH($J$17,Rank,0),MATCH(J30,Rank,0)))","v":""},{"$f":"IF(K30=0,\"\",INDEX(ThreatRankMatrix,MATCH($K$17,Rank,0),MATCH(K30,Rank,0)))","v":"High"},{"$f":"IF(L30=0,\"\",INDEX(ThreatRankMatrix,MATCH($L$17,Rank,0),MATCH(L30,Rank,0)))","v":""},{"$f":"IF(M30=0,\"\",INDEX(ThreatRankMatrix,MATCH($M$17,Rank,0),MATCH(M30,Rank,0)))","v":""},{"$f":"IF(N30=0,\"\",INDEX(ThreatRankMatrix,MATCH($N$17,Rank,0),MATCH(N30,Rank,0)))","v":""},{"$f":"IF(O30=0,\"\",INDEX(ThreatRankMatrix,MATCH($O$17,Rank,0),MATCH(O30,Rank,0)))","v":""},{"$f":"IF(P30=0,\"\",INDEX(ThreatRankMatrix,MATCH($P$17,Rank,0),MATCH(P30,Rank,0)))","v":""},null,null,null,null,null,null,null,null,null,null,null,null,null,null,null,{"$f":"SUM(AG31:AP31)","v":35},{"$f":"IF(G$17=\"\",0,(IF(G30=0,0,IF(G31=0,0,INDEX(ThreatScore,MATCH(G31,Rank,0))))))","v":0},0,0,0,35,0,0,0,0,0]
[null,null,null,null,"Dumping of trash, debris, etc. ","Contribution",null,null,null,null,null,"Very High",null,null,null,null,{"$f":"IF(AF33>=Scoring!$B$24,\"Very High\",IF(AF33>=Scoring!$B$25,\"High\",IF(AF33>=Scoring!$B$26,\"Medium\",IF(AF33>=Scoring!$B$27,\"Low\",\"-\"))))","v":"Medium"}]
[null,null,null,null,null,"Threat Rank ",{"$f":"IF(G32=0,\"\",INDEX(ThreatRankMatrix,MATCH($G$17,Rank,0),MATCH(G32,Rank,0)))","v":""},{"$f":"IF(H32=0,\"\",INDEX(ThreatRankMatrix,MATCH($H$17,Rank,0),MATCH(H32,Rank,0)))","v":""},{"$f":"IF(I32=0,\"\",INDEX(ThreatRankMatrix,MATCH($I$17,Rank,0),MATCH(I32,Rank,0)))","v":""},{"$f":"IF(J32=0,\"\",INDEX(ThreatRankMatrix,MATCH($J$17,Rank,0),MATCH(J32,Rank,0)))","v":""},{"$f":"IF(K32=0,\"\",INDEX(ThreatRankMatrix,MATCH($K$17,Rank,0),MATCH(K32,Rank,0)))","v":""},{"$f":"IF(L32=0,\"\",INDEX(ThreatRankMatrix,MATCH($L$17,Rank,0),MATCH(L32,Rank,0)))","v":"Medium"},{"$f":"IF(M32=0,\"\",INDEX(ThreatRankMatrix,MATCH($M$17,Rank,0),MATCH(M32,Rank,0)))","v":""},{"$f":"IF(N32=0,\"\",INDEX(ThreatRankMatrix,MATCH($N$17,Rank,0),MATCH(N32,Rank,0)))","v":""},{"$f":"IF(O32=0,\"\",INDEX(ThreatRankMatrix,MATCH($O$17,Rank,0),MATCH(O32,Rank,0)))","v":""},{"$f":"IF(P32=0,\"\",INDEX(ThreatRankMatrix,MATCH($P$17,Rank,0),MATCH(P32,Rank,0)))","v":""},null,null,null,null,null,null,null,null,null,null,null,null,null,null,null,{"$f":"SUM(AG33:AP33)","v":7},{"$f":"IF(G$17=\"\",0,(IF(G32=0,0,IF(G33=0,0,INDEX(ThreatScore,MATCH(G33,Rank,0))))))","v":0},0,0,0,0,7,0,0,0,0]
[null,null,null,null,"Filling in sloughs or wetlands","Contribution","Very High","Very High","Very High","Very High","Medium","Very High","Very High",null,null,null,{"$f":"IF(AF35>=Scoring!$B$24,\"Very High\",IF(AF35>=Scoring!$B$25,\"High\",IF(AF35>=Scoring!$B$26,\"Medium\",IF(AF35>=Scoring!$B$27,\"Low\",\"-\"))))","v":"Very High"}]
[null,null,null,null,null,"Threat Rank ",{"$f":"IF(G34=0,\"\",INDEX(ThreatRankMatrix,MATCH($G$17,Rank,0),MATCH(G34,Rank,0)))","v":"High"},{"$f":"IF(H34=0,\"\",INDEX(ThreatRankMatrix,MATCH($H$17,Rank,0),MATCH(H34,Rank,0)))","v":"High"},{"$f":"IF(I34=0,\"\",INDEX(ThreatRankMatrix,MATCH($I$17,Rank,0),MATCH(I34,Rank,0)))","v":"Medium"},{"$f":"IF(J34=0,\"\",INDEX(ThreatRankMatrix,MATCH($J$17,Rank,0),MATCH(J34,Rank,0)))","v":"Medium"},{"$f":"IF(K34=0,\"\",INDEX(ThreatRankMatrix,MATCH($K$17,Rank,0),MATCH(K34,Rank,0)))","v":"Medium"},{"$f":"IF(L34=0,\"\",INDEX(ThreatRankMatrix,MATCH($L$17,Rank,0),MATCH(L34,Rank,0)))","v":"Medium"},{"$f":"IF(M34=0,\"\",INDEX(ThreatRankMatrix,MATCH($M$17,Rank,0),MATCH(M34,Rank,0)))","v":"Medium"},{"$f":"IF(N34=0,\"\",INDEX(ThreatRankMatrix,MATCH($N$17,Rank,0),MATCH(N34,Rank,0)))","v":""},{"$f":"IF(O34=0,\"\",INDEX(ThreatRankMatrix,MATCH($O$17,Rank,0),MATCH(O34,Rank,0)))","v":""},{"$f":"IF(P34=0,\"\",INDEX(ThreatRankMatrix,MATCH($P$17,Rank,0),MATCH(P34,Rank,0)))","v":""},null,null,null,null,null,null,null,null,null,null,null,null,null,null,null,{"$f":"SUM(AG35:AP35)","v":105},{"$f":"IF(G$17=\"\",0,(IF(G34=0,0,IF(G35=0,0,INDEX(ThreatScore,MATCH(G35,Rank,0))))))","v":35},35,7,7,7,7,7,0,0,0]
[null,null,null,null,"Stormwater","Contribution",null,null,null,null,null,null,null,null,null,null,{"$f":"IF(AF37>=Scoring!$B$24,\"Very High\",IF(AF37>=Scoring!$B$25,\"High\",IF(AF37>=Scoring!$B$26,\"Medium\",IF(AF37>=Scoring!$B$27,\"Low\",\"-\"))))","v":"-"}]
[null,null,null,null,null,"Threat Rank ",{"$f":"IF(G36=0,\"\",INDEX(ThreatRankMatrix,MATCH($G$17,Rank,0),MATCH(G36,Rank,0)))","v":""},{"$f":"IF(H36=0,\"\",INDEX(ThreatRankMatrix,MATCH($H$17,Rank,0),MATCH(H36,Rank,0)))","v":""},{"$f":"IF(I36=0,\"\",INDEX(ThreatRankMatrix,MATCH($I$17,Rank,0),MATCH(I36,Rank,0)))","v":""},{"$f":"IF(J36=0,\"\",INDEX(ThreatRankMatrix,MATCH($J$17,Rank,0),MATCH(J36,Rank,0)))","v":""},{"$f":"IF(K36=0,\"\",INDEX(ThreatRankMatrix,MATCH($K$17,Rank,0),MATCH(K36,Rank,0)))","v":""},{"$f":"IF(L36=0,\"\",INDEX(ThreatRankMatrix,MATCH($L$17,Rank,0),MATCH(L36,Rank,0)))","v":""},{"$f":"IF(M36=0,\"\",INDEX(ThreatRankMatrix,MATCH($M$17,Rank,0),MATCH(M36,Rank,0)))","v":""},{"$f":"IF(N36=0,\"\",INDEX(ThreatRankMatrix,MATCH($N$17,Rank,0),MATCH(N36,Rank,0)))","v":""},{"$f":"IF(O36=0,\"\",INDEX(ThreatRankMatrix,MATCH($O$17,Rank,0),MATCH(O36,Rank,0)))","v":""},{"$f":"IF(P36=0,\"\",INDEX(ThreatRankMatrix,MATCH($P$17,Rank,0),MATCH(P36,Rank,0)))","v":""},null,null,null,null,null,null,null,null,null,null,null,null,null,null,null,{"$f":"SUM(AG37:AP37)","v":0},{"$f":"IF(G$17=\"\",0,(IF(G36=0,0,IF(G37=0,0,INDEX(ThreatScore,MATCH(G37,Rank,0))))))","v":0},{"$f":"IF(H$17=\"\",0,(IF(H36=0,0,IF(H37=0,0,INDEX(ThreatScore,MATCH(H37,Rank,0))))))","v":0},{"$f":"IF(I$17=\"\",0,(IF(I36=0,0,IF(I37=0,0,INDEX(ThreatScore,MATCH(I37,Rank,0))))))","v":0},{"$f":"IF(J$17=\"\",0,(IF(J36=0,0,IF(J37=0,0,INDEX(ThreatScore,MATCH(J37,Rank,0))))))","v":0},{"$f":"IF(K$17=\"\",0,(IF(K36=0,0,IF(K37=0,0,INDEX(ThreatScore,MATCH(K37,Rank,0))))))","v":0},{"$f":"IF(L$17=\"\",0,(IF(L36=0,0,IF(L37=0,0,INDEX(ThreatScore,MATCH(L37,Rank,0))))))","v":0},{"$f":"IF(M$17=\"\",0,(IF(M36=0,0,IF(M37=0,0,INDEX(ThreatScore,MATCH(M37,Rank,0))))))","v":0},{"$f":"IF(N$17=\"\",0,(IF(N36=0,0,IF(N37=0,0,INDEX(ThreatScore,MATCH(N37,Rank,0))))))","v":0},{"$f":"IF(O$17=\"\",0,(IF(O36=0,0,IF(O37=0,0,INDEX(ThreatScore,MATCH(O37,Rank,0))))))","v":0},{"$f":"IF(P$17=\"\",0,(IF(P36=0,0,IF(P37=0,0,INDEX(ThreatScore,MATCH(P37,Rank,0))))))","v":0}]
[null,null,null,null,null,"Contribution",null,null,null,null,null,null,null,null,null,null,{"$f":"IF(AF39>=Scoring!$B$24,\"Very High\",IF(AF39>=Scoring!$B$25,\"High\",IF(AF39>=Scoring!$B$26,\"Medium\",IF(AF39>=Scoring!$B$27,\"Low\",\"-\"))))","v":"-"}]
[null,null,null,null,null,"Threat Rank ",{"$f":"IF(G38=0,\"\",INDEX(ThreatRankMatrix,MATCH($G$17,Rank,0),MATCH(G38,Rank,0)))","v":""},{"$f":"IF(H38=0,\"\",INDEX(ThreatRankMatrix,MATCH($H$17,Rank,0),MATCH(H38,Rank,0)))","v":""},{"$f":"IF(I38=0,\"\",INDEX(ThreatRankMatrix,MATCH($I$17,Rank,0),MATCH(I38,Rank,0)))","v":""},{"$f":"IF(J38=0,\"\",INDEX(ThreatRankMatrix,MATCH($J$17,Rank,0),MATCH(J38,Rank,0)))","v":""},{"$f":"IF(K38=0,\"\",INDEX(ThreatRankMatrix,MATCH($K$17,Rank,0),MATCH(K38,Rank,0)))","v":""},{"$f":"IF(L38=0,\"\",INDEX(ThreatRankMatrix,MATCH($L$17,Rank,0),MATCH(L38,Rank,0)))","v":""},{"$f":"IF(M38=0,\"\",INDEX(ThreatRankMatrix,MATCH($M$17,Rank,0),MATCH(M38,Rank,0)))","v":""},{"$f":"IF(N38=0,\"\",INDEX(ThreatRankMatrix,MATCH($N$17,Rank,0),MATCH(N38,Rank,0)))","v":""},{"$f":"IF(O38=0,\"\",INDEX(ThreatRankMatrix,MATCH($O$17,Rank,0),MATCH(O38,Rank,0)))","v":""},{"$f":"IF(P38=0,\"\",INDEX(ThreatRankMatrix,MATCH($P$17,Rank,0),MATCH(P38,Rank,0)))","v":""},null,null,null,null,null,null,null,null,null,null,null,null,null,null,null,{"$f":"SUM(AG39:AP39)","v":0},{"$f":"IF(G$17=\"\",0,(IF(G38=0,0,IF(G39=0,0,INDEX(ThreatScore,MATCH(G39,Rank,0))))))","v":0},{"$f":"IF(H$17=\"\",0,(IF(H38=0,0,IF(H39=0,0,INDEX(ThreatScore,MATCH(H39,Rank,0))))))","v":0},{"$f":"IF(I$17=\"\",0,(IF(I38=0,0,IF(I39=0,0,INDEX(ThreatScore,MATCH(I39,Rank,0))))))","v":0},{"$f":"IF(J$17=\"\",0,(IF(J38=0,0,IF(J39=0,0,INDEX(ThreatScore,MATCH(J39,Rank,0))))))","v":0},{"$f":"IF(K$17=\"\",0,(IF(K38=0,0,IF(K39=0,0,INDEX(ThreatScore,MATCH(K39,Rank,0))))))","v":0},{"$f":"IF(L$17=\"\",0,(IF(L38=0,0,IF(L39=0,0,INDEX(ThreatScore,MATCH(L39,Rank,0))))))","v":0},{"$f":"IF(M$17=\"\",0,(IF(M38=0,0,IF(M39=0,0,INDEX(ThreatScore,MATCH(M39,Rank,0))))))","v":0},{"$f":"IF(N$17=\"\",0,(IF(N38=0,0,IF(N39=0,0,INDEX(ThreatScore,MATCH(N39,Rank,0))))))","v":0},{"$f":"IF(O$17=\"\",0,(IF(O38=0,0,IF(O39=0,0,INDEX(ThreatScore,MATCH(O39,Rank,0))))))","v":0},{"$f":"IF(P$17=\"\",0,(IF(P38=0,0,IF(P39=0,0,INDEX(ThreatScore,MATCH(P39,Rank,0))))))","v":0}]
[null,null,null,null,null,"Contribution",null,null,null,null,null,null,null,null,null,null,{"$f":"IF(AF41>=Scoring!$B$24,\"Very High\",IF(AF41>=Scoring!$B$25,\"High\",IF(AF41>=Scoring!$B$26,\"Medium\",IF(AF41>=Scoring!$B$27,\"Low\",\"-\"))))","v":"-"}]
[null,null,null,null,null,"Threat Rank ",{"$f":"IF(G40=0,\"\",INDEX(ThreatRankMatrix,MATCH($G$17,Rank,0),MATCH(G40,Rank,0)))","v":""},{"$f":"IF(H40=0,\"\",INDEX(ThreatRankMatrix,MATCH($H$17,Rank,0),MATCH(H40,Rank,0)))","v":""},{"$f":"IF(I40=0,\"\",INDEX(ThreatRankMatrix,MATCH($I$17,Rank,0),MATCH(I40,Rank,0)))","v":""},{"$f":"IF(J40=0,\"\",INDEX(ThreatRankMatrix,MATCH($J$17,Rank,0),MATCH(J40,Rank,0)))","v":""},{"$f":"IF(K40=0,\"\",INDEX(ThreatRankMatrix,MATCH($K$17,Rank,0),MATCH(K40,Rank,0)))","v":""},{"$f":"IF(L40=0,\"\",INDEX(ThreatRankMatrix,MATCH($L$17,Rank,0),MATCH(L40,Rank,0)))","v":""},{"$f":"IF(M40=0,\"\",INDEX(ThreatRankMatrix,MATCH($M$17,Rank,0),MATCH(M40,Rank,0)))","v":""},{"$f":"IF(N40=0,\"\",INDEX(ThreatRankMatrix,MATCH($N$17,Rank,0),MATCH(N40,Rank,0)))","v":""},{"$f":"IF(O40=0,\"\",INDEX(ThreatRankMatrix,MATCH($O$17,Rank,0),MATCH(O40,Rank,0)))","v":""},{"$f":"IF(P40=0,\"\",INDEX(ThreatRankMatrix,MATCH($P$17,Rank,0),MATCH(P40,Rank,0)))","v":""},null,null,null,null,null,null,null,null,null,null,null,null,null,null,null,{"$f":"SUM(AG41:AP41)","v":0},{"$f":"IF(G$17=\"\",0,(IF(G40=0,0,IF(G41=0,0,INDEX(ThreatScore,MATCH(G41,Rank,0))))))","v":0},0,0,0,0,0,0,0,0,0]

{"sheet":"8","index":12,"n_rows":41,"n_cols":42,"rows_kept":41,"cut":false,"hidden":false,"merged":[[0,3,0,4],[15,4,16,4],[15,16,16,16],[17,4,18,4],[17,16,18,16],[13,3,13,4],[19,4,20,4],[19,16,20,16],[21,4,22,4],[21,16,22,16],[23,4,24,4],[23,16,24,16],[25,4,26,4],[25,16,26,16],[33,4,34,4],[33,16,34,16],[39,4,40,4],[39,16,40,16],[27,4,28,4],[27,16,28,16],[29,4,30,4],[29,16,30,16],[31,4,32,4],[31,16,32,16],[35,4,36,4],[35,16,36,16],[37,4,38,4],[37,16,38,16]]}
[null,null,null,{"$f":"IF(Targets!C43=0,\"\",Targets!C43)","v":"Mainstem River & Major Forks - Upper Chena"},{"$f":"IF(Targets!C43=0,\"\",Targets!C43)","v":"Mainstem River & Major Forks - Upper Chena"},"  Key Attributes & Future Threats"]
[null,null,null,null,null,"Place cursor over cells with red triangles in top corner for hint"]
["KEA ID","Target ID","Target Name","Category","Key Attribute","Indicator","Poor","Fair","Good","Very Good","Current Rating","Projected Future Rating w No Action","Stress Ranking (calculated)","Stress Ranking (User Override)",null,null,null,null,null,"Projected Future Rating w Strategies","New Stress Ranking (calculated)","New Stress Ranking (User Override)",null,null,"Temp Indicator ID",null,"Target #","Current Score","Score w No Action","Score w Strategies","Current Weight","Future Weight No Action","Future Weight w Action","Current Weighted Score","Future No Action Weighted Score","Future Action Weighted Score","Current Weighted Average","Future No Action Weighted Average","Future Action Weighted Average"]
[{"$f":"ROW()+800","v":804},8,{"$f":"$D$1","v":"Mainstem River & Major Forks - Upper Chena"},"Landscape Context","Connectivity to tributaries and within mainstem","Number, extent, & type of barriers","Many widespread or complete manmade or natural blockages, Where culverts exist % of red barriers based on ADFG fish passage inventory"," Some widespread or complete manmade or natural blockages, Where culverts exist % of red barriers based on ADFG fish passage inventory","Few widespread or complete manmade or natural blockages, Where culverts exist % of green barriers based on ADFG fish passage inventory"," No widespread or complete manmade or natural blockages,","Good","Good -",{"$f":"IF(K4=0,\"\",IF(L4=0,\"\",INDEX(StressRankMatrix,MATCH(K4,Rating,0),MATCH(L4,Rating,0))))","v":"Medium"},null,null,null,null,null,null,{"$f":"IF(L4=\"\",\"\",IFERROR(INDEX(Outcomes!$F:$F, MATCH(A4,Outcomes!$H:$H,0)),L4))","v":"Good -"},{"$f":"IF(K4=\"\",\"\",IF(T4=0,\"\",INDEX(StressRankMatrix,MATCH(K4,Rating,0),MATCH(T4,Rating,0))))","v":"Medium"},null,null,null,{"$f":"IFERROR(INDEX(#REF!,MATCH(A4,#REF!,0)),\"\")","v":""},null,{"$f":"IF(E4=\"\",\"\",IF(E4>0,$B$4,\"error\"))","v":8},{"$f":"IF(K4=\"Poor\",Scoring!$B$50,IF(K4=\"Fair -\",Scoring!$B$49,IF(K4=\"Fair\",Scoring!$B$48,IF(K4=\"Good -\",Scoring!$B$47,IF(K4=\"Good\",Scoring!$B$46,IF(K4=\"Very Good\",Scoring!$B$45,IF(K4=\"\",0)))))))","v":80.03},{"$f":"IF(L4=\"Poor\",Scoring!$B$50,IF(L4=\"Fair -\",Scoring!$B$49,IF(L4=\"Fair\",Scoring!$B$48,IF(L4=\"Good -\",Scoring!$B$47,IF(L4=\"Good\",Scoring!$B$46,IF(L4=\"Very Good\",Scoring!$B$45,IF(L4=\"\",0)))))))","v":60.04},{"$f":"IF(T4=\"Poor\",Scoring!$B$50,IF(T4=\"Fair -\",Scoring!$B$49,IF(T4=\"Fair\",Scoring!$B$48,IF(T4=\"Good -\",Scoring!$B$47,IF(T4=\"Good\",Scoring!$B$46,IF(T4=\"Very Good\",Scoring!$B$45,IF(T4=\"\",0)))))))","v":60.04},{"$f":"IF(K4=\"Poor\",Scoring!$C$50,IF(K4=\"Fair -\",Scoring!$C$49,IF(K4=\"Fair\",Scoring!$C$48,IF(K4=\"Good -\",Scoring!$C$47,IF(K4=\"Good\",Scoring!$C$46,IF(K4=\"Very Good\",Scoring!$C$45,IF(K4=\"\",0)))))))","v":1},{"$f":"IF(L4=\"Poor\",Scoring!$C$50,IF(L4=\"Fair -\",Scoring!$C$49,IF(L4=\"Fair\",Scoring!$C$48,IF(L4=\"Good -\",Scoring!$C$47,IF(L4=\"Good\",Scoring!$C$46,IF(L4=\"Very Good\",Scoring!$C$45,IF(L4=\"\",0)))))))","v":1},{"$f":"IF(T4=\"Poor\",Scoring!$C$50,IF(T4=\"Fair -\",Scoring!$C$49,IF(T4=\"Fair\",Scoring!$C$48,IF(T4=\"Good -\",Scoring!$C$47,IF(T4=\"Good\",Scoring!$C$46,IF(T4=\"Very Good\",Scoring!$C$45,IF(T4=\"\",0)))))))","v":1},{"$f":"AB4*AE4","v":80.03},{"$f":"AC4*AF4","v":60.04},{"$f":"AD4*AG4","v":60.04}]
[{"$f":"ROW()+800","v":805},8,{"$f":"$D$1","v":"Mainstem River & Major Forks - Upper Chena"},"Landscape Context","Hydrologic regime","Natural fluctuations of surface and ground water -amount, frequency, timing, duration","Water levels, flows or fluctuations are too high or too low, not related to the precipitation, and unlikely to maintain nested targets in many habitats within the target area and downstream","Water levels, flows or fluctuations in relationship to precipitation and ground water are likely to maintain nested targets in some habitats within the target and downstream","Water levels, flows or fluctuations in relationship to precipitation and ground water are likely to maintain nested targets in most habitats within the target area and downstream","Water levels, flows or fluctuations in relationship to precipitation and ground water are likely to maintain nested targets in almost all habitats within the target area and downstream","Very Good","Very Good","-",null,null,null,null,null,null,{"$f":"IF(L5=\"\",\"\",IFERROR(INDEX(Outcomes!$F:$F, MATCH(A5,Outcomes!$H:$H,0)),L5))","v":"Very Good"},"-",null,null,null,{"$f":"IFERROR(INDEX(#REF!,MATCH(A5,#REF!,0)),\"\")","v":""},null,8,{"$f":"IF(K5=\"Poor\",Scoring!$B$50,IF(K5=\"Fair -\",Scoring!$B$49,IF(K5=\"Fair\",Scoring!$B$48,IF(K5=\"Good -\",Scoring!$B$47,IF(K5=\"Good\",Scoring!$B$46,IF(K5=\"Very Good\",Scoring!$B$45,IF(K5=\"\",0)))))))","v":100},{"$f":"IF(L5=\"Poor\",Scoring!$B$50,IF(L5=\"Fair -\",Scoring!$B$49,IF(L5=\"Fair\",Scoring!$B$48,IF(L5=\"Good -\",Scoring!$B$47,IF(L5=\"Good\",Scoring!$B$46,IF(L5=\"Very Good\",Scoring!$B$45,IF(L5=\"\",0)))))))","v":100},{"$f":"IF(T5=\"Poor\",Scoring!$B$50,IF(T5=\"Fair -\",Scoring!$B$49,IF(T5=\"Fair\",Scoring!$B$48,IF(T5=\"Good -\",Scoring!$B$47,IF(T5=\"Good\",Scoring!$B$46,IF(T5=\"Very Good\",Scoring!$B$45,IF(T5=\"\",0)))))))","v":100},{"$f":"IF(K5=\"Poor\",Scoring!$C$50,IF(K5=\"Fair -\",Scoring!$C$49,IF(K5=\"Fair\",Scoring!$C$48,IF(K5=\"Good -\",Scoring!$C$47,IF(K5=\"Good\",Scoring!$C$46,IF(K5=\"Very Good\",Scoring!$C$45,IF(K5=\"\",0)))))))","v":0.85},{"$f":"IF(L5=\"Poor\",Scoring!$C$50,IF(L5=\"Fair -\",Scoring!$C$49,IF(L5=\"Fair\",Scoring!$C$48,IF(L5=\"Good -\",Scoring!$C$47,IF(L5=\"Good\",Scoring!$C$46,IF(L5=\"Very Good\",Scoring!$C$45,IF(L5=\"\",0)))))))","v":0.85},{"$f":"IF(T5=\"Poor\",Scoring!$C$50,IF(T5=\"Fair -\",Scoring!$C$49,IF(T5=\"Fair\",Scoring!$C$48,IF(T5=\"Good -\",Scoring!$C$47,IF(T5=\"Good\",Scoring!$C$46,IF(T5=\"Very Good\",Scoring!$C$45,IF(T5=\"\",0)))))))","v":0.85},{"$f":"AB5*AE5","v":85},85,85]
[806,8,"Mainstem River & Major Forks - Upper Chena","Landscape Context","Substrate and banks (in channel habitat?)","Amount, type, size, availability of, & distribution, including woody debris","Low diversity of and abundance of suitable substrates and woody material in most habitats"," Moderate diversity of and abundance of suitable substrates and woody material in most habitats","Diversity and abundance of suitable substrates and woody debrus material in most habitat "," High diversity and abundance of suitable substrates and woody debrus material in most habitat","Good -","Fair","Medium",null,null,null,null,null,null,{"$f":"IF(L6=\"\",\"\",IFERROR(INDEX(Outcomes!$F:$F, MATCH(A6,Outcomes!$H:$H,0)),L6))","v":"Fair"},"Medium",null,null,null,{"$f":"IFERROR(INDEX(#REF!,MATCH(A6,#REF!,0)),\"\")","v":""},null,8,{"$f":"IF(K6=\"Poor\",Scoring!$B$50,IF(K6=\"Fair -\",Scoring!$B$49,IF(K6=\"Fair\",Scoring!$B$48,IF(K6=\"Good -\",Scoring!$B$47,IF(K6=\"Good\",Scoring!$B$46,IF(K6=\"Very Good\",Scoring!$B$45,IF(K6=\"\",0)))))))","v":60.04},{"$f":"IF(L6=\"Poor\",Scoring!$B$50,IF(L6=\"Fair -\",Scoring!$B$49,IF(L6=\"Fair\",Scoring!$B$48,IF(L6=\"Good -\",Scoring!$B$47,IF(L6=\"Good\",Scoring!$B$46,IF(L6=\"Very Good\",Scoring!$B$45,IF(L6=\"\",0)))))))","v":40.04},{"$f":"IF(T6=\"Poor\",Scoring!$B$50,IF(T6=\"Fair -\",Scoring!$B$49,IF(T6=\"Fair\",Scoring!$B$48,IF(T6=\"Good -\",Scoring!$B$47,IF(T6=\"Good\",Scoring!$B$46,IF(T6=\"Very Good\",Scoring!$B$45,IF(T6=\"\",0)))))))","v":40.04},{"$f":"IF(K6=\"Poor\",Scoring!$C$50,IF(K6=\"Fair -\",Scoring!$C$49,IF(K6=\"Fair\",Scoring!$C$48,IF(K6=\"Good -\",Scoring!$C$47,IF(K6=\"Good\",Scoring!$C$46,IF(K6=\"Very Good\",Scoring!$C$45,IF(K6=\"\",0)))))))","v":1},{"$f":"IF(L6=\"Poor\",Scoring!$C$50,IF(L6=\"Fair -\",Scoring!$C$49,IF(L6=\"Fair\",Scoring!$C$48,IF(L6=\"Good -\",Scoring!$C$47,IF(L6=\"Good\",Scoring!$C$46,IF(L6=\"Very Good\",Scoring!$C$45,IF(L6=\"\",0)))))))","v":1},{"$f":"IF(T6=\"Poor\",Scoring!$C$50,IF(T6=\"Fair -\",Scoring!$C$49,IF(T6=\"Fair\",Scoring!$C$48,IF(T6=\"Good -\",Scoring!$C$47,IF(T6=\"Good\",Scoring!$C$46,IF(T6=\"Very Good\",Scoring!$C$45,IF(T6=\"\",0)))))))","v":1},60.04,40.04,40.04]
[807,8,"Mainstem River & Major Forks - Upper Chena","Condition","Characteristic native communities","Presence of characteristic native communities within habitats","Few habitats have the characteristic native communities to accom-modate most nested targets in abundance","Some habitats have the characteristic native communities to accom-modate most nested targets in abundance","Most habitats have the characteristic native communities to accom-modate most nested targets in abundance","Almost all habitats have the characteristic native communities to accom­modate almost all nested targets in abundance","Very Good","Very Good","-",null,null,null,null,null,null,{"$f":"IF(L7=\"\",\"\",IFERROR(INDEX(Outcomes!$F:$F, MATCH(A7,Outcomes!$H:$H,0)),L7))","v":"Very Good"},"-",null,null,null,{"$f":"IFERROR(INDEX(#REF!,MATCH(A7,#REF!,0)),\"\")","v":""},null,8,{"$f":"IF(K7=\"Poor\",Scoring!$B$50,IF(K7=\"Fair -\",Scoring!$B$49,IF(K7=\"Fair\",Scoring!$B$48,IF(K7=\"Good -\",Scoring!$B$47,IF(K7=\"Good\",Scoring!$B$46,IF(K7=\"Very Good\",Scoring!$B$45,IF(K7=\"\",0)))))))","v":100},{"$f":"IF(L7=\"Poor\",Scoring!$B$50,IF(L7=\"Fair -\",Scoring!$B$49,IF(L7=\"Fair\",Scoring!$B$48,IF(L7=\"Good -\",Scoring!$B$47,IF(L7=\"Good\",Scoring!$B$46,IF(L7=\"Very Good\",Scoring!$B$45,IF(L7=\"\",0)))))))","v":100},{"$f":"IF(T7=\"Poor\",Scoring!$B$50,IF(T7=\"Fair -\",Scoring!$B$49,IF(T7=\"Fair\",Scoring!$B$48,IF(T7=\"Good -\",Scoring!$B$47,IF(T7=\"Good\",Scoring!$B$46,IF(T7=\"Very Good\",Scoring!$B$45,IF(T7=\"\",0)))))))","v":100},{"$f":"IF(K7=\"Poor\",Scoring!$C$50,IF(K7=\"Fair -\",Scoring!$C$49,IF(K7=\"Fair\",Scoring!$C$48,IF(K7=\"Good -\",Scoring!$C$47,IF(K7=\"Good\",Scoring!$C$46,IF(K7=\"Very Good\",Scoring!$C$45,IF(K7=\"\",0)))))))","v":0.85},{"$f":"IF(L7=\"Poor\",Scoring!$C$50,IF(L7=\"Fair -\",Scoring!$C$49,IF(L7=\"Fair\",Scoring!$C$48,IF(L7=\"Good -\",Scoring!$C$47,IF(L7=\"Good\",Scoring!$C$46,IF(L7=\"Very Good\",Scoring!$C$45,IF(L7=\"\",0)))))))","v":0.85},{"$f":"IF(T7=\"Poor\",Scoring!$C$50,IF(T7=\"Fair -\",Scoring!$C$49,IF(T7=\"Fair\",Scoring!$C$48,IF(T7=\"Good -\",Scoring!$C$47,IF(T7=\"Good\",Scoring!$C$46,IF(T7=\"Very Good\",Scoring!$C$45,IF(T7=\"\",0)))))))","v":0.85},85,85,85]
[808,8,"Mainstem River & Major Forks - Upper Chena","Condition","Species composition","Presence/absence, extent of invasive species"," High abundance of  invasive/non-native species in most habitats"," Moderate abundance of  invasive/non-native species in most habitats","Low presence of existing invasive/non-native species in most habitats with NO new invasive species  "," Mimimal to no abundance of  invasive/non-native species in most habitats","Good","Good -","Medium",null,null,null,null,null,null,{"$f":"IF(L8=\"\",\"\",IFERROR(INDEX(Outcomes!$F:$F, MATCH(A8,Outcomes!$H:$H,0)),L8))","v":"Good"},"-",null,null,null,{"$f":"IFERROR(INDEX(#REF!,MATCH(A8,#REF!,0)),\"\")","v":""},null,8,{"$f":"IF(K8=\"Poor\",Scoring!$B$50,IF(K8=\"Fair -\",Scoring!$B$49,IF(K8=\"Fair\",Scoring!$B$48,IF(K8=\"Good -\",Scoring!$B$47,IF(K8=\"Good\",Scoring!$B$46,IF(K8=\"Very Good\",Scoring!$B$45,IF(K8=\"\",0)))))))","v":80.03},{"$f":"IF(L8=\"Poor\",Scoring!$B$50,IF(L8=\"Fair -\",Scoring!$B$49,IF(L8=\"Fair\",Scoring!$B$48,IF(L8=\"Good -\",Scoring!$B$47,IF(L8=\"Good\",Scoring!$B$46,IF(L8=\"Very Good\",Scoring!$B$45,IF(L8=\"\",0)))))))","v":60.04},{"$f":"IF(T8=\"Poor\",Scoring!$B$50,IF(T8=\"Fair -\",Scoring!$B$49,IF(T8=\"Fair\",Scoring!$B$48,IF(T8=\"Good -\",Scoring!$B$47,IF(T8=\"Good\",Scoring!$B$46,IF(T8=\"Very Good\",Scoring!$B$45,IF(T8=\"\",0)))))))","v":80.03},{"$f":"IF(K8=\"Poor\",Scoring!$C$50,IF(K8=\"Fair -\",Scoring!$C$49,IF(K8=\"Fair\",Scoring!$C$48,IF(K8=\"Good -\",Scoring!$C$47,IF(K8=\"Good\",Scoring!$C$46,IF(K8=\"Very Good\",Scoring!$C$45,IF(K8=\"\",0)))))))","v":1},{"$f":"IF(L8=\"Poor\",Scoring!$C$50,IF(L8=\"Fair -\",Scoring!$C$49,IF(L8=\"Fair\",Scoring!$C$48,IF(L8=\"Good -\",Scoring!$C$47,IF(L8=\"Good\",Scoring!$C$46,IF(L8=\"Very Good\",Scoring!$C$45,IF(L8=\"\",0)))))))","v":1},{"$f":"IF(T8=\"Poor\",Scoring!$C$50,IF(T8=\"Fair -\",Scoring!$C$49,IF(T8=\"Fair\",Scoring!$C$48,IF(T8=\"Good -\",Scoring!$C$47,IF(T8=\"Good\",Scoring!$C$46,IF(T8=\"Very Good\",Scoring!$C$45,IF(T8=\"\",0)))))))","v":1},80.03,60.04,80.03]
[809,8,"Mainstem River & Major Forks - Upper Chena","Condition","Water quality","Sediment, temperature, DO, toxins, or litter/trash/residues","High % (TBD) not meeting most ADEC's standards "," Moderate habitats meet most ADEC’s standards","Most habitats are meeting most ADEC's standards","Majority to all habitats meet most ADEC’s standards","Good","Good","-","Low",null,null,null,null,null,{"$f":"IF(L9=\"\",\"\",IFERROR(INDEX(Outcomes!$F:$F, MATCH(A9,Outcomes!$H:$H,0)),L9))","v":"Good"},"-",null,null,null,{"$f":"IFERROR(INDEX(#REF!,MATCH(A9,#REF!,0)),\"\")","v":""},null,8,{"$f":"IF(K9=\"Poor\",Scoring!$B$50,IF(K9=\"Fair -\",Scoring!$B$49,IF(K9=\"Fair\",Scoring!$B$48,IF(K9=\"Good -\",Scoring!$B$47,IF(K9=\"Good\",Scoring!$B$46,IF(K9=\"Very Good\",Scoring!$B$45,IF(K9=\"\",0)))))))","v":80.03},{"$f":"IF(L9=\"Poor\",Scoring!$B$50,IF(L9=\"Fair -\",Scoring!$B$49,IF(L9=\"Fair\",Scoring!$B$48,IF(L9=\"Good -\",Scoring!$B$47,IF(L9=\"Good\",Scoring!$B$46,IF(L9=\"Very Good\",Scoring!$B$45,IF(L9=\"\",0)))))))","v":80.03},{"$f":"IF(T9=\"Poor\",Scoring!$B$50,IF(T9=\"Fair -\",Scoring!$B$49,IF(T9=\"Fair\",Scoring!$B$48,IF(T9=\"Good -\",Scoring!$B$47,IF(T9=\"Good\",Scoring!$B$46,IF(T9=\"Very Good\",Scoring!$B$45,IF(T9=\"\",0)))))))","v":80.03},{"$f":"IF(K9=\"Poor\",Scoring!$C$50,IF(K9=\"Fair -\",Scoring!$C$49,IF(K9=\"Fair\",Scoring!$C$48,IF(K9=\"Good -\",Scoring!$C$47,IF(K9=\"Good\",Scoring!$C$46,IF(K9=\"Very Good\",Scoring!$C$45,IF(K9=\"\",0)))))))","v":1},{"$f":"IF(L9=\"Poor\",Scoring!$C$50,IF(L9=\"Fair -\",Scoring!$C$49,IF(L9=\"Fair\",Scoring!$C$48,IF(L9=\"Good -\",Scoring!$C$47,IF(L9=\"Good\",Scoring!$C$46,IF(L9=\"Very Good\",Scoring!$C$45,IF(L9=\"\",0)))))))","v":1},{"$f":"IF(T9=\"Poor\",Scoring!$C$50,IF(T9=\"Fair -\",Scoring!$C$49,IF(T9=\"Fair\",Scoring!$C$48,IF(T9=\"Good -\",Scoring!$C$47,IF(T9=\"Good\",Scoring!$C$46,IF(T9=\"Very Good\",Scoring!$C$45,IF(T9=\"\",0)))))))","v":1},80.03,80.03,80.03]
[810,8,"Mainstem River & Major Forks - Upper Chena","Size","Extent of area","Riparian area and river length","Severe, mostly gone","Moderate to substantial loss","Minimal loss","Mother Nature","Good","Good","-",null,null,null,null,null,null,{"$f":"IF(L10=\"\",\"\",IFERROR(INDEX(Outcomes!$F:$F, MATCH(A10,Outcomes!$H:$H,0)),L10))","v":"Good"},"-",null,null,null,{"$f":"IFERROR(INDEX(#REF!,MATCH(A10,#REF!,0)),\"\")","v":""},null,8,{"$f":"IF(K10=\"Poor\",Scoring!$B$50,IF(K10=\"Fair -\",Scoring!$B$49,IF(K10=\"Fair\",Scoring!$B$48,IF(K10=\"Good -\",Scoring!$B$47,IF(K10=\"Good\",Scoring!$B$46,IF(K10=\"Very Good\",Scoring!$B$45,IF(K10=\"\",0)))))))","v":80.03},{"$f":"IF(L10=\"Poor\",Scoring!$B$50,IF(L10=\"Fair -\",Scoring!$B$49,IF(L10=\"Fair\",Scoring!$B$48,IF(L10=\"Good -\",Scoring!$B$47,IF(L10=\"Good\",Scoring!$B$46,IF(L10=\"Very Good\",Scoring!$B$45,IF(L10=\"\",0)))))))","v":80.03},{"$f":"IF(T10=\"Poor\",Scoring!$B$50,IF(T10=\"Fair -\",Scoring!$B$49,IF(T10=\"Fair\",Scoring!$B$48,IF(T10=\"Good -\",Scoring!$B$47,IF(T10=\"Good\",Scoring!$B$46,IF(T10=\"Very Good\",Scoring!$B$45,IF(T10=\"\",0)))))))","v":80.03},{"$f":"IF(K10=\"Poor\",Scoring!$C$50,IF(K10=\"Fair -\",Scoring!$C$49,IF(K10=\"Fair\",Scoring!$C$48,IF(K10=\"Good -\",Scoring!$C$47,IF(K10=\"Good\",Scoring!$C$46,IF(K10=\"Very Good\",Scoring!$C$45,IF(K10=\"\",0)))))))","v":1},{"$f":"IF(L10=\"Poor\",Scoring!$C$50,IF(L10=\"Fair -\",Scoring!$C$49,IF(L10=\"Fair\",Scoring!$C$48,IF(L10=\"Good -\",Scoring!$C$47,IF(L10=\"Good\",Scoring!$C$46,IF(L10=\"Very Good\",Scoring!$C$45,IF(L10=\"\",0)))))))","v":1},{"$f":"IF(T10=\"Poor\",Scoring!$C$50,IF(T10=\"Fair -\",Scoring!$C$49,IF(T10=\"Fair\",Scoring!$C$48,IF(T10=\"Good -\",Scoring!$C$47,IF(T10=\"Good\",Scoring!$C$46,IF(T10=\"Very Good\",Scoring!$C$45,IF(T10=\"\",0)))))))","v":1},80.03,80.03,80.03]
[811,8,"Mainstem River & Major Forks - Upper Chena",null,null,null,null,null,null,null,null,null,"",null,null,null,null,null,null,{"$f":"IF(L11=\"\",\"\",IFERROR(INDEX(Outcomes!$F:$F, MATCH(A11,Outcomes!$H:$H,0)),L11))","v":""},"",null,null,null,{"$f":"IFERROR(INDEX(#REF!,MATCH(A11,#REF!,0)),\"\")","v":""},null,"",{"$f":"IF(K11=\"Poor\",Scoring!$B$50,IF(K11=\"Fair -\",Scoring!$B$49,IF(K11=\"Fair\",Scoring!$B$48,IF(K11=\"Good -\",Scoring!$B$47,IF(K11=\"Good\",Scoring!$B$46,IF(K11=\"Very Good\",Scoring!$B$45,IF(K11=\"\",0)))))))","v":0},{"$f":"IF(L11=\"Poor\",Scoring!$B$50,IF(L11=\"Fair -\",Scoring!$B$49,IF(L11=\"Fair\",Scoring!$B$48,IF(L11=\"Good -\",Scoring!$B$47,IF(L11=\"Good\",Scoring!$B$46,IF(L11=\"Very Good\",Scoring!$B$45,IF(L11=\"\",0)))))))","v":0},{"$f":"IF(T11=\"Poor\",Scoring!$B$50,IF(T11=\"Fair -\",Scoring!$B$49,IF(T11=\"Fair\",Scoring!$B$48,IF(T11=\"Good -\",Scoring!$B$47,IF(T11=\"Good\",Scoring!$B$46,IF(T11=\"Very Good\",Scoring!$B$45,IF(T11=\"\",0)))))))","v":0},{"$f":"IF(K11=\"Poor\",Scoring!$C$50,IF(K11=\"Fair -\",Scoring!$C$49,IF(K11=\"Fair\",Scoring!$C$48,IF(K11=\"Good -\",Scoring!$C$47,IF(K11=\"Good\",Scoring!$C$46,IF(K11=\"Very Good\",Scoring!$C$45,IF(K11=\"\",0)))))))","v":0},{"$f":"IF(L11=\"Poor\",Scoring!$C$50,IF(L11=\"Fair -\",Scoring!$C$49,IF(L11=\"Fair\",Scoring!$C$48,IF(L11=\"Good -\",Scoring!$C$47,IF(L11=\"Good\",Scoring!$C$46,IF(L11=\"Very Good\",Scoring!$C$45,IF(L11=\"\",0)))))))","v":0},{"$f":"IF(T11=\"Poor\",Scoring!$C$50,IF(T11=\"Fair -\",Scoring!$C$49,IF(T11=\"Fair\",Scoring!$C$48,IF(T11=\"Good -\",Scoring!$C$47,IF(T11=\"Good\",Scoring!$C$46,IF(T11=\"Very Good\",Scoring!$C$45,IF(T11=\"\",0)))))))","v":0},0,0,0]
[812,8,"Mainstem River & Major Forks - Upper Chena",null,null,null,null,null,null,null,null,null,"",null,null,null,null,null,null,{"$f":"IF(L12=\"\",\"\",IFERROR(INDEX(Outcomes!$F:$F, MATCH(A12,Outcomes!$H:$H,0)),L12))","v":""},"",null,null,null,{"$f":"IFERROR(INDEX(#REF!,MATCH(A12,#REF!,0)),\"\")","v":""},null,"",{"$f":"IF(K12=\"Poor\",Scoring!$B$50,IF(K12=\"Fair -\",Scoring!$B$49,IF(K12=\"Fair\",Scoring!$B$48,IF(K12=\"Good -\",Scoring!$B$47,IF(K12=\"Good\",Scoring!$B$46,IF(K12=\"Very Good\",Scoring!$B$45,IF(K12=\"\",0)))))))","v":0},{"$f":"IF(L12=\"Poor\",Scoring!$B$50,IF(L12=\"Fair -\",Scoring!$B$49,IF(L12=\"Fair\",Scoring!$B$48,IF(L12=\"Good -\",Scoring!$B$47,IF(L12=\"Good\",Scoring!$B$46,IF(L12=\"Very Good\",Scoring!$B$45,IF(L12=\"\",0)))))))","v":0},{"$f":"IF(T12=\"Poor\",Scoring!$B$50,IF(T12=\"Fair -\",Scoring!$B$49,IF(T12=\"Fair\",Scoring!$B$48,IF(T12=\"Good -\",Scoring!$B$47,IF(T12=\"Good\",Scoring!$B$46,IF(T12=\"Very Good\",Scoring!$B$45,IF(T12=\"\",0)))))))","v":0},{"$f":"IF(K12=\"Poor\",Scoring!$C$50,IF(K12=\"Fair -\",Scoring!$C$49,IF(K12=\"Fair\",Scoring!$C$48,IF(K12=\"Good -\",Scoring!$C$47,IF(K12=\"Good\",Scoring!$C$46,IF(K12=\"Very Good\",Scoring!$C$45,IF(K12=\"\",0)))))))","v":0},{"$f":"IF(L12=\"Poor\",Scoring!$C$50,IF(L12=\"Fair -\",Scoring!$C$49,IF(L12=\"Fair\",Scoring!$C$48,IF(L12=\"Good -\",Scoring!$C$47,IF(L12=\"Good\",Scoring!$C$46,IF(L12=\"Very Good\",Scoring!$C$45,IF(L12=\"\",0)))))))","v":0},{"$f":"IF(T12=\"Poor\",Scoring!$C$50,IF(T12=\"Fair -\",Scoring!$C$49,IF(T12=\"Fair\",Scoring!$C$48,IF(T12=\"Good -\",Scoring!$C$47,IF(T12=\"Good\",Scoring!$C$46,IF(T12=\"Very Good\",Scoring!$C$45,IF(T12=\"\",0)))))))","v":0},0,0,0]
[813,8,"Mainstem River & Major Forks - Upper Chena",null,null,null,null,null,null,null,null,null,"",null,null,null,null,null,null,{"$f":"IF(L13=\"\",\"\",IFERROR(INDEX(Outcomes!$F:$F, MATCH(A13,Outcomes!$H:$H,0)),L13))","v":""},"",null,null,null,{"$f":"IFERROR(INDEX(#REF!,MATCH(A13,#REF!,0)),\"\")","v":""},null,"",{"$f":"IF(K13=\"Poor\",Scoring!$B$50,IF(K13=\"Fair -\",Scoring!$B$49,IF(K13=\"Fair\",Scoring!$B$48,IF(K13=\"Good -\",Scoring!$B$47,IF(K13=\"Good\",Scoring!$B$46,IF(K13=\"Very Good\",Scoring!$B$45,IF(K13=\"\",0)))))))","v":0},{"$f":"IF(L13=\"Poor\",Scoring!$B$50,IF(L13=\"Fair -\",Scoring!$B$49,IF(L13=\"Fair\",Scoring!$B$48,IF(L13=\"Good -\",Scoring!$B$47,IF(L13=\"Good\",Scoring!$B$46,IF(L13=\"Very Good\",Scoring!$B$45,IF(L13=\"\",0)))))))","v":0},{"$f":"IF(T13=\"Poor\",Scoring!$B$50,IF(T13=\"Fair -\",Scoring!$B$49,IF(T13=\"Fair\",Scoring!$B$48,IF(T13=\"Good -\",Scoring!$B$47,IF(T13=\"Good\",Scoring!$B$46,IF(T13=\"Very Good\",Scoring!$B$45,IF(T13=\"\",0)))))))","v":0},{"$f":"IF(K13=\"Poor\",Scoring!$C$50,IF(K13=\"Fair -\",Scoring!$C$49,IF(K13=\"Fair\",Scoring!$C$48,IF(K13=\"Good -\",Scoring!$C$47,IF(K13=\"Good\",Scoring!$C$46,IF(K13=\"Very Good\",Scoring!$C$45,IF(K13=\"\",0)))))))","v":0},{"$f":"IF(L13=\"Poor\",Scoring!$C$50,IF(L13=\"Fair -\",Scoring!$C$49,IF(L13=\"Fair\",Scoring!$C$48,IF(L13=\"Good -\",Scoring!$C$47,IF(L13=\"Good\",Scoring!$C$46,IF(L13=\"Very Good\",Scoring!$C$45,IF(L13=\"\",0)))))))","v":0},{"$f":"IF(T13=\"Poor\",Scoring!$C$50,IF(T13=\"Fair -\",Scoring!$C$49,IF(T13=\"Fair\",Scoring!$C$48,IF(T13=\"Good -\",Scoring!$C$47,IF(T13=\"Good\",Scoring!$C$46,IF(T13=\"Very Good\",Scoring!$C$45,IF(T13=\"\",0)))))))","v":0},0,0,0]
[null,null,null,"Overall Target Health Score                           (0 = Poor - 100 = Very Good)",null,null,null,null,null,null,{"$f":"AK14","v":82.113432835820888},{"$f":"AL14","v":73.161194029850734},null,null,null,null,null,null,null,{"$f":"AM14","v":76.144776119402977},null,null,null,null,null,null,null,null,null,null,{"$f":"SUM(AE4:AE13)","v":6.7},6.7,6.7,550.16,490.17999999999995,510.16999999999996,{"$f":"IF(AH14=0,\"\",AH14/AE14)","v":82.113432835820888},{"$f":"IF(AI14=0,\"\",AI14/AF14)","v":73.161194029850734},{"$f":"IF(AJ14=0,\"\",AJ14/AG14)","v":76.144776119402977}]
[]
[null,null,null,null,"Threats (Sources of Stress)         List Sources of stress below (max of 12 per target).  Enter Contribution of each source where applicable.","  Key Attribute >",{"$f":"IF(E4=0,\"\",E4)","v":"Connectivity to tributaries and within mainstem"},{"$f":"IF(E5=0,\"\",E5)","v":"Hydrologic regime"},{"$f":"IF(E6=0,\"\",E6)","v":"Substrate and banks (in channel habitat?)"},{"$f":"IF(E7=0,\"\",E7)","v":"Characteristic native communities"},{"$f":"IF(E8=0,\"\",E8)","v":"Species composition"},{"$f":"IF(E9=0,\"\",E9)","v":"Water quality"},{"$f":"IF(E10=0,\"\",E10)","v":"Extent of area"},{"$f":"IF(E11=0,\"\",E11)","v":""},{"$f":"IF(E12=0,\"\",E12)","v":""},{"$f":"IF(E13=0,\"\",E13)","v":""},"Threat to Target Rank"]
[null,null,null,null,null,"Stress Rank>",{"$f":"IF(M4=\"\",\"\", IF(N4=0,M4,N4))","v":"Medium"},{"$f":"IF(M5=\"\",\"\", IF(N5=0,M5,N5))","v":"-"},{"$f":"IF(M6=\"\",\"\", IF(N6=0,M6,N6))","v":"Medium"},{"$f":"IF(M7=\"\",\"\", IF(N7=0,M7,N7))","v":"-"},{"$f":"IF(M8=\"\",\"\", IF(N8=0,M8,N8))","v":"Medium"},{"$f":"IF(M9=\"\",\"\", IF(N9=0,M9,N9))","v":"Low"},{"$f":"IF(M10=\"\",\"\", IF(N10=0,M10,N10))","v":"-"},{"$f":"IF(M11=\"\",\"\", IF(N11=0,M11,N11))","v":""},{"$f":"IF(M12=\"\",\"\", IF(N12=0,M12,N12))","v":""},{"$f":"IF(M13=\"\",\"\", IF(N13=0,M13,N13))","v":""}]
[null,null,null,null,"Invasive terrestrial species/pests/pathogens","Contribution",null,null,null,null,"Medium",null,null,null,null,null,{"$f":"IF(AF19>=Scoring!$B$24,\"Very High\",IF(AF19>=Scoring!$B$25,\"High\",IF(AF19>=Scoring!$B$26,\"Medium\",IF(AF19>=Scoring!$B$27,\"Low\",\"-\"))))","v":"Low"}]
[null,null,null,null,null,"Threat Rank ",{"$f":"IF(G18=0,\"\",INDEX(ThreatRankMatrix,MATCH($G$17,Rank,0),MATCH(G18,Rank,0)))","v":""},{"$f":"IF(H18=0,\"\",INDEX(ThreatRankMatrix,MATCH($H$17,Rank,0),MATCH(H18,Rank,0)))","v":""},{"$f":"IF(I18=0,\"\",INDEX(ThreatRankMatrix,MATCH($I$17,Rank,0),MATCH(I18,Rank,0)))","v":""},{"$f":"IF(J18=0,\"\",INDEX(ThreatRankMatrix,MATCH($J$17,Rank,0),MATCH(J18,Rank,0)))","v":""},{"$f":"IF(K18=0,\"\",INDEX(ThreatRankMatrix,MATCH($K$17,Rank,0),MATCH(K18,Rank,0)))","v":"Low"},{"$f":"IF(L18=0,\"\",INDEX(ThreatRankMatrix,MATCH($L$17,Rank,0),MATCH(L18,Rank,0)))","v":""},{"$f":"IF(M18=0,\"\",INDEX(ThreatRankMatrix,MATCH($M$17,Rank,0),MATCH(M18,Rank,0)))","v":""},{"$f":"IF(N18=0,\"\",INDEX(ThreatRankMatrix,MATCH($N$17,Rank,0),MATCH(N18,Rank,0)))","v":""},{"$f":"IF(O18=0,\"\",INDEX(ThreatRankMatrix,MATCH($O$17,Rank,0),MATCH(O18,Rank,0)))","v":""},{"$f":"IF(P18=0,\"\",INDEX(ThreatRankMatrix,MATCH($P$17,Rank,0),MATCH(P18,Rank,0)))","v":""},null,null,null,null,null,null,null,null,null,null,null,null,null,null,null,{"$f":"SUM(AG19:AP19)","v":1},{"$f":"IF(G$17=\"\",0,(IF(G18=0,0,IF(G19=0,0,INDEX(ThreatScore,MATCH(G19,Rank,0))))))","v":0},0,0,0,1,0,0,0,0,0]
[null,null,null,null,"Incompatible road design / maintenance","Contribution","High",null,null,null,"Medium",null,null,null,null,null,{"$f":"IF(AF21>=Scoring!$B$24,\"Very High\",IF(AF21>=Scoring!$B$25,\"High\",IF(AF21>=Scoring!$B$26,\"Medium\",IF(AF21>=Scoring!$B$27,\"Low\",\"-\"))))","v":"Medium"}]
[null,null,null,null,null,"Threat Rank ",{"$f":"IF(G20=0,\"\",INDEX(ThreatRankMatrix,MATCH($G$17,Rank,0),MATCH(G20,Rank,0)))","v":"Medium"},{"$f":"IF(H20=0,\"\",INDEX(ThreatRankMatrix,MATCH($H$17,Rank,0),MATCH(H20,Rank,0)))","v":""},{"$f":"IF(I20=0,\"\",INDEX(ThreatRankMatrix,MATCH($I$17,Rank,0),MATCH(I20,Rank,0)))","v":""},{"$f":"IF(J20=0,\"\",INDEX(ThreatRankMatrix,MATCH($J$17,Rank,0),MATCH(J20,Rank,0)))","v":""},{"$f":"IF(K20=0,\"\",INDEX(ThreatRankMatrix,MATCH($K$17,Rank,0),MATCH(K20,Rank,0)))","v":"Low"},{"$f":"IF(L20=0,\"\",INDEX(ThreatRankMatrix,MATCH($L$17,Rank,0),MATCH(L20,Rank,0)))","v":""},{"$f":"IF(M20=0,\"\",INDEX(ThreatRankMatrix,MATCH($M$17,Rank,0),MATCH(M20,Rank,0)))","v":""},{"$f":"IF(N20=0,\"\",INDEX(ThreatRankMatrix,MATCH($N$17,Rank,0),MATCH(N20,Rank,0)))","v":""},{"$f":"IF(O20=0,\"\",INDEX(ThreatRankMatrix,MATCH($O$17,Rank,0),MATCH(O20,Rank,0)))","v":""},{"$f":"IF(P20=0,\"\",INDEX(ThreatRankMatrix,MATCH($P$17,Rank,0),MATCH(P20,Rank,0)))","v":""},null,null,null,null,null,null,null,null,null,null,null,null,null,null,null,{"$f":"SUM(AG21:AP21)","v":8},{"$f":"IF(G$17=\"\",0,(IF(G20=0,0,IF(G21=0,0,INDEX(ThreatScore,MATCH(G21,Rank,0))))))","v":7},0,0,0,1,0,0,0,0,0]
[null,null,null,null,"Incompatible mining (excluding roads)","Contribution",null,null,null,null,null,"Medium",null,null,null,null,{"$f":"IF(AF23>=Scoring!$B$24,\"Very High\",IF(AF23>=Scoring!$B$25,\"High\",IF(AF23>=Scoring!$B$26,\"Medium\",IF(AF23>=Scoring!$B$27,\"Low\",\"-\"))))","v":"Low"}]
[null,null,null,null,null,"Threat Rank ",{"$f":"IF(G22=0,\"\",INDEX(ThreatRankMatrix,MATCH($G$17,Rank,0),MATCH(G22,Rank,0)))","v":""},{"$f":"IF(H22=0,\"\",INDEX(ThreatRankMatrix,MATCH($H$17,Rank,0),MATCH(H22,Rank,0)))","v":""},{"$f":"IF(I22=0,\"\",INDEX(ThreatRankMatrix,MATCH($I$17,Rank,0),MATCH(I22,Rank,0)))","v":""},{"$f":"IF(J22=0,\"\",INDEX(ThreatRankMatrix,MATCH($J$17,Rank,0),MATCH(J22,Rank,0)))","v":""},{"$f":"IF(K22=0,\"\",INDEX(ThreatRankMatrix,MATCH($K$17,Rank,0),MATCH(K22,Rank,0)))","v":""},{"$f":"IF(L22=0,\"\",INDEX(ThreatRankMatrix,MATCH($L$17,Rank,0),MATCH(L22,Rank,0)))","v":"Low"},{"$f":"IF(M22=0,\"\",INDEX(ThreatRankMatrix,MATCH($M$17,Rank,0),MATCH(M22,Rank,0)))","v":""},{"$f":"IF(N22=0,\"\",INDEX(ThreatRankMatrix,MATCH($N$17,Rank,0),MATCH(N22,Rank,0)))","v":""},{"$f":"IF(O22=0,\"\",INDEX(ThreatRankMatrix,MATCH($O$17,Rank,0),MATCH(O22,Rank,0)))","v":""},{"$f":"IF(P22=0,\"\",INDEX(ThreatRankMatrix,MATCH($P$17,Rank,0),MATCH(P22,Rank,0)))","v":""},null,null,null,null,null,null,null,null,null,null,null,null,null,null,null,{"$f":"SUM(AG23:AP23)","v":1},{"$f":"IF(G$17=\"\",0,(IF(G22=0,0,IF(G23=0,0,INDEX(ThreatScore,MATCH(G23,Rank,0))))))","v":0},0,0,0,0,1,0,0,0,0]
[null,null,null,null,"Incompatible motorized vehicle use off-roads/ATV/bulldozers (e.g. pioneering, etc.)","Contribution",null,null,"Low",null,"Medium","Medium",null,null,null,null,{"$f":"IF(AF25>=Scoring!$B$24,\"Very High\",IF(AF25>=Scoring!$B$25,\"High\",IF(AF25>=Scoring!$B$26,\"Medium\",IF(AF25>=Scoring!$B$27,\"Low\",\"-\"))))","v":"Low"}]
[null,null,null,null,null,"Threat Rank ",{"$f":"IF(G24=0,\"\",INDEX(ThreatRankMatrix,MATCH($G$17,Rank,0),MATCH(G24,Rank,0)))","v":""},{"$f":"IF(H24=0,\"\",INDEX(ThreatRankMatrix,MATCH($H$17,Rank,0),MATCH(H24,Rank,0)))","v":""},{"$f":"IF(I24=0,\"\",INDEX(ThreatRankMatrix,MATCH($I$17,Rank,0),MATCH(I24,Rank,0)))","v":"Low"},{"$f":"IF(J24=0,\"\",INDEX(ThreatRankMatrix,MATCH($J$17,Rank,0),MATCH(J24,Rank,0)))","v":""},{"$f":"IF(K24=0,\"\",INDEX(ThreatRankMatrix,MATCH($K$17,Rank,0),MATCH(K24,Rank,0)))","v":"Low"},{"$f":"IF(L24=0,\"\",INDEX(ThreatRankMatrix,MATCH($L$17,Rank,0),MATCH(L24,Rank,0)))","v":"Low"},{"$f":"IF(M24=0,\"\",INDEX(ThreatRankMatrix,MATCH($M$17,Rank,0),MATCH(M24,Rank,0)))","v":""},{"$f":"IF(N24=0,\"\",INDEX(ThreatRankMatrix,MATCH($N$17,Rank,0),MATCH(N24,Rank,0)))","v":""},{"$f":"IF(O24=0,\"\",INDEX(ThreatRankMatrix,MATCH($O$17,Rank,0),MATCH(O24,Rank,0)))","v":""},{"$f":"IF(P24=0,\"\",INDEX(ThreatRankMatrix,MATCH($P$17,Rank,0),MATCH(P24,Rank,0)))","v":""},null,null,null,null,null,null,null,null,null,null,null,null,null,null,null,{"$f":"SUM(AG25:AP25)","v":3},{"$f":"IF(G$17=\"\",0,(IF(G24=0,0,IF(G25=0,0,INDEX(ThreatScore,MATCH(G25,Rank,0))))))","v":0},0,1,0,1,1,0,0,0,0]
[null,null,null,null,"Incompatible boating","Contribution",null,null,"High","Medium",null,"Medium",null,null,null,null,{"$f":"IF(AF27>=Scoring!$B$24,\"Very High\",IF(AF27>=Scoring!$B$25,\"High\",IF(AF27>=Scoring!$B$26,\"Medium\",IF(AF27>=Scoring!$B$27,\"Low\",\"-\"))))","v":"Medium"}]
[null,null,null,null,null,"Threat Rank ",{"$f":"IF(G26=0,\"\",INDEX(ThreatRankMatrix,MATCH($G$17,Rank,0),MATCH(G26,Rank,0)))","v":""},{"$f":"IF(H26=0,\"\",INDEX(ThreatRankMatrix,MATCH($H$17,Rank,0),MATCH(H26,Rank,0)))","v":""},{"$f":"IF(I26=0,\"\",INDEX(ThreatRankMatrix,MATCH($I$17,Rank,0),MATCH(I26,Rank,0)))","v":"Medium"},{"$f":"IF(J26=0,\"\",INDEX(ThreatRankMatrix,MATCH($J$17,Rank,0),MATCH(J26,Rank,0)))","v":"-"},{"$f":"IF(K26=0,\"\",INDEX(ThreatRankMatrix,MATCH($K$17,Rank,0),MATCH(K26,Rank,0)))","v":""},{"$f":"IF(L26=0,\"\",INDEX(ThreatRankMatrix,MATCH($L$17,Rank,0),MATCH(L26,Rank,0)))","v":"Low"},{"$f":"IF(M26=0,\"\",INDEX(ThreatRankMatrix,MATCH($M$17,Rank,0),MATCH(M26,Rank,0)))","v":""},{"$f":"IF(N26=0,\"\",INDEX(ThreatRankMatrix,MATCH($N$17,Rank,0),MATCH(N26,Rank,0)))","v":""},{"$f":"IF(O26=0,\"\",INDEX(ThreatRankMatrix,MATCH($O$17,Rank,0),MATCH(O26,Rank,0)))","v":""},{"$f":"IF(P26=0,\"\",INDEX(ThreatRankMatrix,MATCH($P$17,Rank,0),MATCH(P26,Rank,0)))","v":""},null,null,null,null,null,null,null,null,null,null,null,null,null,null,null,{"$f":"SUM(AG27:AP27)","v":8},{"$f":"IF(G$17=\"\",0,(IF(G26=0,0,IF(G27=0,0,INDEX(ThreatScore,MATCH(G27,Rank,0))))))","v":0},0,7,0,0,1,0,0,0,0]
[null,null,null,null,"Hardening stream banks with rip rap, channelization, etc.","Contribution","Medium",null,null,null,null,null,null,null,null,null,{"$f":"IF(AF29>=Scoring!$B$24,\"Very High\",IF(AF29>=Scoring!$B$25,\"High\",IF(AF29>=Scoring!$B$26,\"Medium\",IF(AF29>=Scoring!$B$27,\"Low\",\"-\"))))","v":"Low"}]
[null,null,null,null,null,"Threat Rank ",{"$f":"IF(G28=0,\"\",INDEX(ThreatRankMatrix,MATCH($G$17,Rank,0),MATCH(G28,Rank,0)))","v":"Low"},{"$f":"IF(H28=0,\"\",INDEX(ThreatRankMatrix,MATCH($H$17,Rank,0),MATCH(H28,Rank,0)))","v":""},{"$f":"IF(I28=0,\"\",INDEX(ThreatRankMatrix,MATCH($I$17,Rank,0),MATCH(I28,Rank,0)))","v":""},{"$f":"IF(J28=0,\"\",INDEX(ThreatRankMatrix,MATCH($J$17,Rank,0),MATCH(J28,Rank,0)))","v":""},{"$f":"IF(K28=0,\"\",INDEX(ThreatRankMatrix,MATCH($K$17,Rank,0),MATCH(K28,Rank,0)))","v":""},{"$f":"IF(L28=0,\"\",INDEX(ThreatRankMatrix,MATCH($L$17,Rank,0),MATCH(L28,Rank,0)))","v":""},{"$f":"IF(M28=0,\"\",INDEX(ThreatRankMatrix,MATCH($M$17,Rank,0),MATCH(M28,Rank,0)))","v":""},{"$f":"IF(N28=0,\"\",INDEX(ThreatRankMatrix,MATCH($N$17,Rank,0),MATCH(N28,Rank,0)))","v":""},{"$f":"IF(O28=0,\"\",INDEX(ThreatRankMatrix,MATCH($O$17,Rank,0),MATCH(O28,Rank,0)))","v":""},{"$f":"IF(P28=0,\"\",INDEX(ThreatRankMatrix,MATCH($P$17,Rank,0),MATCH(P28,Rank,0)))","v":""},null,null,null,null,null,null,null,null,null,null,null,null,null,null,null,{"$f":"SUM(AG29:AP29)","v":1},{"$f":"IF(G$17=\"\",0,(IF(G28=0,0,IF(G29=0,0,INDEX(ThreatScore,MATCH(G29,Rank,0))))))","v":1},0,0,0,0,0,0,0,0,0]
[null,null,null,null,"Dumping of trash, debris, etc. ","Contribution",null,null,null,null,null,null,null,null,null,null,{"$f":"IF(AF31>=Scoring!$B$24,\"Very High\",IF(AF31>=Scoring!$B$25,\"High\",IF(AF31>=Scoring!$B$26,\"Medium\",IF(AF31>=Scoring!$B$27,\"Low\",\"-\"))))","v":"-"}]
[null,null,null,null,null,"Threat Rank ",{"$f":"IF(G30=0,\"\",INDEX(ThreatRankMatrix,MATCH($G$17,Rank,0),MATCH(G30,Rank,0)))","v":""},{"$f":"IF(H30=0,\"\",INDEX(ThreatRankMatrix,MATCH($H$17,Rank,0),MATCH(H30,Rank,0)))","v":""},{"$f":"IF(I30=0,\"\",INDEX(ThreatRankMatrix,MATCH($I$17,Rank,0),MATCH(I30,Rank,0)))","v":""},{"$f":"IF(J30=0,\"\",INDEX(ThreatRankMatrix,MATCH($J$17,Rank,0),MATCH(J30,Rank,0)))","v":""},{"$f":"IF(K30=0,\"\",INDEX(ThreatRankMatrix,MATCH($K$17,Rank,0),MATCH(K30,Rank,0)))","v":""},{"$f":"IF(L30=0,\"\",INDEX(ThreatRankMatrix,MATCH($L$17,Rank,0),MATCH(L30,Rank,0)))","v":""},{"$f":"IF(M30=0,\"\",INDEX(ThreatRankMatrix,MATCH($M$17,Rank,0),MATCH(M30,Rank,0)))","v":""},{"$f":"IF(N30=0,\"\",INDEX(ThreatRankMatrix,MATCH($N$17,Rank,0),MATCH(N30,Rank,0)))","v":""},{"$f":"IF(O30=0,\"\",INDEX(ThreatRankMatrix,MATCH($O$17,Rank,0),MATCH(O30,Rank,0)))","v":""},{"$f":"IF(P30=0,\"\",INDEX(ThreatRankMatrix,MATCH($P$17,Rank,0),MATCH(P30,Rank,0)))","v":""},null,null,null,null,null,null,null,null,null,null,null,null,null,null,null,{"$f":"SUM(AG31:AP31)","v":0},{"$f":"IF(G$17=\"\",0,(IF(G30=0,0,IF(G31=0,0,INDEX(ThreatScore,MATCH(G31,Rank,0))))))","v":0},0,0,0,0,0,0,0,0,0]
[null,null,null,null,"Stormwater","Contribution",null,null,null,null,"Low",null,null,null,null,null,{"$f":"IF(AF33>=Scoring!$B$24,\"Very High\",IF(AF33>=Scoring!$B$25,\"High\",IF(AF33>=Scoring!$B$26,\"Medium\",IF(AF33>=Scoring!$B$27,\"Low\",\"-\"))))","v":"Low"}]
[null,null,null,null,null,"Threat Rank ",{"$f":"IF(G32=0,\"\",INDEX(ThreatRankMatrix,MATCH($G$17,Rank,0),MATCH(G32,Rank,0)))","v":""},{"$f":"IF(H32=0,\"\",INDEX(ThreatRankMatrix,MATCH($H$17,Rank,0),MATCH(H32,Rank,0)))","v":""},{"$f":"IF(I32=0,\"\",INDEX(ThreatRankMatrix,MATCH($I$17,Rank,0),MATCH(I32,Rank,0)))","v":""},{"$f":"IF(J32=0,\"\",INDEX(ThreatRankMatrix,MATCH($J$17,Rank,0),MATCH(J32,Rank,0)))","v":""},{"$f":"IF(K32=0,\"\",INDEX(ThreatRankMatrix,MATCH($K$17,Rank,0),MATCH(K32,Rank,0)))","v":"Low"},{"$f":"IF(L32=0,\"\",INDEX(ThreatRankMatrix,MATCH($L$17,Rank,0),MATCH(L32,Rank,0)))","v":""},{"$f":"IF(M32=0,\"\",INDEX(ThreatRankMatrix,MATCH($M$17,Rank,0),MATCH(M32,Rank,0)))","v":""},{"$f":"IF(N32=0,\"\",INDEX(ThreatRankMatrix,MATCH($N$17,Rank,0),MATCH(N32,Rank,0)))","v":""},{"$f":"IF(O32=0,\"\",INDEX(ThreatRankMatrix,MATCH($O$17,Rank,0),MATCH(O32,Rank,0)))","v":""},{"$f":"IF(P32=0,\"\",INDEX(ThreatRankMatrix,MATCH($P$17,Rank,0),MATCH(P32,Rank,0)))","v":""},null,null,null,null,null,null,null,null,null,null,null,null,null,null,null,{"$f":"SUM(AG33:AP33)","v":1},{"$f":"IF(G$17=\"\",0,(IF(G32=0,0,IF(G33=0,0,INDEX(ThreatScore,MATCH(G33,Rank,0))))))","v":0},0,0,0,1,0,0,0,0,0]
[null,null,null,null,"Construction of ditches, dikes, drainage, dredging","Contribution",null,null,null,null,null,null,null,null,null,null,{"$f":"IF(AF35>=Scoring!$B$24,\"Very High\",IF(AF35>=Scoring!$B$25,\"High\",IF(AF35>=Scoring!$B$26,\"Medium\",IF(AF35>=Scoring!$B$27,\"Low\",\"-\"))))","v":"-"}]
[null,null,null,null,null,"Threat Rank ",{"$f":"IF(G34=0,\"\",INDEX(ThreatRankMatrix,MATCH($G$17,Rank,0),MATCH(G34,Rank,0)))","v":""},{"$f":"IF(H34=0,\"\",INDEX(ThreatRankMatrix,MATCH($H$17,Rank,0),MATCH(H34,Rank,0)))","v":""},{"$f":"IF(I34=0,\"\",INDEX(ThreatRankMatrix,MATCH($I$17,Rank,0),MATCH(I34,Rank,0)))","v":""},{"$f":"IF(J34=0,\"\",INDEX(ThreatRankMatrix,MATCH($J$17,Rank,0),MATCH(J34,Rank,0)))","v":""},{"$f":"IF(K34=0,\"\",INDEX(ThreatRankMatrix,MATCH($K$17,Rank,0),MATCH(K34,Rank,0)))","v":""},{"$f":"IF(L34=0,\"\",INDEX(ThreatRankMatrix,MATCH($L$17,Rank,0),MATCH(L34,Rank,0)))","v":""},{"$f":"IF(M34=0,\"\",INDEX(ThreatRankMatrix,MATCH($M$17,Rank,0),MATCH(M34,Rank,0)))","v":""},{"$f":"IF(N34=0,\"\",INDEX(ThreatRankMatrix,MATCH($N$17,Rank,0),MATCH(N34,Rank,0)))","v":""},{"$f":"IF(O34=0,\"\",INDEX(ThreatRankMatrix,MATCH($O$17,Rank,0),MATCH(O34,Rank,0)))","v":""},{"$f":"IF(P34=0,\"\",INDEX(ThreatRankMatrix,MATCH($P$17,Rank,0),MATCH(P34,Rank,0)))","v":""},null,null,null,null,null,null,null,null,null,null,null,null,null,null,null,{"$f":"SUM(AG35:AP35)","v":0},{"$f":"IF(G$17=\"\",0,(IF(G34=0,0,IF(G35=0,0,INDEX(ThreatScore,MATCH(G35,Rank,0))))))","v":0},0,0,0,0,0,0,0,0,0]
[null,null,null,null,"Fire suppression","Contribution",null,null,null,null,null,null,null,null,null,null,{"$f":"IF(AF37>=Scoring!$B$24,\"Very High\",IF(AF37>=Scoring!$B$25,\"High\",IF(AF37>=Scoring!$B$26,\"Medium\",IF(AF37>=Scoring!$B$27,\"Low\",\"-\"))))","v":"-"}]
[null,null,null,null,null,"Threat Rank ",{"$f":"IF(G36=0,\"\",INDEX(ThreatRankMatrix,MATCH($G$17,Rank,0),MATCH(G36,Rank,0)))","v":""},{"$f":"IF(H36=0,\"\",INDEX(ThreatRankMatrix,MATCH($H$17,Rank,0),MATCH(H36,Rank,0)))","v":""},{"$f":"IF(I36=0,\"\",INDEX(ThreatRankMatrix,MATCH($I$17,Rank,0),MATCH(I36,Rank,0)))","v":""},{"$f":"IF(J36=0,\"\",INDEX(ThreatRankMatrix,MATCH($J$17,Rank,0),MATCH(J36,Rank,0)))","v":""},{"$f":"IF(K36=0,\"\",INDEX(ThreatRankMatrix,MATCH($K$17,Rank,0),MATCH(K36,Rank,0)))","v":""},{"$f":"IF(L36=0,\"\",INDEX(ThreatRankMatrix,MATCH($L$17,Rank,0),MATCH(L36,Rank,0)))","v":""},{"$f":"IF(M36=0,\"\",INDEX(ThreatRankMatrix,MATCH($M$17,Rank,0),MATCH(M36,Rank,0)))","v":""},{"$f":"IF(N36=0,\"\",INDEX(ThreatRankMatrix,MATCH($N$17,Rank,0),MATCH(N36,Rank,0)))","v":""},{"$f":"IF(O36=0,\"\",INDEX(ThreatRankMatrix,MATCH($O$17,Rank,0),MATCH(O36,Rank,0)))","v":""},{"$f":"IF(P36=0,\"\",INDEX(ThreatRankMatrix,MATCH($P$17,Rank,0),MATCH(P36,Rank,0)))","v":""},null,null,null,null,null,null,null,null,null,null,null,null,null,null,null,{"$f":"SUM(AG37:AP37)","v":0},{"$f":"IF(G$17=\"\",0,(IF(G36=0,0,IF(G37=0,0,INDEX(ThreatScore,MATCH(G37,Rank,0))))))","v":0},{"$f":"IF(H$17=\"\",0,(IF(H36=0,0,IF(H37=0,0,INDEX(ThreatScore,MATCH(H37,Rank,0))))))","v":0},{"$f":"IF(I$17=\"\",0,(IF(I36=0,0,IF(I37=0,0,INDEX(ThreatScore,MATCH(I37,Rank,0))))))","v":0},{"$f":"IF(J$17=\"\",0,(IF(J36=0,0,IF(J37=0,0,INDEX(ThreatScore,MATCH(J37,Rank,0))))))","v":0},{"$f":"IF(K$17=\"\",0,(IF(K36=0,0,IF(K37=0,0,INDEX(ThreatScore,MATCH(K37,Rank,0))))))","v":0},{"$f":"IF(L$17=\"\",0,(IF(L36=0,0,IF(L37=0,0,INDEX(ThreatScore,MATCH(L37,Rank,0))))))","v":0},{"$f":"IF(M$17=\"\",0,(IF(M36=0,0,IF(M37=0,0,INDEX(ThreatScore,MATCH(M37,Rank,0))))))","v":0},{"$f":"IF(N$17=\"\",0,(IF(N36=0,0,IF(N37=0,0,INDEX(ThreatScore,MATCH(N37,Rank,0))))))","v":0},{"$f":"IF(O$17=\"\",0,(IF(O36=0,0,IF(O37=0,0,INDEX(ThreatScore,MATCH(O37,Rank,0))))))","v":0},{"$f":"IF(P$17=\"\",0,(IF(P36=0,0,IF(P37=0,0,INDEX(ThreatScore,MATCH(P37,Rank,0))))))","v":0}]
[null,null,null,null,"Incompatible timber management practices","Contribution",null,null,null,null,null,null,null,null,null,null,{"$f":"IF(AF39>=Scoring!$B$24,\"Very High\",IF(AF39>=Scoring!$B$25,\"High\",IF(AF39>=Scoring!$B$26,\"Medium\",IF(AF39>=Scoring!$B$27,\"Low\",\"-\"))))","v":"-"}]
[null,null,null,null,null,"Threat Rank ",{"$f":"IF(G38=0,\"\",INDEX(ThreatRankMatrix,MATCH($G$17,Rank,0),MATCH(G38,Rank,0)))","v":""},{"$f":"IF(H38=0,\"\",INDEX(ThreatRankMatrix,MATCH($H$17,Rank,0),MATCH(H38,Rank,0)))","v":""},{"$f":"IF(I38=0,\"\",INDEX(ThreatRankMatrix,MATCH($I$17,Rank,0),MATCH(I38,Rank,0)))","v":""},{"$f":"IF(J38=0,\"\",INDEX(ThreatRankMatrix,MATCH($J$17,Rank,0),MATCH(J38,Rank,0)))","v":""},{"$f":"IF(K38=0,\"\",INDEX(ThreatRankMatrix,MATCH($K$17,Rank,0),MATCH(K38,Rank,0)))","v":""},{"$f":"IF(L38=0,\"\",INDEX(ThreatRankMatrix,MATCH($L$17,Rank,0),MATCH(L38,Rank,0)))","v":""},{"$f":"IF(M38=0,\"\",INDEX(ThreatRankMatrix,MATCH($M$17,Rank,0),MATCH(M38,Rank,0)))","v":""},{"$f":"IF(N38=0,\"\",INDEX(ThreatRankMatrix,MATCH($N$17,Rank,0),MATCH(N38,Rank,0)))","v":""},{"$f":"IF(O38=0,\"\",INDEX(ThreatRankMatrix,MATCH($O$17,Rank,0),MATCH(O38,Rank,0)))","v":""},{"$f":"IF(P38=0,\"\",INDEX(ThreatRankMatrix,MATCH($P$17,Rank,0),MATCH(P38,Rank,0)))","v":""},null,null,null,null,null,null,null,null,null,null,null,null,null,null,null,{"$f":"SUM(AG39:AP39)","v":0},{"$f":"IF(G$17=\"\",0,(IF(G38=0,0,IF(G39=0,0,INDEX(ThreatScore,MATCH(G39,Rank,0))))))","v":0},{"$f":"IF(H$17=\"\",0,(IF(H38=0,0,IF(H39=0,0,INDEX(ThreatScore,MATCH(H39,Rank,0))))))","v":0},{"$f":"IF(I$17=\"\",0,(IF(I38=0,0,IF(I39=0,0,INDEX(ThreatScore,MATCH(I39,Rank,0))))))","v":0},{"$f":"IF(J$17=\"\",0,(IF(J38=0,0,IF(J39=0,0,INDEX(ThreatScore,MATCH(J39,Rank,0))))))","v":0},{"$f":"IF(K$17=\"\",0,(IF(K38=0,0,IF(K39=0,0,INDEX(ThreatScore,MATCH(K39,Rank,0))))))","v":0},{"$f":"IF(L$17=\"\",0,(IF(L38=0,0,IF(L39=0,0,INDEX(ThreatScore,MATCH(L39,Rank,0))))))","v":0},{"$f":"IF(M$17=\"\",0,(IF(M38=0,0,IF(M39=0,0,INDEX(ThreatScore,MATCH(M39,Rank,0))))))","v":0},{"$f":"IF(N$17=\"\",0,(IF(N38=0,0,IF(N39=0,0,INDEX(ThreatScore,MATCH(N39,Rank,0))))))","v":0},{"$f":"IF(O$17=\"\",0,(IF(O38=0,0,IF(O39=0,0,INDEX(ThreatScore,MATCH(O39,Rank,0))))))","v":0},{"$f":"IF(P$17=\"\",0,(IF(P38=0,0,IF(P39=0,0,INDEX(ThreatScore,MATCH(P39,Rank,0))))))","v":0}]
[null,null,null,null,null,"Contribution",null,null,null,null,null,null,null,null,null,null,{"$f":"IF(AF41>=Scoring!$B$24,\"Very High\",IF(AF41>=Scoring!$B$25,\"High\",IF(AF41>=Scoring!$B$26,\"Medium\",IF(AF41>=Scoring!$B$27,\"Low\",\"-\"))))","v":"-"}]
[null,null,null,null,null,"Threat Rank ",{"$f":"IF(G40=0,\"\",INDEX(ThreatRankMatrix,MATCH($G$17,Rank,0),MATCH(G40,Rank,0)))","v":""},{"$f":"IF(H40=0,\"\",INDEX(ThreatRankMatrix,MATCH($H$17,Rank,0),MATCH(H40,Rank,0)))","v":""},{"$f":"IF(I40=0,\"\",INDEX(ThreatRankMatrix,MATCH($I$17,Rank,0),MATCH(I40,Rank,0)))","v":""},{"$f":"IF(J40=0,\"\",INDEX(ThreatRankMatrix,MATCH($J$17,Rank,0),MATCH(J40,Rank,0)))","v":""},{"$f":"IF(K40=0,\"\",INDEX(ThreatRankMatrix,MATCH($K$17,Rank,0),MATCH(K40,Rank,0)))","v":""},{"$f":"IF(L40=0,\"\",INDEX(ThreatRankMatrix,MATCH($L$17,Rank,0),MATCH(L40,Rank,0)))","v":""},{"$f":"IF(M40=0,\"\",INDEX(ThreatRankMatrix,MATCH($M$17,Rank,0),MATCH(M40,Rank,0)))","v":""},{"$f":"IF(N40=0,\"\",INDEX(ThreatRankMatrix,MATCH($N$17,Rank,0),MATCH(N40,Rank,0)))","v":""},{"$f":"IF(O40=0,\"\",INDEX(ThreatRankMatrix,MATCH($O$17,Rank,0),MATCH(O40,Rank,0)))","v":""},{"$f":"IF(P40=0,\"\",INDEX(ThreatRankMatrix,MATCH($P$17,Rank,0),MATCH(P40,Rank,0)))","v":""},null,null,null,null,null,null,null,null,null,null,null,null,null,null,null,{"$f":"SUM(AG41:AP41)","v":0},{"$f":"IF(G$17=\"\",0,(IF(G40=0,0,IF(G41=0,0,INDEX(ThreatScore,MATCH(G41,Rank,0))))))","v":0},0,0,0,0,0,0,0,0,0]

{"sheet":"9","index":13,"n_rows":41,"n_cols":42,"rows_kept":41,"cut":false,"hidden":false,"merged":[[0,3,0,4],[15,4,16,4],[15,16,16,16],[17,4,18,4],[17,16,18,16],[13,3,13,4],[19,4,20,4],[19,16,20,16],[21,4,22,4],[21,16,22,16],[23,4,24,4],[23,16,24,16],[25,4,26,4],[25,16,26,16],[33,4,34,4],[33,16,34,16],[39,4,40,4],[39,16,40,16],[27,4,28,4],[27,16,28,16],[29,4,30,4],[29,16,30,16],[31,4,32,4],[31,16,32,16],[35,4,36,4],[35,16,36,16],[37,4,38,4],[37,16,38,16]]}
[null,null,null,{"$f":"IF(Targets!C50=0,\"\",Targets!C50)","v":"Mainstem River & Major Forks - Lower Chena"},{"$f":"IF(Targets!C50=0,\"\",Targets!C50)","v":"Mainstem River & Major Forks - Lower Chena"},"  Key Attributes & Future Threats"]
[null,null,null,null,null,"Place cursor over cells with red triangles in top corner for hint"]
["KEA ID","Target ID","Target Name","Category","Key Attribute","Indicator","Poor","Fair","Good","Very Good","Current Rating","Projected Future Rating w No Action","Stress Ranking (calculated)","Stress Ranking (User Override)",null,null,null,null,null,"Projected Future Rating w Strategies","New Stress Ranking (calculated)","New Stress Ranking (User Override)",null,null,"Temp Indicator ID",null,"Target #","Current Score","Score w No Action","Score w Strategies","Current Weight","Future Weight No Action","Future Weight w Action","Current Weighted Score","Future No Action Weighted Score","Future Action Weighted Score","Current Weighted Average","Future No Action Weighted Average","Future Action Weighted Average"]
[{"$f":"ROW()+900","v":904},9,{"$f":"$D$1","v":"Mainstem River & Major Forks - Lower Chena"},"Landscape Context","Connectivity to tributaries and within mainstem","Number, extent, & type of barriers","Many widespread or complete manmade or natural blockages, Where culverts exist % of red barriers based on ADFG fish passage inventory"," Some widespread or complete manmade or natural blockages, Where culverts exist % of red barriers based on ADFG fish passage inventory","Few widespread or complete manmade or natural blockages, Where culverts exist % of green barriers based on ADFG fish passage inventory"," No widespread or complete manmade or natural blockages,","Good","Good",{"$f":"IF(K4=0,\"\",IF(L4=0,\"\",INDEX(StressRankMatrix,MATCH(K4,Rating,0),MATCH(L4,Rating,0))))","v":"-"},null,null,null,null,null,null,{"$f":"IF(L4=\"\",\"\",IFERROR(INDEX(Outcomes!$F:$F, MATCH(A4,Outcomes!$H:$H,0)),L4))","v":"Good"},{"$f":"IF(K4=\"\",\"\",IF(T4=0,\"\",INDEX(StressRankMatrix,MATCH(K4,Rating,0),MATCH(T4,Rating,0))))","v":"-"},null,null,null,{"$f":"IFERROR(INDEX(#REF!,MATCH(A4,#REF!,0)),\"\")","v":""},null,{"$f":"IF(E4=\"\",\"\",IF(E4>0,$B$4,\"error\"))","v":9},{"$f":"IF(K4=\"Poor\",Scoring!$B$50,IF(K4=\"Fair -\",Scoring!$B$49,IF(K4=\"Fair\",Scoring!$B$48,IF(K4=\"Good -\",Scoring!$B$47,IF(K4=\"Good\",Scoring!$B$46,IF(K4=\"Very Good\",Scoring!$B$45,IF(K4=\"\",0)))))))","v":80.03},{"$f":"IF(L4=\"Poor\",Scoring!$B$50,IF(L4=\"Fair -\",Scoring!$B$49,IF(L4=\"Fair\",Scoring!$B$48,IF(L4=\"Good -\",Scoring!$B$47,IF(L4=\"Good\",Scoring!$B$46,IF(L4=\"Very Good\",Scoring!$B$45,IF(L4=\"\",0)))))))","v":80.03},{"$f":"IF(T4=\"Poor\",Scoring!$B$50,IF(T4=\"Fair -\",Scoring!$B$49,IF(T4=\"Fair\",Scoring!$B$48,IF(T4=\"Good -\",Scoring!$B$47,IF(T4=\"Good\",Scoring!$B$46,IF(T4=\"Very Good\",Scoring!$B$45,IF(T4=\"\",0)))))))","v":80.03},{"$f":"IF(K4=\"Poor\",Scoring!$C$50,IF(K4=\"Fair -\",Scoring!$C$49,IF(K4=\"Fair\",Scoring!$C$48,IF(K4=\"Good -\",Scoring!$C$47,IF(K4=\"Good\",Scoring!$C$46,IF(K4=\"Very Good\",Scoring!$C$45,IF(K4=\"\",0)))))))","v":1},{"$f":"IF(L4=\"Poor\",Scoring!$C$50,IF(L4=\"Fair -\",Scoring!$C$49,IF(L4=\"Fair\",Scoring!$C$48,IF(L4=\"Good -\",Scoring!$C$47,IF(L4=\"Good\",Scoring!$C$46,IF(L4=\"Very Good\",Scoring!$C$45,IF(L4=\"\",0)))))))","v":1},{"$f":"IF(T4=\"Poor\",Scoring!$C$50,IF(T4=\"Fair -\",Scoring!$C$49,IF(T4=\"Fair\",Scoring!$C$48,IF(T4=\"Good -\",Scoring!$C$47,IF(T4=\"Good\",Scoring!$C$46,IF(T4=\"Very Good\",Scoring!$C$45,IF(T4=\"\",0)))))))","v":1},{"$f":"AB4*AE4","v":80.03},{"$f":"AC4*AF4","v":80.03},{"$f":"AD4*AG4","v":80.03}]
[{"$f":"ROW()+900","v":905},9,{"$f":"$D$1","v":"Mainstem River & Major Forks - Lower Chena"},"Landscape Context","Hydrologic regime","Natural fluctuations of surface and ground water -amount, frequency, timing, duration","Water levels, flows or fluctuations are too high or too low, not related to the precipitation, and unlikely to maintain nested targets in many habitats within the target area and downstream","Water levels, flows or fluctuations in relationship to precipitation and ground water are likely to maintain nested targets in some habitats within the target and downstream","Water levels, flows or fluctuations in relationship to precipitation and ground water are likely to maintain nested targets in most habitats within the target area and downstream","Water levels, flows or fluctuations in relationship to precipitation and ground water are likely to maintain nested targets in almost all habitats within the target area and downstream","Good","Good","-",null,null,null,null,null,null,{"$f":"IF(L5=\"\",\"\",IFERROR(INDEX(Outcomes!$F:$F, MATCH(A5,Outcomes!$H:$H,0)),L5))","v":"Good"},"-",null,null,null,{"$f":"IFERROR(INDEX(#REF!,MATCH(A5,#REF!,0)),\"\")","v":""},null,9,{"$f":"IF(K5=\"Poor\",Scoring!$B$50,IF(K5=\"Fair -\",Scoring!$B$49,IF(K5=\"Fair\",Scoring!$B$48,IF(K5=\"Good -\",Scoring!$B$47,IF(K5=\"Good\",Scoring!$B$46,IF(K5=\"Very Good\",Scoring!$B$45,IF(K5=\"\",0)))))))","v":80.03},{"$f":"IF(L5=\"Poor\",Scoring!$B$50,IF(L5=\"Fair -\",Scoring!$B$49,IF(L5=\"Fair\",Scoring!$B$48,IF(L5=\"Good -\",Scoring!$B$47,IF(L5=\"Good\",Scoring!$B$46,IF(L5=\"Very Good\",Scoring!$B$45,IF(L5=\"\",0)))))))","v":80.03},{"$f":"IF(T5=\"Poor\",Scoring!$B$50,IF(T5=\"Fair -\",Scoring!$B$49,IF(T5=\"Fair\",Scoring!$B$48,IF(T5=\"Good -\",Scoring!$B$47,IF(T5=\"Good\",Scoring!$B$46,IF(T5=\"Very Good\",Scoring!$B$45,IF(T5=\"\",0)))))))","v":80.03},{"$f":"IF(K5=\"Poor\",Scoring!$C$50,IF(K5=\"Fair -\",Scoring!$C$49,IF(K5=\"Fair\",Scoring!$C$48,IF(K5=\"Good -\",Scoring!$C$47,IF(K5=\"Good\",Scoring!$C$46,IF(K5=\"Very Good\",Scoring!$C$45,IF(K5=\"\",0)))))))","v":1},{"$f":"IF(L5=\"Poor\",Scoring!$C$50,IF(L5=\"Fair -\",Scoring!$C$49,IF(L5=\"Fair\",Scoring!$C$48,IF(L5=\"Good -\",Scoring!$C$47,IF(L5=\"Good\",Scoring!$C$46,IF(L5=\"Very Good\",Scoring!$C$45,IF(L5=\"\",0)))))))","v":1},{"$f":"IF(T5=\"Poor\",Scoring!$C$50,IF(T5=\"Fair -\",Scoring!$C$49,IF(T5=\"Fair\",Scoring!$C$48,IF(T5=\"Good -\",Scoring!$C$47,IF(T5=\"Good\",Scoring!$C$46,IF(T5=\"Very Good\",Scoring!$C$45,IF(T5=\"\",0)))))))","v":1},{"$f":"AB5*AE5","v":80.03},80.03,80.03]
[906,9,"Mainstem River & Major Forks - Lower Chena","Landscape Context","Substrate and banks (in channel habitat?)","Amount, type, size, availability of, & distribution, including woody debris","Low diversity of and abundance of suitable substrates and woody material in most habitats"," Moderate diversity of and abundance of suitable substrates and woody material in most habitats","Diversity and abundance of suitable substrates and woody debrus material in most habitat "," High diversity and abundance of suitable substrates and woody debrus material in most habitat","Good -","Fair","Medium",null,null,null,null,null,null,{"$f":"IF(L6=\"\",\"\",IFERROR(INDEX(Outcomes!$F:$F, MATCH(A6,Outcomes!$H:$H,0)),L6))","v":"Good -"},"Low",null,null,null,{"$f":"IFERROR(INDEX(#REF!,MATCH(A6,#REF!,0)),\"\")","v":""},null,9,{"$f":"IF(K6=\"Poor\",Scoring!$B$50,IF(K6=\"Fair -\",Scoring!$B$49,IF(K6=\"Fair\",Scoring!$B$48,IF(K6=\"Good -\",Scoring!$B$47,IF(K6=\"Good\",Scoring!$B$46,IF(K6=\"Very Good\",Scoring!$B$45,IF(K6=\"\",0)))))))","v":60.04},{"$f":"IF(L6=\"Poor\",Scoring!$B$50,IF(L6=\"Fair -\",Scoring!$B$49,IF(L6=\"Fair\",Scoring!$B$48,IF(L6=\"Good -\",Scoring!$B$47,IF(L6=\"Good\",Scoring!$B$46,IF(L6=\"Very Good\",Scoring!$B$45,IF(L6=\"\",0)))))))","v":40.04},{"$f":"IF(T6=\"Poor\",Scoring!$B$50,IF(T6=\"Fair -\",Scoring!$B$49,IF(T6=\"Fair\",Scoring!$B$48,IF(T6=\"Good -\",Scoring!$B$47,IF(T6=\"Good\",Scoring!$B$46,IF(T6=\"Very Good\",Scoring!$B$45,IF(T6=\"\",0)))))))","v":60.04},{"$f":"IF(K6=\"Poor\",Scoring!$C$50,IF(K6=\"Fair -\",Scoring!$C$49,IF(K6=\"Fair\",Scoring!$C$48,IF(K6=\"Good -\",Scoring!$C$47,IF(K6=\"Good\",Scoring!$C$46,IF(K6=\"Very Good\",Scoring!$C$45,IF(K6=\"\",0)))))))","v":1},{"$f":"IF(L6=\"Poor\",Scoring!$C$50,IF(L6=\"Fair -\",Scoring!$C$49,IF(L6=\"Fair\",Scoring!$C$48,IF(L6=\"Good -\",Scoring!$C$47,IF(L6=\"Good\",Scoring!$C$46,IF(L6=\"Very Good\",Scoring!$C$45,IF(L6=\"\",0)))))))","v":1},{"$f":"IF(T6=\"Poor\",Scoring!$C$50,IF(T6=\"Fair -\",Scoring!$C$49,IF(T6=\"Fair\",Scoring!$C$48,IF(T6=\"Good -\",Scoring!$C$47,IF(T6=\"Good\",Scoring!$C$46,IF(T6=\"Very Good\",Scoring!$C$45,IF(T6=\"\",0)))))))","v":1},60.04,40.04,60.04]
[907,9,"Mainstem River & Major Forks - Lower Chena","Condition","Characteristic native communities","Presence of characteristic native communities within habitats","Few habitats have the characteristic native communities to accom-modate most nested targets in abundance","Some habitats have the characteristic native communities to accom-modate most nested targets in abundance","Most habitats have the characteristic native communities to accom-modate most nested targets in abundance","Almost all habitats have the characteristic native communities to accom­modate almost all nested targets in abundance","Good -","Fair","Medium",null,null,null,null,null,null,{"$f":"IF(L7=\"\",\"\",IFERROR(INDEX(Outcomes!$F:$F, MATCH(A7,Outcomes!$H:$H,0)),L7))","v":"Good -"},"Low",null,null,null,{"$f":"IFERROR(INDEX(#REF!,MATCH(A7,#REF!,0)),\"\")","v":""},null,9,{"$f":"IF(K7=\"Poor\",Scoring!$B$50,IF(K7=\"Fair -\",Scoring!$B$49,IF(K7=\"Fair\",Scoring!$B$48,IF(K7=\"Good -\",Scoring!$B$47,IF(K7=\"Good\",Scoring!$B$46,IF(K7=\"Very Good\",Scoring!$B$45,IF(K7=\"\",0)))))))","v":60.04},{"$f":"IF(L7=\"Poor\",Scoring!$B$50,IF(L7=\"Fair -\",Scoring!$B$49,IF(L7=\"Fair\",Scoring!$B$48,IF(L7=\"Good -\",Scoring!$B$47,IF(L7=\"Good\",Scoring!$B$46,IF(L7=\"Very Good\",Scoring!$B$45,IF(L7=\"\",0)))))))","v":40.04},{"$f":"IF(T7=\"Poor\",Scoring!$B$50,IF(T7=\"Fair -\",Scoring!$B$49,IF(T7=\"Fair\",Scoring!$B$48,IF(T7=\"Good -\",Scoring!$B$47,IF(T7=\"Good\",Scoring!$B$46,IF(T7=\"Very Good\",Scoring!$B$45,IF(T7=\"\",0)))))))","v":60.04},{"$f":"IF(K7=\"Poor\",Scoring!$C$50,IF(K7=\"Fair -\",Scoring!$C$49,IF(K7=\"Fair\",Scoring!$C$48,IF(K7=\"Good -\",Scoring!$C$47,IF(K7=\"Good\",Scoring!$C$46,IF(K7=\"Very Good\",Scoring!$C$45,IF(K7=\"\",0)))))))","v":1},{"$f":"IF(L7=\"Poor\",Scoring!$C$50,IF(L7=\"Fair -\",Scoring!$C$49,IF(L7=\"Fair\",Scoring!$C$48,IF(L7=\"Good -\",Scoring!$C$47,IF(L7=\"Good\",Scoring!$C$46,IF(L7=\"Very Good\",Scoring!$C$45,IF(L7=\"\",0)))))))","v":1},{"$f":"IF(T7=\"Poor\",Scoring!$C$50,IF(T7=\"Fair -\",Scoring!$C$49,IF(T7=\"Fair\",Scoring!$C$48,IF(T7=\"Good -\",Scoring!$C$47,IF(T7=\"Good\",Scoring!$C$46,IF(T7=\"Very Good\",Scoring!$C$45,IF(T7=\"\",0)))))))","v":1},60.04,40.04,60.04]
[908,9,"Mainstem River & Major Forks - Lower Chena","Condition","Species composition","Presence/absence, extent of invasive species"," High abundance of  invasive/non-native species in most habitats"," Moderate abundance of  invasive/non-native species in most habitats","Low presence of existing invasive/non-native species in most habitats with NO new invasive species  "," Mimimal to no abundance of  invasive/non-native species in most habitats","Good -","Fair -","High",null,null,null,null,null,null,{"$f":"IF(L8=\"\",\"\",IFERROR(INDEX(Outcomes!$F:$F, MATCH(A8,Outcomes!$H:$H,0)),L8))","v":"Good -"},"Low",null,null,null,{"$f":"IFERROR(INDEX(#REF!,MATCH(A8,#REF!,0)),\"\")","v":""},null,9,{"$f":"IF(K8=\"Poor\",Scoring!$B$50,IF(K8=\"Fair -\",Scoring!$B$49,IF(K8=\"Fair\",Scoring!$B$48,IF(K8=\"Good -\",Scoring!$B$47,IF(K8=\"Good\",Scoring!$B$46,IF(K8=\"Very Good\",Scoring!$B$45,IF(K8=\"\",0)))))))","v":60.04},{"$f":"IF(L8=\"Poor\",Scoring!$B$50,IF(L8=\"Fair -\",Scoring!$B$49,IF(L8=\"Fair\",Scoring!$B$48,IF(L8=\"Good -\",Scoring!$B$47,IF(L8=\"Good\",Scoring!$B$46,IF(L8=\"Very Good\",Scoring!$B$45,IF(L8=\"\",0)))))))","v":20.03},{"$f":"IF(T8=\"Poor\",Scoring!$B$50,IF(T8=\"Fair -\",Scoring!$B$49,IF(T8=\"Fair\",Scoring!$B$48,IF(T8=\"Good -\",Scoring!$B$47,IF(T8=\"Good\",Scoring!$B$46,IF(T8=\"Very Good\",Scoring!$B$45,IF(T8=\"\",0)))))))","v":60.04},{"$f":"IF(K8=\"Poor\",Scoring!$C$50,IF(K8=\"Fair -\",Scoring!$C$49,IF(K8=\"Fair\",Scoring!$C$48,IF(K8=\"Good -\",Scoring!$C$47,IF(K8=\"Good\",Scoring!$C$46,IF(K8=\"Very Good\",Scoring!$C$45,IF(K8=\"\",0)))))))","v":1},{"$f":"IF(L8=\"Poor\",Scoring!$C$50,IF(L8=\"Fair -\",Scoring!$C$49,IF(L8=\"Fair\",Scoring!$C$48,IF(L8=\"Good -\",Scoring!$C$47,IF(L8=\"Good\",Scoring!$C$46,IF(L8=\"Very Good\",Scoring!$C$45,IF(L8=\"\",0)))))))","v":1},{"$f":"IF(T8=\"Poor\",Scoring!$C$50,IF(T8=\"Fair -\",Scoring!$C$49,IF(T8=\"Fair\",Scoring!$C$48,IF(T8=\"Good -\",Scoring!$C$47,IF(T8=\"Good\",Scoring!$C$46,IF(T8=\"Very Good\",Scoring!$C$45,IF(T8=\"\",0)))))))","v":1},60.04,20.03,60.04]
[909,9,"Mainstem River & Major Forks - Lower Chena","Condition","Water quality","Sediment, temperature, DO, toxins, or litter/trash/residues","High % (TBD) not meeting most ADEC's standards "," Moderate habitats meet most ADEC’s standards","Most habitats are meeting most ADEC's standards","Majority to all habitats meet most ADEC’s standards","Fair","Fair -","High",null,null,null,null,null,null,{"$f":"IF(L9=\"\",\"\",IFERROR(INDEX(Outcomes!$F:$F, MATCH(A9,Outcomes!$H:$H,0)),L9))","v":"Good -"},"-",null,null,null,{"$f":"IFERROR(INDEX(#REF!,MATCH(A9,#REF!,0)),\"\")","v":""},null,9,{"$f":"IF(K9=\"Poor\",Scoring!$B$50,IF(K9=\"Fair -\",Scoring!$B$49,IF(K9=\"Fair\",Scoring!$B$48,IF(K9=\"Good -\",Scoring!$B$47,IF(K9=\"Good\",Scoring!$B$46,IF(K9=\"Very Good\",Scoring!$B$45,IF(K9=\"\",0)))))))","v":40.04},{"$f":"IF(L9=\"Poor\",Scoring!$B$50,IF(L9=\"Fair -\",Scoring!$B$49,IF(L9=\"Fair\",Scoring!$B$48,IF(L9=\"Good -\",Scoring!$B$47,IF(L9=\"Good\",Scoring!$B$46,IF(L9=\"Very Good\",Scoring!$B$45,IF(L9=\"\",0)))))))","v":20.03},{"$f":"IF(T9=\"Poor\",Scoring!$B$50,IF(T9=\"Fair -\",Scoring!$B$49,IF(T9=\"Fair\",Scoring!$B$48,IF(T9=\"Good -\",Scoring!$B$47,IF(T9=\"Good\",Scoring!$B$46,IF(T9=\"Very Good\",Scoring!$B$45,IF(T9=\"\",0)))))))","v":60.04},{"$f":"IF(K9=\"Poor\",Scoring!$C$50,IF(K9=\"Fair -\",Scoring!$C$49,IF(K9=\"Fair\",Scoring!$C$48,IF(K9=\"Good -\",Scoring!$C$47,IF(K9=\"Good\",Scoring!$C$46,IF(K9=\"Very Good\",Scoring!$C$45,IF(K9=\"\",0)))))))","v":1},{"$f":"IF(L9=\"Poor\",Scoring!$C$50,IF(L9=\"Fair -\",Scoring!$C$49,IF(L9=\"Fair\",Scoring!$C$48,IF(L9=\"Good -\",Scoring!$C$47,IF(L9=\"Good\",Scoring!$C$46,IF(L9=\"Very Good\",Scoring!$C$45,IF(L9=\"\",0)))))))","v":1},{"$f":"IF(T9=\"Poor\",Scoring!$C$50,IF(T9=\"Fair -\",Scoring!$C$49,IF(T9=\"Fair\",Scoring!$C$48,IF(T9=\"Good -\",Scoring!$C$47,IF(T9=\"Good\",Scoring!$C$46,IF(T9=\"Very Good\",Scoring!$C$45,IF(T9=\"\",0)))))))","v":1},40.04,20.03,60.04]
[910,9,"Mainstem River & Major Forks - Lower Chena","Size","Extent of area","Riparian area and river length","Severe, mostly gone","Moderate to substantial loss","Minimal loss","Mother Nature","Fair","Fair -","High",null,null,null,null,null,null,{"$f":"IF(L10=\"\",\"\",IFERROR(INDEX(Outcomes!$F:$F, MATCH(A10,Outcomes!$H:$H,0)),L10))","v":"Good -"},"-",null,null,null,{"$f":"IFERROR(INDEX(#REF!,MATCH(A10,#REF!,0)),\"\")","v":""},null,9,{"$f":"IF(K10=\"Poor\",Scoring!$B$50,IF(K10=\"Fair -\",Scoring!$B$49,IF(K10=\"Fair\",Scoring!$B$48,IF(K10=\"Good -\",Scoring!$B$47,IF(K10=\"Good\",Scoring!$B$46,IF(K10=\"Very Good\",Scoring!$B$45,IF(K10=\"\",0)))))))","v":40.04},{"$f":"IF(L10=\"Poor\",Scoring!$B$50,IF(L10=\"Fair -\",Scoring!$B$49,IF(L10=\"Fair\",Scoring!$B$48,IF(L10=\"Good -\",Scoring!$B$47,IF(L10=\"Good\",Scoring!$B$46,IF(L10=\"Very Good\",Scoring!$B$45,IF(L10=\"\",0)))))))","v":20.03},{"$f":"IF(T10=\"Poor\",Scoring!$B$50,IF(T10=\"Fair -\",Scoring!$B$49,IF(T10=\"Fair\",Scoring!$B$48,IF(T10=\"Good -\",Scoring!$B$47,IF(T10=\"Good\",Scoring!$B$46,IF(T10=\"Very Good\",Scoring!$B$45,IF(T10=\"\",0)))))))","v":60.04},{"$f":"IF(K10=\"Poor\",Scoring!$C$50,IF(K10=\"Fair -\",Scoring!$C$49,IF(K10=\"Fair\",Scoring!$C$48,IF(K10=\"Good -\",Scoring!$C$47,IF(K10=\"Good\",Scoring!$C$46,IF(K10=\"Very Good\",Scoring!$C$45,IF(K10=\"\",0)))))))","v":1},{"$f":"IF(L10=\"Poor\",Scoring!$C$50,IF(L10=\"Fair -\",Scoring!$C$49,IF(L10=\"Fair\",Scoring!$C$48,IF(L10=\"Good -\",Scoring!$C$47,IF(L10=\"Good\",Scoring!$C$46,IF(L10=\"Very Good\",Scoring!$C$45,IF(L10=\"\",0)))))))","v":1},{"$f":"IF(T10=\"Poor\",Scoring!$C$50,IF(T10=\"Fair -\",Scoring!$C$49,IF(T10=\"Fair\",Scoring!$C$48,IF(T10=\"Good -\",Scoring!$C$47,IF(T10=\"Good\",Scoring!$C$46,IF(T10=\"Very Good\",Scoring!$C$45,IF(T10=\"\",0)))))))","v":1},40.04,20.03,60.04]
[911,9,"Mainstem River & Major Forks - Lower Chena",null,null,null,null,null,null,null,null,null,"",null,null,null,null,null,null,{"$f":"IF(L11=\"\",\"\",IFERROR(INDEX(Outcomes!$F:$F, MATCH(A11,Outcomes!$H:$H,0)),L11))","v":""},"",null,null,null,{"$f":"IFERROR(INDEX(#REF!,MATCH(A11,#REF!,0)),\"\")","v":""},null,"",{"$f":"IF(K11=\"Poor\",Scoring!$B$50,IF(K11=\"Fair -\",Scoring!$B$49,IF(K11=\"Fair\",Scoring!$B$48,IF(K11=\"Good -\",Scoring!$B$47,IF(K11=\"Good\",Scoring!$B$46,IF(K11=\"Very Good\",Scoring!$B$45,IF(K11=\"\",0)))))))","v":0},{"$f":"IF(L11=\"Poor\",Scoring!$B$50,IF(L11=\"Fair -\",Scoring!$B$49,IF(L11=\"Fair\",Scoring!$B$48,IF(L11=\"Good -\",Scoring!$B$47,IF(L11=\"Good\",Scoring!$B$46,IF(L11=\"Very Good\",Scoring!$B$45,IF(L11=\"\",0)))))))","v":0},{"$f":"IF(T11=\"Poor\",Scoring!$B$50,IF(T11=\"Fair -\",Scoring!$B$49,IF(T11=\"Fair\",Scoring!$B$48,IF(T11=\"Good -\",Scoring!$B$47,IF(T11=\"Good\",Scoring!$B$46,IF(T11=\"Very Good\",Scoring!$B$45,IF(T11=\"\",0)))))))","v":0},{"$f":"IF(K11=\"Poor\",Scoring!$C$50,IF(K11=\"Fair -\",Scoring!$C$49,IF(K11=\"Fair\",Scoring!$C$48,IF(K11=\"Good -\",Scoring!$C$47,IF(K11=\"Good\",Scoring!$C$46,IF(K11=\"Very Good\",Scoring!$C$45,IF(K11=\"\",0)))))))","v":0},{"$f":"IF(L11=\"Poor\",Scoring!$C$50,IF(L11=\"Fair -\",Scoring!$C$49,IF(L11=\"Fair\",Scoring!$C$48,IF(L11=\"Good -\",Scoring!$C$47,IF(L11=\"Good\",Scoring!$C$46,IF(L11=\"Very Good\",Scoring!$C$45,IF(L11=\"\",0)))))))","v":0},{"$f":"IF(T11=\"Poor\",Scoring!$C$50,IF(T11=\"Fair -\",Scoring!$C$49,IF(T11=\"Fair\",Scoring!$C$48,IF(T11=\"Good -\",Scoring!$C$47,IF(T11=\"Good\",Scoring!$C$46,IF(T11=\"Very Good\",Scoring!$C$45,IF(T11=\"\",0)))))))","v":0},0,0,0]
[912,9,"Mainstem River & Major Forks - Lower Chena",null,null,null,null,null,null,null,null,null,"",null,null,null,null,null,null,{"$f":"IF(L12=\"\",\"\",IFERROR(INDEX(Outcomes!$F:$F, MATCH(A12,Outcomes!$H:$H,0)),L12))","v":""},"",null,null,null,{"$f":"IFERROR(INDEX(#REF!,MATCH(A12,#REF!,0)),\"\")","v":""},null,"",{"$f":"IF(K12=\"Poor\",Scoring!$B$50,IF(K12=\"Fair -\",Scoring!$B$49,IF(K12=\"Fair\",Scoring!$B$48,IF(K12=\"Good -\",Scoring!$B$47,IF(K12=\"Good\",Scoring!$B$46,IF(K12=\"Very Good\",Scoring!$B$45,IF(K12=\"\",0)))))))","v":0},{"$f":"IF(L12=\"Poor\",Scoring!$B$50,IF(L12=\"Fair -\",Scoring!$B$49,IF(L12=\"Fair\",Scoring!$B$48,IF(L12=\"Good -\",Scoring!$B$47,IF(L12=\"Good\",Scoring!$B$46,IF(L12=\"Very Good\",Scoring!$B$45,IF(L12=\"\",0)))))))","v":0},{"$f":"IF(T12=\"Poor\",Scoring!$B$50,IF(T12=\"Fair -\",Scoring!$B$49,IF(T12=\"Fair\",Scoring!$B$48,IF(T12=\"Good -\",Scoring!$B$47,IF(T12=\"Good\",Scoring!$B$46,IF(T12=\"Very Good\",Scoring!$B$45,IF(T12=\"\",0)))))))","v":0},{"$f":"IF(K12=\"Poor\",Scoring!$C$50,IF(K12=\"Fair -\",Scoring!$C$49,IF(K12=\"Fair\",Scoring!$C$48,IF(K12=\"Good -\",Scoring!$C$47,IF(K12=\"Good\",Scoring!$C$46,IF(K12=\"Very Good\",Scoring!$C$45,IF(K12=\"\",0)))))))","v":0},{"$f":"IF(L12=\"Poor\",Scoring!$C$50,IF(L12=\"Fair -\",Scoring!$C$49,IF(L12=\"Fair\",Scoring!$C$48,IF(L12=\"Good -\",Scoring!$C$47,IF(L12=\"Good\",Scoring!$C$46,IF(L12=\"Very Good\",Scoring!$C$45,IF(L12=\"\",0)))))))","v":0},{"$f":"IF(T12=\"Poor\",Scoring!$C$50,IF(T12=\"Fair -\",Scoring!$C$49,IF(T12=\"Fair\",Scoring!$C$48,IF(T12=\"Good -\",Scoring!$C$47,IF(T12=\"Good\",Scoring!$C$46,IF(T12=\"Very Good\",Scoring!$C$45,IF(T12=\"\",0)))))))","v":0},0,0,0]
[913,9,"Mainstem River & Major Forks - Lower Chena",null,null,null,null,null,null,null,null,null,"",null,null,null,null,null,null,{"$f":"IF(L13=\"\",\"\",IFERROR(INDEX(Outcomes!$F:$F, MATCH(A13,Outcomes!$H:$H,0)),L13))","v":""},{"$f":"IF(K13=0,\"\",IF(T13=0,\"\",INDEX(StressRankMatrix,MATCH(K13,Rating,0),MATCH(T13,Rating,0))))","v":""},null,null,null,{"$f":"IFERROR(INDEX(#REF!,MATCH(A13,#REF!,0)),\"\")","v":""},null,"",{"$f":"IF(K13=\"Poor\",Scoring!$B$50,IF(K13=\"Fair -\",Scoring!$B$49,IF(K13=\"Fair\",Scoring!$B$48,IF(K13=\"Good -\",Scoring!$B$47,IF(K13=\"Good\",Scoring!$B$46,IF(K13=\"Very Good\",Scoring!$B$45,IF(K13=\"\",0)))))))","v":0},{"$f":"IF(L13=\"Poor\",Scoring!$B$50,IF(L13=\"Fair -\",Scoring!$B$49,IF(L13=\"Fair\",Scoring!$B$48,IF(L13=\"Good -\",Scoring!$B$47,IF(L13=\"Good\",Scoring!$B$46,IF(L13=\"Very Good\",Scoring!$B$45,IF(L13=\"\",0)))))))","v":0},{"$f":"IF(T13=\"Poor\",Scoring!$B$50,IF(T13=\"Fair -\",Scoring!$B$49,IF(T13=\"Fair\",Scoring!$B$48,IF(T13=\"Good -\",Scoring!$B$47,IF(T13=\"Good\",Scoring!$B$46,IF(T13=\"Very Good\",Scoring!$B$45,IF(T13=\"\",0)))))))","v":0},{"$f":"IF(K13=\"Poor\",Scoring!$C$50,IF(K13=\"Fair -\",Scoring!$C$49,IF(K13=\"Fair\",Scoring!$C$48,IF(K13=\"Good -\",Scoring!$C$47,IF(K13=\"Good\",Scoring!$C$46,IF(K13=\"Very Good\",Scoring!$C$45,IF(K13=\"\",0)))))))","v":0},{"$f":"IF(L13=\"Poor\",Scoring!$C$50,IF(L13=\"Fair -\",Scoring!$C$49,IF(L13=\"Fair\",Scoring!$C$48,IF(L13=\"Good -\",Scoring!$C$47,IF(L13=\"Good\",Scoring!$C$46,IF(L13=\"Very Good\",Scoring!$C$45,IF(L13=\"\",0)))))))","v":0},{"$f":"IF(T13=\"Poor\",Scoring!$C$50,IF(T13=\"Fair -\",Scoring!$C$49,IF(T13=\"Fair\",Scoring!$C$48,IF(T13=\"Good -\",Scoring!$C$47,IF(T13=\"Good\",Scoring!$C$46,IF(T13=\"Very Good\",Scoring!$C$45,IF(T13=\"\",0)))))))","v":0},0,0,0]
[null,null,null,"Overall Target Health Score                           (0 = Poor - 100 = Very Good)",null,null,null,null,null,null,{"$f":"AK14","v":60.037142857142861},{"$f":"AL14","v":42.889999999999986},null,null,null,null,null,null,null,{"$f":"AM14","v":65.751428571428576},null,null,null,null,null,null,null,null,null,null,{"$f":"SUM(AE4:AE13)","v":7},7,7,420.26000000000005,300.2299999999999,460.26000000000005,{"$f":"IF(AH14=0,\"\",AH14/AE14)","v":60.037142857142861},{"$f":"IF(AI14=0,\"\",AI14/AF14)","v":42.889999999999986},{"$f":"IF(AJ14=0,\"\",AJ14/AG14)","v":65.751428571428576}]
[]
[null,null,null,null,"Threats (Sources of Stress)         List Sources of stress below (max of 12 per target).  Enter Contribution of each source where applicable.","  Key Attribute >",{"$f":"IF(E4=0,\"\",E4)","v":"Connectivity to tributaries and within mainstem"},{"$f":"IF(E5=0,\"\",E5)","v":"Hydrologic regime"},{"$f":"IF(E6=0,\"\",E6)","v":"Substrate and banks (in channel habitat?)"},{"$f":"IF(E7=0,\"\",E7)","v":"Characteristic native communities"},{"$f":"IF(E8=0,\"\",E8)","v":"Species composition"},{"$f":"IF(E9=0,\"\",E9)","v":"Water quality"},{"$f":"IF(E10=0,\"\",E10)","v":"Extent of area"},{"$f":"IF(E11=0,\"\",E11)","v":""},{"$f":"IF(E12=0,\"\",E12)","v":""},{"$f":"IF(E13=0,\"\",E13)","v":""},"Threat to Target Rank"]
[null,null,null,null,null,"Stress Rank>",{"$f":"IF(M4=\"\",\"\", IF(N4=0,M4,N4))","v":"-"},{"$f":"IF(M5=\"\",\"\", IF(N5=0,M5,N5))","v":"-"},{"$f":"IF(M6=\"\",\"\", IF(N6=0,M6,N6))","v":"Medium"},{"$f":"IF(M7=\"\",\"\", IF(N7=0,M7,N7))","v":"Medium"},{"$f":"IF(M8=\"\",\"\", IF(N8=0,M8,N8))","v":"High"},{"$f":"IF(M9=\"\",\"\", IF(N9=0,M9,N9))","v":"High"},{"$f":"IF(M10=\"\",\"\", IF(N10=0,M10,N10))","v":"High"},{"$f":"IF(M11=\"\",\"\", IF(N11=0,M11,N11))","v":""},{"$f":"IF(M12=\"\",\"\", IF(N12=0,M12,N12))","v":""},{"$f":"IF(M13=\"\",\"\", IF(N13=0,M13,N13))","v":""}]
[null,null,null,null,"Removal of native vegetation from riparian zone","Contribution",null,null,null,null,null,"High","High",null,null,null,{"$f":"IF(AF19>=Scoring!$B$24,\"Very High\",IF(AF19>=Scoring!$B$25,\"High\",IF(AF19>=Scoring!$B$26,\"Medium\",IF(AF19>=Scoring!$B$27,\"Low\",\"-\"))))","v":"High"}]
[null,null,null,null,null,"Threat Rank ",{"$f":"IF(G18=0,\"\",INDEX(ThreatRankMatrix,MATCH($G$17,Rank,0),MATCH(G18,Rank,0)))","v":""},{"$f":"IF(H18=0,\"\",INDEX(ThreatRankMatrix,MATCH($H$17,Rank,0),MATCH(H18,Rank,0)))","v":""},{"$f":"IF(I18=0,\"\",INDEX(ThreatRankMatrix,MATCH($I$17,Rank,0),MATCH(I18,Rank,0)))","v":""},{"$f":"IF(J18=0,\"\",INDEX(ThreatRankMatrix,MATCH($J$17,Rank,0),MATCH(J18,Rank,0)))","v":""},{"$f":"IF(K18=0,\"\",INDEX(ThreatRankMatrix,MATCH($K$17,Rank,0),MATCH(K18,Rank,0)))","v":""},{"$f":"IF(L18=0,\"\",INDEX(ThreatRankMatrix,MATCH($L$17,Rank,0),MATCH(L18,Rank,0)))","v":"High"},{"$f":"IF(M18=0,\"\",INDEX(ThreatRankMatrix,MATCH($M$17,Rank,0),MATCH(M18,Rank,0)))","v":"High"},{"$f":"IF(N18=0,\"\",INDEX(ThreatRankMatrix,MATCH($N$17,Rank,0),MATCH(N18,Rank,0)))","v":""},{"$f":"IF(O18=0,\"\",INDEX(ThreatRankMatrix,MATCH($O$17,Rank,0),MATCH(O18,Rank,0)))","v":""},{"$f":"IF(P18=0,\"\",INDEX(ThreatRankMatrix,MATCH($P$17,Rank,0),MATCH(P18,Rank,0)))","v":""},null,null,null,null,null,null,null,null,null,null,null,null,null,null,null,{"$f":"SUM(AG19:AP19)","v":70},{"$f":"IF(G$17=\"\",0,(IF(G18=0,0,IF(G19=0,0,INDEX(ThreatScore,MATCH(G19,Rank,0))))))","v":0},0,0,0,0,35,35,0,0,0]
[null,null,null,null,"Residential / commercial development","Contribution",null,null,null,null,null,"High",null,null,null,null,{"$f":"IF(AF21>=Scoring!$B$24,\"Very High\",IF(AF21>=Scoring!$B$25,\"High\",IF(AF21>=Scoring!$B$26,\"Medium\",IF(AF21>=Scoring!$B$27,\"Low\",\"-\"))))","v":"High"}]
[null,null,null,null,null,"Threat Rank ",{"$f":"IF(G20=0,\"\",INDEX(ThreatRankMatrix,MATCH($G$17,Rank,0),MATCH(G20,Rank,0)))","v":""},{"$f":"IF(H20=0,\"\",INDEX(ThreatRankMatrix,MATCH($H$17,Rank,0),MATCH(H20,Rank,0)))","v":""},{"$f":"IF(I20=0,\"\",INDEX(ThreatRankMatrix,MATCH($I$17,Rank,0),MATCH(I20,Rank,0)))","v":""},{"$f":"IF(J20=0,\"\",INDEX(ThreatRankMatrix,MATCH($J$17,Rank,0),MATCH(J20,Rank,0)))","v":""},{"$f":"IF(K20=0,\"\",INDEX(ThreatRankMatrix,MATCH($K$17,Rank,0),MATCH(K20,Rank,0)))","v":""},{"$f":"IF(L20=0,\"\",INDEX(ThreatRankMatrix,MATCH($L$17,Rank,0),MATCH(L20,Rank,0)))","v":"High"},{"$f":"IF(M20=0,\"\",INDEX(ThreatRankMatrix,MATCH($M$17,Rank,0),MATCH(M20,Rank,0)))","v":""},{"$f":"IF(N20=0,\"\",INDEX(ThreatRankMatrix,MATCH($N$17,Rank,0),MATCH(N20,Rank,0)))","v":""},{"$f":"IF(O20=0,\"\",INDEX(ThreatRankMatrix,MATCH($O$17,Rank,0),MATCH(O20,Rank,0)))","v":""},{"$f":"IF(P20=0,\"\",INDEX(ThreatRankMatrix,MATCH($P$17,Rank,0),MATCH(P20,Rank,0)))","v":""},null,null,null,null,null,null,null,null,null,null,null,null,null,null,null,{"$f":"SUM(AG21:AP21)","v":35},{"$f":"IF(G$17=\"\",0,(IF(G20=0,0,IF(G21=0,0,INDEX(ThreatScore,MATCH(G21,Rank,0))))))","v":0},0,0,0,0,35,0,0,0,0]
[null,null,null,null,"Incompatible boating","Contribution",null,null,null,null,null,"Medium",null,null,null,null,{"$f":"IF(AF23>=Scoring!$B$24,\"Very High\",IF(AF23>=Scoring!$B$25,\"High\",IF(AF23>=Scoring!$B$26,\"Medium\",IF(AF23>=Scoring!$B$27,\"Low\",\"-\"))))","v":"Medium"}]
[null,null,null,null,null,"Threat Rank ",{"$f":"IF(G22=0,\"\",INDEX(ThreatRankMatrix,MATCH($G$17,Rank,0),MATCH(G22,Rank,0)))","v":""},{"$f":"IF(H22=0,\"\",INDEX(ThreatRankMatrix,MATCH($H$17,Rank,0),MATCH(H22,Rank,0)))","v":""},{"$f":"IF(I22=0,\"\",INDEX(ThreatRankMatrix,MATCH($I$17,Rank,0),MATCH(I22,Rank,0)))","v":""},{"$f":"IF(J22=0,\"\",INDEX(ThreatRankMatrix,MATCH($J$17,Rank,0),MATCH(J22,Rank,0)))","v":""},{"$f":"IF(K22=0,\"\",INDEX(ThreatRankMatrix,MATCH($K$17,Rank,0),MATCH(K22,Rank,0)))","v":""},{"$f":"IF(L22=0,\"\",INDEX(ThreatRankMatrix,MATCH($L$17,Rank,0),MATCH(L22,Rank,0)))","v":"Medium"},{"$f":"IF(M22=0,\"\",INDEX(ThreatRankMatrix,MATCH($M$17,Rank,0),MATCH(M22,Rank,0)))","v":""},{"$f":"IF(N22=0,\"\",INDEX(ThreatRankMatrix,MATCH($N$17,Rank,0),MATCH(N22,Rank,0)))","v":""},{"$f":"IF(O22=0,\"\",INDEX(ThreatRankMatrix,MATCH($O$17,Rank,0),MATCH(O22,Rank,0)))","v":""},{"$f":"IF(P22=0,\"\",INDEX(ThreatRankMatrix,MATCH($P$17,Rank,0),MATCH(P22,Rank,0)))","v":""},null,null,null,null,null,null,null,null,null,null,null,null,null,null,null,{"$f":"SUM(AG23:AP23)","v":7},{"$f":"IF(G$17=\"\",0,(IF(G22=0,0,IF(G23=0,0,INDEX(ThreatScore,MATCH(G23,Rank,0))))))","v":0},0,0,0,0,7,0,0,0,0]
[null,null,null,null,"Hardening stream banks with rip rap, channelization, etc.","Contribution",null,null,null,null,null,"Medium","High",null,null,null,{"$f":"IF(AF25>=Scoring!$B$24,\"Very High\",IF(AF25>=Scoring!$B$25,\"High\",IF(AF25>=Scoring!$B$26,\"Medium\",IF(AF25>=Scoring!$B$27,\"Low\",\"-\"))))","v":"High"}]
[null,null,null,null,null,"Threat Rank ",{"$f":"IF(G24=0,\"\",INDEX(ThreatRankMatrix,MATCH($G$17,Rank,0),MATCH(G24,Rank,0)))","v":""},{"$f":"IF(H24=0,\"\",INDEX(ThreatRankMatrix,MATCH($H$17,Rank,0),MATCH(H24,Rank,0)))","v":""},{"$f":"IF(I24=0,\"\",INDEX(ThreatRankMatrix,MATCH($I$17,Rank,0),MATCH(I24,Rank,0)))","v":""},{"$f":"IF(J24=0,\"\",INDEX(ThreatRankMatrix,MATCH($J$17,Rank,0),MATCH(J24,Rank,0)))","v":""},{"$f":"IF(K24=0,\"\",INDEX(ThreatRankMatrix,MATCH($K$17,Rank,0),MATCH(K24,Rank,0)))","v":""},{"$f":"IF(L24=0,\"\",INDEX(ThreatRankMatrix,MATCH($L$17,Rank,0),MATCH(L24,Rank,0)))","v":"Medium"},{"$f":"IF(M24=0,\"\",INDEX(ThreatRankMatrix,MATCH($M$17,Rank,0),MATCH(M24,Rank,0)))","v":"High"},{"$f":"IF(N24=0,\"\",INDEX(ThreatRankMatrix,MATCH($N$17,Rank,0),MATCH(N24,Rank,0)))","v":""},{"$f":"IF(O24=0,\"\",INDEX(ThreatRankMatrix,MATCH($O$17,Rank,0),MATCH(O24,Rank,0)))","v":""},{"$f":"IF(P24=0,\"\",INDEX(ThreatRankMatrix,MATCH($P$17,Rank,0),MATCH(P24,Rank,0)))","v":""},null,null,null,null,null,null,null,null,null,null,null,null,null,null,null,{"$f":"SUM(AG25:AP25)","v":42},{"$f":"IF(G$17=\"\",0,(IF(G24=0,0,IF(G25=0,0,INDEX(ThreatScore,MATCH(G25,Rank,0))))))","v":0},0,0,0,0,7,35,0,0,0]
[null,null,null,null,"Dumping of trash, debris, etc. ","Contribution",null,null,null,null,null,"Medium",null,null,null,null,{"$f":"IF(AF27>=Scoring!$B$24,\"Very High\",IF(AF27>=Scoring!$B$25,\"High\",IF(AF27>=Scoring!$B$26,\"Medium\",IF(AF27>=Scoring!$B$27,\"Low\",\"-\"))))","v":"Medium"}]
[null,null,null,null,null,"Threat Rank ",{"$f":"IF(G26=0,\"\",INDEX(ThreatRankMatrix,MATCH($G$17,Rank,0),MATCH(G26,Rank,0)))","v":""},{"$f":"IF(H26=0,\"\",INDEX(ThreatRankMatrix,MATCH($H$17,Rank,0),MATCH(H26,Rank,0)))","v":""},{"$f":"IF(I26=0,\"\",INDEX(ThreatRankMatrix,MATCH($I$17,Rank,0),MATCH(I26,Rank,0)))","v":""},{"$f":"IF(J26=0,\"\",INDEX(ThreatRankMatrix,MATCH($J$17,Rank,0),MATCH(J26,Rank,0)))","v":""},{"$f":"IF(K26=0,\"\",INDEX(ThreatRankMatrix,MATCH($K$17,Rank,0),MATCH(K26,Rank,0)))","v":""},{"$f":"IF(L26=0,\"\",INDEX(ThreatRankMatrix,MATCH($L$17,Rank,0),MATCH(L26,Rank,0)))","v":"Medium"},{"$f":"IF(M26=0,\"\",INDEX(ThreatRankMatrix,MATCH($M$17,Rank,0),MATCH(M26,Rank,0)))","v":""},{"$f":"IF(N26=0,\"\",INDEX(ThreatRankMatrix,MATCH($N$17,Rank,0),MATCH(N26,Rank,0)))","v":""},{"$f":"IF(O26=0,\"\",INDEX(ThreatRankMatrix,MATCH($O$17,Rank,0),MATCH(O26,Rank,0)))","v":""},{"$f":"IF(P26=0,\"\",INDEX(ThreatRankMatrix,MATCH($P$17,Rank,0),MATCH(P26,Rank,0)))","v":""},null,null,null,null,null,null,null,null,null,null,null,null,null,null,null,{"$f":"SUM(AG27:AP27)","v":7},{"$f":"IF(G$17=\"\",0,(IF(G26=0,0,IF(G27=0,0,INDEX(ThreatScore,MATCH(G27,Rank,0))))))","v":0},0,0,0,0,7,0,0,0,0]
[null,null,null,null,"Incompatible road design / maintenance","Contribution",null,null,null,null,null,"High",null,null,null,null,{"$f":"IF(AF29>=Scoring!$B$24,\"Very High\",IF(AF29>=Scoring!$B$25,\"High\",IF(AF29>=Scoring!$B$26,\"Medium\",IF(AF29>=Scoring!$B$27,\"Low\",\"-\"))))","v":"High"}]
[null,null,null,null,null,"Threat Rank ",{"$f":"IF(G28=0,\"\",INDEX(ThreatRankMatrix,MATCH($G$17,Rank,0),MATCH(G28,Rank,0)))","v":""},{"$f":"IF(H28=0,\"\",INDEX(ThreatRankMatrix,MATCH($H$17,Rank,0),MATCH(H28,Rank,0)))","v":""},{"$f":"IF(I28=0,\"\",INDEX(ThreatRankMatrix,MATCH($I$17,Rank,0),MATCH(I28,Rank,0)))","v":""},{"$f":"IF(J28=0,\"\",INDEX(ThreatRankMatrix,MATCH($J$17,Rank,0),MATCH(J28,Rank,0)))","v":""},{"$f":"IF(K28=0,\"\",INDEX(ThreatRankMatrix,MATCH($K$17,Rank,0),MATCH(K28,Rank,0)))","v":""},{"$f":"IF(L28=0,\"\",INDEX(ThreatRankMatrix,MATCH($L$17,Rank,0),MATCH(L28,Rank,0)))","v":"High"},{"$f":"IF(M28=0,\"\",INDEX(ThreatRankMatrix,MATCH($M$17,Rank,0),MATCH(M28,Rank,0)))","v":""},{"$f":"IF(N28=0,\"\",INDEX(ThreatRankMatrix,MATCH($N$17,Rank,0),MATCH(N28,Rank,0)))","v":""},{"$f":"IF(O28=0,\"\",INDEX(ThreatRankMatrix,MATCH($O$17,Rank,0),MATCH(O28,Rank,0)))","v":""},{"$f":"IF(P28=0,\"\",INDEX(ThreatRankMatrix,MATCH($P$17,Rank,0),MATCH(P28,Rank,0)))","v":""},null,null,null,null,null,null,null,null,null,null,null,null,null,null,null,{"$f":"SUM(AG29:AP29)","v":35},{"$f":"IF(G$17=\"\",0,(IF(G28=0,0,IF(G29=0,0,INDEX(ThreatScore,MATCH(G29,Rank,0))))))","v":0},0,0,0,0,35,0,0,0,0]
[null,null,null,null,"Stormwater","Contribution",null,null,null,null,null,"High",null,null,null,null,{"$f":"IF(AF31>=Scoring!$B$24,\"Very High\",IF(AF31>=Scoring!$B$25,\"High\",IF(AF31>=Scoring!$B$26,\"Medium\",IF(AF31>=Scoring!$B$27,\"Low\",\"-\"))))","v":"High"}]
[null,null,null,null,null,"Threat Rank ",{"$f":"IF(G30=0,\"\",INDEX(ThreatRankMatrix,MATCH($G$17,Rank,0),MATCH(G30,Rank,0)))","v":""},{"$f":"IF(H30=0,\"\",INDEX(ThreatRankMatrix,MATCH($H$17,Rank,0),MATCH(H30,Rank,0)))","v":""},{"$f":"IF(I30=0,\"\",INDEX(ThreatRankMatrix,MATCH($I$17,Rank,0),MATCH(I30,Rank,0)))","v":""},{"$f":"IF(J30=0,\"\",INDEX(ThreatRankMatrix,MATCH($J$17,Rank,0),MATCH(J30,Rank,0)))","v":""},{"$f":"IF(K30=0,\"\",INDEX(ThreatRankMatrix,MATCH($K$17,Rank,0),MATCH(K30,Rank,0)))","v":""},{"$f":"IF(L30=0,\"\",INDEX(ThreatRankMatrix,MATCH($L$17,Rank,0),MATCH(L30,Rank,0)))","v":"High"},{"$f":"IF(M30=0,\"\",INDEX(ThreatRankMatrix,MATCH($M$17,Rank,0),MATCH(M30,Rank,0)))","v":""},{"$f":"IF(N30=0,\"\",INDEX(ThreatRankMatrix,MATCH($N$17,Rank,0),MATCH(N30,Rank,0)))","v":""},{"$f":"IF(O30=0,\"\",INDEX(ThreatRankMatrix,MATCH($O$17,Rank,0),MATCH(O30,Rank,0)))","v":""},{"$f":"IF(P30=0,\"\",INDEX(ThreatRankMatrix,MATCH($P$17,Rank,0),MATCH(P30,Rank,0)))","v":""},null,null,null,null,null,null,null,null,null,null,null,null,null,null,null,{"$f":"SUM(AG31:AP31)","v":35},{"$f":"IF(G$17=\"\",0,(IF(G30=0,0,IF(G31=0,0,INDEX(ThreatScore,MATCH(G31,Rank,0))))))","v":0},0,0,0,0,35,0,0,0,0]
[null,null,null,null,"Industrial discharge","Contribution",null,null,null,null,null,"Medium",null,null,null,null,{"$f":"IF(AF33>=Scoring!$B$24,\"Very High\",IF(AF33>=Scoring!$B$25,\"High\",IF(AF33>=Scoring!$B$26,\"Medium\",IF(AF33>=Scoring!$B$27,\"Low\",\"-\"))))","v":"Medium"}]
[null,null,null,null,null,"Threat Rank ",{"$f":"IF(G32=0,\"\",INDEX(ThreatRankMatrix,MATCH($G$17,Rank,0),MATCH(G32,Rank,0)))","v":""},{"$f":"IF(H32=0,\"\",INDEX(ThreatRankMatrix,MATCH($H$17,Rank,0),MATCH(H32,Rank,0)))","v":""},{"$f":"IF(I32=0,\"\",INDEX(ThreatRankMatrix,MATCH($I$17,Rank,0),MATCH(I32,Rank,0)))","v":""},{"$f":"IF(J32=0,\"\",INDEX(ThreatRankMatrix,MATCH($J$17,Rank,0),MATCH(J32,Rank,0)))","v":""},{"$f":"IF(K32=0,\"\",INDEX(ThreatRankMatrix,MATCH($K$17,Rank,0),MATCH(K32,Rank,0)))","v":""},{"$f":"IF(L32=0,\"\",INDEX(ThreatRankMatrix,MATCH($L$17,Rank,0),MATCH(L32,Rank,0)))","v":"Medium"},{"$f":"IF(M32=0,\"\",INDEX(ThreatRankMatrix,MATCH($M$17,Rank,0),MATCH(M32,Rank,0)))","v":""},{"$f":"IF(N32=0,\"\",INDEX(ThreatRankMatrix,MATCH($N$17,Rank,0),MATCH(N32,Rank,0)))","v":""},{"$f":"IF(O32=0,\"\",INDEX(ThreatRankMatrix,MATCH($O$17,Rank,0),MATCH(O32,Rank,0)))","v":""},{"$f":"IF(P32=0,\"\",INDEX(ThreatRankMatrix,MATCH($P$17,Rank,0),MATCH(P32,Rank,0)))","v":""},null,null,null,null,null,null,null,null,null,null,null,null,null,null,null,{"$f":"SUM(AG33:AP33)","v":7},{"$f":"IF(G$17=\"\",0,(IF(G32=0,0,IF(G33=0,0,INDEX(ThreatScore,MATCH(G33,Rank,0))))))","v":0},0,0,0,0,7,0,0,0,0]
[null,null,null,null,"Invasive aquatic species/pests/pathogens","Contribution",null,null,null,null,"Medium",null,null,null,null,null,{"$f":"IF(AF35>=Scoring!$B$24,\"Very High\",IF(AF35>=Scoring!$B$25,\"High\",IF(AF35>=Scoring!$B$26,\"Medium\",IF(AF35>=Scoring!$B$27,\"Low\",\"-\"))))","v":"Medium"}]
[null,null,null,null,null,"Threat Rank ",{"$f":"IF(G34=0,\"\",INDEX(ThreatRankMatrix,MATCH($G$17,Rank,0),MATCH(G34,Rank,0)))","v":""},{"$f":"IF(H34=0,\"\",INDEX(ThreatRankMatrix,MATCH($H$17,Rank,0),MATCH(H34,Rank,0)))","v":""},{"$f":"IF(I34=0,\"\",INDEX(ThreatRankMatrix,MATCH($I$17,Rank,0),MATCH(I34,Rank,0)))","v":""},{"$f":"IF(J34=0,\"\",INDEX(ThreatRankMatrix,MATCH($J$17,Rank,0),MATCH(J34,Rank,0)))","v":""},{"$f":"IF(K34=0,\"\",INDEX(ThreatRankMatrix,MATCH($K$17,Rank,0),MATCH(K34,Rank,0)))","v":"Medium"},{"$f":"IF(L34=0,\"\",INDEX(ThreatRankMatrix,MATCH($L$17,Rank,0),MATCH(L34,Rank,0)))","v":""},{"$f":"IF(M34=0,\"\",INDEX(ThreatRankMatrix,MATCH($M$17,Rank,0),MATCH(M34,Rank,0)))","v":""},{"$f":"IF(N34=0,\"\",INDEX(ThreatRankMatrix,MATCH($N$17,Rank,0),MATCH(N34,Rank,0)))","v":""},{"$f":"IF(O34=0,\"\",INDEX(ThreatRankMatrix,MATCH($O$17,Rank,0),MATCH(O34,Rank,0)))","v":""},{"$f":"IF(P34=0,\"\",INDEX(ThreatRankMatrix,MATCH($P$17,Rank,0),MATCH(P34,Rank,0)))","v":""},null,null,null,null,null,null,null,null,null,null,null,null,null,null,null,{"$f":"SUM(AG35:AP35)","v":7},{"$f":"IF(G$17=\"\",0,(IF(G34=0,0,IF(G35=0,0,INDEX(ThreatScore,MATCH(G35,Rank,0))))))","v":0},0,0,0,7,0,0,0,0,0]
[null,null,null,null,"Invasive terrestrial species/pests/pathogens","Contribution",null,null,null,null,"High",null,null,null,null,null,{"$f":"IF(AF37>=Scoring!$B$24,\"Very High\",IF(AF37>=Scoring!$B$25,\"High\",IF(AF37>=Scoring!$B$26,\"Medium\",IF(AF37>=Scoring!$B$27,\"Low\",\"-\"))))","v":"High"}]
[null,null,null,null,null,"Threat Rank ",{"$f":"IF(G36=0,\"\",INDEX(ThreatRankMatrix,MATCH($G$17,Rank,0),MATCH(G36,Rank,0)))","v":""},{"$f":"IF(H36=0,\"\",INDEX(ThreatRankMatrix,MATCH($H$17,Rank,0),MATCH(H36,Rank,0)))","v":""},{"$f":"IF(I36=0,\"\",INDEX(ThreatRankMatrix,MATCH($I$17,Rank,0),MATCH(I36,Rank,0)))","v":""},{"$f":"IF(J36=0,\"\",INDEX(ThreatRankMatrix,MATCH($J$17,Rank,0),MATCH(J36,Rank,0)))","v":""},{"$f":"IF(K36=0,\"\",INDEX(ThreatRankMatrix,MATCH($K$17,Rank,0),MATCH(K36,Rank,0)))","v":"High"},{"$f":"IF(L36=0,\"\",INDEX(ThreatRankMatrix,MATCH($L$17,Rank,0),MATCH(L36,Rank,0)))","v":""},{"$f":"IF(M36=0,\"\",INDEX(ThreatRankMatrix,MATCH($M$17,Rank,0),MATCH(M36,Rank,0)))","v":""},{"$f":"IF(N36=0,\"\",INDEX(ThreatRankMatrix,MATCH($N$17,Rank,0),MATCH(N36,Rank,0)))","v":""},{"$f":"IF(O36=0,\"\",INDEX(ThreatRankMatrix,MATCH($O$17,Rank,0),MATCH(O36,Rank,0)))","v":""},{"$f":"IF(P36=0,\"\",INDEX(ThreatRankMatrix,MATCH($P$17,Rank,0),MATCH(P36,Rank,0)))","v":""},null,null,null,null,null,null,null,null,null,null,null,null,null,null,null,{"$f":"SUM(AG37:AP37)","v":35},{"$f":"IF(G$17=\"\",0,(IF(G36=0,0,IF(G37=0,0,INDEX(ThreatScore,MATCH(G37,Rank,0))))))","v":0},{"$f":"IF(H$17=\"\",0,(IF(H36=0,0,IF(H37=0,0,INDEX(ThreatScore,MATCH(H37,Rank,0))))))","v":0},{"$f":"IF(I$17=\"\",0,(IF(I36=0,0,IF(I37=0,0,INDEX(ThreatScore,MATCH(I37,Rank,0))))))","v":0},{"$f":"IF(J$17=\"\",0,(IF(J36=0,0,IF(J37=0,0,INDEX(ThreatScore,MATCH(J37,Rank,0))))))","v":0},{"$f":"IF(K$17=\"\",0,(IF(K36=0,0,IF(K37=0,0,INDEX(ThreatScore,MATCH(K37,Rank,0))))))","v":35},{"$f":"IF(L$17=\"\",0,(IF(L36=0,0,IF(L37=0,0,INDEX(ThreatScore,MATCH(L37,Rank,0))))))","v":0},{"$f":"IF(M$17=\"\",0,(IF(M36=0,0,IF(M37=0,0,INDEX(ThreatScore,MATCH(M37,Rank,0))))))","v":0},{"$f":"IF(N$17=\"\",0,(IF(N36=0,0,IF(N37=0,0,INDEX(ThreatScore,MATCH(N37,Rank,0))))))","v":0},{"$f":"IF(O$17=\"\",0,(IF(O36=0,0,IF(O37=0,0,INDEX(ThreatScore,MATCH(O37,Rank,0))))))","v":0},{"$f":"IF(P$17=\"\",0,(IF(P36=0,0,IF(P37=0,0,INDEX(ThreatScore,MATCH(P37,Rank,0))))))","v":0}]
[null,null,null,null,null,"Contribution",null,null,null,null,null,null,null,null,null,null,{"$f":"IF(AF39>=Scoring!$B$24,\"Very High\",IF(AF39>=Scoring!$B$25,\"High\",IF(AF39>=Scoring!$B$26,\"Medium\",IF(AF39>=Scoring!$B$27,\"Low\",\"-\"))))","v":"-"}]
[null,null,null,null,null,"Threat Rank ",{"$f":"IF(G38=0,\"\",INDEX(ThreatRankMatrix,MATCH($G$17,Rank,0),MATCH(G38,Rank,0)))","v":""},{"$f":"IF(H38=0,\"\",INDEX(ThreatRankMatrix,MATCH($H$17,Rank,0),MATCH(H38,Rank,0)))","v":""},{"$f":"IF(I38=0,\"\",INDEX(ThreatRankMatrix,MATCH($I$17,Rank,0),MATCH(I38,Rank,0)))","v":""},{"$f":"IF(J38=0,\"\",INDEX(ThreatRankMatrix,MATCH($J$17,Rank,0),MATCH(J38,Rank,0)))","v":""},{"$f":"IF(K38=0,\"\",INDEX(ThreatRankMatrix,MATCH($K$17,Rank,0),MATCH(K38,Rank,0)))","v":""},{"$f":"IF(L38=0,\"\",INDEX(ThreatRankMatrix,MATCH($L$17,Rank,0),MATCH(L38,Rank,0)))","v":""},{"$f":"IF(M38=0,\"\",INDEX(ThreatRankMatrix,MATCH($M$17,Rank,0),MATCH(M38,Rank,0)))","v":""},{"$f":"IF(N38=0,\"\",INDEX(ThreatRankMatrix,MATCH($N$17,Rank,0),MATCH(N38,Rank,0)))","v":""},{"$f":"IF(O38=0,\"\",INDEX(ThreatRankMatrix,MATCH($O$17,Rank,0),MATCH(O38,Rank,0)))","v":""},{"$f":"IF(P38=0,\"\",INDEX(ThreatRankMatrix,MATCH($P$17,Rank,0),MATCH(P38,Rank,0)))","v":""},null,null,null,null,null,null,null,null,null,null,null,null,null,null,null,{"$f":"SUM(AG39:AP39)","v":0},{"$f":"IF(G$17=\"\",0,(IF(G38=0,0,IF(G39=0,0,INDEX(ThreatScore,MATCH(G39,Rank,0))))))","v":0},{"$f":"IF(H$17=\"\",0,(IF(H38=0,0,IF(H39=0,0,INDEX(ThreatScore,MATCH(H39,Rank,0))))))","v":0},{"$f":"IF(I$17=\"\",0,(IF(I38=0,0,IF(I39=0,0,INDEX(ThreatScore,MATCH(I39,Rank,0))))))","v":0},{"$f":"IF(J$17=\"\",0,(IF(J38=0,0,IF(J39=0,0,INDEX(ThreatScore,MATCH(J39,Rank,0))))))","v":0},{"$f":"IF(K$17=\"\",0,(IF(K38=0,0,IF(K39=0,0,INDEX(ThreatScore,MATCH(K39,Rank,0))))))","v":0},{"$f":"IF(L$17=\"\",0,(IF(L38=0,0,IF(L39=0,0,INDEX(ThreatScore,MATCH(L39,Rank,0))))))","v":0},{"$f":"IF(M$17=\"\",0,(IF(M38=0,0,IF(M39=0,0,INDEX(ThreatScore,MATCH(M39,Rank,0))))))","v":0},{"$f":"IF(N$17=\"\",0,(IF(N38=0,0,IF(N39=0,0,INDEX(ThreatScore,MATCH(N39,Rank,0))))))","v":0},{"$f":"IF(O$17=\"\",0,(IF(O38=0,0,IF(O39=0,0,INDEX(ThreatScore,MATCH(O39,Rank,0))))))","v":0},{"$f":"IF(P$17=\"\",0,(IF(P38=0,0,IF(P39=0,0,INDEX(ThreatScore,MATCH(P39,Rank,0))))))","v":0}]
[null,null,null,null,null,"Contribution",null,null,null,null,null,null,null,null,null,null,{"$f":"IF(AF41>=Scoring!$B$24,\"Very High\",IF(AF41>=Scoring!$B$25,\"High\",IF(AF41>=Scoring!$B$26,\"Medium\",IF(AF41>=Scoring!$B$27,\"Low\",\"-\"))))","v":"-"}]
[null,null,null,null,null,"Threat Rank ",{"$f":"IF(G40=0,\"\",INDEX(ThreatRankMatrix,MATCH($G$17,Rank,0),MATCH(G40,Rank,0)))","v":""},{"$f":"IF(H40=0,\"\",INDEX(ThreatRankMatrix,MATCH($H$17,Rank,0),MATCH(H40,Rank,0)))","v":""},{"$f":"IF(I40=0,\"\",INDEX(ThreatRankMatrix,MATCH($I$17,Rank,0),MATCH(I40,Rank,0)))","v":""},{"$f":"IF(J40=0,\"\",INDEX(ThreatRankMatrix,MATCH($J$17,Rank,0),MATCH(J40,Rank,0)))","v":""},{"$f":"IF(K40=0,\"\",INDEX(ThreatRankMatrix,MATCH($K$17,Rank,0),MATCH(K40,Rank,0)))","v":""},{"$f":"IF(L40=0,\"\",INDEX(ThreatRankMatrix,MATCH($L$17,Rank,0),MATCH(L40,Rank,0)))","v":""},{"$f":"IF(M40=0,\"\",INDEX(ThreatRankMatrix,MATCH($M$17,Rank,0),MATCH(M40,Rank,0)))","v":""},{"$f":"IF(N40=0,\"\",INDEX(ThreatRankMatrix,MATCH($N$17,Rank,0),MATCH(N40,Rank,0)))","v":""},{"$f":"IF(O40=0,\"\",INDEX(ThreatRankMatrix,MATCH($O$17,Rank,0),MATCH(O40,Rank,0)))","v":""},{"$f":"IF(P40=0,\"\",INDEX(ThreatRankMatrix,MATCH($P$17,Rank,0),MATCH(P40,Rank,0)))","v":""},null,null,null,null,null,null,null,null,null,null,null,null,null,null,null,{"$f":"SUM(AG41:AP41)","v":0},{"$f":"IF(G$17=\"\",0,(IF(G40=0,0,IF(G41=0,0,INDEX(ThreatScore,MATCH(G41,Rank,0))))))","v":0},0,0,0,0,0,0,0,0,0]

{"sheet":"10","index":14,"n_rows":41,"n_cols":42,"rows_kept":41,"cut":false,"hidden":false,"merged":[[0,3,0,4],[15,4,16,4],[15,16,16,16],[17,4,18,4],[17,16,18,16],[13,3,13,4],[19,4,20,4],[19,16,20,16],[21,4,22,4],[21,16,22,16],[23,4,24,4],[23,16,24,16],[25,4,26,4],[25,16,26,16],[33,4,34,4],[33,16,34,16],[39,4,40,4],[39,16,40,16],[27,4,28,4],[27,16,28,16],[29,4,30,4],[29,16,30,16],[31,4,32,4],[31,16,32,16],[35,4,36,4],[35,16,36,16],[37,4,38,4],[37,16,38,16]]}
[null,null,null,{"$f":"IF(Targets!C55=0,\"\",Targets!C55)","v":"Confluence with Tanana"},{"$f":"IF(Targets!C55=0,\"\",Targets!C55)","v":"Confluence with Tanana"},"  Key Attributes & Future Threats"]
[null,null,null,null,null,"Place cursor over cells with red triangles in top corner for hint"]
["KEA ID","Target ID","Target Name","Category","Key Attribute","Indicator","Poor","Fair","Good","Very Good","Current Rating","Projected Future Rating w No Action","Stress Ranking (calculated)","Stress Ranking (User Override)",null,null,null,null,null,"Projected Future Rating w Strategies","New Stress Ranking (calculated)","New Stress Ranking (User Override)",null,null,"Temp Indicator ID",null,"Target #","Current Score","Score w No Action","Score w Strategies","Current Weight","Future Weight No Action","Future Weight w Action","Current Weighted Score","Future No Action Weighted Score","Future Action Weighted Score","Current Weighted Average","Future No Action Weighted Average","Future Action Weighted Average"]
[{"$f":"ROW()+1000","v":1004},10,{"$f":"$D$1","v":"Confluence with Tanana"},"Landscape Context","Delta dynamics","Natural channel complexity","Confined | Unnatural Restricted Channel"," Some channels are confined or restricted","Unrestricted channel(s) "," Some channels are confined or restricted","Good","Good",{"$f":"IF(K4=0,\"\",IF(L4=0,\"\",INDEX(StressRankMatrix,MATCH(K4,Rating,0),MATCH(L4,Rating,0))))","v":"-"},null,null,null,null,null,null,{"$f":"IF(L4=\"\",\"\",IFERROR(INDEX(Outcomes!$F:$F, MATCH(A4,Outcomes!$H:$H,0)),L4))","v":"Good"},{"$f":"IF(K4=\"\",\"\",IF(T4=0,\"\",INDEX(StressRankMatrix,MATCH(K4,Rating,0),MATCH(T4,Rating,0))))","v":"-"},null,null,null,{"$f":"IFERROR(INDEX(#REF!,MATCH(A4,#REF!,0)),\"\")","v":""},null,{"$f":"IF(E4=\"\",\"\",IF(E4>0,$B$4,\"error\"))","v":10},{"$f":"IF(K4=\"Poor\",Scoring!$B$50,IF(K4=\"Fair -\",Scoring!$B$49,IF(K4=\"Fair\",Scoring!$B$48,IF(K4=\"Good -\",Scoring!$B$47,IF(K4=\"Good\",Scoring!$B$46,IF(K4=\"Very Good\",Scoring!$B$45,IF(K4=\"\",0)))))))","v":80.03},{"$f":"IF(L4=\"Poor\",Scoring!$B$50,IF(L4=\"Fair -\",Scoring!$B$49,IF(L4=\"Fair\",Scoring!$B$48,IF(L4=\"Good -\",Scoring!$B$47,IF(L4=\"Good\",Scoring!$B$46,IF(L4=\"Very Good\",Scoring!$B$45,IF(L4=\"\",0)))))))","v":80.03},{"$f":"IF(T4=\"Poor\",Scoring!$B$50,IF(T4=\"Fair -\",Scoring!$B$49,IF(T4=\"Fair\",Scoring!$B$48,IF(T4=\"Good -\",Scoring!$B$47,IF(T4=\"Good\",Scoring!$B$46,IF(T4=\"Very Good\",Scoring!$B$45,IF(T4=\"\",0)))))))","v":80.03},{"$f":"IF(K4=\"Poor\",Scoring!$C$50,IF(K4=\"Fair -\",Scoring!$C$49,IF(K4=\"Fair\",Scoring!$C$48,IF(K4=\"Good -\",Scoring!$C$47,IF(K4=\"Good\",Scoring!$C$46,IF(K4=\"Very Good\",Scoring!$C$45,IF(K4=\"\",0)))))))","v":1},{"$f":"IF(L4=\"Poor\",Scoring!$C$50,IF(L4=\"Fair -\",Scoring!$C$49,IF(L4=\"Fair\",Scoring!$C$48,IF(L4=\"Good -\",Scoring!$C$47,IF(L4=\"Good\",Scoring!$C$46,IF(L4=\"Very Good\",Scoring!$C$45,IF(L4=\"\",0)))))))","v":1},{"$f":"IF(T4=\"Poor\",Scoring!$C$50,IF(T4=\"Fair -\",Scoring!$C$49,IF(T4=\"Fair\",Scoring!$C$48,IF(T4=\"Good -\",Scoring!$C$47,IF(T4=\"Good\",Scoring!$C$46,IF(T4=\"Very Good\",Scoring!$C$45,IF(T4=\"\",0)))))))","v":1},{"$f":"AB4*AE4","v":80.03},{"$f":"AC4*AF4","v":80.03},{"$f":"AD4*AG4","v":80.03}]
[{"$f":"ROW()+1000","v":1005},10,{"$f":"$D$1","v":"Confluence with Tanana"},"Landscape Context","In channel habitat","Amount, type, size, availability of, distribution, dynamic equilibrium (in)stability, large woody debris, substrate and banks","Low diversity of and abundance of suitable substrates/ material in most habitats"," Moderate diversity of abundance of suitable substrates/material in most habitats","Diversity and abundance of suitable substrates/ material in most habitat for aquatic - "," High diversity and abundance of suitable substrates/ material in most habitat for aquatic species","Good","Good","-",null,null,null,null,null,null,{"$f":"IF(L5=\"\",\"\",IFERROR(INDEX(Outcomes!$F:$F, MATCH(A5,Outcomes!$H:$H,0)),L5))","v":"Good"},"-",null,null,null,{"$f":"IFERROR(INDEX(#REF!,MATCH(A5,#REF!,0)),\"\")","v":""},null,10,{"$f":"IF(K5=\"Poor\",Scoring!$B$50,IF(K5=\"Fair -\",Scoring!$B$49,IF(K5=\"Fair\",Scoring!$B$48,IF(K5=\"Good -\",Scoring!$B$47,IF(K5=\"Good\",Scoring!$B$46,IF(K5=\"Very Good\",Scoring!$B$45,IF(K5=\"\",0)))))))","v":80.03},{"$f":"IF(L5=\"Poor\",Scoring!$B$50,IF(L5=\"Fair -\",Scoring!$B$49,IF(L5=\"Fair\",Scoring!$B$48,IF(L5=\"Good -\",Scoring!$B$47,IF(L5=\"Good\",Scoring!$B$46,IF(L5=\"Very Good\",Scoring!$B$45,IF(L5=\"\",0)))))))","v":80.03},{"$f":"IF(T5=\"Poor\",Scoring!$B$50,IF(T5=\"Fair -\",Scoring!$B$49,IF(T5=\"Fair\",Scoring!$B$48,IF(T5=\"Good -\",Scoring!$B$47,IF(T5=\"Good\",Scoring!$B$46,IF(T5=\"Very Good\",Scoring!$B$45,IF(T5=\"\",0)))))))","v":80.03},{"$f":"IF(K5=\"Poor\",Scoring!$C$50,IF(K5=\"Fair -\",Scoring!$C$49,IF(K5=\"Fair\",Scoring!$C$48,IF(K5=\"Good -\",Scoring!$C$47,IF(K5=\"Good\",Scoring!$C$46,IF(K5=\"Very Good\",Scoring!$C$45,IF(K5=\"\",0)))))))","v":1},{"$f":"IF(L5=\"Poor\",Scoring!$C$50,IF(L5=\"Fair -\",Scoring!$C$49,IF(L5=\"Fair\",Scoring!$C$48,IF(L5=\"Good -\",Scoring!$C$47,IF(L5=\"Good\",Scoring!$C$46,IF(L5=\"Very Good\",Scoring!$C$45,IF(L5=\"\",0)))))))","v":1},{"$f":"IF(T5=\"Poor\",Scoring!$C$50,IF(T5=\"Fair -\",Scoring!$C$49,IF(T5=\"Fair\",Scoring!$C$48,IF(T5=\"Good -\",Scoring!$C$47,IF(T5=\"Good\",Scoring!$C$46,IF(T5=\"Very Good\",Scoring!$C$45,IF(T5=\"\",0)))))))","v":1},{"$f":"AB5*AE5","v":80.03},80.03,80.03]
[1006,10,"Confluence with Tanana","Condition","Charactersitic native community","Presence of characteristic native communities within habitats","Few habitats have the characteristic native communities to accom-modate most nested targets in abundance","Some habitats have the characteristic native communities to accom-modate most nested targets in abundance","Most habitats have the characteristic native communities to accom-modate most nested targets in abundance","Almost all habitats have the characteristic native communities to accom­modate almost all nested targets in abundance","Good","Good -","Medium",null,null,null,null,null,null,{"$f":"IF(L6=\"\",\"\",IFERROR(INDEX(Outcomes!$F:$F, MATCH(A6,Outcomes!$H:$H,0)),L6))","v":"Good -"},"Medium",null,null,null,{"$f":"IFERROR(INDEX(#REF!,MATCH(A6,#REF!,0)),\"\")","v":""},null,10,{"$f":"IF(K6=\"Poor\",Scoring!$B$50,IF(K6=\"Fair -\",Scoring!$B$49,IF(K6=\"Fair\",Scoring!$B$48,IF(K6=\"Good -\",Scoring!$B$47,IF(K6=\"Good\",Scoring!$B$46,IF(K6=\"Very Good\",Scoring!$B$45,IF(K6=\"\",0)))))))","v":80.03},{"$f":"IF(L6=\"Poor\",Scoring!$B$50,IF(L6=\"Fair -\",Scoring!$B$49,IF(L6=\"Fair\",Scoring!$B$48,IF(L6=\"Good -\",Scoring!$B$47,IF(L6=\"Good\",Scoring!$B$46,IF(L6=\"Very Good\",Scoring!$B$45,IF(L6=\"\",0)))))))","v":60.04},{"$f":"IF(T6=\"Poor\",Scoring!$B$50,IF(T6=\"Fair -\",Scoring!$B$49,IF(T6=\"Fair\",Scoring!$B$48,IF(T6=\"Good -\",Scoring!$B$47,IF(T6=\"Good\",Scoring!$B$46,IF(T6=\"Very Good\",Scoring!$B$45,IF(T6=\"\",0)))))))","v":60.04},{"$f":"IF(K6=\"Poor\",Scoring!$C$50,IF(K6=\"Fair -\",Scoring!$C$49,IF(K6=\"Fair\",Scoring!$C$48,IF(K6=\"Good -\",Scoring!$C$47,IF(K6=\"Good\",Scoring!$C$46,IF(K6=\"Very Good\",Scoring!$C$45,IF(K6=\"\",0)))))))","v":1},{"$f":"IF(L6=\"Poor\",Scoring!$C$50,IF(L6=\"Fair -\",Scoring!$C$49,IF(L6=\"Fair\",Scoring!$C$48,IF(L6=\"Good -\",Scoring!$C$47,IF(L6=\"Good\",Scoring!$C$46,IF(L6=\"Very Good\",Scoring!$C$45,IF(L6=\"\",0)))))))","v":1},{"$f":"IF(T6=\"Poor\",Scoring!$C$50,IF(T6=\"Fair -\",Scoring!$C$49,IF(T6=\"Fair\",Scoring!$C$48,IF(T6=\"Good -\",Scoring!$C$47,IF(T6=\"Good\",Scoring!$C$46,IF(T6=\"Very Good\",Scoring!$C$45,IF(T6=\"\",0)))))))","v":1},80.03,60.04,60.04]
[1007,10,"Confluence with Tanana","Condition","Species composition","Presence/absence, extent of invasive species"," High abundance of  invasive/non-native species in most habitats"," Moderate abundance of  invasive/non-native species in most habitats","Low presence of existing invasive/non-native species in most habitats with NO new invasive species  "," Mimimal to no abundance of  invasive/non-native species in most habitats","Good","Good -","Medium",null,null,null,null,null,null,{"$f":"IF(L7=\"\",\"\",IFERROR(INDEX(Outcomes!$F:$F, MATCH(A7,Outcomes!$H:$H,0)),L7))","v":"Good"},"-",null,null,null,{"$f":"IFERROR(INDEX(#REF!,MATCH(A7,#REF!,0)),\"\")","v":""},null,10,{"$f":"IF(K7=\"Poor\",Scoring!$B$50,IF(K7=\"Fair -\",Scoring!$B$49,IF(K7=\"Fair\",Scoring!$B$48,IF(K7=\"Good -\",Scoring!$B$47,IF(K7=\"Good\",Scoring!$B$46,IF(K7=\"Very Good\",Scoring!$B$45,IF(K7=\"\",0)))))))","v":80.03},{"$f":"IF(L7=\"Poor\",Scoring!$B$50,IF(L7=\"Fair -\",Scoring!$B$49,IF(L7=\"Fair\",Scoring!$B$48,IF(L7=\"Good -\",Scoring!$B$47,IF(L7=\"Good\",Scoring!$B$46,IF(L7=\"Very Good\",Scoring!$B$45,IF(L7=\"\",0)))))))","v":60.04},{"$f":"IF(T7=\"Poor\",Scoring!$B$50,IF(T7=\"Fair -\",Scoring!$B$49,IF(T7=\"Fair\",Scoring!$B$48,IF(T7=\"Good -\",Scoring!$B$47,IF(T7=\"Good\",Scoring!$B$46,IF(T7=\"Very Good\",Scoring!$B$45,IF(T7=\"\",0)))))))","v":80.03},{"$f":"IF(K7=\"Poor\",Scoring!$C$50,IF(K7=\"Fair -\",Scoring!$C$49,IF(K7=\"Fair\",Scoring!$C$48,IF(K7=\"Good -\",Scoring!$C$47,IF(K7=\"Good\",Scoring!$C$46,IF(K7=\"Very Good\",Scoring!$C$45,IF(K7=\"\",0)))))))","v":1},{"$f":"IF(L7=\"Poor\",Scoring!$C$50,IF(L7=\"Fair -\",Scoring!$C$49,IF(L7=\"Fair\",Scoring!$C$48,IF(L7=\"Good -\",Scoring!$C$47,IF(L7=\"Good\",Scoring!$C$46,IF(L7=\"Very Good\",Scoring!$C$45,IF(L7=\"\",0)))))))","v":1},{"$f":"IF(T7=\"Poor\",Scoring!$C$50,IF(T7=\"Fair -\",Scoring!$C$49,IF(T7=\"Fair\",Scoring!$C$48,IF(T7=\"Good -\",Scoring!$C$47,IF(T7=\"Good\",Scoring!$C$46,IF(T7=\"Very Good\",Scoring!$C$45,IF(T7=\"\",0)))))))","v":1},80.03,60.04,80.03]
[1008,10,"Confluence with Tanana","Condition","Water quality","Temperature, DO, toxins, or litter/trash/residues","High TBD% not meeting most ADEC’s standards "," Moderate habitats meet most ADEC’s standards","Most habitats are meeting most ADEC's standards","Majority to all habitats meet most ADEC’s standards","Good","Good -","Medium",null,null,null,null,null,null,{"$f":"IF(L8=\"\",\"\",IFERROR(INDEX(Outcomes!$F:$F, MATCH(A8,Outcomes!$H:$H,0)),L8))","v":"Good -"},"Medium",null,null,null,{"$f":"IFERROR(INDEX(#REF!,MATCH(A8,#REF!,0)),\"\")","v":""},null,10,{"$f":"IF(K8=\"Poor\",Scoring!$B$50,IF(K8=\"Fair -\",Scoring!$B$49,IF(K8=\"Fair\",Scoring!$B$48,IF(K8=\"Good -\",Scoring!$B$47,IF(K8=\"Good\",Scoring!$B$46,IF(K8=\"Very Good\",Scoring!$B$45,IF(K8=\"\",0)))))))","v":80.03},{"$f":"IF(L8=\"Poor\",Scoring!$B$50,IF(L8=\"Fair -\",Scoring!$B$49,IF(L8=\"Fair\",Scoring!$B$48,IF(L8=\"Good -\",Scoring!$B$47,IF(L8=\"Good\",Scoring!$B$46,IF(L8=\"Very Good\",Scoring!$B$45,IF(L8=\"\",0)))))))","v":60.04},{"$f":"IF(T8=\"Poor\",Scoring!$B$50,IF(T8=\"Fair -\",Scoring!$B$49,IF(T8=\"Fair\",Scoring!$B$48,IF(T8=\"Good -\",Scoring!$B$47,IF(T8=\"Good\",Scoring!$B$46,IF(T8=\"Very Good\",Scoring!$B$45,IF(T8=\"\",0)))))))","v":60.04},{"$f":"IF(K8=\"Poor\",Scoring!$C$50,IF(K8=\"Fair -\",Scoring!$C$49,IF(K8=\"Fair\",Scoring!$C$48,IF(K8=\"Good -\",Scoring!$C$47,IF(K8=\"Good\",Scoring!$C$46,IF(K8=\"Very Good\",Scoring!$C$45,IF(K8=\"\",0)))))))","v":1},{"$f":"IF(L8=\"Poor\",Scoring!$C$50,IF(L8=\"Fair -\",Scoring!$C$49,IF(L8=\"Fair\",Scoring!$C$48,IF(L8=\"Good -\",Scoring!$C$47,IF(L8=\"Good\",Scoring!$C$46,IF(L8=\"Very Good\",Scoring!$C$45,IF(L8=\"\",0)))))))","v":1},{"$f":"IF(T8=\"Poor\",Scoring!$C$50,IF(T8=\"Fair -\",Scoring!$C$49,IF(T8=\"Fair\",Scoring!$C$48,IF(T8=\"Good -\",Scoring!$C$47,IF(T8=\"Good\",Scoring!$C$46,IF(T8=\"Very Good\",Scoring!$C$45,IF(T8=\"\",0)))))))","v":1},80.03,60.04,60.04]
[1009,10,"Confluence with Tanana","Size","Extent includes floodplain/riparian and river area","Acres","Severe loss","Moderate to substantial loss","Minimal loss","Mother Nature","Good","Good -","Medium",null,null,null,null,null,null,{"$f":"IF(L9=\"\",\"\",IFERROR(INDEX(Outcomes!$F:$F, MATCH(A9,Outcomes!$H:$H,0)),L9))","v":"Good -"},"Medium",null,null,null,{"$f":"IFERROR(INDEX(#REF!,MATCH(A9,#REF!,0)),\"\")","v":""},null,10,{"$f":"IF(K9=\"Poor\",Scoring!$B$50,IF(K9=\"Fair -\",Scoring!$B$49,IF(K9=\"Fair\",Scoring!$B$48,IF(K9=\"Good -\",Scoring!$B$47,IF(K9=\"Good\",Scoring!$B$46,IF(K9=\"Very Good\",Scoring!$B$45,IF(K9=\"\",0)))))))","v":80.03},{"$f":"IF(L9=\"Poor\",Scoring!$B$50,IF(L9=\"Fair -\",Scoring!$B$49,IF(L9=\"Fair\",Scoring!$B$48,IF(L9=\"Good -\",Scoring!$B$47,IF(L9=\"Good\",Scoring!$B$46,IF(L9=\"Very Good\",Scoring!$B$45,IF(L9=\"\",0)))))))","v":60.04},{"$f":"IF(T9=\"Poor\",Scoring!$B$50,IF(T9=\"Fair -\",Scoring!$B$49,IF(T9=\"Fair\",Scoring!$B$48,IF(T9=\"Good -\",Scoring!$B$47,IF(T9=\"Good\",Scoring!$B$46,IF(T9=\"Very Good\",Scoring!$B$45,IF(T9=\"\",0)))))))","v":60.04},{"$f":"IF(K9=\"Poor\",Scoring!$C$50,IF(K9=\"Fair -\",Scoring!$C$49,IF(K9=\"Fair\",Scoring!$C$48,IF(K9=\"Good -\",Scoring!$C$47,IF(K9=\"Good\",Scoring!$C$46,IF(K9=\"Very Good\",Scoring!$C$45,IF(K9=\"\",0)))))))","v":1},{"$f":"IF(L9=\"Poor\",Scoring!$C$50,IF(L9=\"Fair -\",Scoring!$C$49,IF(L9=\"Fair\",Scoring!$C$48,IF(L9=\"Good -\",Scoring!$C$47,IF(L9=\"Good\",Scoring!$C$46,IF(L9=\"Very Good\",Scoring!$C$45,IF(L9=\"\",0)))))))","v":1},{"$f":"IF(T9=\"Poor\",Scoring!$C$50,IF(T9=\"Fair -\",Scoring!$C$49,IF(T9=\"Fair\",Scoring!$C$48,IF(T9=\"Good -\",Scoring!$C$47,IF(T9=\"Good\",Scoring!$C$46,IF(T9=\"Very Good\",Scoring!$C$45,IF(T9=\"\",0)))))))","v":1},80.03,60.04,60.04]
[1010,10,"Confluence with Tanana",null,null,null,null,null,null,null,null,null,"",null,null,null,null,null,null,{"$f":"IF(L10=\"\",\"\",IFERROR(INDEX(Outcomes!$F:$F, MATCH(A10,Outcomes!$H:$H,0)),L10))","v":""},"",null,null,null,{"$f":"IFERROR(INDEX(#REF!,MATCH(A10,#REF!,0)),\"\")","v":""},null,"",{"$f":"IF(K10=\"Poor\",Scoring!$B$50,IF(K10=\"Fair -\",Scoring!$B$49,IF(K10=\"Fair\",Scoring!$B$48,IF(K10=\"Good -\",Scoring!$B$47,IF(K10=\"Good\",Scoring!$B$46,IF(K10=\"Very Good\",Scoring!$B$45,IF(K10=\"\",0)))))))","v":0},{"$f":"IF(L10=\"Poor\",Scoring!$B$50,IF(L10=\"Fair -\",Scoring!$B$49,IF(L10=\"Fair\",Scoring!$B$48,IF(L10=\"Good -\",Scoring!$B$47,IF(L10=\"Good\",Scoring!$B$46,IF(L10=\"Very Good\",Scoring!$B$45,IF(L10=\"\",0)))))))","v":0},{"$f":"IF(T10=\"Poor\",Scoring!$B$50,IF(T10=\"Fair -\",Scoring!$B$49,IF(T10=\"Fair\",Scoring!$B$48,IF(T10=\"Good -\",Scoring!$B$47,IF(T10=\"Good\",Scoring!$B$46,IF(T10=\"Very Good\",Scoring!$B$45,IF(T10=\"\",0)))))))","v":0},{"$f":"IF(K10=\"Poor\",Scoring!$C$50,IF(K10=\"Fair -\",Scoring!$C$49,IF(K10=\"Fair\",Scoring!$C$48,IF(K10=\"Good -\",Scoring!$C$47,IF(K10=\"Good\",Scoring!$C$46,IF(K10=\"Very Good\",Scoring!$C$45,IF(K10=\"\",0)))))))","v":0},{"$f":"IF(L10=\"Poor\",Scoring!$C$50,IF(L10=\"Fair -\",Scoring!$C$49,IF(L10=\"Fair\",Scoring!$C$48,IF(L10=\"Good -\",Scoring!$C$47,IF(L10=\"Good\",Scoring!$C$46,IF(L10=\"Very Good\",Scoring!$C$45,IF(L10=\"\",0)))))))","v":0},{"$f":"IF(T10=\"Poor\",Scoring!$C$50,IF(T10=\"Fair -\",Scoring!$C$49,IF(T10=\"Fair\",Scoring!$C$48,IF(T10=\"Good -\",Scoring!$C$47,IF(T10=\"Good\",Scoring!$C$46,IF(T10=\"Very Good\",Scoring!$C$45,IF(T10=\"\",0)))))))","v":0},0,0,0]
[1011,10,"Confluence with Tanana",null,null,null,null,null,null,null,null,null,"",null,null,null,null,null,null,{"$f":"IF(L11=\"\",\"\",IFERROR(INDEX(Outcomes!$F:$F, MATCH(A11,Outcomes!$H:$H,0)),L11))","v":""},"",null,null,null,{"$f":"IFERROR(INDEX(#REF!,MATCH(A11,#REF!,0)),\"\")","v":""},null,"",{"$f":"IF(K11=\"Poor\",Scoring!$B$50,IF(K11=\"Fair -\",Scoring!$B$49,IF(K11=\"Fair\",Scoring!$B$48,IF(K11=\"Good -\",Scoring!$B$47,IF(K11=\"Good\",Scoring!$B$46,IF(K11=\"Very Good\",Scoring!$B$45,IF(K11=\"\",0)))))))","v":0},{"$f":"IF(L11=\"Poor\",Scoring!$B$50,IF(L11=\"Fair -\",Scoring!$B$49,IF(L11=\"Fair\",Scoring!$B$48,IF(L11=\"Good -\",Scoring!$B$47,IF(L11=\"Good\",Scoring!$B$46,IF(L11=\"Very Good\",Scoring!$B$45,IF(L11=\"\",0)))))))","v":0},{"$f":"IF(T11=\"Poor\",Scoring!$B$50,IF(T11=\"Fair -\",Scoring!$B$49,IF(T11=\"Fair\",Scoring!$B$48,IF(T11=\"Good -\",Scoring!$B$47,IF(T11=\"Good\",Scoring!$B$46,IF(T11=\"Very Good\",Scoring!$B$45,IF(T11=\"\",0)))))))","v":0},{"$f":"IF(K11=\"Poor\",Scoring!$C$50,IF(K11=\"Fair -\",Scoring!$C$49,IF(K11=\"Fair\",Scoring!$C$48,IF(K11=\"Good -\",Scoring!$C$47,IF(K11=\"Good\",Scoring!$C$46,IF(K11=\"Very Good\",Scoring!$C$45,IF(K11=\"\",0)))))))","v":0},{"$f":"IF(L11=\"Poor\",Scoring!$C$50,IF(L11=\"Fair -\",Scoring!$C$49,IF(L11=\"Fair\",Scoring!$C$48,IF(L11=\"Good -\",Scoring!$C$47,IF(L11=\"Good\",Scoring!$C$46,IF(L11=\"Very Good\",Scoring!$C$45,IF(L11=\"\",0)))))))","v":0},{"$f":"IF(T11=\"Poor\",Scoring!$C$50,IF(T11=\"Fair -\",Scoring!$C$49,IF(T11=\"Fair\",Scoring!$C$48,IF(T11=\"Good -\",Scoring!$C$47,IF(T11=\"Good\",Scoring!$C$46,IF(T11=\"Very Good\",Scoring!$C$45,IF(T11=\"\",0)))))))","v":0},0,0,0]
[1012,10,"Confluence with Tanana",null,null,null,null,null,null,null,null,null,"",null,null,null,null,null,null,{"$f":"IF(L12=\"\",\"\",IFERROR(INDEX(Outcomes!$F:$F, MATCH(A12,Outcomes!$H:$H,0)),L12))","v":""},"",null,null,null,{"$f":"IFERROR(INDEX(#REF!,MATCH(A12,#REF!,0)),\"\")","v":""},null,"",{"$f":"IF(K12=\"Poor\",Scoring!$B$50,IF(K12=\"Fair -\",Scoring!$B$49,IF(K12=\"Fair\",Scoring!$B$48,IF(K12=\"Good -\",Scoring!$B$47,IF(K12=\"Good\",Scoring!$B$46,IF(K12=\"Very Good\",Scoring!$B$45,IF(K12=\"\",0)))))))","v":0},{"$f":"IF(L12=\"Poor\",Scoring!$B$50,IF(L12=\"Fair -\",Scoring!$B$49,IF(L12=\"Fair\",Scoring!$B$48,IF(L12=\"Good -\",Scoring!$B$47,IF(L12=\"Good\",Scoring!$B$46,IF(L12=\"Very Good\",Scoring!$B$45,IF(L12=\"\",0)))))))","v":0},{"$f":"IF(T12=\"Poor\",Scoring!$B$50,IF(T12=\"Fair -\",Scoring!$B$49,IF(T12=\"Fair\",Scoring!$B$48,IF(T12=\"Good -\",Scoring!$B$47,IF(T12=\"Good\",Scoring!$B$46,IF(T12=\"Very Good\",Scoring!$B$45,IF(T12=\"\",0)))))))","v":0},{"$f":"IF(K12=\"Poor\",Scoring!$C$50,IF(K12=\"Fair -\",Scoring!$C$49,IF(K12=\"Fair\",Scoring!$C$48,IF(K12=\"Good -\",Scoring!$C$47,IF(K12=\"Good\",Scoring!$C$46,IF(K12=\"Very Good\",Scoring!$C$45,IF(K12=\"\",0)))))))","v":0},{"$f":"IF(L12=\"Poor\",Scoring!$C$50,IF(L12=\"Fair -\",Scoring!$C$49,IF(L12=\"Fair\",Scoring!$C$48,IF(L12=\"Good -\",Scoring!$C$47,IF(L12=\"Good\",Scoring!$C$46,IF(L12=\"Very Good\",Scoring!$C$45,IF(L12=\"\",0)))))))","v":0},{"$f":"IF(T12=\"Poor\",Scoring!$C$50,IF(T12=\"Fair -\",Scoring!$C$49,IF(T12=\"Fair\",Scoring!$C$48,IF(T12=\"Good -\",Scoring!$C$47,IF(T12=\"Good\",Scoring!$C$46,IF(T12=\"Very Good\",Scoring!$C$45,IF(T12=\"\",0)))))))","v":0},0,0,0]
[1013,10,"Confluence with Tanana",null,null,null,null,null,null,null,null,null,"",null,null,null,null,null,null,{"$f":"IF(L13=\"\",\"\",IFERROR(INDEX(Outcomes!$F:$F, MATCH(A13,Outcomes!$H:$H,0)),L13))","v":""},{"$f":"IF(K13=0,\"\",IF(T13=0,\"\",INDEX(StressRankMatrix,MATCH(K13,Rating,0),MATCH(T13,Rating,0))))","v":""},null,null,null,{"$f":"IFERROR(INDEX(#REF!,MATCH(A13,#REF!,0)),\"\")","v":""},null,"",{"$f":"IF(K13=\"Poor\",Scoring!$B$50,IF(K13=\"Fair -\",Scoring!$B$49,IF(K13=\"Fair\",Scoring!$B$48,IF(K13=\"Good -\",Scoring!$B$47,IF(K13=\"Good\",Scoring!$B$46,IF(K13=\"Very Good\",Scoring!$B$45,IF(K13=\"\",0)))))))","v":0},{"$f":"IF(L13=\"Poor\",Scoring!$B$50,IF(L13=\"Fair -\",Scoring!$B$49,IF(L13=\"Fair\",Scoring!$B$48,IF(L13=\"Good -\",Scoring!$B$47,IF(L13=\"Good\",Scoring!$B$46,IF(L13=\"Very Good\",Scoring!$B$45,IF(L13=\"\",0)))))))","v":0},{"$f":"IF(T13=\"Poor\",Scoring!$B$50,IF(T13=\"Fair -\",Scoring!$B$49,IF(T13=\"Fair\",Scoring!$B$48,IF(T13=\"Good -\",Scoring!$B$47,IF(T13=\"Good\",Scoring!$B$46,IF(T13=\"Very Good\",Scoring!$B$45,IF(T13=\"\",0)))))))","v":0},{"$f":"IF(K13=\"Poor\",Scoring!$C$50,IF(K13=\"Fair -\",Scoring!$C$49,IF(K13=\"Fair\",Scoring!$C$48,IF(K13=\"Good -\",Scoring!$C$47,IF(K13=\"Good\",Scoring!$C$46,IF(K13=\"Very Good\",Scoring!$C$45,IF(K13=\"\",0)))))))","v":0},{"$f":"IF(L13=\"Poor\",Scoring!$C$50,IF(L13=\"Fair -\",Scoring!$C$49,IF(L13=\"Fair\",Scoring!$C$48,IF(L13=\"Good -\",Scoring!$C$47,IF(L13=\"Good\",Scoring!$C$46,IF(L13=\"Very Good\",Scoring!$C$45,IF(L13=\"\",0)))))))","v":0},{"$f":"IF(T13=\"Poor\",Scoring!$C$50,IF(T13=\"Fair -\",Scoring!$C$49,IF(T13=\"Fair\",Scoring!$C$48,IF(T13=\"Good -\",Scoring!$C$47,IF(T13=\"Good\",Scoring!$C$46,IF(T13=\"Very Good\",Scoring!$C$45,IF(T13=\"\",0)))))))","v":0},0,0,0]
[null,null,null,"Overall Target Health Score                           (0 = Poor - 100 = Very Good)",null,null,null,null,null,null,{"$f":"AK14","v":80.029999999999987},{"$f":"AL14","v":66.703333333333333},null,null,null,null,null,null,null,{"$f":"AM14","v":70.035000000000011},null,null,null,null,null,null,null,null,null,null,{"$f":"SUM(AE4:AE13)","v":6},6,6,480.17999999999995,400.22,420.21000000000004,{"$f":"IF(AH14=0,\"\",AH14/AE14)","v":80.029999999999987},{"$f":"IF(AI14=0,\"\",AI14/AF14)","v":66.703333333333333},{"$f":"IF(AJ14=0,\"\",AJ14/AG14)","v":70.035000000000011}]
[]
[null,null,null,null,"Threats (Sources of Stress)         List Sources of stress below (max of 12 per target).  Enter Contribution of each source where applicable.","  Key Attribute >",{"$f":"IF(E4=0,\"\",E4)","v":"Delta dynamics"},{"$f":"IF(E5=0,\"\",E5)","v":"In channel habitat"},{"$f":"IF(E6=0,\"\",E6)","v":"Charactersitic native community"},{"$f":"IF(E7=0,\"\",E7)","v":"Species composition"},{"$f":"IF(E8=0,\"\",E8)","v":"Water quality"},{"$f":"IF(E9=0,\"\",E9)","v":"Extent includes floodplain/riparian and river area"},{"$f":"IF(E10=0,\"\",E10)","v":""},{"$f":"IF(E11=0,\"\",E11)","v":""},{"$f":"IF(E12=0,\"\",E12)","v":""},{"$f":"IF(E13=0,\"\",E13)","v":""},"Threat to Target Rank"]
[null,null,null,null,null,"Stress Rank>",{"$f":"IF(M4=\"\",\"\", IF(N4=0,M4,N4))","v":"-"},{"$f":"IF(M5=\"\",\"\", IF(N5=0,M5,N5))","v":"-"},{"$f":"IF(M6=\"\",\"\", IF(N6=0,M6,N6))","v":"Medium"},{"$f":"IF(M7=\"\",\"\", IF(N7=0,M7,N7))","v":"Medium"},{"$f":"IF(M8=\"\",\"\", IF(N8=0,M8,N8))","v":"Medium"},{"$f":"IF(M9=\"\",\"\", IF(N9=0,M9,N9))","v":"Medium"},{"$f":"IF(M10=\"\",\"\", IF(N10=0,M10,N10))","v":""},{"$f":"IF(M11=\"\",\"\", IF(N11=0,M11,N11))","v":""},{"$f":"IF(M12=\"\",\"\", IF(N12=0,M12,N12))","v":""},{"$f":"IF(M13=\"\",\"\", IF(N13=0,M13,N13))","v":""}]
[null,null,null,null,"Incompatible boating","Contribution",null,null,null,null,"Medium",null,null,null,null,null,{"$f":"IF(AF19>=Scoring!$B$24,\"Very High\",IF(AF19>=Scoring!$B$25,\"High\",IF(AF19>=Scoring!$B$26,\"Medium\",IF(AF19>=Scoring!$B$27,\"Low\",\"-\"))))","v":"Low"}]
[null,null,null,null,null,"Threat Rank ",{"$f":"IF(G18=0,\"\",INDEX(ThreatRankMatrix,MATCH($G$17,Rank,0),MATCH(G18,Rank,0)))","v":""},{"$f":"IF(H18=0,\"\",INDEX(ThreatRankMatrix,MATCH($H$17,Rank,0),MATCH(H18,Rank,0)))","v":""},{"$f":"IF(I18=0,\"\",INDEX(ThreatRankMatrix,MATCH($I$17,Rank,0),MATCH(I18,Rank,0)))","v":""},{"$f":"IF(J18=0,\"\",INDEX(ThreatRankMatrix,MATCH($J$17,Rank,0),MATCH(J18,Rank,0)))","v":""},{"$f":"IF(K18=0,\"\",INDEX(ThreatRankMatrix,MATCH($K$17,Rank,0),MATCH(K18,Rank,0)))","v":"Low"},{"$f":"IF(L18=0,\"\",INDEX(ThreatRankMatrix,MATCH($L$17,Rank,0),MATCH(L18,Rank,0)))","v":""},{"$f":"IF(M18=0,\"\",INDEX(ThreatRankMatrix,MATCH($M$17,Rank,0),MATCH(M18,Rank,0)))","v":""},{"$f":"IF(N18=0,\"\",INDEX(ThreatRankMatrix,MATCH($N$17,Rank,0),MATCH(N18,Rank,0)))","v":""},{"$f":"IF(O18=0,\"\",INDEX(ThreatRankMatrix,MATCH($O$17,Rank,0),MATCH(O18,Rank,0)))","v":""},{"$f":"IF(P18=0,\"\",INDEX(ThreatRankMatrix,MATCH($P$17,Rank,0),MATCH(P18,Rank,0)))","v":""},null,null,null,null,null,null,null,null,null,null,null,null,null,null,null,{"$f":"SUM(AG19:AP19)","v":1},{"$f":"IF(G$17=\"\",0,(IF(G18=0,0,IF(G19=0,0,INDEX(ThreatScore,MATCH(G19,Rank,0))))))","v":0},0,0,0,1,0,0,0,0,0]
[null,null,null,null,"Removal of native vegetation from riparian zone","Contribution",null,null,"Medium","Medium","Medium","Medium",null,null,null,null,{"$f":"IF(AF21>=Scoring!$B$24,\"Very High\",IF(AF21>=Scoring!$B$25,\"High\",IF(AF21>=Scoring!$B$26,\"Medium\",IF(AF21>=Scoring!$B$27,\"Low\",\"-\"))))","v":"Low"}]
[null,null,null,null,null,"Threat Rank ",{"$f":"IF(G20=0,\"\",INDEX(ThreatRankMatrix,MATCH($G$17,Rank,0),MATCH(G20,Rank,0)))","v":""},{"$f":"IF(H20=0,\"\",INDEX(ThreatRankMatrix,MATCH($H$17,Rank,0),MATCH(H20,Rank,0)))","v":""},{"$f":"IF(I20=0,\"\",INDEX(ThreatRankMatrix,MATCH($I$17,Rank,0),MATCH(I20,Rank,0)))","v":"Low"},{"$f":"IF(J20=0,\"\",INDEX(ThreatRankMatrix,MATCH($J$17,Rank,0),MATCH(J20,Rank,0)))","v":"Low"},{"$f":"IF(K20=0,\"\",INDEX(ThreatRankMatrix,MATCH($K$17,Rank,0),MATCH(K20,Rank,0)))","v":"Low"},{"$f":"IF(L20=0,\"\",INDEX(ThreatRankMatrix,MATCH($L$17,Rank,0),MATCH(L20,Rank,0)))","v":"Low"},{"$f":"IF(M20=0,\"\",INDEX(ThreatRankMatrix,MATCH($M$17,Rank,0),MATCH(M20,Rank,0)))","v":""},{"$f":"IF(N20=0,\"\",INDEX(ThreatRankMatrix,MATCH($N$17,Rank,0),MATCH(N20,Rank,0)))","v":""},{"$f":"IF(O20=0,\"\",INDEX(ThreatRankMatrix,MATCH($O$17,Rank,0),MATCH(O20,Rank,0)))","v":""},{"$f":"IF(P20=0,\"\",INDEX(ThreatRankMatrix,MATCH($P$17,Rank,0),MATCH(P20,Rank,0)))","v":""},null,null,null,null,null,null,null,null,null,null,null,null,null,null,null,{"$f":"SUM(AG21:AP21)","v":4},{"$f":"IF(G$17=\"\",0,(IF(G20=0,0,IF(G21=0,0,INDEX(ThreatScore,MATCH(G21,Rank,0))))))","v":0},0,1,1,1,1,0,0,0,0]
[null,null,null,null,"Invasive terrestrial species/pests/pathogens","Contribution",null,null,"Low","Medium",null,null,null,null,null,null,{"$f":"IF(AF23>=Scoring!$B$24,\"Very High\",IF(AF23>=Scoring!$B$25,\"High\",IF(AF23>=Scoring!$B$26,\"Medium\",IF(AF23>=Scoring!$B$27,\"Low\",\"-\"))))","v":"Low"}]
[null,null,null,null,null,"Threat Rank ",{"$f":"IF(G22=0,\"\",INDEX(ThreatRankMatrix,MATCH($G$17,Rank,0),MATCH(G22,Rank,0)))","v":""},{"$f":"IF(H22=0,\"\",INDEX(ThreatRankMatrix,MATCH($H$17,Rank,0),MATCH(H22,Rank,0)))","v":""},{"$f":"IF(I22=0,\"\",INDEX(ThreatRankMatrix,MATCH($I$17,Rank,0),MATCH(I22,Rank,0)))","v":"Low"},{"$f":"IF(J22=0,\"\",INDEX(ThreatRankMatrix,MATCH($J$17,Rank,0),MATCH(J22,Rank,0)))","v":"Low"},{"$f":"IF(K22=0,\"\",INDEX(ThreatRankMatrix,MATCH($K$17,Rank,0),MATCH(K22,Rank,0)))","v":""},{"$f":"IF(L22=0,\"\",INDEX(ThreatRankMatrix,MATCH($L$17,Rank,0),MATCH(L22,Rank,0)))","v":""},{"$f":"IF(M22=0,\"\",INDEX(ThreatRankMatrix,MATCH($M$17,Rank,0),MATCH(M22,Rank,0)))","v":""},{"$f":"IF(N22=0,\"\",INDEX(ThreatRankMatrix,MATCH($N$17,Rank,0),MATCH(N22,Rank,0)))","v":""},{"$f":"IF(O22=0,\"\",INDEX(ThreatRankMatrix,MATCH($O$17,Rank,0),MATCH(O22,Rank,0)))","v":""},{"$f":"IF(P22=0,\"\",INDEX(ThreatRankMatrix,MATCH($P$17,Rank,0),MATCH(P22,Rank,0)))","v":""},null,null,null,null,null,null,null,null,null,null,null,null,null,null,null,{"$f":"SUM(AG23:AP23)","v":2},{"$f":"IF(G$17=\"\",0,(IF(G22=0,0,IF(G23=0,0,INDEX(ThreatScore,MATCH(G23,Rank,0))))))","v":0},0,1,1,0,0,0,0,0,0]
[null,null,null,null,"Residential / commercial development","Contribution",null,null,"Medium","Low","Medium","Medium",null,null,null,null,{"$f":"IF(AF25>=Scoring!$B$24,\"Very High\",IF(AF25>=Scoring!$B$25,\"High\",IF(AF25>=Scoring!$B$26,\"Medium\",IF(AF25>=Scoring!$B$27,\"Low\",\"-\"))))","v":"Low"}]
[null,null,null,null,null,"Threat Rank ",{"$f":"IF(G24=0,\"\",INDEX(ThreatRankMatrix,MATCH($G$17,Rank,0),MATCH(G24,Rank,0)))","v":""},{"$f":"IF(H24=0,\"\",INDEX(ThreatRankMatrix,MATCH($H$17,Rank,0),MATCH(H24,Rank,0)))","v":""},{"$f":"IF(I24=0,\"\",INDEX(ThreatRankMatrix,MATCH($I$17,Rank,0),MATCH(I24,Rank,0)))","v":"Low"},{"$f":"IF(J24=0,\"\",INDEX(ThreatRankMatrix,MATCH($J$17,Rank,0),MATCH(J24,Rank,0)))","v":"Low"},{"$f":"IF(K24=0,\"\",INDEX(ThreatRankMatrix,MATCH($K$17,Rank,0),MATCH(K24,Rank,0)))","v":"Low"},{"$f":"IF(L24=0,\"\",INDEX(ThreatRankMatrix,MATCH($L$17,Rank,0),MATCH(L24,Rank,0)))","v":"Low"},{"$f":"IF(M24=0,\"\",INDEX(ThreatRankMatrix,MATCH($M$17,Rank,0),MATCH(M24,Rank,0)))","v":""},{"$f":"IF(N24=0,\"\",INDEX(ThreatRankMatrix,MATCH($N$17,Rank,0),MATCH(N24,Rank,0)))","v":""},{"$f":"IF(O24=0,\"\",INDEX(ThreatRankMatrix,MATCH($O$17,Rank,0),MATCH(O24,Rank,0)))","v":""},{"$f":"IF(P24=0,\"\",INDEX(ThreatRankMatrix,MATCH($P$17,Rank,0),MATCH(P24,Rank,0)))","v":""},null,null,null,null,null,null,null,null,null,null,null,null,null,null,null,{"$f":"SUM(AG25:AP25)","v":4},{"$f":"IF(G$17=\"\",0,(IF(G24=0,0,IF(G25=0,0,INDEX(ThreatScore,MATCH(G25,Rank,0))))))","v":0},0,1,1,1,1,0,0,0,0]
[null,null,null,null,"Hardening stream banks with rip rap, channelization, etc.","Contribution",null,null,"Medium","Medium","High",null,null,null,null,null,{"$f":"IF(AF27>=Scoring!$B$24,\"Very High\",IF(AF27>=Scoring!$B$25,\"High\",IF(AF27>=Scoring!$B$26,\"Medium\",IF(AF27>=Scoring!$B$27,\"Low\",\"-\"))))","v":"Medium"}]
[null,null,null,null,null,"Threat Rank ",{"$f":"IF(G26=0,\"\",INDEX(ThreatRankMatrix,MATCH($G$17,Rank,0),MATCH(G26,Rank,0)))","v":""},{"$f":"IF(H26=0,\"\",INDEX(ThreatRankMatrix,MATCH($H$17,Rank,0),MATCH(H26,Rank,0)))","v":""},{"$f":"IF(I26=0,\"\",INDEX(ThreatRankMatrix,MATCH($I$17,Rank,0),MATCH(I26,Rank,0)))","v":"Low"},{"$f":"IF(J26=0,\"\",INDEX(ThreatRankMatrix,MATCH($J$17,Rank,0),MATCH(J26,Rank,0)))","v":"Low"},{"$f":"IF(K26=0,\"\",INDEX(ThreatRankMatrix,MATCH($K$17,Rank,0),MATCH(K26,Rank,0)))","v":"Medium"},{"$f":"IF(L26=0,\"\",INDEX(ThreatRankMatrix,MATCH($L$17,Rank,0),MATCH(L26,Rank,0)))","v":""},{"$f":"IF(M26=0,\"\",INDEX(ThreatRankMatrix,MATCH($M$17,Rank,0),MATCH(M26,Rank,0)))","v":""},{"$f":"IF(N26=0,\"\",INDEX(ThreatRankMatrix,MATCH($N$17,Rank,0),MATCH(N26,Rank,0)))","v":""},{"$f":"IF(O26=0,\"\",INDEX(ThreatRankMatrix,MATCH($O$17,Rank,0),MATCH(O26,Rank,0)))","v":""},{"$f":"IF(P26=0,\"\",INDEX(ThreatRankMatrix,MATCH($P$17,Rank,0),MATCH(P26,Rank,0)))","v":""},null,null,null,null,null,null,null,null,null,null,null,null,null,null,null,{"$f":"SUM(AG27:AP27)","v":9},{"$f":"IF(G$17=\"\",0,(IF(G26=0,0,IF(G27=0,0,INDEX(ThreatScore,MATCH(G27,Rank,0))))))","v":0},0,1,1,7,0,0,0,0,0]
[null,null,null,null,"Invasive aquatic species/pests/pathogens","Contribution",null,null,null,"High",null,null,null,null,null,null,{"$f":"IF(AF29>=Scoring!$B$24,\"Very High\",IF(AF29>=Scoring!$B$25,\"High\",IF(AF29>=Scoring!$B$26,\"Medium\",IF(AF29>=Scoring!$B$27,\"Low\",\"-\"))))","v":"Medium"}]
[null,null,null,null,null,"Threat Rank ",{"$f":"IF(G28=0,\"\",INDEX(ThreatRankMatrix,MATCH($G$17,Rank,0),MATCH(G28,Rank,0)))","v":""},{"$f":"IF(H28=0,\"\",INDEX(ThreatRankMatrix,MATCH($H$17,Rank,0),MATCH(H28,Rank,0)))","v":""},{"$f":"IF(I28=0,\"\",INDEX(ThreatRankMatrix,MATCH($I$17,Rank,0),MATCH(I28,Rank,0)))","v":""},{"$f":"IF(J28=0,\"\",INDEX(ThreatRankMatrix,MATCH($J$17,Rank,0),MATCH(J28,Rank,0)))","v":"Medium"},{"$f":"IF(K28=0,\"\",INDEX(ThreatRankMatrix,MATCH($K$17,Rank,0),MATCH(K28,Rank,0)))","v":""},{"$f":"IF(L28=0,\"\",INDEX(ThreatRankMatrix,MATCH($L$17,Rank,0),MATCH(L28,Rank,0)))","v":""},{"$f":"IF(M28=0,\"\",INDEX(ThreatRankMatrix,MATCH($M$17,Rank,0),MATCH(M28,Rank,0)))","v":""},{"$f":"IF(N28=0,\"\",INDEX(ThreatRankMatrix,MATCH($N$17,Rank,0),MATCH(N28,Rank,0)))","v":""},{"$f":"IF(O28=0,\"\",INDEX(ThreatRankMatrix,MATCH($O$17,Rank,0),MATCH(O28,Rank,0)))","v":""},{"$f":"IF(P28=0,\"\",INDEX(ThreatRankMatrix,MATCH($P$17,Rank,0),MATCH(P28,Rank,0)))","v":""},null,null,null,null,null,null,null,null,null,null,null,null,null,null,null,{"$f":"SUM(AG29:AP29)","v":7},{"$f":"IF(G$17=\"\",0,(IF(G28=0,0,IF(G29=0,0,INDEX(ThreatScore,MATCH(G29,Rank,0))))))","v":0},0,0,7,0,0,0,0,0,0]
[null,null,null,null,"Dumping of trash, debris, etc. ","Contribution",null,null,null,null,"Medium",null,null,null,null,null,{"$f":"IF(AF31>=Scoring!$B$24,\"Very High\",IF(AF31>=Scoring!$B$25,\"High\",IF(AF31>=Scoring!$B$26,\"Medium\",IF(AF31>=Scoring!$B$27,\"Low\",\"-\"))))","v":"Low"}]
[null,null,null,null,null,"Threat Rank ",{"$f":"IF(G30=0,\"\",INDEX(ThreatRankMatrix,MATCH($G$17,Rank,0),MATCH(G30,Rank,0)))","v":""},{"$f":"IF(H30=0,\"\",INDEX(ThreatRankMatrix,MATCH($H$17,Rank,0),MATCH(H30,Rank,0)))","v":""},{"$f":"IF(I30=0,\"\",INDEX(ThreatRankMatrix,MATCH($I$17,Rank,0),MATCH(I30,Rank,0)))","v":""},{"$f":"IF(J30=0,\"\",INDEX(ThreatRankMatrix,MATCH($J$17,Rank,0),MATCH(J30,Rank,0)))","v":""},{"$f":"IF(K30=0,\"\",INDEX(ThreatRankMatrix,MATCH($K$17,Rank,0),MATCH(K30,Rank,0)))","v":"Low"},{"$f":"IF(L30=0,\"\",INDEX(ThreatRankMatrix,MATCH($L$17,Rank,0),MATCH(L30,Rank,0)))","v":""},{"$f":"IF(M30=0,\"\",INDEX(ThreatRankMatrix,MATCH($M$17,Rank,0),MATCH(M30,Rank,0)))","v":""},{"$f":"IF(N30=0,\"\",INDEX(ThreatRankMatrix,MATCH($N$17,Rank,0),MATCH(N30,Rank,0)))","v":""},{"$f":"IF(O30=0,\"\",INDEX(ThreatRankMatrix,MATCH($O$17,Rank,0),MATCH(O30,Rank,0)))","v":""},{"$f":"IF(P30=0,\"\",INDEX(ThreatRankMatrix,MATCH($P$17,Rank,0),MATCH(P30,Rank,0)))","v":""},null,null,null,null,null,null,null,null,null,null,null,null,null,null,null,{"$f":"SUM(AG31:AP31)","v":1},{"$f":"IF(G$17=\"\",0,(IF(G30=0,0,IF(G31=0,0,INDEX(ThreatScore,MATCH(G31,Rank,0))))))","v":0},0,0,0,1,0,0,0,0,0]
[null,null,null,null,"Incompatible road design / maintenance","Contribution",null,null,"Medium",null,null,"Low",null,null,null,null,{"$f":"IF(AF33>=Scoring!$B$24,\"Very High\",IF(AF33>=Scoring!$B$25,\"High\",IF(AF33>=Scoring!$B$26,\"Medium\",IF(AF33>=Scoring!$B$27,\"Low\",\"-\"))))","v":"Low"}]
[null,null,null,null,null,"Threat Rank ",{"$f":"IF(G32=0,\"\",INDEX(ThreatRankMatrix,MATCH($G$17,Rank,0),MATCH(G32,Rank,0)))","v":""},{"$f":"IF(H32=0,\"\",INDEX(ThreatRankMatrix,MATCH($H$17,Rank,0),MATCH(H32,Rank,0)))","v":""},{"$f":"IF(I32=0,\"\",INDEX(ThreatRankMatrix,MATCH($I$17,Rank,0),MATCH(I32,Rank,0)))","v":"Low"},{"$f":"IF(J32=0,\"\",INDEX(ThreatRankMatrix,MATCH($J$17,Rank,0),MATCH(J32,Rank,0)))","v":""},{"$f":"IF(K32=0,\"\",INDEX(ThreatRankMatrix,MATCH($K$17,Rank,0),MATCH(K32,Rank,0)))","v":""},{"$f":"IF(L32=0,\"\",INDEX(ThreatRankMatrix,MATCH($L$17,Rank,0),MATCH(L32,Rank,0)))","v":"Low"},{"$f":"IF(M32=0,\"\",INDEX(ThreatRankMatrix,MATCH($M$17,Rank,0),MATCH(M32,Rank,0)))","v":""},{"$f":"IF(N32=0,\"\",INDEX(ThreatRankMatrix,MATCH($N$17,Rank,0),MATCH(N32,Rank,0)))","v":""},{"$f":"IF(O32=0,\"\",INDEX(ThreatRankMatrix,MATCH($O$17,Rank,0),MATCH(O32,Rank,0)))","v":""},{"$f":"IF(P32=0,\"\",INDEX(ThreatRankMatrix,MATCH($P$17,Rank,0),MATCH(P32,Rank,0)))","v":""},null,null,null,null,null,null,null,null,null,null,null,null,null,null,null,{"$f":"SUM(AG33:AP33)","v":2},{"$f":"IF(G$17=\"\",0,(IF(G32=0,0,IF(G33=0,0,INDEX(ThreatScore,MATCH(G33,Rank,0))))))","v":0},0,1,0,0,1,0,0,0,0]
[null,null,null,null,"Construction of ditches, dikes, drainage, dredging","Contribution",null,null,"Medium",null,"Low","Low",null,null,null,null,{"$f":"IF(AF35>=Scoring!$B$24,\"Very High\",IF(AF35>=Scoring!$B$25,\"High\",IF(AF35>=Scoring!$B$26,\"Medium\",IF(AF35>=Scoring!$B$27,\"Low\",\"-\"))))","v":"Low"}]
[null,null,null,null,null,"Threat Rank ",{"$f":"IF(G34=0,\"\",INDEX(ThreatRankMatrix,MATCH($G$17,Rank,0),MATCH(G34,Rank,0)))","v":""},{"$f":"IF(H34=0,\"\",INDEX(ThreatRankMatrix,MATCH($H$17,Rank,0),MATCH(H34,Rank,0)))","v":""},{"$f":"IF(I34=0,\"\",INDEX(ThreatRankMatrix,MATCH($I$17,Rank,0),MATCH(I34,Rank,0)))","v":"Low"},{"$f":"IF(J34=0,\"\",INDEX(ThreatRankMatrix,MATCH($J$17,Rank,0),MATCH(J34,Rank,0)))","v":""},{"$f":"IF(K34=0,\"\",INDEX(ThreatRankMatrix,MATCH($K$17,Rank,0),MATCH(K34,Rank,0)))","v":"Low"},{"$f":"IF(L34=0,\"\",INDEX(ThreatRankMatrix,MATCH($L$17,Rank,0),MATCH(L34,Rank,0)))","v":"Low"},{"$f":"IF(M34=0,\"\",INDEX(ThreatRankMatrix,MATCH($M$17,Rank,0),MATCH(M34,Rank,0)))","v":""},{"$f":"IF(N34=0,\"\",INDEX(ThreatRankMatrix,MATCH($N$17,Rank,0),MATCH(N34,Rank,0)))","v":""},{"$f":"IF(O34=0,\"\",INDEX(ThreatRankMatrix,MATCH($O$17,Rank,0),MATCH(O34,Rank,0)))","v":""},{"$f":"IF(P34=0,\"\",INDEX(ThreatRankMatrix,MATCH($P$17,Rank,0),MATCH(P34,Rank,0)))","v":""},null,null,null,null,null,null,null,null,null,null,null,null,null,null,null,{"$f":"SUM(AG35:AP35)","v":3},{"$f":"IF(G$17=\"\",0,(IF(G34=0,0,IF(G35=0,0,INDEX(ThreatScore,MATCH(G35,Rank,0))))))","v":0},0,1,0,1,1,0,0,0,0]
[null,null,null,null,null,"Contribution",null,null,null,null,null,null,null,null,null,null,{"$f":"IF(AF37>=Scoring!$B$24,\"Very High\",IF(AF37>=Scoring!$B$25,\"High\",IF(AF37>=Scoring!$B$26,\"Medium\",IF(AF37>=Scoring!$B$27,\"Low\",\"-\"))))","v":"-"}]
[null,null,null,null,null,"Threat Rank ",{"$f":"IF(G36=0,\"\",INDEX(ThreatRankMatrix,MATCH($G$17,Rank,0),MATCH(G36,Rank,0)))","v":""},{"$f":"IF(H36=0,\"\",INDEX(ThreatRankMatrix,MATCH($H$17,Rank,0),MATCH(H36,Rank,0)))","v":""},{"$f":"IF(I36=0,\"\",INDEX(ThreatRankMatrix,MATCH($I$17,Rank,0),MATCH(I36,Rank,0)))","v":""},{"$f":"IF(J36=0,\"\",INDEX(ThreatRankMatrix,MATCH($J$17,Rank,0),MATCH(J36,Rank,0)))","v":""},{"$f":"IF(K36=0,\"\",INDEX(ThreatRankMatrix,MATCH($K$17,Rank,0),MATCH(K36,Rank,0)))","v":""},{"$f":"IF(L36=0,\"\",INDEX(ThreatRankMatrix,MATCH($L$17,Rank,0),MATCH(L36,Rank,0)))","v":""},{"$f":"IF(M36=0,\"\",INDEX(ThreatRankMatrix,MATCH($M$17,Rank,0),MATCH(M36,Rank,0)))","v":""},{"$f":"IF(N36=0,\"\",INDEX(ThreatRankMatrix,MATCH($N$17,Rank,0),MATCH(N36,Rank,0)))","v":""},{"$f":"IF(O36=0,\"\",INDEX(ThreatRankMatrix,MATCH($O$17,Rank,0),MATCH(O36,Rank,0)))","v":""},{"$f":"IF(P36=0,\"\",INDEX(ThreatRankMatrix,MATCH($P$17,Rank,0),MATCH(P36,Rank,0)))","v":""},null,null,null,null,null,null,null,null,null,null,null,null,null,null,null,{"$f":"SUM(AG37:AP37)","v":0},{"$f":"IF(G$17=\"\",0,(IF(G36=0,0,IF(G37=0,0,INDEX(ThreatScore,MATCH(G37,Rank,0))))))","v":0},{"$f":"IF(H$17=\"\",0,(IF(H36=0,0,IF(H37=0,0,INDEX(ThreatScore,MATCH(H37,Rank,0))))))","v":0},{"$f":"IF(I$17=\"\",0,(IF(I36=0,0,IF(I37=0,0,INDEX(ThreatScore,MATCH(I37,Rank,0))))))","v":0},{"$f":"IF(J$17=\"\",0,(IF(J36=0,0,IF(J37=0,0,INDEX(ThreatScore,MATCH(J37,Rank,0))))))","v":0},{"$f":"IF(K$17=\"\",0,(IF(K36=0,0,IF(K37=0,0,INDEX(ThreatScore,MATCH(K37,Rank,0))))))","v":0},{"$f":"IF(L$17=\"\",0,(IF(L36=0,0,IF(L37=0,0,INDEX(ThreatScore,MATCH(L37,Rank,0))))))","v":0},{"$f":"IF(M$17=\"\",0,(IF(M36=0,0,IF(M37=0,0,INDEX(ThreatScore,MATCH(M37,Rank,0))))))","v":0},{"$f":"IF(N$17=\"\",0,(IF(N36=0,0,IF(N37=0,0,INDEX(ThreatScore,MATCH(N37,Rank,0))))))","v":0},{"$f":"IF(O$17=\"\",0,(IF(O36=0,0,IF(O37=0,0,INDEX(ThreatScore,MATCH(O37,Rank,0))))))","v":0},{"$f":"IF(P$17=\"\",0,(IF(P36=0,0,IF(P37=0,0,INDEX(ThreatScore,MATCH(P37,Rank,0))))))","v":0}]
[null,null,null,null,null,"Contribution",null,null,null,null,null,null,null,null,null,null,{"$f":"IF(AF39>=Scoring!$B$24,\"Very High\",IF(AF39>=Scoring!$B$25,\"High\",IF(AF39>=Scoring!$B$26,\"Medium\",IF(AF39>=Scoring!$B$27,\"Low\",\"-\"))))","v":"-"}]
[null,null,null,null,null,"Threat Rank ",{"$f":"IF(G38=0,\"\",INDEX(ThreatRankMatrix,MATCH($G$17,Rank,0),MATCH(G38,Rank,0)))","v":""},{"$f":"IF(H38=0,\"\",INDEX(ThreatRankMatrix,MATCH($H$17,Rank,0),MATCH(H38,Rank,0)))","v":""},{"$f":"IF(I38=0,\"\",INDEX(ThreatRankMatrix,MATCH($I$17,Rank,0),MATCH(I38,Rank,0)))","v":""},{"$f":"IF(J38=0,\"\",INDEX(ThreatRankMatrix,MATCH($J$17,Rank,0),MATCH(J38,Rank,0)))","v":""},{"$f":"IF(K38=0,\"\",INDEX(ThreatRankMatrix,MATCH($K$17,Rank,0),MATCH(K38,Rank,0)))","v":""},{"$f":"IF(L38=0,\"\",INDEX(ThreatRankMatrix,MATCH($L$17,Rank,0),MATCH(L38,Rank,0)))","v":""},{"$f":"IF(M38=0,\"\",INDEX(ThreatRankMatrix,MATCH($M$17,Rank,0),MATCH(M38,Rank,0)))","v":""},{"$f":"IF(N38=0,\"\",INDEX(ThreatRankMatrix,MATCH($N$17,Rank,0),MATCH(N38,Rank,0)))","v":""},{"$f":"IF(O38=0,\"\",INDEX(ThreatRankMatrix,MATCH($O$17,Rank,0),MATCH(O38,Rank,0)))","v":""},{"$f":"IF(P38=0,\"\",INDEX(ThreatRankMatrix,MATCH($P$17,Rank,0),MATCH(P38,Rank,0)))","v":""},null,null,null,null,null,null,null,null,null,null,null,null,null,null,null,{"$f":"SUM(AG39:AP39)","v":0},{"$f":"IF(G$17=\"\",0,(IF(G38=0,0,IF(G39=0,0,INDEX(ThreatScore,MATCH(G39,Rank,0))))))","v":0},{"$f":"IF(H$17=\"\",0,(IF(H38=0,0,IF(H39=0,0,INDEX(ThreatScore,MATCH(H39,Rank,0))))))","v":0},{"$f":"IF(I$17=\"\",0,(IF(I38=0,0,IF(I39=0,0,INDEX(ThreatScore,MATCH(I39,Rank,0))))))","v":0},{"$f":"IF(J$17=\"\",0,(IF(J38=0,0,IF(J39=0,0,INDEX(ThreatScore,MATCH(J39,Rank,0))))))","v":0},{"$f":"IF(K$17=\"\",0,(IF(K38=0,0,IF(K39=0,0,INDEX(ThreatScore,MATCH(K39,Rank,0))))))","v":0},{"$f":"IF(L$17=\"\",0,(IF(L38=0,0,IF(L39=0,0,INDEX(ThreatScore,MATCH(L39,Rank,0))))))","v":0},{"$f":"IF(M$17=\"\",0,(IF(M38=0,0,IF(M39=0,0,INDEX(ThreatScore,MATCH(M39,Rank,0))))))","v":0},{"$f":"IF(N$17=\"\",0,(IF(N38=0,0,IF(N39=0,0,INDEX(ThreatScore,MATCH(N39,Rank,0))))))","v":0},{"$f":"IF(O$17=\"\",0,(IF(O38=0,0,IF(O39=0,0,INDEX(ThreatScore,MATCH(O39,Rank,0))))))","v":0},{"$f":"IF(P$17=\"\",0,(IF(P38=0,0,IF(P39=0,0,INDEX(ThreatScore,MATCH(P39,Rank,0))))))","v":0}]
[null,null,null,null,null,"Contribution",null,null,null,null,null,null,null,null,null,null,{"$f":"IF(AF41>=Scoring!$B$24,\"Very High\",IF(AF41>=Scoring!$B$25,\"High\",IF(AF41>=Scoring!$B$26,\"Medium\",IF(AF41>=Scoring!$B$27,\"Low\",\"-\"))))","v":"-"}]
[null,null,null,null,null,"Threat Rank ",{"$f":"IF(G40=0,\"\",INDEX(ThreatRankMatrix,MATCH($G$17,Rank,0),MATCH(G40,Rank,0)))","v":""},{"$f":"IF(H40=0,\"\",INDEX(ThreatRankMatrix,MATCH($H$17,Rank,0),MATCH(H40,Rank,0)))","v":""},{"$f":"IF(I40=0,\"\",INDEX(ThreatRankMatrix,MATCH($I$17,Rank,0),MATCH(I40,Rank,0)))","v":""},{"$f":"IF(J40=0,\"\",INDEX(ThreatRankMatrix,MATCH($J$17,Rank,0),MATCH(J40,Rank,0)))","v":""},{"$f":"IF(K40=0,\"\",INDEX(ThreatRankMatrix,MATCH($K$17,Rank,0),MATCH(K40,Rank,0)))","v":""},{"$f":"IF(L40=0,\"\",INDEX(ThreatRankMatrix,MATCH($L$17,Rank,0),MATCH(L40,Rank,0)))","v":""},{"$f":"IF(M40=0,\"\",INDEX(ThreatRankMatrix,MATCH($M$17,Rank,0),MATCH(M40,Rank,0)))","v":""},{"$f":"IF(N40=0,\"\",INDEX(ThreatRankMatrix,MATCH($N$17,Rank,0),MATCH(N40,Rank,0)))","v":""},{"$f":"IF(O40=0,\"\",INDEX(ThreatRankMatrix,MATCH($O$17,Rank,0),MATCH(O40,Rank,0)))","v":""},{"$f":"IF(P40=0,\"\",INDEX(ThreatRankMatrix,MATCH($P$17,Rank,0),MATCH(P40,Rank,0)))","v":""},null,null,null,null,null,null,null,null,null,null,null,null,null,null,null,{"$f":"SUM(AG41:AP41)","v":0},{"$f":"IF(G$17=\"\",0,(IF(G40=0,0,IF(G41=0,0,INDEX(ThreatScore,MATCH(G41,Rank,0))))))","v":0},0,0,0,0,0,0,0,0,0]

{"sheet":"11","index":15,"n_rows":41,"n_cols":42,"rows_kept":41,"cut":false,"hidden":false,"merged":[[0,3,0,4],[15,4,16,4],[15,16,16,16],[17,4,18,4],[17,16,18,16],[13,3,13,4],[19,4,20,4],[19,16,20,16],[21,4,22,4],[21,16,22,16],[23,4,24,4],[23,16,24,16],[25,4,26,4],[25,16,26,16],[33,4,34,4],[33,16,34,16],[39,4,40,4],[39,16,40,16],[27,4,28,4],[27,16,28,16],[29,4,30,4],[29,16,30,16],[31,4,32,4],[31,16,32,16],[35,4,36,4],[35,16,36,16],[37,4,38,4],[37,16,38,16]]}
[null,null,null,{"$f":"IF(Targets!C60=0,\"\",Targets!C60)","v":""},{"$f":"IF(Targets!C60=0,\"\",Targets!C60)","v":""},"  Key Attributes & Future Threats"]
[null,null,null,null,null,"Place cursor over cells with red triangles in top corner for hint"]
["KEA ID","Target ID","Target Name","Category","Key Attribute","Indicator","Poor","Fair","Good","Very Good","Current Rating","Projected Future Rating w No Action","Stress Ranking (calculated)","Stress Ranking (User Override)",null,null,null,null,null,"Projected Future Rating w Strategies","New Stress Ranking (calculated)","New Stress Ranking (User Override)",null,null,"Temp Indicator ID",null,"Target #","Current Score","Score w No Action","Score w Strategies","Current Weight","Future Weight No Action","Future Weight w Action","Current Weighted Score","Future No Action Weighted Score","Future Action Weighted Score","Current Weighted Average","Future No Action Weighted Average","Future Action Weighted Average"]
[{"$f":"ROW()+1100","v":1104},11,{"$f":"$D$1","v":""},null,null,null,null,null,null,null,null,null,{"$f":"IF(K4=0,\"\",IF(L4=0,\"\",INDEX(StressRankMatrix,MATCH(K4,Rating,0),MATCH(L4,Rating,0))))","v":""},null,null,null,null,null,null,{"$f":"IF(L4=\"\",\"\",IFERROR(INDEX(Outcomes!$F:$F, MATCH(A4,Outcomes!$H:$H,0)),L4))","v":""},{"$f":"IF(K4=\"\",\"\",IF(T4=0,\"\",INDEX(StressRankMatrix,MATCH(K4,Rating,0),MATCH(T4,Rating,0))))","v":""},null,null,null,{"$f":"IFERROR(INDEX(#REF!,MATCH(A4,#REF!,0)),\"\")","v":""},null,{"$f":"IF(E4=\"\",\"\",IF(E4>0,$B$4,\"error\"))","v":""},{"$f":"IF(K4=\"Poor\",Scoring!$B$50,IF(K4=\"Fair -\",Scoring!$B$49,IF(K4=\"Fair\",Scoring!$B$48,IF(K4=\"Good -\",Scoring!$B$47,IF(K4=\"Good\",Scoring!$B$46,IF(K4=\"Very Good\",Scoring!$B$45,IF(K4=\"\",0)))))))","v":0},{"$f":"IF(L4=\"Poor\",Scoring!$B$50,IF(L4=\"Fair -\",Scoring!$B$49,IF(L4=\"Fair\",Scoring!$B$48,IF(L4=\"Good -\",Scoring!$B$47,IF(L4=\"Good\",Scoring!$B$46,IF(L4=\"Very Good\",Scoring!$B$45,IF(L4=\"\",0)))))))","v":0},{"$f":"IF(T4=\"Poor\",Scoring!$B$50,IF(T4=\"Fair -\",Scoring!$B$49,IF(T4=\"Fair\",Scoring!$B$48,IF(T4=\"Good -\",Scoring!$B$47,IF(T4=\"Good\",Scoring!$B$46,IF(T4=\"Very Good\",Scoring!$B$45,IF(T4=\"\",0)))))))","v":0},{"$f":"IF(K4=\"Poor\",Scoring!$C$50,IF(K4=\"Fair -\",Scoring!$C$49,IF(K4=\"Fair\",Scoring!$C$48,IF(K4=\"Good -\",Scoring!$C$47,IF(K4=\"Good\",Scoring!$C$46,IF(K4=\"Very Good\",Scoring!$C$45,IF(K4=\"\",0)))))))","v":0},{"$f":"IF(L4=\"Poor\",Scoring!$C$50,IF(L4=\"Fair -\",Scoring!$C$49,IF(L4=\"Fair\",Scoring!$C$48,IF(L4=\"Good -\",Scoring!$C$47,IF(L4=\"Good\",Scoring!$C$46,IF(L4=\"Very Good\",Scoring!$C$45,IF(L4=\"\",0)))))))","v":0},{"$f":"IF(T4=\"Poor\",Scoring!$C$50,IF(T4=\"Fair -\",Scoring!$C$49,IF(T4=\"Fair\",Scoring!$C$48,IF(T4=\"Good -\",Scoring!$C$47,IF(T4=\"Good\",Scoring!$C$46,IF(T4=\"Very Good\",Scoring!$C$45,IF(T4=\"\",0)))))))","v":0},{"$f":"AB4*AE4","v":0},{"$f":"AC4*AF4","v":0},{"$f":"AD4*AG4","v":0}]
[{"$f":"ROW()+1100","v":1105},11,{"$f":"$D$1","v":""},null,null,null,null,null,null,null,null,null,"",null,null,null,null,null,null,{"$f":"IF(L5=\"\",\"\",IFERROR(INDEX(Outcomes!$F:$F, MATCH(A5,Outcomes!$H:$H,0)),L5))","v":""},"",null,null,null,{"$f":"IFERROR(INDEX(#REF!,MATCH(A5,#REF!,0)),\"\")","v":""},null,"",{"$f":"IF(K5=\"Poor\",Scoring!$B$50,IF(K5=\"Fair -\",Scoring!$B$49,IF(K5=\"Fair\",Scoring!$B$48,IF(K5=\"Good -\",Scoring!$B$47,IF(K5=\"Good\",Scoring!$B$46,IF(K5=\"Very Good\",Scoring!$B$45,IF(K5=\"\",0)))))))","v":0},{"$f":"IF(L5=\"Poor\",Scoring!$B$50,IF(L5=\"Fair -\",Scoring!$B$49,IF(L5=\"Fair\",Scoring!$B$48,IF(L5=\"Good -\",Scoring!$B$47,IF(L5=\"Good\",Scoring!$B$46,IF(L5=\"Very Good\",Scoring!$B$45,IF(L5=\"\",0)))))))","v":0},{"$f":"IF(T5=\"Poor\",Scoring!$B$50,IF(T5=\"Fair -\",Scoring!$B$49,IF(T5=\"Fair\",Scoring!$B$48,IF(T5=\"Good -\",Scoring!$B$47,IF(T5=\"Good\",Scoring!$B$46,IF(T5=\"Very Good\",Scoring!$B$45,IF(T5=\"\",0)))))))","v":0},{"$f":"IF(K5=\"Poor\",Scoring!$C$50,IF(K5=\"Fair -\",Scoring!$C$49,IF(K5=\"Fair\",Scoring!$C$48,IF(K5=\"Good -\",Scoring!$C$47,IF(K5=\"Good\",Scoring!$C$46,IF(K5=\"Very Good\",Scoring!$C$45,IF(K5=\"\",0)))))))","v":0},{"$f":"IF(L5=\"Poor\",Scoring!$C$50,IF(L5=\"Fair -\",Scoring!$C$49,IF(L5=\"Fair\",Scoring!$C$48,IF(L5=\"Good -\",Scoring!$C$47,IF(L5=\"Good\",Scoring!$C$46,IF(L5=\"Very Good\",Scoring!$C$45,IF(L5=\"\",0)))))))","v":0},{"$f":"IF(T5=\"Poor\",Scoring!$C$50,IF(T5=\"Fair -\",Scoring!$C$49,IF(T5=\"Fair\",Scoring!$C$48,IF(T5=\"Good -\",Scoring!$C$47,IF(T5=\"Good\",Scoring!$C$46,IF(T5=\"Very Good\",Scoring!$C$45,IF(T5=\"\",0)))))))","v":0},{"$f":"AB5*AE5","v":0},0,0]
[1106,11,"",null,null,null,null,null,null,null,null,null,"",null,null,null,null,null,null,{"$f":"IF(L6=\"\",\"\",IFERROR(INDEX(Outcomes!$F:$F, MATCH(A6,Outcomes!$H:$H,0)),L6))","v":""},"",null,null,null,{"$f":"IFERROR(INDEX(#REF!,MATCH(A6,#REF!,0)),\"\")","v":""},null,"",{"$f":"IF(K6=\"Poor\",Scoring!$B$50,IF(K6=\"Fair -\",Scoring!$B$49,IF(K6=\"Fair\",Scoring!$B$48,IF(K6=\"Good -\",Scoring!$B$47,IF(K6=\"Good\",Scoring!$B$46,IF(K6=\"Very Good\",Scoring!$B$45,IF(K6=\"\",0)))))))","v":0},{"$f":"IF(L6=\"Poor\",Scoring!$B$50,IF(L6=\"Fair -\",Scoring!$B$49,IF(L6=\"Fair\",Scoring!$B$48,IF(L6=\"Good -\",Scoring!$B$47,IF(L6=\"Good\",Scoring!$B$46,IF(L6=\"Very Good\",Scoring!$B$45,IF(L6=\"\",0)))))))","v":0},{"$f":"IF(T6=\"Poor\",Scoring!$B$50,IF(T6=\"Fair -\",Scoring!$B$49,IF(T6=\"Fair\",Scoring!$B$48,IF(T6=\"Good -\",Scoring!$B$47,IF(T6=\"Good\",Scoring!$B$46,IF(T6=\"Very Good\",Scoring!$B$45,IF(T6=\"\",0)))))))","v":0},{"$f":"IF(K6=\"Poor\",Scoring!$C$50,IF(K6=\"Fair -\",Scoring!$C$49,IF(K6=\"Fair\",Scoring!$C$48,IF(K6=\"Good -\",Scoring!$C$47,IF(K6=\"Good\",Scoring!$C$46,IF(K6=\"Very Good\",Scoring!$C$45,IF(K6=\"\",0)))))))","v":0},{"$f":"IF(L6=\"Poor\",Scoring!$C$50,IF(L6=\"Fair -\",Scoring!$C$49,IF(L6=\"Fair\",Scoring!$C$48,IF(L6=\"Good -\",Scoring!$C$47,IF(L6=\"Good\",Scoring!$C$46,IF(L6=\"Very Good\",Scoring!$C$45,IF(L6=\"\",0)))))))","v":0},{"$f":"IF(T6=\"Poor\",Scoring!$C$50,IF(T6=\"Fair -\",Scoring!$C$49,IF(T6=\"Fair\",Scoring!$C$48,IF(T6=\"Good -\",Scoring!$C$47,IF(T6=\"Good\",Scoring!$C$46,IF(T6=\"Very Good\",Scoring!$C$45,IF(T6=\"\",0)))))))","v":0},0,0,0]
[1107,11,"",null,null,null,null,null,null,null,null,null,"",null,null,null,null,null,null,{"$f":"IF(L7=\"\",\"\",IFERROR(INDEX(Outcomes!$F:$F, MATCH(A7,Outcomes!$H:$H,0)),L7))","v":""},"",null,null,null,{"$f":"IFERROR(INDEX(#REF!,MATCH(A7,#REF!,0)),\"\")","v":""},null,"",{"$f":"IF(K7=\"Poor\",Scoring!$B$50,IF(K7=\"Fair -\",Scoring!$B$49,IF(K7=\"Fair\",Scoring!$B$48,IF(K7=\"Good -\",Scoring!$B$47,IF(K7=\"Good\",Scoring!$B$46,IF(K7=\"Very Good\",Scoring!$B$45,IF(K7=\"\",0)))))))","v":0},{"$f":"IF(L7=\"Poor\",Scoring!$B$50,IF(L7=\"Fair -\",Scoring!$B$49,IF(L7=\"Fair\",Scoring!$B$48,IF(L7=\"Good -\",Scoring!$B$47,IF(L7=\"Good\",Scoring!$B$46,IF(L7=\"Very Good\",Scoring!$B$45,IF(L7=\"\",0)))))))","v":0},{"$f":"IF(T7=\"Poor\",Scoring!$B$50,IF(T7=\"Fair -\",Scoring!$B$49,IF(T7=\"Fair\",Scoring!$B$48,IF(T7=\"Good -\",Scoring!$B$47,IF(T7=\"Good\",Scoring!$B$46,IF(T7=\"Very Good\",Scoring!$B$45,IF(T7=\"\",0)))))))","v":0},{"$f":"IF(K7=\"Poor\",Scoring!$C$50,IF(K7=\"Fair -\",Scoring!$C$49,IF(K7=\"Fair\",Scoring!$C$48,IF(K7=\"Good -\",Scoring!$C$47,IF(K7=\"Good\",Scoring!$C$46,IF(K7=\"Very Good\",Scoring!$C$45,IF(K7=\"\",0)))))))","v":0},{"$f":"IF(L7=\"Poor\",Scoring!$C$50,IF(L7=\"Fair -\",Scoring!$C$49,IF(L7=\"Fair\",Scoring!$C$48,IF(L7=\"Good -\",Scoring!$C$47,IF(L7=\"Good\",Scoring!$C$46,IF(L7=\"Very Good\",Scoring!$C$45,IF(L7=\"\",0)))))))","v":0},{"$f":"IF(T7=\"Poor\",Scoring!$C$50,IF(T7=\"Fair -\",Scoring!$C$49,IF(T7=\"Fair\",Scoring!$C$48,IF(T7=\"Good -\",Scoring!$C$47,IF(T7=\"Good\",Scoring!$C$46,IF(T7=\"Very Good\",Scoring!$C$45,IF(T7=\"\",0)))))))","v":0},0,0,0]
[1108,11,"",null,null,null,null,null,null,null,null,null,"",null,null,null,null,null,null,{"$f":"IF(L8=\"\",\"\",IFERROR(INDEX(Outcomes!$F:$F, MATCH(A8,Outcomes!$H:$H,0)),L8))","v":""},"",null,null,null,{"$f":"IFERROR(INDEX(#REF!,MATCH(A8,#REF!,0)),\"\")","v":""},null,"",{"$f":"IF(K8=\"Poor\",Scoring!$B$50,IF(K8=\"Fair -\",Scoring!$B$49,IF(K8=\"Fair\",Scoring!$B$48,IF(K8=\"Good -\",Scoring!$B$47,IF(K8=\"Good\",Scoring!$B$46,IF(K8=\"Very Good\",Scoring!$B$45,IF(K8=\"\",0)))))))","v":0},{"$f":"IF(L8=\"Poor\",Scoring!$B$50,IF(L8=\"Fair -\",Scoring!$B$49,IF(L8=\"Fair\",Scoring!$B$48,IF(L8=\"Good -\",Scoring!$B$47,IF(L8=\"Good\",Scoring!$B$46,IF(L8=\"Very Good\",Scoring!$B$45,IF(L8=\"\",0)))))))","v":0},{"$f":"IF(T8=\"Poor\",Scoring!$B$50,IF(T8=\"Fair -\",Scoring!$B$49,IF(T8=\"Fair\",Scoring!$B$48,IF(T8=\"Good -\",Scoring!$B$47,IF(T8=\"Good\",Scoring!$B$46,IF(T8=\"Very Good\",Scoring!$B$45,IF(T8=\"\",0)))))))","v":0},{"$f":"IF(K8=\"Poor\",Scoring!$C$50,IF(K8=\"Fair -\",Scoring!$C$49,IF(K8=\"Fair\",Scoring!$C$48,IF(K8=\"Good -\",Scoring!$C$47,IF(K8=\"Good\",Scoring!$C$46,IF(K8=\"Very Good\",Scoring!$C$45,IF(K8=\"\",0)))))))","v":0},{"$f":"IF(L8=\"Poor\",Scoring!$C$50,IF(L8=\"Fair -\",Scoring!$C$49,IF(L8=\"Fair\",Scoring!$C$48,IF(L8=\"Good -\",Scoring!$C$47,IF(L8=\"Good\",Scoring!$C$46,IF(L8=\"Very Good\",Scoring!$C$45,IF(L8=\"\",0)))))))","v":0},{"$f":"IF(T8=\"Poor\",Scoring!$C$50,IF(T8=\"Fair -\",Scoring!$C$49,IF(T8=\"Fair\",Scoring!$C$48,IF(T8=\"Good -\",Scoring!$C$47,IF(T8=\"Good\",Scoring!$C$46,IF(T8=\"Very Good\",Scoring!$C$45,IF(T8=\"\",0)))))))","v":0},0,0,0]
[1109,11,"",null,null,null,null,null,null,null,null,null,"",null,null,null,null,null,null,{"$f":"IF(L9=\"\",\"\",IFERROR(INDEX(Outcomes!$F:$F, MATCH(A9,Outcomes!$H:$H,0)),L9))","v":""},"",null,null,null,{"$f":"IFERROR(INDEX(#REF!,MATCH(A9,#REF!,0)),\"\")","v":""},null,"",{"$f":"IF(K9=\"Poor\",Scoring!$B$50,IF(K9=\"Fair -\",Scoring!$B$49,IF(K9=\"Fair\",Scoring!$B$48,IF(K9=\"Good -\",Scoring!$B$47,IF(K9=\"Good\",Scoring!$B$46,IF(K9=\"Very Good\",Scoring!$B$45,IF(K9=\"\",0)))))))","v":0},{"$f":"IF(L9=\"Poor\",Scoring!$B$50,IF(L9=\"Fair -\",Scoring!$B$49,IF(L9=\"Fair\",Scoring!$B$48,IF(L9=\"Good -\",Scoring!$B$47,IF(L9=\"Good\",Scoring!$B$46,IF(L9=\"Very Good\",Scoring!$B$45,IF(L9=\"\",0)))))))","v":0},{"$f":"IF(T9=\"Poor\",Scoring!$B$50,IF(T9=\"Fair -\",Scoring!$B$49,IF(T9=\"Fair\",Scoring!$B$48,IF(T9=\"Good -\",Scoring!$B$47,IF(T9=\"Good\",Scoring!$B$46,IF(T9=\"Very Good\",Scoring!$B$45,IF(T9=\"\",0)))))))","v":0},{"$f":"IF(K9=\"Poor\",Scoring!$C$50,IF(K9=\"Fair -\",Scoring!$C$49,IF(K9=\"Fair\",Scoring!$C$48,IF(K9=\"Good -\",Scoring!$C$47,IF(K9=\"Good\",Scoring!$C$46,IF(K9=\"Very Good\",Scoring!$C$45,IF(K9=\"\",0)))))))","v":0},{"$f":"IF(L9=\"Poor\",Scoring!$C$50,IF(L9=\"Fair -\",Scoring!$C$49,IF(L9=\"Fair\",Scoring!$C$48,IF(L9=\"Good -\",Scoring!$C$47,IF(L9=\"Good\",Scoring!$C$46,IF(L9=\"Very Good\",Scoring!$C$45,IF(L9=\"\",0)))))))","v":0},{"$f":"IF(T9=\"Poor\",Scoring!$C$50,IF(T9=\"Fair -\",Scoring!$C$49,IF(T9=\"Fair\",Scoring!$C$48,IF(T9=\"Good -\",Scoring!$C$47,IF(T9=\"Good\",Scoring!$C$46,IF(T9=\"Very Good\",Scoring!$C$45,IF(T9=\"\",0)))))))","v":0},0,0,0]
[1110,11,"",null,null,null,null,null,null,null,null,null,"",null,null,null,null,null,null,{"$f":"IF(L10=\"\",\"\",IFERROR(INDEX(Outcomes!$F:$F, MATCH(A10,Outcomes!$H:$H,0)),L10))","v":""},"",null,null,null,{"$f":"IFERROR(INDEX(#REF!,MATCH(A10,#REF!,0)),\"\")","v":""},null,"",{"$f":"IF(K10=\"Poor\",Scoring!$B$50,IF(K10=\"Fair -\",Scoring!$B$49,IF(K10=\"Fair\",Scoring!$B$48,IF(K10=\"Good -\",Scoring!$B$47,IF(K10=\"Good\",Scoring!$B$46,IF(K10=\"Very Good\",Scoring!$B$45,IF(K10=\"\",0)))))))","v":0},{"$f":"IF(L10=\"Poor\",Scoring!$B$50,IF(L10=\"Fair -\",Scoring!$B$49,IF(L10=\"Fair\",Scoring!$B$48,IF(L10=\"Good -\",Scoring!$B$47,IF(L10=\"Good\",Scoring!$B$46,IF(L10=\"Very Good\",Scoring!$B$45,IF(L10=\"\",0)))))))","v":0},{"$f":"IF(T10=\"Poor\",Scoring!$B$50,IF(T10=\"Fair -\",Scoring!$B$49,IF(T10=\"Fair\",Scoring!$B$48,IF(T10=\"Good -\",Scoring!$B$47,IF(T10=\"Good\",Scoring!$B$46,IF(T10=\"Very Good\",Scoring!$B$45,IF(T10=\"\",0)))))))","v":0},{"$f":"IF(K10=\"Poor\",Scoring!$C$50,IF(K10=\"Fair -\",Scoring!$C$49,IF(K10=\"Fair\",Scoring!$C$48,IF(K10=\"Good -\",Scoring!$C$47,IF(K10=\"Good\",Scoring!$C$46,IF(K10=\"Very Good\",Scoring!$C$45,IF(K10=\"\",0)))))))","v":0},{"$f":"IF(L10=\"Poor\",Scoring!$C$50,IF(L10=\"Fair -\",Scoring!$C$49,IF(L10=\"Fair\",Scoring!$C$48,IF(L10=\"Good -\",Scoring!$C$47,IF(L10=\"Good\",Scoring!$C$46,IF(L10=\"Very Good\",Scoring!$C$45,IF(L10=\"\",0)))))))","v":0},{"$f":"IF(T10=\"Poor\",Scoring!$C$50,IF(T10=\"Fair -\",Scoring!$C$49,IF(T10=\"Fair\",Scoring!$C$48,IF(T10=\"Good -\",Scoring!$C$47,IF(T10=\"Good\",Scoring!$C$46,IF(T10=\"Very Good\",Scoring!$C$45,IF(T10=\"\",0)))))))","v":0},0,0,0]
[1111,11,"",null,null,null,null,null,null,null,null,null,"",null,null,null,null,null,null,{"$f":"IF(L11=\"\",\"\",IFERROR(INDEX(Outcomes!$F:$F, MATCH(A11,Outcomes!$H:$H,0)),L11))","v":""},"",null,null,null,{"$f":"IFERROR(INDEX(#REF!,MATCH(A11,#REF!,0)),\"\")","v":""},null,"",{"$f":"IF(K11=\"Poor\",Scoring!$B$50,IF(K11=\"Fair -\",Scoring!$B$49,IF(K11=\"Fair\",Scoring!$B$48,IF(K11=\"Good -\",Scoring!$B$47,IF(K11=\"Good\",Scoring!$B$46,IF(K11=\"Very Good\",Scoring!$B$45,IF(K11=\"\",0)))))))","v":0},{"$f":"IF(L11=\"Poor\",Scoring!$B$50,IF(L11=\"Fair -\",Scoring!$B$49,IF(L11=\"Fair\",Scoring!$B$48,IF(L11=\"Good -\",Scoring!$B$47,IF(L11=\"Good\",Scoring!$B$46,IF(L11=\"Very Good\",Scoring!$B$45,IF(L11=\"\",0)))))))","v":0},{"$f":"IF(T11=\"Poor\",Scoring!$B$50,IF(T11=\"Fair -\",Scoring!$B$49,IF(T11=\"Fair\",Scoring!$B$48,IF(T11=\"Good -\",Scoring!$B$47,IF(T11=\"Good\",Scoring!$B$46,IF(T11=\"Very Good\",Scoring!$B$45,IF(T11=\"\",0)))))))","v":0},{"$f":"IF(K11=\"Poor\",Scoring!$C$50,IF(K11=\"Fair -\",Scoring!$C$49,IF(K11=\"Fair\",Scoring!$C$48,IF(K11=\"Good -\",Scoring!$C$47,IF(K11=\"Good\",Scoring!$C$46,IF(K11=\"Very Good\",Scoring!$C$45,IF(K11=\"\",0)))))))","v":0},{"$f":"IF(L11=\"Poor\",Scoring!$C$50,IF(L11=\"Fair -\",Scoring!$C$49,IF(L11=\"Fair\",Scoring!$C$48,IF(L11=\"Good -\",Scoring!$C$47,IF(L11=\"Good\",Scoring!$C$46,IF(L11=\"Very Good\",Scoring!$C$45,IF(L11=\"\",0)))))))","v":0},{"$f":"IF(T11=\"Poor\",Scoring!$C$50,IF(T11=\"Fair -\",Scoring!$C$49,IF(T11=\"Fair\",Scoring!$C$48,IF(T11=\"Good -\",Scoring!$C$47,IF(T11=\"Good\",Scoring!$C$46,IF(T11=\"Very Good\",Scoring!$C$45,IF(T11=\"\",0)))))))","v":0},0,0,0]
[1112,11,"",null,null,null,null,null,null,null,null,null,"",null,null,null,null,null,null,{"$f":"IF(L12=\"\",\"\",IFERROR(INDEX(Outcomes!$F:$F, MATCH(A12,Outcomes!$H:$H,0)),L12))","v":""},"",null,null,null,{"$f":"IFERROR(INDEX(#REF!,MATCH(A12,#REF!,0)),\"\")","v":""},null,"",{"$f":"IF(K12=\"Poor\",Scoring!$B$50,IF(K12=\"Fair -\",Scoring!$B$49,IF(K12=\"Fair\",Scoring!$B$48,IF(K12=\"Good -\",Scoring!$B$47,IF(K12=\"Good\",Scoring!$B$46,IF(K12=\"Very Good\",Scoring!$B$45,IF(K12=\"\",0)))))))","v":0},{"$f":"IF(L12=\"Poor\",Scoring!$B$50,IF(L12=\"Fair -\",Scoring!$B$49,IF(L12=\"Fair\",Scoring!$B$48,IF(L12=\"Good -\",Scoring!$B$47,IF(L12=\"Good\",Scoring!$B$46,IF(L12=\"Very Good\",Scoring!$B$45,IF(L12=\"\",0)))))))","v":0},{"$f":"IF(T12=\"Poor\",Scoring!$B$50,IF(T12=\"Fair -\",Scoring!$B$49,IF(T12=\"Fair\",Scoring!$B$48,IF(T12=\"Good -\",Scoring!$B$47,IF(T12=\"Good\",Scoring!$B$46,IF(T12=\"Very Good\",Scoring!$B$45,IF(T12=\"\",0)))))))","v":0},{"$f":"IF(K12=\"Poor\",Scoring!$C$50,IF(K12=\"Fair -\",Scoring!$C$49,IF(K12=\"Fair\",Scoring!$C$48,IF(K12=\"Good -\",Scoring!$C$47,IF(K12=\"Good\",Scoring!$C$46,IF(K12=\"Very Good\",Scoring!$C$45,IF(K12=\"\",0)))))))","v":0},{"$f":"IF(L12=\"Poor\",Scoring!$C$50,IF(L12=\"Fair -\",Scoring!$C$49,IF(L12=\"Fair\",Scoring!$C$48,IF(L12=\"Good -\",Scoring!$C$47,IF(L12=\"Good\",Scoring!$C$46,IF(L12=\"Very Good\",Scoring!$C$45,IF(L12=\"\",0)))))))","v":0},{"$f":"IF(T12=\"Poor\",Scoring!$C$50,IF(T12=\"Fair -\",Scoring!$C$49,IF(T12=\"Fair\",Scoring!$C$48,IF(T12=\"Good -\",Scoring!$C$47,IF(T12=\"Good\",Scoring!$C$46,IF(T12=\"Very Good\",Scoring!$C$45,IF(T12=\"\",0)))))))","v":0},0,0,0]
[1113,11,"",null,null,null,null,null,null,null,null,null,"",null,null,null,null,null,null,{"$f":"IF(L13=\"\",\"\",IFERROR(INDEX(Outcomes!$F:$F, MATCH(A13,Outcomes!$H:$H,0)),L13))","v":""},{"$f":"IF(K13=0,\"\",IF(T13=0,\"\",INDEX(StressRankMatrix,MATCH(K13,Rating,0),MATCH(T13,Rating,0))))","v":""},null,null,null,{"$f":"IFERROR(INDEX(#REF!,MATCH(A13,#REF!,0)),\"\")","v":""},null,"",{"$f":"IF(K13=\"Poor\",Scoring!$B$50,IF(K13=\"Fair -\",Scoring!$B$49,IF(K13=\"Fair\",Scoring!$B$48,IF(K13=\"Good -\",Scoring!$B$47,IF(K13=\"Good\",Scoring!$B$46,IF(K13=\"Very Good\",Scoring!$B$45,IF(K13=\"\",0)))))))","v":0},{"$f":"IF(L13=\"Poor\",Scoring!$B$50,IF(L13=\"Fair -\",Scoring!$B$49,IF(L13=\"Fair\",Scoring!$B$48,IF(L13=\"Good -\",Scoring!$B$47,IF(L13=\"Good\",Scoring!$B$46,IF(L13=\"Very Good\",Scoring!$B$45,IF(L13=\"\",0)))))))","v":0},{"$f":"IF(T13=\"Poor\",Scoring!$B$50,IF(T13=\"Fair -\",Scoring!$B$49,IF(T13=\"Fair\",Scoring!$B$48,IF(T13=\"Good -\",Scoring!$B$47,IF(T13=\"Good\",Scoring!$B$46,IF(T13=\"Very Good\",Scoring!$B$45,IF(T13=\"\",0)))))))","v":0},{"$f":"IF(K13=\"Poor\",Scoring!$C$50,IF(K13=\"Fair -\",Scoring!$C$49,IF(K13=\"Fair\",Scoring!$C$48,IF(K13=\"Good -\",Scoring!$C$47,IF(K13=\"Good\",Scoring!$C$46,IF(K13=\"Very Good\",Scoring!$C$45,IF(K13=\"\",0)))))))","v":0},{"$f":"IF(L13=\"Poor\",Scoring!$C$50,IF(L13=\"Fair -\",Scoring!$C$49,IF(L13=\"Fair\",Scoring!$C$48,IF(L13=\"Good -\",Scoring!$C$47,IF(L13=\"Good\",Scoring!$C$46,IF(L13=\"Very Good\",Scoring!$C$45,IF(L13=\"\",0)))))))","v":0},{"$f":"IF(T13=\"Poor\",Scoring!$C$50,IF(T13=\"Fair -\",Scoring!$C$49,IF(T13=\"Fair\",Scoring!$C$48,IF(T13=\"Good -\",Scoring!$C$47,IF(T13=\"Good\",Scoring!$C$46,IF(T13=\"Very Good\",Scoring!$C$45,IF(T13=\"\",0)))))))","v":0},0,0,0]
[null,null,null,"Overall Target Health Score                           (0 = Poor - 100 = Very Good)",null,null,null,null,null,null,{"$f":"AK14","v":""},{"$f":"AL14","v":""},null,null,null,null,null,null,null,{"$f":"AM14","v":""},null,null,null,null,null,null,null,null,null,null,{"$f":"SUM(AE4:AE13)","v":0},0,0,0,0,0,{"$f":"IF(AH14=0,\"\",AH14/AE14)","v":""},{"$f":"IF(AI14=0,\"\",AI14/AF14)","v":""},{"$f":"IF(AJ14=0,\"\",AJ14/AG14)","v":""}]
[]
[null,null,null,null,"Threats (Sources of Stress)         List Sources of stress below (max of 12 per target).  Enter Contribution of each source where applicable.","  Key Attribute >",{"$f":"IF(E4=0,\"\",E4)","v":""},{"$f":"IF(E5=0,\"\",E5)","v":""},{"$f":"IF(E6=0,\"\",E6)","v":""},{"$f":"IF(E7=0,\"\",E7)","v":""},{"$f":"IF(E8=0,\"\",E8)","v":""},{"$f":"IF(E9=0,\"\",E9)","v":""},{"$f":"IF(E10=0,\"\",E10)","v":""},{"$f":"IF(E11=0,\"\",E11)","v":""},{"$f":"IF(E12=0,\"\",E12)","v":""},{"$f":"IF(E13=0,\"\",E13)","v":""},"Threat to Target Rank"]
[null,null,null,null,null,"Stress Rank>",{"$f":"IF(M4=\"\",\"\", IF(N4=0,M4,N4))","v":""},{"$f":"IF(M5=\"\",\"\", IF(N5=0,M5,N5))","v":""},{"$f":"IF(M6=\"\",\"\", IF(N6=0,M6,N6))","v":""},{"$f":"IF(M7=\"\",\"\", IF(N7=0,M7,N7))","v":""},{"$f":"IF(M8=\"\",\"\", IF(N8=0,M8,N8))","v":""},{"$f":"IF(M9=\"\",\"\", IF(N9=0,M9,N9))","v":""},{"$f":"IF(M10=\"\",\"\", IF(N10=0,M10,N10))","v":""},{"$f":"IF(M11=\"\",\"\", IF(N11=0,M11,N11))","v":""},{"$f":"IF(M12=\"\",\"\", IF(N12=0,M12,N12))","v":""},{"$f":"IF(M13=\"\",\"\", IF(N13=0,M13,N13))","v":""}]
[null,null,null,null,null,"Contribution",null,null,null,null,null,null,null,null,null,null,{"$f":"IF(AF19>=Scoring!$B$24,\"Very High\",IF(AF19>=Scoring!$B$25,\"High\",IF(AF19>=Scoring!$B$26,\"Medium\",IF(AF19>=Scoring!$B$27,\"Low\",\"-\"))))","v":"-"}]
[null,null,null,null,null,"Threat Rank ",{"$f":"IF(G18=0,\"\",INDEX(ThreatRankMatrix,MATCH($G$17,Rank,0),MATCH(G18,Rank,0)))","v":""},{"$f":"IF(H18=0,\"\",INDEX(ThreatRankMatrix,MATCH($H$17,Rank,0),MATCH(H18,Rank,0)))","v":""},{"$f":"IF(I18=0,\"\",INDEX(ThreatRankMatrix,MATCH($I$17,Rank,0),MATCH(I18,Rank,0)))","v":""},{"$f":"IF(J18=0,\"\",INDEX(ThreatRankMatrix,MATCH($J$17,Rank,0),MATCH(J18,Rank,0)))","v":""},{"$f":"IF(K18=0,\"\",INDEX(ThreatRankMatrix,MATCH($K$17,Rank,0),MATCH(K18,Rank,0)))","v":""},{"$f":"IF(L18=0,\"\",INDEX(ThreatRankMatrix,MATCH($L$17,Rank,0),MATCH(L18,Rank,0)))","v":""},{"$f":"IF(M18=0,\"\",INDEX(ThreatRankMatrix,MATCH($M$17,Rank,0),MATCH(M18,Rank,0)))","v":""},{"$f":"IF(N18=0,\"\",INDEX(ThreatRankMatrix,MATCH($N$17,Rank,0),MATCH(N18,Rank,0)))","v":""},{"$f":"IF(O18=0,\"\",INDEX(ThreatRankMatrix,MATCH($O$17,Rank,0),MATCH(O18,Rank,0)))","v":""},{"$f":"IF(P18=0,\"\",INDEX(ThreatRankMatrix,MATCH($P$17,Rank,0),MATCH(P18,Rank,0)))","v":""},null,null,null,null,null,null,null,null,null,null,null,null,null,null,null,{"$f":"SUM(AG19:AP19)","v":0},{"$f":"IF(G$17=\"\",0,(IF(G18=0,0,IF(G19=0,0,INDEX(ThreatScore,MATCH(G19,Rank,0))))))","v":0},0,0,0,0,0,0,0,0,0]
[null,null,null,null,null,"Contribution",null,null,null,null,null,null,null,null,null,null,{"$f":"IF(AF21>=Scoring!$B$24,\"Very High\",IF(AF21>=Scoring!$B$25,\"High\",IF(AF21>=Scoring!$B$26,\"Medium\",IF(AF21>=Scoring!$B$27,\"Low\",\"-\"))))","v":"-"}]
[null,null,null,null,null,"Threat Rank ",{"$f":"IF(G20=0,\"\",INDEX(ThreatRankMatrix,MATCH($G$17,Rank,0),MATCH(G20,Rank,0)))","v":""},{"$f":"IF(H20=0,\"\",INDEX(ThreatRankMatrix,MATCH($H$17,Rank,0),MATCH(H20,Rank,0)))","v":""},{"$f":"IF(I20=0,\"\",INDEX(ThreatRankMatrix,MATCH($I$17,Rank,0),MATCH(I20,Rank,0)))","v":""},{"$f":"IF(J20=0,\"\",INDEX(ThreatRankMatrix,MATCH($J$17,Rank,0),MATCH(J20,Rank,0)))","v":""},{"$f":"IF(K20=0,\"\",INDEX(ThreatRankMatrix,MATCH($K$17,Rank,0),MATCH(K20,Rank,0)))","v":""},{"$f":"IF(L20=0,\"\",INDEX(ThreatRankMatrix,MATCH($L$17,Rank,0),MATCH(L20,Rank,0)))","v":""},{"$f":"IF(M20=0,\"\",INDEX(ThreatRankMatrix,MATCH($M$17,Rank,0),MATCH(M20,Rank,0)))","v":""},{"$f":"IF(N20=0,\"\",INDEX(ThreatRankMatrix,MATCH($N$17,Rank,0),MATCH(N20,Rank,0)))","v":""},{"$f":"IF(O20=0,\"\",INDEX(ThreatRankMatrix,MATCH($O$17,Rank,0),MATCH(O20,Rank,0)))","v":""},{"$f":"IF(P20=0,\"\",INDEX(ThreatRankMatrix,MATCH($P$17,Rank,0),MATCH(P20,Rank,0)))","v":""},null,null,null,null,null,null,null,null,null,null,null,null,null,null,null,{"$f":"SUM(AG21:AP21)","v":0},{"$f":"IF(G$17=\"\",0,(IF(G20=0,0,IF(G21=0,0,INDEX(ThreatScore,MATCH(G21,Rank,0))))))","v":0},0,0,0,0,0,0,0,0,0]
[null,null,null,null,null,"Contribution",null,null,null,null,null,null,null,null,null,null,{"$f":"IF(AF23>=Scoring!$B$24,\"Very High\",IF(AF23>=Scoring!$B$25,\"High\",IF(AF23>=Scoring!$B$26,\"Medium\",IF(AF23>=Scoring!$B$27,\"Low\",\"-\"))))","v":"-"}]
[null,null,null,null,null,"Threat Rank ",{"$f":"IF(G22=0,\"\",INDEX(ThreatRankMatrix,MATCH($G$17,Rank,0),MATCH(G22,Rank,0)))","v":""},{"$f":"IF(H22=0,\"\",INDEX(ThreatRankMatrix,MATCH($H$17,Rank,0),MATCH(H22,Rank,0)))","v":""},{"$f":"IF(I22=0,\"\",INDEX(ThreatRankMatrix,MATCH($I$17,Rank,0),MATCH(I22,Rank,0)))","v":""},{"$f":"IF(J22=0,\"\",INDEX(ThreatRankMatrix,MATCH($J$17,Rank,0),MATCH(J22,Rank,0)))","v":""},{"$f":"IF(K22=0,\"\",INDEX(ThreatRankMatrix,MATCH($K$17,Rank,0),MATCH(K22,Rank,0)))","v":""},{"$f":"IF(L22=0,\"\",INDEX(ThreatRankMatrix,MATCH($L$17,Rank,0),MATCH(L22,Rank,0)))","v":""},{"$f":"IF(M22=0,\"\",INDEX(ThreatRankMatrix,MATCH($M$17,Rank,0),MATCH(M22,Rank,0)))","v":""},{"$f":"IF(N22=0,\"\",INDEX(ThreatRankMatrix,MATCH($N$17,Rank,0),MATCH(N22,Rank,0)))","v":""},{"$f":"IF(O22=0,\"\",INDEX(ThreatRankMatrix,MATCH($O$17,Rank,0),MATCH(O22,Rank,0)))","v":""},{"$f":"IF(P22=0,\"\",INDEX(ThreatRankMatrix,MATCH($P$17,Rank,0),MATCH(P22,Rank,0)))","v":""},null,null,null,null,null,null,null,null,null,null,null,null,null,null,null,{"$f":"SUM(AG23:AP23)","v":0},{"$f":"IF(G$17=\"\",0,(IF(G22=0,0,IF(G23=0,0,INDEX(ThreatScore,MATCH(G23,Rank,0))))))","v":0},0,0,0,0,0,0,0,0,0]
[null,null,null,null,null,"Contribution",null,null,null,null,null,null,null,null,null,null,{"$f":"IF(AF25>=Scoring!$B$24,\"Very High\",IF(AF25>=Scoring!$B$25,\"High\",IF(AF25>=Scoring!$B$26,\"Medium\",IF(AF25>=Scoring!$B$27,\"Low\",\"-\"))))","v":"-"}]
[null,null,null,null,null,"Threat Rank ",{"$f":"IF(G24=0,\"\",INDEX(ThreatRankMatrix,MATCH($G$17,Rank,0),MATCH(G24,Rank,0)))","v":""},{"$f":"IF(H24=0,\"\",INDEX(ThreatRankMatrix,MATCH($H$17,Rank,0),MATCH(H24,Rank,0)))","v":""},{"$f":"IF(I24=0,\"\",INDEX(ThreatRankMatrix,MATCH($I$17,Rank,0),MATCH(I24,Rank,0)))","v":""},{"$f":"IF(J24=0,\"\",INDEX(ThreatRankMatrix,MATCH($J$17,Rank,0),MATCH(J24,Rank,0)))","v":""},{"$f":"IF(K24=0,\"\",INDEX(ThreatRankMatrix,MATCH($K$17,Rank,0),MATCH(K24,Rank,0)))","v":""},{"$f":"IF(L24=0,\"\",INDEX(ThreatRankMatrix,MATCH($L$17,Rank,0),MATCH(L24,Rank,0)))","v":""},{"$f":"IF(M24=0,\"\",INDEX(ThreatRankMatrix,MATCH($M$17,Rank,0),MATCH(M24,Rank,0)))","v":""},{"$f":"IF(N24=0,\"\",INDEX(ThreatRankMatrix,MATCH($N$17,Rank,0),MATCH(N24,Rank,0)))","v":""},{"$f":"IF(O24=0,\"\",INDEX(ThreatRankMatrix,MATCH($O$17,Rank,0),MATCH(O24,Rank,0)))","v":""},{"$f":"IF(P24=0,\"\",INDEX(ThreatRankMatrix,MATCH($P$17,Rank,0),MATCH(P24,Rank,0)))","v":""},null,null,null,null,null,null,null,null,null,null,null,null,null,null,null,{"$f":"SUM(AG25:AP25)","v":0},{"$f":"IF(G$17=\"\",0,(IF(G24=0,0,IF(G25=0,0,INDEX(ThreatScore,MATCH(G25,Rank,0))))))","v":0},0,0,0,0,0,0,0,0,0]
[null,null,null,null,null,"Contribution",null,null,null,null,null,null,null,null,null,null,{"$f":"IF(AF27>=Scoring!$B$24,\"Very High\",IF(AF27>=Scoring!$B$25,\"High\",IF(AF27>=Scoring!$B$26,\"Medium\",IF(AF27>=Scoring!$B$27,\"Low\",\"-\"))))","v":"-"}]
[null,null,null,null,null,"Threat Rank ",{"$f":"IF(G26=0,\"\",INDEX(ThreatRankMatrix,MATCH($G$17,Rank,0),MATCH(G26,Rank,0)))","v":""},{"$f":"IF(H26=0,\"\",INDEX(ThreatRankMatrix,MATCH($H$17,Rank,0),MATCH(H26,Rank,0)))","v":""},{"$f":"IF(I26=0,\"\",INDEX(ThreatRankMatrix,MATCH($I$17,Rank,0),MATCH(I26,Rank,0)))","v":""},{"$f":"IF(J26=0,\"\",INDEX(ThreatRankMatrix,MATCH($J$17,Rank,0),MATCH(J26,Rank,0)))","v":""},{"$f":"IF(K26=0,\"\",INDEX(ThreatRankMatrix,MATCH($K$17,Rank,0),MATCH(K26,Rank,0)))","v":""},{"$f":"IF(L26=0,\"\",INDEX(ThreatRankMatrix,MATCH($L$17,Rank,0),MATCH(L26,Rank,0)))","v":""},{"$f":"IF(M26=0,\"\",INDEX(ThreatRankMatrix,MATCH($M$17,Rank,0),MATCH(M26,Rank,0)))","v":""},{"$f":"IF(N26=0,\"\",INDEX(ThreatRankMatrix,MATCH($N$17,Rank,0),MATCH(N26,Rank,0)))","v":""},{"$f":"IF(O26=0,\"\",INDEX(ThreatRankMatrix,MATCH($O$17,Rank,0),MATCH(O26,Rank,0)))","v":""},{"$f":"IF(P26=0,\"\",INDEX(ThreatRankMatrix,MATCH($P$17,Rank,0),MATCH(P26,Rank,0)))","v":""},null,null,null,null,null,null,null,null,null,null,null,null,null,null,null,{"$f":"SUM(AG27:AP27)","v":0},{"$f":"IF(G$17=\"\",0,(IF(G26=0,0,IF(G27=0,0,INDEX(ThreatScore,MATCH(G27,Rank,0))))))","v":0},0,0,0,0,0,0,0,0,0]
[null,null,null,null,null,"Contribution",null,null,null,null,null,null,null,null,null,null,{"$f":"IF(AF29>=Scoring!$B$24,\"Very High\",IF(AF29>=Scoring!$B$25,\"High\",IF(AF29>=Scoring!$B$26,\"Medium\",IF(AF29>=Scoring!$B$27,\"Low\",\"-\"))))","v":"-"}]
[null,null,null,null,null,"Threat Rank ",{"$f":"IF(G28=0,\"\",INDEX(ThreatRankMatrix,MATCH($G$17,Rank,0),MATCH(G28,Rank,0)))","v":""},{"$f":"IF(H28=0,\"\",INDEX(ThreatRankMatrix,MATCH($H$17,Rank,0),MATCH(H28,Rank,0)))","v":""},{"$f":"IF(I28=0,\"\",INDEX(ThreatRankMatrix,MATCH($I$17,Rank,0),MATCH(I28,Rank,0)))","v":""},{"$f":"IF(J28=0,\"\",INDEX(ThreatRankMatrix,MATCH($J$17,Rank,0),MATCH(J28,Rank,0)))","v":""},{"$f":"IF(K28=0,\"\",INDEX(ThreatRankMatrix,MATCH($K$17,Rank,0),MATCH(K28,Rank,0)))","v":""},{"$f":"IF(L28=0,\"\",INDEX(ThreatRankMatrix,MATCH($L$17,Rank,0),MATCH(L28,Rank,0)))","v":""},{"$f":"IF(M28=0,\"\",INDEX(ThreatRankMatrix,MATCH($M$17,Rank,0),MATCH(M28,Rank,0)))","v":""},{"$f":"IF(N28=0,\"\",INDEX(ThreatRankMatrix,MATCH($N$17,Rank,0),MATCH(N28,Rank,0)))","v":""},{"$f":"IF(O28=0,\"\",INDEX(ThreatRankMatrix,MATCH($O$17,Rank,0),MATCH(O28,Rank,0)))","v":""},{"$f":"IF(P28=0,\"\",INDEX(ThreatRankMatrix,MATCH($P$17,Rank,0),MATCH(P28,Rank,0)))","v":""},null,null,null,null,null,null,null,null,null,null,null,null,null,null,null,{"$f":"SUM(AG29:AP29)","v":0},{"$f":"IF(G$17=\"\",0,(IF(G28=0,0,IF(G29=0,0,INDEX(ThreatScore,MATCH(G29,Rank,0))))))","v":0},0,0,0,0,0,0,0,0,0]
[null,null,null,null,null,"Contribution",null,null,null,null,null,null,null,null,null,null,{"$f":"IF(AF31>=Scoring!$B$24,\"Very High\",IF(AF31>=Scoring!$B$25,\"High\",IF(AF31>=Scoring!$B$26,\"Medium\",IF(AF31>=Scoring!$B$27,\"Low\",\"-\"))))","v":"-"}]
[null,null,null,null,null,"Threat Rank ",{"$f":"IF(G30=0,\"\",INDEX(ThreatRankMatrix,MATCH($G$17,Rank,0),MATCH(G30,Rank,0)))","v":""},{"$f":"IF(H30=0,\"\",INDEX(ThreatRankMatrix,MATCH($H$17,Rank,0),MATCH(H30,Rank,0)))","v":""},{"$f":"IF(I30=0,\"\",INDEX(ThreatRankMatrix,MATCH($I$17,Rank,0),MATCH(I30,Rank,0)))","v":""},{"$f":"IF(J30=0,\"\",INDEX(ThreatRankMatrix,MATCH($J$17,Rank,0),MATCH(J30,Rank,0)))","v":""},{"$f":"IF(K30=0,\"\",INDEX(ThreatRankMatrix,MATCH($K$17,Rank,0),MATCH(K30,Rank,0)))","v":""},{"$f":"IF(L30=0,\"\",INDEX(ThreatRankMatrix,MATCH($L$17,Rank,0),MATCH(L30,Rank,0)))","v":""},{"$f":"IF(M30=0,\"\",INDEX(ThreatRankMatrix,MATCH($M$17,Rank,0),MATCH(M30,Rank,0)))","v":""},{"$f":"IF(N30=0,\"\",INDEX(ThreatRankMatrix,MATCH($N$17,Rank,0),MATCH(N30,Rank,0)))","v":""},{"$f":"IF(O30=0,\"\",INDEX(ThreatRankMatrix,MATCH($O$17,Rank,0),MATCH(O30,Rank,0)))","v":""},{"$f":"IF(P30=0,\"\",INDEX(ThreatRankMatrix,MATCH($P$17,Rank,0),MATCH(P30,Rank,0)))","v":""},null,null,null,null,null,null,null,null,null,null,null,null,null,null,null,{"$f":"SUM(AG31:AP31)","v":0},{"$f":"IF(G$17=\"\",0,(IF(G30=0,0,IF(G31=0,0,INDEX(ThreatScore,MATCH(G31,Rank,0))))))","v":0},0,0,0,0,0,0,0,0,0]
[null,null,null,null,null,"Contribution",null,null,null,null,null,null,null,null,null,null,{"$f":"IF(AF33>=Scoring!$B$24,\"Very High\",IF(AF33>=Scoring!$B$25,\"High\",IF(AF33>=Scoring!$B$26,\"Medium\",IF(AF33>=Scoring!$B$27,\"Low\",\"-\"))))","v":"-"}]
[null,null,null,null,null,"Threat Rank ",{"$f":"IF(G32=0,\"\",INDEX(ThreatRankMatrix,MATCH($G$17,Rank,0),MATCH(G32,Rank,0)))","v":""},{"$f":"IF(H32=0,\"\",INDEX(ThreatRankMatrix,MATCH($H$17,Rank,0),MATCH(H32,Rank,0)))","v":""},{"$f":"IF(I32=0,\"\",INDEX(ThreatRankMatrix,MATCH($I$17,Rank,0),MATCH(I32,Rank,0)))","v":""},{"$f":"IF(J32=0,\"\",INDEX(ThreatRankMatrix,MATCH($J$17,Rank,0),MATCH(J32,Rank,0)))","v":""},{"$f":"IF(K32=0,\"\",INDEX(ThreatRankMatrix,MATCH($K$17,Rank,0),MATCH(K32,Rank,0)))","v":""},{"$f":"IF(L32=0,\"\",INDEX(ThreatRankMatrix,MATCH($L$17,Rank,0),MATCH(L32,Rank,0)))","v":""},{"$f":"IF(M32=0,\"\",INDEX(ThreatRankMatrix,MATCH($M$17,Rank,0),MATCH(M32,Rank,0)))","v":""},{"$f":"IF(N32=0,\"\",INDEX(ThreatRankMatrix,MATCH($N$17,Rank,0),MATCH(N32,Rank,0)))","v":""},{"$f":"IF(O32=0,\"\",INDEX(ThreatRankMatrix,MATCH($O$17,Rank,0),MATCH(O32,Rank,0)))","v":""},{"$f":"IF(P32=0,\"\",INDEX(ThreatRankMatrix,MATCH($P$17,Rank,0),MATCH(P32,Rank,0)))","v":""},null,null,null,null,null,null,null,null,null,null,null,null,null,null,null,{"$f":"SUM(AG33:AP33)","v":0},{"$f":"IF(G$17=\"\",0,(IF(G32=0,0,IF(G33=0,0,INDEX(ThreatScore,MATCH(G33,Rank,0))))))","v":0},0,0,0,0,0,0,0,0,0]
[null,null,null,null,null,"Contribution",null,null,null,null,null,null,null,null,null,null,{"$f":"IF(AF35>=Scoring!$B$24,\"Very High\",IF(AF35>=Scoring!$B$25,\"High\",IF(AF35>=Scoring!$B$26,\"Medium\",IF(AF35>=Scoring!$B$27,\"Low\",\"-\"))))","v":"-"}]
[null,null,null,null,null,"Threat Rank ",{"$f":"IF(G34=0,\"\",INDEX(ThreatRankMatrix,MATCH($G$17,Rank,0),MATCH(G34,Rank,0)))","v":""},{"$f":"IF(H34=0,\"\",INDEX(ThreatRankMatrix,MATCH($H$17,Rank,0),MATCH(H34,Rank,0)))","v":""},{"$f":"IF(I34=0,\"\",INDEX(ThreatRankMatrix,MATCH($I$17,Rank,0),MATCH(I34,Rank,0)))","v":""},{"$f":"IF(J34=0,\"\",INDEX(ThreatRankMatrix,MATCH($J$17,Rank,0),MATCH(J34,Rank,0)))","v":""},{"$f":"IF(K34=0,\"\",INDEX(ThreatRankMatrix,MATCH($K$17,Rank,0),MATCH(K34,Rank,0)))","v":""},{"$f":"IF(L34=0,\"\",INDEX(ThreatRankMatrix,MATCH($L$17,Rank,0),MATCH(L34,Rank,0)))","v":""},{"$f":"IF(M34=0,\"\",INDEX(ThreatRankMatrix,MATCH($M$17,Rank,0),MATCH(M34,Rank,0)))","v":""},{"$f":"IF(N34=0,\"\",INDEX(ThreatRankMatrix,MATCH($N$17,Rank,0),MATCH(N34,Rank,0)))","v":""},{"$f":"IF(O34=0,\"\",INDEX(ThreatRankMatrix,MATCH($O$17,Rank,0),MATCH(O34,Rank,0)))","v":""},{"$f":"IF(P34=0,\"\",INDEX(ThreatRankMatrix,MATCH($P$17,Rank,0),MATCH(P34,Rank,0)))","v":""},null,null,null,null,null,null,null,null,null,null,null,null,null,null,null,{"$f":"SUM(AG35:AP35)","v":0},{"$f":"IF(G$17=\"\",0,(IF(G34=0,0,IF(G35=0,0,INDEX(ThreatScore,MATCH(G35,Rank,0))))))","v":0},0,0,0,0,0,0,0,0,0]
[null,null,null,null,null,"Contribution",null,null,null,null,null,null,null,null,null,null,{"$f":"IF(AF37>=Scoring!$B$24,\"Very High\",IF(AF37>=Scoring!$B$25,\"High\",IF(AF37>=Scoring!$B$26,\"Medium\",IF(AF37>=Scoring!$B$27,\"Low\",\"-\"))))","v":"-"}]
[null,null,null,null,null,"Threat Rank ",{"$f":"IF(G36=0,\"\",INDEX(ThreatRankMatrix,MATCH($G$17,Rank,0),MATCH(G36,Rank,0)))","v":""},{"$f":"IF(H36=0,\"\",INDEX(ThreatRankMatrix,MATCH($H$17,Rank,0),MATCH(H36,Rank,0)))","v":""},{"$f":"IF(I36=0,\"\",INDEX(ThreatRankMatrix,MATCH($I$17,Rank,0),MATCH(I36,Rank,0)))","v":""},{"$f":"IF(J36=0,\"\",INDEX(ThreatRankMatrix,MATCH($J$17,Rank,0),MATCH(J36,Rank,0)))","v":""},{"$f":"IF(K36=0,\"\",INDEX(ThreatRankMatrix,MATCH($K$17,Rank,0),MATCH(K36,Rank,0)))","v":""},{"$f":"IF(L36=0,\"\",INDEX(ThreatRankMatrix,MATCH($L$17,Rank,0),MATCH(L36,Rank,0)))","v":""},{"$f":"IF(M36=0,\"\",INDEX(ThreatRankMatrix,MATCH($M$17,Rank,0),MATCH(M36,Rank,0)))","v":""},{"$f":"IF(N36=0,\"\",INDEX(ThreatRankMatrix,MATCH($N$17,Rank,0),MATCH(N36,Rank,0)))","v":""},{"$f":"IF(O36=0,\"\",INDEX(ThreatRankMatrix,MATCH($O$17,Rank,0),MATCH(O36,Rank,0)))","v":""},{"$f":"IF(P36=0,\"\",INDEX(ThreatRankMatrix,MATCH($P$17,Rank,0),MATCH(P36,Rank,0)))","v":""},null,null,null,null,null,null,null,null,null,null,null,null,null,null,null,{"$f":"SUM(AG37:AP37)","v":0},{"$f":"IF(G$17=\"\",0,(IF(G36=0,0,IF(G37=0,0,INDEX(ThreatScore,MATCH(G37,Rank,0))))))","v":0},{"$f":"IF(H$17=\"\",0,(IF(H36=0,0,IF(H37=0,0,INDEX(ThreatScore,MATCH(H37,Rank,0))))))","v":0},{"$f":"IF(I$17=\"\",0,(IF(I36=0,0,IF(I37=0,0,INDEX(ThreatScore,MATCH(I37,Rank,0))))))","v":0},{"$f":"IF(J$17=\"\",0,(IF(J36=0,0,IF(J37=0,0,INDEX(ThreatScore,MATCH(J37,Rank,0))))))","v":0},{"$f":"IF(K$17=\"\",0,(IF(K36=0,0,IF(K37=0,0,INDEX(ThreatScore,MATCH(K37,Rank,0))))))","v":0},{"$f":"IF(L$17=\"\",0,(IF(L36=0,0,IF(L37=0,0,INDEX(ThreatScore,MATCH(L37,Rank,0))))))","v":0},{"$f":"IF(M$17=\"\",0,(IF(M36=0,0,IF(M37=0,0,INDEX(ThreatScore,MATCH(M37,Rank,0))))))","v":0},{"$f":"IF(N$17=\"\",0,(IF(N36=0,0,IF(N37=0,0,INDEX(ThreatScore,MATCH(N37,Rank,0))))))","v":0},{"$f":"IF(O$17=\"\",0,(IF(O36=0,0,IF(O37=0,0,INDEX(ThreatScore,MATCH(O37,Rank,0))))))","v":0},{"$f":"IF(P$17=\"\",0,(IF(P36=0,0,IF(P37=0,0,INDEX(ThreatScore,MATCH(P37,Rank,0))))))","v":0}]
[null,null,null,null,null,"Contribution",null,null,null,null,null,null,null,null,null,null,{"$f":"IF(AF39>=Scoring!$B$24,\"Very High\",IF(AF39>=Scoring!$B$25,\"High\",IF(AF39>=Scoring!$B$26,\"Medium\",IF(AF39>=Scoring!$B$27,\"Low\",\"-\"))))","v":"-"}]
[null,null,null,null,null,"Threat Rank ",{"$f":"IF(G38=0,\"\",INDEX(ThreatRankMatrix,MATCH($G$17,Rank,0),MATCH(G38,Rank,0)))","v":""},{"$f":"IF(H38=0,\"\",INDEX(ThreatRankMatrix,MATCH($H$17,Rank,0),MATCH(H38,Rank,0)))","v":""},{"$f":"IF(I38=0,\"\",INDEX(ThreatRankMatrix,MATCH($I$17,Rank,0),MATCH(I38,Rank,0)))","v":""},{"$f":"IF(J38=0,\"\",INDEX(ThreatRankMatrix,MATCH($J$17,Rank,0),MATCH(J38,Rank,0)))","v":""},{"$f":"IF(K38=0,\"\",INDEX(ThreatRankMatrix,MATCH($K$17,Rank,0),MATCH(K38,Rank,0)))","v":""},{"$f":"IF(L38=0,\"\",INDEX(ThreatRankMatrix,MATCH($L$17,Rank,0),MATCH(L38,Rank,0)))","v":""},{"$f":"IF(M38=0,\"\",INDEX(ThreatRankMatrix,MATCH($M$17,Rank,0),MATCH(M38,Rank,0)))","v":""},{"$f":"IF(N38=0,\"\",INDEX(ThreatRankMatrix,MATCH($N$17,Rank,0),MATCH(N38,Rank,0)))","v":""},{"$f":"IF(O38=0,\"\",INDEX(ThreatRankMatrix,MATCH($O$17,Rank,0),MATCH(O38,Rank,0)))","v":""},{"$f":"IF(P38=0,\"\",INDEX(ThreatRankMatrix,MATCH($P$17,Rank,0),MATCH(P38,Rank,0)))","v":""},null,null,null,null,null,null,null,null,null,null,null,null,null,null,null,{"$f":"SUM(AG39:AP39)","v":0},{"$f":"IF(G$17=\"\",0,(IF(G38=0,0,IF(G39=0,0,INDEX(ThreatScore,MATCH(G39,Rank,0))))))","v":0},{"$f":"IF(H$17=\"\",0,(IF(H38=0,0,IF(H39=0,0,INDEX(ThreatScore,MATCH(H39,Rank,0))))))","v":0},{"$f":"IF(I$17=\"\",0,(IF(I38=0,0,IF(I39=0,0,INDEX(ThreatScore,MATCH(I39,Rank,0))))))","v":0},{"$f":"IF(J$17=\"\",0,(IF(J38=0,0,IF(J39=0,0,INDEX(ThreatScore,MATCH(J39,Rank,0))))))","v":0},{"$f":"IF(K$17=\"\",0,(IF(K38=0,0,IF(K39=0,0,INDEX(ThreatScore,MATCH(K39,Rank,0))))))","v":0},{"$f":"IF(L$17=\"\",0,(IF(L38=0,0,IF(L39=0,0,INDEX(ThreatScore,MATCH(L39,Rank,0))))))","v":0},{"$f":"IF(M$17=\"\",0,(IF(M38=0,0,IF(M39=0,0,INDEX(ThreatScore,MATCH(M39,Rank,0))))))","v":0},{"$f":"IF(N$17=\"\",0,(IF(N38=0,0,IF(N39=0,0,INDEX(ThreatScore,MATCH(N39,Rank,0))))))","v":0},{"$f":"IF(O$17=\"\",0,(IF(O38=0,0,IF(O39=0,0,INDEX(ThreatScore,MATCH(O39,Rank,0))))))","v":0},{"$f":"IF(P$17=\"\",0,(IF(P38=0,0,IF(P39=0,0,INDEX(ThreatScore,MATCH(P39,Rank,0))))))","v":0}]
[null,null,null,null,null,"Contribution",null,null,null,null,null,null,null,null,null,null,{"$f":"IF(AF41>=Scoring!$B$24,\"Very High\",IF(AF41>=Scoring!$B$25,\"High\",IF(AF41>=Scoring!$B$26,\"Medium\",IF(AF41>=Scoring!$B$27,\"Low\",\"-\"))))","v":"-"}]
[null,null,null,null,null,"Threat Rank ",{"$f":"IF(G40=0,\"\",INDEX(ThreatRankMatrix,MATCH($G$17,Rank,0),MATCH(G40,Rank,0)))","v":""},{"$f":"IF(H40=0,\"\",INDEX(ThreatRankMatrix,MATCH($H$17,Rank,0),MATCH(H40,Rank,0)))","v":""},{"$f":"IF(I40=0,\"\",INDEX(ThreatRankMatrix,MATCH($I$17,Rank,0),MATCH(I40,Rank,0)))","v":""},{"$f":"IF(J40=0,\"\",INDEX(ThreatRankMatrix,MATCH($J$17,Rank,0),MATCH(J40,Rank,0)))","v":""},{"$f":"IF(K40=0,\"\",INDEX(ThreatRankMatrix,MATCH($K$17,Rank,0),MATCH(K40,Rank,0)))","v":""},{"$f":"IF(L40=0,\"\",INDEX(ThreatRankMatrix,MATCH($L$17,Rank,0),MATCH(L40,Rank,0)))","v":""},{"$f":"IF(M40=0,\"\",INDEX(ThreatRankMatrix,MATCH($M$17,Rank,0),MATCH(M40,Rank,0)))","v":""},{"$f":"IF(N40=0,\"\",INDEX(ThreatRankMatrix,MATCH($N$17,Rank,0),MATCH(N40,Rank,0)))","v":""},{"$f":"IF(O40=0,\"\",INDEX(ThreatRankMatrix,MATCH($O$17,Rank,0),MATCH(O40,Rank,0)))","v":""},{"$f":"IF(P40=0,\"\",INDEX(ThreatRankMatrix,MATCH($P$17,Rank,0),MATCH(P40,Rank,0)))","v":""},null,null,null,null,null,null,null,null,null,null,null,null,null,null,null,{"$f":"SUM(AG41:AP41)","v":0},{"$f":"IF(G$17=\"\",0,(IF(G40=0,0,IF(G41=0,0,INDEX(ThreatScore,MATCH(G41,Rank,0))))))","v":0},0,0,0,0,0,0,0,0,0]

{"sheet":"12","index":16,"n_rows":128,"n_cols":43,"rows_kept":128,"cut":false,"hidden":false,"merged":[[0,3,0,4],[15,4,16,4],[21,4,22,4],[33,4,34,4],[15,16,16,16],[17,4,18,4],[17,16,18,16],[13,3,13,4],[19,4,20,4],[19,16,20,16],[21,16,22,16],[23,4,24,4],[23,16,24,16],[25,4,26,4],[25,16,26,16],[27,4,28,4],[27,16,28,16],[29,4,30,4],[29,16,30,16],[31,4,32,4],[31,16,32,16],[56,3,58,3],[59,3,61,3],[33,16,34,16],[39,4,40,4],[39,16,40,16],[35,4,36,4],[35,16,36,16],[37,4,38,4],[37,16,38,16]]}
[null,null,null,{"$f":"IF(Targets!C61=0,\"\",Targets!C61)","v":""},{"$f":"IF(Targets!C61=0,\"\",Targets!C61)","v":""},"  Key Attributes & Future Threats"]
[null,null,null,null,null,"Place cursor over cells with red triangles in top corner for hint"]
["KEA ID","Target ID","Target Name","Category","Key Attribute","Indicator","Poor","Fair","Good","Very Good","Current Rating","Projected Future Rating w No Action","Stress Ranking (calculated)","Stress Ranking (User Override)",null,null,null,null,null,"Projected Future Rating w Strategies","New Stress Ranking (calculated)","New Stress Ranking (User Override)",null,null,"Temp Indicator ID",null,"Target #","Current Score","Score w No Action","Score w Strategies","Current Weight","Future Weight No Action","Future Weight w Action","Current Weighted Score","Future No Action Weighted Score","Future Action Weighted Score","Current Weighted Average","Future No Action Weighted Average","Future Action Weighted Average",null,"Threat Delta","Change","Concern Rank"]
[{"$f":"ROW()+1200","v":1204},12,{"$f":"$D$1","v":""},null,null,null,null,null,null,null,null,null,{"$f":"IF(K4=0,\"\",IF(L4=0,\"\",INDEX(StressRankMatrix,MATCH(K4,Rating,0),MATCH(L4,Rating,0))))","v":""},null,null,null,null,null,null,{"$f":"IF(L4=\"\",\"\",IFERROR(INDEX(Outcomes!$F:$F, MATCH(A4,Outcomes!$H:$H,0)),L4))","v":""},{"$f":"IF(K4=\"\",\"\",IF(T4=0,\"\",INDEX(StressRankMatrix,MATCH(K4,Rating,0),MATCH(T4,Rating,0))))","v":""},null,null,null,{"$f":"IFERROR(INDEX(#REF!,MATCH(A4,#REF!,0)),\"\")","v":""},null,{"$f":"IF(E4=\"\",\"\",IF(E4>0,$B$4,\"error\"))","v":""},{"$f":"IF(K4=\"Poor\",Scoring!$B$50,IF(K4=\"Fair -\",Scoring!$B$49,IF(K4=\"Fair\",Scoring!$B$48,IF(K4=\"Good -\",Scoring!$B$47,IF(K4=\"Good\",Scoring!$B$46,IF(K4=\"Very Good\",Scoring!$B$45,IF(K4=\"\",0)))))))","v":0},{"$f":"IF(L4=\"Poor\",Scoring!$B$50,IF(L4=\"Fair -\",Scoring!$B$49,IF(L4=\"Fair\",Scoring!$B$48,IF(L4=\"Good -\",Scoring!$B$47,IF(L4=\"Good\",Scoring!$B$46,IF(L4=\"Very Good\",Scoring!$B$45,IF(L4=\"\",0)))))))","v":0},{"$f":"IF(T4=\"Poor\",Scoring!$B$50,IF(T4=\"Fair -\",Scoring!$B$49,IF(T4=\"Fair\",Scoring!$B$48,IF(T4=\"Good -\",Scoring!$B$47,IF(T4=\"Good\",Scoring!$B$46,IF(T4=\"Very Good\",Scoring!$B$45,IF(T4=\"\",0)))))))","v":0},{"$f":"IF(K4=\"Poor\",Scoring!$C$50,IF(K4=\"Fair -\",Scoring!$C$49,IF(K4=\"Fair\",Scoring!$C$48,IF(K4=\"Good -\",Scoring!$C$47,IF(K4=\"Good\",Scoring!$C$46,IF(K4=\"Very Good\",Scoring!$C$45,IF(K4=\"\",0)))))))","v":0},{"$f":"IF(L4=\"Poor\",Scoring!$C$50,IF(L4=\"Fair -\",Scoring!$C$49,IF(L4=\"Fair\",Scoring!$C$48,IF(L4=\"Good -\",Scoring!$C$47,IF(L4=\"Good\",Scoring!$C$46,IF(L4=\"Very Good\",Scoring!$C$45,IF(L4=\"\",0)))))))","v":0},{"$f":"IF(T4=\"Poor\",Scoring!$C$50,IF(T4=\"Fair -\",Scoring!$C$49,IF(T4=\"Fair\",Scoring!$C$48,IF(T4=\"Good -\",Scoring!$C$47,IF(T4=\"Good\",Scoring!$C$46,IF(T4=\"Very Good\",Scoring!$C$45,IF(T4=\"\",0)))))))","v":0},{"$f":"AB4*AE4","v":0},{"$f":"AC4*AF4","v":0},{"$f":"AD4*AG4","v":0},null,null,null,null,{"$f":"AB4-AC4","v":0},{"$f":"IF(AO4>Scoring!$B$134,Scoring!$A$134,IF(AO4>Scoring!$B$135,Scoring!$A$135,IF(AO4>Scoring!$B$136,Scoring!$A$136,IF(AO4>Scoring!$B$137,Scoring!$A$137,IF(AO4>Scoring!$B$138,Scoring!$A$138,IF(AO4>Scoring!$B$139,Scoring!$A$139,IF(AO4>Scoring!$B$140,Scoring!$A$140,IF(AO4>Scoring!$B$141,Scoring!$A$141,IF(AO4>=Scoring!$B$142,Scoring!$A$142,IF(AO4>Scoring!$B$143,Scoring!$A$143))))))))))","v":"None"},{"$f":"IFERROR(INDEX(StrategicActionMatrix,MATCH(K4,Rating,0),MATCH(AP4,Change,0)),\"\")","v":""}]
[{"$f":"ROW()+1200","v":1205},12,{"$f":"$D$1","v":""},null,null,null,null,null,null,null,null,null,"",null,null,null,null,null,null,{"$f":"IF(L5=\"\",\"\",IFERROR(INDEX(Outcomes!$F:$F, MATCH(A5,Outcomes!$H:$H,0)),L5))","v":""},"",null,null,null,{"$f":"IFERROR(INDEX(#REF!,MATCH(A5,#REF!,0)),\"\")","v":""},null,"",{"$f":"IF(K5=\"Poor\",Scoring!$B$50,IF(K5=\"Fair -\",Scoring!$B$49,IF(K5=\"Fair\",Scoring!$B$48,IF(K5=\"Good -\",Scoring!$B$47,IF(K5=\"Good\",Scoring!$B$46,IF(K5=\"Very Good\",Scoring!$B$45,IF(K5=\"\",0)))))))","v":0},{"$f":"IF(L5=\"Poor\",Scoring!$B$50,IF(L5=\"Fair -\",Scoring!$B$49,IF(L5=\"Fair\",Scoring!$B$48,IF(L5=\"Good -\",Scoring!$B$47,IF(L5=\"Good\",Scoring!$B$46,IF(L5=\"Very Good\",Scoring!$B$45,IF(L5=\"\",0)))))))","v":0},{"$f":"IF(T5=\"Poor\",Scoring!$B$50,IF(T5=\"Fair -\",Scoring!$B$49,IF(T5=\"Fair\",Scoring!$B$48,IF(T5=\"Good -\",Scoring!$B$47,IF(T5=\"Good\",Scoring!$B$46,IF(T5=\"Very Good\",Scoring!$B$45,IF(T5=\"\",0)))))))","v":0},{"$f":"IF(K5=\"Poor\",Scoring!$C$50,IF(K5=\"Fair -\",Scoring!$C$49,IF(K5=\"Fair\",Scoring!$C$48,IF(K5=\"Good -\",Scoring!$C$47,IF(K5=\"Good\",Scoring!$C$46,IF(K5=\"Very Good\",Scoring!$C$45,IF(K5=\"\",0)))))))","v":0},{"$f":"IF(L5=\"Poor\",Scoring!$C$50,IF(L5=\"Fair -\",Scoring!$C$49,IF(L5=\"Fair\",Scoring!$C$48,IF(L5=\"Good -\",Scoring!$C$47,IF(L5=\"Good\",Scoring!$C$46,IF(L5=\"Very Good\",Scoring!$C$45,IF(L5=\"\",0)))))))","v":0},{"$f":"IF(T5=\"Poor\",Scoring!$C$50,IF(T5=\"Fair -\",Scoring!$C$49,IF(T5=\"Fair\",Scoring!$C$48,IF(T5=\"Good -\",Scoring!$C$47,IF(T5=\"Good\",Scoring!$C$46,IF(T5=\"Very Good\",Scoring!$C$45,IF(T5=\"\",0)))))))","v":0},{"$f":"AB5*AE5","v":0},0,0,null,null,null,null,{"$f":"AB5-AC5","v":0},{"$f":"IF(AO5>Scoring!$B$134,Scoring!$A$134,IF(AO5>Scoring!$B$135,Scoring!$A$135,IF(AO5>Scoring!$B$136,Scoring!$A$136,IF(AO5>Scoring!$B$137,Scoring!$A$137,IF(AO5>Scoring!$B$138,Scoring!$A$138,IF(AO5>Scoring!$B$139,Scoring!$A$139,IF(AO5>Scoring!$B$140,Scoring!$A$140,IF(AO5>Scoring!$B$141,Scoring!$A$141,IF(AO5>=Scoring!$B$142,Scoring!$A$142,IF(AO5>Scoring!$B$143,Scoring!$A$143))))))))))","v":"None"},""]
[1206,12,"",null,null,null,null,null,null,null,null,null,"",null,null,null,null,null,null,{"$f":"IF(L6=\"\",\"\",IFERROR(INDEX(Outcomes!$F:$F, MATCH(A6,Outcomes!$H:$H,0)),L6))","v":""},"",null,null,null,{"$f":"IFERROR(INDEX(#REF!,MATCH(A6,#REF!,0)),\"\")","v":""},null,"",{"$f":"IF(K6=\"Poor\",Scoring!$B$50,IF(K6=\"Fair -\",Scoring!$B$49,IF(K6=\"Fair\",Scoring!$B$48,IF(K6=\"Good -\",Scoring!$B$47,IF(K6=\"Good\",Scoring!$B$46,IF(K6=\"Very Good\",Scoring!$B$45,IF(K6=\"\",0)))))))","v":0},{"$f":"IF(L6=\"Poor\",Scoring!$B$50,IF(L6=\"Fair -\",Scoring!$B$49,IF(L6=\"Fair\",Scoring!$B$48,IF(L6=\"Good -\",Scoring!$B$47,IF(L6=\"Good\",Scoring!$B$46,IF(L6=\"Very Good\",Scoring!$B$45,IF(L6=\"\",0)))))))","v":0},{"$f":"IF(T6=\"Poor\",Scoring!$B$50,IF(T6=\"Fair -\",Scoring!$B$49,IF(T6=\"Fair\",Scoring!$B$48,IF(T6=\"Good -\",Scoring!$B$47,IF(T6=\"Good\",Scoring!$B$46,IF(T6=\"Very Good\",Scoring!$B$45,IF(T6=\"\",0)))))))","v":0},{"$f":"IF(K6=\"Poor\",Scoring!$C$50,IF(K6=\"Fair -\",Scoring!$C$49,IF(K6=\"Fair\",Scoring!$C$48,IF(K6=\"Good -\",Scoring!$C$47,IF(K6=\"Good\",Scoring!$C$46,IF(K6=\"Very Good\",Scoring!$C$45,IF(K6=\"\",0)))))))","v":0},{"$f":"IF(L6=\"Poor\",Scoring!$C$50,IF(L6=\"Fair -\",Scoring!$C$49,IF(L6=\"Fair\",Scoring!$C$48,IF(L6=\"Good -\",Scoring!$C$47,IF(L6=\"Good\",Scoring!$C$46,IF(L6=\"Very Good\",Scoring!$C$45,IF(L6=\"\",0)))))))","v":0},{"$f":"IF(T6=\"Poor\",Scoring!$C$50,IF(T6=\"Fair -\",Scoring!$C$49,IF(T6=\"Fair\",Scoring!$C$48,IF(T6=\"Good -\",Scoring!$C$47,IF(T6=\"Good\",Scoring!$C$46,IF(T6=\"Very Good\",Scoring!$C$45,IF(T6=\"\",0)))))))","v":0},0,0,0,null,null,null,null,{"$f":"AB6-AC6","v":0},{"$f":"IF(AO6>Scoring!$B$134,Scoring!$A$134,IF(AO6>Scoring!$B$135,Scoring!$A$135,IF(AO6>Scoring!$B$136,Scoring!$A$136,IF(AO6>Scoring!$B$137,Scoring!$A$137,IF(AO6>Scoring!$B$138,Scoring!$A$138,IF(AO6>Scoring!$B$139,Scoring!$A$139,IF(AO6>Scoring!$B$140,Scoring!$A$140,IF(AO6>Scoring!$B$141,Scoring!$A$141,IF(AO6>=Scoring!$B$142,Scoring!$A$142,IF(AO6>Scoring!$B$143,Scoring!$A$143))))))))))","v":"None"},""]
[1207,12,"",null,null,null,null,null,null,null,null,null,"",null,null,null,null,null,null,{"$f":"IF(L7=\"\",\"\",IFERROR(INDEX(Outcomes!$F:$F, MATCH(A7,Outcomes!$H:$H,0)),L7))","v":""},"",null,null,null,{"$f":"IFERROR(INDEX(#REF!,MATCH(A7,#REF!,0)),\"\")","v":""},null,"",{"$f":"IF(K7=\"Poor\",Scoring!$B$50,IF(K7=\"Fair -\",Scoring!$B$49,IF(K7=\"Fair\",Scoring!$B$48,IF(K7=\"Good -\",Scoring!$B$47,IF(K7=\"Good\",Scoring!$B$46,IF(K7=\"Very Good\",Scoring!$B$45,IF(K7=\"\",0)))))))","v":0},{"$f":"IF(L7=\"Poor\",Scoring!$B$50,IF(L7=\"Fair -\",Scoring!$B$49,IF(L7=\"Fair\",Scoring!$B$48,IF(L7=\"Good -\",Scoring!$B$47,IF(L7=\"Good\",Scoring!$B$46,IF(L7=\"Very Good\",Scoring!$B$45,IF(L7=\"\",0)))))))","v":0},{"$f":"IF(T7=\"Poor\",Scoring!$B$50,IF(T7=\"Fair -\",Scoring!$B$49,IF(T7=\"Fair\",Scoring!$B$48,IF(T7=\"Good -\",Scoring!$B$47,IF(T7=\"Good\",Scoring!$B$46,IF(T7=\"Very Good\",Scoring!$B$45,IF(T7=\"\",0)))))))","v":0},{"$f":"IF(K7=\"Poor\",Scoring!$C$50,IF(K7=\"Fair -\",Scoring!$C$49,IF(K7=\"Fair\",Scoring!$C$48,IF(K7=\"Good -\",Scoring!$C$47,IF(K7=\"Good\",Scoring!$C$46,IF(K7=\"Very Good\",Scoring!$C$45,IF(K7=\"\",0)))))))","v":0},{"$f":"IF(L7=\"Poor\",Scoring!$C$50,IF(L7=\"Fair -\",Scoring!$C$49,IF(L7=\"Fair\",Scoring!$C$48,IF(L7=\"Good -\",Scoring!$C$47,IF(L7=\"Good\",Scoring!$C$46,IF(L7=\"Very Good\",Scoring!$C$45,IF(L7=\"\",0)))))))","v":0},{"$f":"IF(T7=\"Poor\",Scoring!$C$50,IF(T7=\"Fair -\",Scoring!$C$49,IF(T7=\"Fair\",Scoring!$C$48,IF(T7=\"Good -\",Scoring!$C$47,IF(T7=\"Good\",Scoring!$C$46,IF(T7=\"Very Good\",Scoring!$C$45,IF(T7=\"\",0)))))))","v":0},0,0,0,null,null,null,null,{"$f":"AB7-AC7","v":0},{"$f":"IF(AO7>Scoring!$B$134,Scoring!$A$134,IF(AO7>Scoring!$B$135,Scoring!$A$135,IF(AO7>Scoring!$B$136,Scoring!$A$136,IF(AO7>Scoring!$B$137,Scoring!$A$137,IF(AO7>Scoring!$B$138,Scoring!$A$138,IF(AO7>Scoring!$B$139,Scoring!$A$139,IF(AO7>Scoring!$B$140,Scoring!$A$140,IF(AO7>Scoring!$B$141,Scoring!$A$141,IF(AO7>=Scoring!$B$142,Scoring!$A$142,IF(AO7>Scoring!$B$143,Scoring!$A$143))))))))))","v":"None"},""]
[1208,12,"",null,null,null,null,null,null,null,null,null,"",null,null,null,null,null,null,{"$f":"IF(L8=\"\",\"\",IFERROR(INDEX(Outcomes!$F:$F, MATCH(A8,Outcomes!$H:$H,0)),L8))","v":""},"",null,null,null,{"$f":"IFERROR(INDEX(#REF!,MATCH(A8,#REF!,0)),\"\")","v":""},null,"",{"$f":"IF(K8=\"Poor\",Scoring!$B$50,IF(K8=\"Fair -\",Scoring!$B$49,IF(K8=\"Fair\",Scoring!$B$48,IF(K8=\"Good -\",Scoring!$B$47,IF(K8=\"Good\",Scoring!$B$46,IF(K8=\"Very Good\",Scoring!$B$45,IF(K8=\"\",0)))))))","v":0},{"$f":"IF(L8=\"Poor\",Scoring!$B$50,IF(L8=\"Fair -\",Scoring!$B$49,IF(L8=\"Fair\",Scoring!$B$48,IF(L8=\"Good -\",Scoring!$B$47,IF(L8=\"Good\",Scoring!$B$46,IF(L8=\"Very Good\",Scoring!$B$45,IF(L8=\"\",0)))))))","v":0},{"$f":"IF(T8=\"Poor\",Scoring!$B$50,IF(T8=\"Fair -\",Scoring!$B$49,IF(T8=\"Fair\",Scoring!$B$48,IF(T8=\"Good -\",Scoring!$B$47,IF(T8=\"Good\",Scoring!$B$46,IF(T8=\"Very Good\",Scoring!$B$45,IF(T8=\"\",0)))))))","v":0},{"$f":"IF(K8=\"Poor\",Scoring!$C$50,IF(K8=\"Fair -\",Scoring!$C$49,IF(K8=\"Fair\",Scoring!$C$48,IF(K8=\"Good -\",Scoring!$C$47,IF(K8=\"Good\",Scoring!$C$46,IF(K8=\"Very Good\",Scoring!$C$45,IF(K8=\"\",0)))))))","v":0},{"$f":"IF(L8=\"Poor\",Scoring!$C$50,IF(L8=\"Fair -\",Scoring!$C$49,IF(L8=\"Fair\",Scoring!$C$48,IF(L8=\"Good -\",Scoring!$C$47,IF(L8=\"Good\",Scoring!$C$46,IF(L8=\"Very Good\",Scoring!$C$45,IF(L8=\"\",0)))))))","v":0},{"$f":"IF(T8=\"Poor\",Scoring!$C$50,IF(T8=\"Fair -\",Scoring!$C$49,IF(T8=\"Fair\",Scoring!$C$48,IF(T8=\"Good -\",Scoring!$C$47,IF(T8=\"Good\",Scoring!$C$46,IF(T8=\"Very Good\",Scoring!$C$45,IF(T8=\"\",0)))))))","v":0},0,0,0,null,null,null,null,{"$f":"AB8-AC8","v":0},{"$f":"IF(AO8>Scoring!$B$134,Scoring!$A$134,IF(AO8>Scoring!$B$135,Scoring!$A$135,IF(AO8>Scoring!$B$136,Scoring!$A$136,IF(AO8>Scoring!$B$137,Scoring!$A$137,IF(AO8>Scoring!$B$138,Scoring!$A$138,IF(AO8>Scoring!$B$139,Scoring!$A$139,IF(AO8>Scoring!$B$140,Scoring!$A$140,IF(AO8>Scoring!$B$141,Scoring!$A$141,IF(AO8>=Scoring!$B$142,Scoring!$A$142,IF(AO8>Scoring!$B$143,Scoring!$A$143))))))))))","v":"None"},""]
[1209,12,"",null,null,null,null,null,null,null,null,null,"",null,null,null,null,null,null,{"$f":"IF(L9=\"\",\"\",IFERROR(INDEX(Outcomes!$F:$F, MATCH(A9,Outcomes!$H:$H,0)),L9))","v":""},"",null,null,null,{"$f":"IFERROR(INDEX(#REF!,MATCH(A9,#REF!,0)),\"\")","v":""},null,"",{"$f":"IF(K9=\"Poor\",Scoring!$B$50,IF(K9=\"Fair -\",Scoring!$B$49,IF(K9=\"Fair\",Scoring!$B$48,IF(K9=\"Good -\",Scoring!$B$47,IF(K9=\"Good\",Scoring!$B$46,IF(K9=\"Very Good\",Scoring!$B$45,IF(K9=\"\",0)))))))","v":0},{"$f":"IF(L9=\"Poor\",Scoring!$B$50,IF(L9=\"Fair -\",Scoring!$B$49,IF(L9=\"Fair\",Scoring!$B$48,IF(L9=\"Good -\",Scoring!$B$47,IF(L9=\"Good\",Scoring!$B$46,IF(L9=\"Very Good\",Scoring!$B$45,IF(L9=\"\",0)))))))","v":0},{"$f":"IF(T9=\"Poor\",Scoring!$B$50,IF(T9=\"Fair -\",Scoring!$B$49,IF(T9=\"Fair\",Scoring!$B$48,IF(T9=\"Good -\",Scoring!$B$47,IF(T9=\"Good\",Scoring!$B$46,IF(T9=\"Very Good\",Scoring!$B$45,IF(T9=\"\",0)))))))","v":0},{"$f":"IF(K9=\"Poor\",Scoring!$C$50,IF(K9=\"Fair -\",Scoring!$C$49,IF(K9=\"Fair\",Scoring!$C$48,IF(K9=\"Good -\",Scoring!$C$47,IF(K9=\"Good\",Scoring!$C$46,IF(K9=\"Very Good\",Scoring!$C$45,IF(K9=\"\",0)))))))","v":0},{"$f":"IF(L9=\"Poor\",Scoring!$C$50,IF(L9=\"Fair -\",Scoring!$C$49,IF(L9=\"Fair\",Scoring!$C$48,IF(L9=\"Good -\",Scoring!$C$47,IF(L9=\"Good\",Scoring!$C$46,IF(L9=\"Very Good\",Scoring!$C$45,IF(L9=\"\",0)))))))","v":0},{"$f":"IF(T9=\"Poor\",Scoring!$C$50,IF(T9=\"Fair -\",Scoring!$C$49,IF(T9=\"Fair\",Scoring!$C$48,IF(T9=\"Good -\",Scoring!$C$47,IF(T9=\"Good\",Scoring!$C$46,IF(T9=\"Very Good\",Scoring!$C$45,IF(T9=\"\",0)))))))","v":0},0,0,0,null,null,null,null,{"$f":"AB9-AC9","v":0},{"$f":"IF(AO9>Scoring!$B$134,Scoring!$A$134,IF(AO9>Scoring!$B$135,Scoring!$A$135,IF(AO9>Scoring!$B$136,Scoring!$A$136,IF(AO9>Scoring!$B$137,Scoring!$A$137,IF(AO9>Scoring!$B$138,Scoring!$A$138,IF(AO9>Scoring!$B$139,Scoring!$A$139,IF(AO9>Scoring!$B$140,Scoring!$A$140,IF(AO9>Scoring!$B$141,Scoring!$A$141,IF(AO9>=Scoring!$B$142,Scoring!$A$142,IF(AO9>Scoring!$B$143,Scoring!$A$143))))))))))","v":"None"},""]
[1210,12,"",null,null,null,null,null,null,null,null,null,"",null,null,null,null,null,null,{"$f":"IF(L10=\"\",\"\",IFERROR(INDEX(Outcomes!$F:$F, MATCH(A10,Outcomes!$H:$H,0)),L10))","v":""},"",null,null,null,{"$f":"IFERROR(INDEX(#REF!,MATCH(A10,#REF!,0)),\"\")","v":""},null,"",{"$f":"IF(K10=\"Poor\",Scoring!$B$50,IF(K10=\"Fair -\",Scoring!$B$49,IF(K10=\"Fair\",Scoring!$B$48,IF(K10=\"Good -\",Scoring!$B$47,IF(K10=\"Good\",Scoring!$B$46,IF(K10=\"Very Good\",Scoring!$B$45,IF(K10=\"\",0)))))))","v":0},{"$f":"IF(L10=\"Poor\",Scoring!$B$50,IF(L10=\"Fair -\",Scoring!$B$49,IF(L10=\"Fair\",Scoring!$B$48,IF(L10=\"Good -\",Scoring!$B$47,IF(L10=\"Good\",Scoring!$B$46,IF(L10=\"Very Good\",Scoring!$B$45,IF(L10=\"\",0)))))))","v":0},{"$f":"IF(T10=\"Poor\",Scoring!$B$50,IF(T10=\"Fair -\",Scoring!$B$49,IF(T10=\"Fair\",Scoring!$B$48,IF(T10=\"Good -\",Scoring!$B$47,IF(T10=\"Good\",Scoring!$B$46,IF(T10=\"Very Good\",Scoring!$B$45,IF(T10=\"\",0)))))))","v":0},{"$f":"IF(K10=\"Poor\",Scoring!$C$50,IF(K10=\"Fair -\",Scoring!$C$49,IF(K10=\"Fair\",Scoring!$C$48,IF(K10=\"Good -\",Scoring!$C$47,IF(K10=\"Good\",Scoring!$C$46,IF(K10=\"Very Good\",Scoring!$C$45,IF(K10=\"\",0)))))))","v":0},{"$f":"IF(L10=\"Poor\",Scoring!$C$50,IF(L10=\"Fair -\",Scoring!$C$49,IF(L10=\"Fair\",Scoring!$C$48,IF(L10=\"Good -\",Scoring!$C$47,IF(L10=\"Good\",Scoring!$C$46,IF(L10=\"Very Good\",Scoring!$C$45,IF(L10=\"\",0)))))))","v":0},{"$f":"IF(T10=\"Poor\",Scoring!$C$50,IF(T10=\"Fair -\",Scoring!$C$49,IF(T10=\"Fair\",Scoring!$C$48,IF(T10=\"Good -\",Scoring!$C$47,IF(T10=\"Good\",Scoring!$C$46,IF(T10=\"Very Good\",Scoring!$C$45,IF(T10=\"\",0)))))))","v":0},0,0,0,null,null,null,null,0,{"$f":"IF(AO10>Scoring!$B$134,Scoring!$A$134,IF(AO10>Scoring!$B$135,Scoring!$A$135,IF(AO10>Scoring!$B$136,Scoring!$A$136,IF(AO10>Scoring!$B$137,Scoring!$A$137,IF(AO10>Scoring!$B$138,Scoring!$A$138,IF(AO10>Scoring!$B$139,Scoring!$A$139,IF(AO10>Scoring!$B$140,Scoring!$A$140,IF(AO10>Scoring!$B$141,Scoring!$A$141,IF(AO10>=Scoring!$B$142,Scoring!$A$142,IF(AO10>Scoring!$B$143,Scoring!$A$143))))))))))","v":"None"},""]
[1211,12,"",null,null,null,null,null,null,null,null,null,"",null,null,null,null,null,null,{"$f":"IF(L11=\"\",\"\",IFERROR(INDEX(Outcomes!$F:$F, MATCH(A11,Outcomes!$H:$H,0)),L11))","v":""},"",null,null,null,{"$f":"IFERROR(INDEX(#REF!,MATCH(A11,#REF!,0)),\"\")","v":""},null,"",{"$f":"IF(K11=\"Poor\",Scoring!$B$50,IF(K11=\"Fair -\",Scoring!$B$49,IF(K11=\"Fair\",Scoring!$B$48,IF(K11=\"Good -\",Scoring!$B$47,IF(K11=\"Good\",Scoring!$B$46,IF(K11=\"Very Good\",Scoring!$B$45,IF(K11=\"\",0)))))))","v":0},{"$f":"IF(L11=\"Poor\",Scoring!$B$50,IF(L11=\"Fair -\",Scoring!$B$49,IF(L11=\"Fair\",Scoring!$B$48,IF(L11=\"Good -\",Scoring!$B$47,IF(L11=\"Good\",Scoring!$B$46,IF(L11=\"Very Good\",Scoring!$B$45,IF(L11=\"\",0)))))))","v":0},{"$f":"IF(T11=\"Poor\",Scoring!$B$50,IF(T11=\"Fair -\",Scoring!$B$49,IF(T11=\"Fair\",Scoring!$B$48,IF(T11=\"Good -\",Scoring!$B$47,IF(T11=\"Good\",Scoring!$B$46,IF(T11=\"Very Good\",Scoring!$B$45,IF(T11=\"\",0)))))))","v":0},{"$f":"IF(K11=\"Poor\",Scoring!$C$50,IF(K11=\"Fair -\",Scoring!$C$49,IF(K11=\"Fair\",Scoring!$C$48,IF(K11=\"Good -\",Scoring!$C$47,IF(K11=\"Good\",Scoring!$C$46,IF(K11=\"Very Good\",Scoring!$C$45,IF(K11=\"\",0)))))))","v":0},{"$f":"IF(L11=\"Poor\",Scoring!$C$50,IF(L11=\"Fair -\",Scoring!$C$49,IF(L11=\"Fair\",Scoring!$C$48,IF(L11=\"Good -\",Scoring!$C$47,IF(L11=\"Good\",Scoring!$C$46,IF(L11=\"Very Good\",Scoring!$C$45,IF(L11=\"\",0)))))))","v":0},{"$f":"IF(T11=\"Poor\",Scoring!$C$50,IF(T11=\"Fair -\",Scoring!$C$49,IF(T11=\"Fair\",Scoring!$C$48,IF(T11=\"Good -\",Scoring!$C$47,IF(T11=\"Good\",Scoring!$C$46,IF(T11=\"Very Good\",Scoring!$C$45,IF(T11=\"\",0)))))))","v":0},0,0,0,null,null,null,null,0,{"$f":"IF(AO11>Scoring!$B$134,Scoring!$A$134,IF(AO11>Scoring!$B$135,Scoring!$A$135,IF(AO11>Scoring!$B$136,Scoring!$A$136,IF(AO11>Scoring!$B$137,Scoring!$A$137,IF(AO11>Scoring!$B$138,Scoring!$A$138,IF(AO11>Scoring!$B$139,Scoring!$A$139,IF(AO11>Scoring!$B$140,Scoring!$A$140,IF(AO11>Scoring!$B$141,Scoring!$A$141,IF(AO11>=Scoring!$B$142,Scoring!$A$142,IF(AO11>Scoring!$B$143,Scoring!$A$143))))))))))","v":"None"},""]
[1212,12,"",null,null,null,null,null,null,null,null,null,"",null,null,null,null,null,null,{"$f":"IF(L12=\"\",\"\",IFERROR(INDEX(Outcomes!$F:$F, MATCH(A12,Outcomes!$H:$H,0)),L12))","v":""},"",null,null,null,{"$f":"IFERROR(INDEX(#REF!,MATCH(A12,#REF!,0)),\"\")","v":""},null,"",{"$f":"IF(K12=\"Poor\",Scoring!$B$50,IF(K12=\"Fair -\",Scoring!$B$49,IF(K12=\"Fair\",Scoring!$B$48,IF(K12=\"Good -\",Scoring!$B$47,IF(K12=\"Good\",Scoring!$B$46,IF(K12=\"Very Good\",Scoring!$B$45,IF(K12=\"\",0)))))))","v":0},{"$f":"IF(L12=\"Poor\",Scoring!$B$50,IF(L12=\"Fair -\",Scoring!$B$49,IF(L12=\"Fair\",Scoring!$B$48,IF(L12=\"Good -\",Scoring!$B$47,IF(L12=\"Good\",Scoring!$B$46,IF(L12=\"Very Good\",Scoring!$B$45,IF(L12=\"\",0)))))))","v":0},{"$f":"IF(T12=\"Poor\",Scoring!$B$50,IF(T12=\"Fair -\",Scoring!$B$49,IF(T12=\"Fair\",Scoring!$B$48,IF(T12=\"Good -\",Scoring!$B$47,IF(T12=\"Good\",Scoring!$B$46,IF(T12=\"Very Good\",Scoring!$B$45,IF(T12=\"\",0)))))))","v":0},{"$f":"IF(K12=\"Poor\",Scoring!$C$50,IF(K12=\"Fair -\",Scoring!$C$49,IF(K12=\"Fair\",Scoring!$C$48,IF(K12=\"Good -\",Scoring!$C$47,IF(K12=\"Good\",Scoring!$C$46,IF(K12=\"Very Good\",Scoring!$C$45,IF(K12=\"\",0)))))))","v":0},{"$f":"IF(L12=\"Poor\",Scoring!$C$50,IF(L12=\"Fair -\",Scoring!$C$49,IF(L12=\"Fair\",Scoring!$C$48,IF(L12=\"Good -\",Scoring!$C$47,IF(L12=\"Good\",Scoring!$C$46,IF(L12=\"Very Good\",Scoring!$C$45,IF(L12=\"\",0)))))))","v":0},{"$f":"IF(T12=\"Poor\",Scoring!$C$50,IF(T12=\"Fair -\",Scoring!$C$49,IF(T12=\"Fair\",Scoring!$C$48,IF(T12=\"Good -\",Scoring!$C$47,IF(T12=\"Good\",Scoring!$C$46,IF(T12=\"Very Good\",Scoring!$C$45,IF(T12=\"\",0)))))))","v":0},0,0,0,null,null,null,null,0,{"$f":"IF(AO12>Scoring!$B$134,Scoring!$A$134,IF(AO12>Scoring!$B$135,Scoring!$A$135,IF(AO12>Scoring!$B$136,Scoring!$A$136,IF(AO12>Scoring!$B$137,Scoring!$A$137,IF(AO12>Scoring!$B$138,Scoring!$A$138,IF(AO12>Scoring!$B$139,Scoring!$A$139,IF(AO12>Scoring!$B$140,Scoring!$A$140,IF(AO12>Scoring!$B$141,Scoring!$A$141,IF(AO12>=Scoring!$B$142,Scoring!$A$142,IF(AO12>Scoring!$B$143,Scoring!$A$143))))))))))","v":"None"},""]
[1213,12,"",null,null,null,null,null,null,null,null,null,"",null,null,null,null,null,null,{"$f":"IF(L13=\"\",\"\",IFERROR(INDEX(Outcomes!$F:$F, MATCH(A13,Outcomes!$H:$H,0)),L13))","v":""},{"$f":"IF(K13=0,\"\",IF(T13=0,\"\",INDEX(StressRankMatrix,MATCH(K13,Rating,0),MATCH(T13,Rating,0))))","v":""},null,null,null,{"$f":"IFERROR(INDEX(#REF!,MATCH(A13,#REF!,0)),\"\")","v":""},null,"",{"$f":"IF(K13=\"Poor\",Scoring!$B$50,IF(K13=\"Fair -\",Scoring!$B$49,IF(K13=\"Fair\",Scoring!$B$48,IF(K13=\"Good -\",Scoring!$B$47,IF(K13=\"Good\",Scoring!$B$46,IF(K13=\"Very Good\",Scoring!$B$45,IF(K13=\"\",0)))))))","v":0},{"$f":"IF(L13=\"Poor\",Scoring!$B$50,IF(L13=\"Fair -\",Scoring!$B$49,IF(L13=\"Fair\",Scoring!$B$48,IF(L13=\"Good -\",Scoring!$B$47,IF(L13=\"Good\",Scoring!$B$46,IF(L13=\"Very Good\",Scoring!$B$45,IF(L13=\"\",0)))))))","v":0},{"$f":"IF(T13=\"Poor\",Scoring!$B$50,IF(T13=\"Fair -\",Scoring!$B$49,IF(T13=\"Fair\",Scoring!$B$48,IF(T13=\"Good -\",Scoring!$B$47,IF(T13=\"Good\",Scoring!$B$46,IF(T13=\"Very Good\",Scoring!$B$45,IF(T13=\"\",0)))))))","v":0},{"$f":"IF(K13=\"Poor\",Scoring!$C$50,IF(K13=\"Fair -\",Scoring!$C$49,IF(K13=\"Fair\",Scoring!$C$48,IF(K13=\"Good -\",Scoring!$C$47,IF(K13=\"Good\",Scoring!$C$46,IF(K13=\"Very Good\",Scoring!$C$45,IF(K13=\"\",0)))))))","v":0},{"$f":"IF(L13=\"Poor\",Scoring!$C$50,IF(L13=\"Fair -\",Scoring!$C$49,IF(L13=\"Fair\",Scoring!$C$48,IF(L13=\"Good -\",Scoring!$C$47,IF(L13=\"Good\",Scoring!$C$46,IF(L13=\"Very Good\",Scoring!$C$45,IF(L13=\"\",0)))))))","v":0},{"$f":"IF(T13=\"Poor\",Scoring!$C$50,IF(T13=\"Fair -\",Scoring!$C$49,IF(T13=\"Fair\",Scoring!$C$48,IF(T13=\"Good -\",Scoring!$C$47,IF(T13=\"Good\",Scoring!$C$46,IF(T13=\"Very Good\",Scoring!$C$45,IF(T13=\"\",0)))))))","v":0},0,0,0,null,null,null,null,0,{"$f":"IF(AO13>Scoring!$B$134,Scoring!$A$134,IF(AO13>Scoring!$B$135,Scoring!$A$135,IF(AO13>Scoring!$B$136,Scoring!$A$136,IF(AO13>Scoring!$B$137,Scoring!$A$137,IF(AO13>Scoring!$B$138,Scoring!$A$138,IF(AO13>Scoring!$B$139,Scoring!$A$139,IF(AO13>Scoring!$B$140,Scoring!$A$140,IF(AO13>Scoring!$B$141,Scoring!$A$141,IF(AO13>=Scoring!$B$142,Scoring!$A$142,IF(AO13>Scoring!$B$143,Scoring!$A$143))))))))))","v":"None"},""]
[null,null,null,"Overall Target Health Score                           (0 = Poor - 100 = Very Good)",null,null,null,null,null,null,{"$f":"AK14","v":""},{"$f":"AL14","v":""},null,null,null,null,null,null,null,{"$f":"AM14","v":""},null,null,null,null,null,null,null,null,null,null,{"$f":"SUM(AE4:AE13)","v":0},0,0,0,0,0,{"$f":"IF(AH14=0,\"\",AH14/AE14)","v":""},{"$f":"IF(AI14=0,\"\",AI14/AF14)","v":""},{"$f":"IF(AJ14=0,\"\",AJ14/AG14)","v":""}]
[]
[null,null,null,null,"Threats (Sources of Stress)         List Sources of stress below (max of 12 per target).  Enter Contribution of each source where applicable.","  Key Attribute >",{"$f":"IF(E4=0,\"\",E4)","v":""},{"$f":"IF(E5=0,\"\",E5)","v":""},{"$f":"IF(E6=0,\"\",E6)","v":""},{"$f":"IF(E7=0,\"\",E7)","v":""},{"$f":"IF(E8=0,\"\",E8)","v":""},{"$f":"IF(E9=0,\"\",E9)","v":""},{"$f":"IF(E10=0,\"\",E10)","v":""},{"$f":"IF(E11=0,\"\",E11)","v":""},{"$f":"IF(E12=0,\"\",E12)","v":""},{"$f":"IF(E13=0,\"\",E13)","v":""},"Threat to Target Rank"]
[null,null,null,null,null,"Stress Rank>",{"$f":"IF(M4=\"\",\"\", IF(N4=0,M4,N4))","v":""},{"$f":"IF(M5=\"\",\"\", IF(N5=0,M5,N5))","v":""},{"$f":"IF(M6=\"\",\"\", IF(N6=0,M6,N6))","v":""},{"$f":"IF(M7=\"\",\"\", IF(N7=0,M7,N7))","v":""},{"$f":"IF(M8=\"\",\"\", IF(N8=0,M8,N8))","v":""},{"$f":"IF(M9=\"\",\"\", IF(N9=0,M9,N9))","v":""},{"$f":"IF(M10=\"\",\"\", IF(N10=0,M10,N10))","v":""},{"$f":"IF(M11=\"\",\"\", IF(N11=0,M11,N11))","v":""},{"$f":"IF(M12=\"\",\"\", IF(N12=0,M12,N12))","v":""},{"$f":"IF(M13=\"\",\"\", IF(N13=0,M13,N13))","v":""}]
[null,null,null,null,null,"Contribution",null,null,null,null,null,null,null,null,null,null,{"$f":"IF(AF19>=Scoring!$B$24,\"Very High\",IF(AF19>=Scoring!$B$25,\"High\",IF(AF19>=Scoring!$B$26,\"Medium\",IF(AF19>=Scoring!$B$27,\"Low\",\"-\"))))","v":"-"}]
[null,null,null,null,null,"Threat Rank ",{"$f":"IF(G18=0,\"\",INDEX(ThreatRankMatrix,MATCH($G$17,Rank,0),MATCH(G18,Rank,0)))","v":""},{"$f":"IF(H18=0,\"\",INDEX(ThreatRankMatrix,MATCH($H$17,Rank,0),MATCH(H18,Rank,0)))","v":""},{"$f":"IF(I18=0,\"\",INDEX(ThreatRankMatrix,MATCH($I$17,Rank,0),MATCH(I18,Rank,0)))","v":""},{"$f":"IF(J18=0,\"\",INDEX(ThreatRankMatrix,MATCH($J$17,Rank,0),MATCH(J18,Rank,0)))","v":""},{"$f":"IF(K18=0,\"\",INDEX(ThreatRankMatrix,MATCH($K$17,Rank,0),MATCH(K18,Rank,0)))","v":""},{"$f":"IF(L18=0,\"\",INDEX(ThreatRankMatrix,MATCH($L$17,Rank,0),MATCH(L18,Rank,0)))","v":""},{"$f":"IF(M18=0,\"\",INDEX(ThreatRankMatrix,MATCH($M$17,Rank,0),MATCH(M18,Rank,0)))","v":""},{"$f":"IF(N18=0,\"\",INDEX(ThreatRankMatrix,MATCH($N$17,Rank,0),MATCH(N18,Rank,0)))","v":""},{"$f":"IF(O18=0,\"\",INDEX(ThreatRankMatrix,MATCH($O$17,Rank,0),MATCH(O18,Rank,0)))","v":""},{"$f":"IF(P18=0,\"\",INDEX(ThreatRankMatrix,MATCH($P$17,Rank,0),MATCH(P18,Rank,0)))","v":""},null,null,null,null,null,null,null,null,null,null,null,null,null,null,null,{"$f":"SUM(AG19:AP19)","v":0},{"$f":"IF(G$17=\"\",0,(IF(G18=0,0,IF(G19=0,0,INDEX(ThreatScore,MATCH(G19,Rank,0))))))","v":0},0,0,0,0,0,0,0,0,0]
[null,null,null,null,null,"Contribution",null,null,null,null,null,null,null,null,null,null,{"$f":"IF(AF21>=Scoring!$B$24,\"Very High\",IF(AF21>=Scoring!$B$25,\"High\",IF(AF21>=Scoring!$B$26,\"Medium\",IF(AF21>=Scoring!$B$27,\"Low\",\"-\"))))","v":"-"}]
[null,null,null,null,null,"Threat Rank ",{"$f":"IF(G20=0,\"\",INDEX(ThreatRankMatrix,MATCH($G$17,Rank,0),MATCH(G20,Rank,0)))","v":""},{"$f":"IF(H20=0,\"\",INDEX(ThreatRankMatrix,MATCH($H$17,Rank,0),MATCH(H20,Rank,0)))","v":""},{"$f":"IF(I20=0,\"\",INDEX(ThreatRankMatrix,MATCH($I$17,Rank,0),MATCH(I20,Rank,0)))","v":""},{"$f":"IF(J20=0,\"\",INDEX(ThreatRankMatrix,MATCH($J$17,Rank,0),MATCH(J20,Rank,0)))","v":""},{"$f":"IF(K20=0,\"\",INDEX(ThreatRankMatrix,MATCH($K$17,Rank,0),MATCH(K20,Rank,0)))","v":""},{"$f":"IF(L20=0,\"\",INDEX(ThreatRankMatrix,MATCH($L$17,Rank,0),MATCH(L20,Rank,0)))","v":""},{"$f":"IF(M20=0,\"\",INDEX(ThreatRankMatrix,MATCH($M$17,Rank,0),MATCH(M20,Rank,0)))","v":""},{"$f":"IF(N20=0,\"\",INDEX(ThreatRankMatrix,MATCH($N$17,Rank,0),MATCH(N20,Rank,0)))","v":""},{"$f":"IF(O20=0,\"\",INDEX(ThreatRankMatrix,MATCH($O$17,Rank,0),MATCH(O20,Rank,0)))","v":""},{"$f":"IF(P20=0,\"\",INDEX(ThreatRankMatrix,MATCH($P$17,Rank,0),MATCH(P20,Rank,0)))","v":""},null,null,null,null,null,null,null,null,null,null,null,null,null,null,null,{"$f":"SUM(AG21:AP21)","v":0},{"$f":"IF(G$17=\"\",0,(IF(G20=0,0,IF(G21=0,0,INDEX(ThreatScore,MATCH(G21,Rank,0))))))","v":0},0,0,0,0,0,0,0,0,0]
[null,null,null,null,null,"Contribution",null,null,null,null,null,null,null,null,null,null,{"$f":"IF(AF23>=Scoring!$B$24,\"Very High\",IF(AF23>=Scoring!$B$25,\"High\",IF(AF23>=Scoring!$B$26,\"Medium\",IF(AF23>=Scoring!$B$27,\"Low\",\"-\"))))","v":"-"}]
[null,null,null,null,null,"Threat Rank ",{"$f":"IF(G22=0,\"\",INDEX(ThreatRankMatrix,MATCH($G$17,Rank,0),MATCH(G22,Rank,0)))","v":""},{"$f":"IF(H22=0,\"\",INDEX(ThreatRankMatrix,MATCH($H$17,Rank,0),MATCH(H22,Rank,0)))","v":""},{"$f":"IF(I22=0,\"\",INDEX(ThreatRankMatrix,MATCH($I$17,Rank,0),MATCH(I22,Rank,0)))","v":""},{"$f":"IF(J22=0,\"\",INDEX(ThreatRankMatrix,MATCH($J$17,Rank,0),MATCH(J22,Rank,0)))","v":""},{"$f":"IF(K22=0,\"\",INDEX(ThreatRankMatrix,MATCH($K$17,Rank,0),MATCH(K22,Rank,0)))","v":""},{"$f":"IF(L22=0,\"\",INDEX(ThreatRankMatrix,MATCH($L$17,Rank,0),MATCH(L22,Rank,0)))","v":""},{"$f":"IF(M22=0,\"\",INDEX(ThreatRankMatrix,MATCH($M$17,Rank,0),MATCH(M22,Rank,0)))","v":""},{"$f":"IF(N22=0,\"\",INDEX(ThreatRankMatrix,MATCH($N$17,Rank,0),MATCH(N22,Rank,0)))","v":""},{"$f":"IF(O22=0,\"\",INDEX(ThreatRankMatrix,MATCH($O$17,Rank,0),MATCH(O22,Rank,0)))","v":""},{"$f":"IF(P22=0,\"\",INDEX(ThreatRankMatrix,MATCH($P$17,Rank,0),MATCH(P22,Rank,0)))","v":""},null,null,null,null,null,null,null,null,null,null,null,null,null,null,null,{"$f":"SUM(AG23:AP23)","v":0},{"$f":"IF(G$17=\"\",0,(IF(G22=0,0,IF(G23=0,0,INDEX(ThreatScore,MATCH(G23,Rank,0))))))","v":0},0,0,0,0,0,0,0,0,0]
[null,null,null,null,null,"Contribution",null,null,null,null,null,null,null,null,null,null,{"$f":"IF(AF25>=Scoring!$B$24,\"Very High\",IF(AF25>=Scoring!$B$25,\"High\",IF(AF25>=Scoring!$B$26,\"Medium\",IF(AF25>=Scoring!$B$27,\"Low\",\"-\"))))","v":"-"}]
[null,null,null,null,null,"Threat Rank ",{"$f":"IF(G24=0,\"\",INDEX(ThreatRankMatrix,MATCH($G$17,Rank,0),MATCH(G24,Rank,0)))","v":""},{"$f":"IF(H24=0,\"\",INDEX(ThreatRankMatrix,MATCH($H$17,Rank,0),MATCH(H24,Rank,0)))","v":""},{"$f":"IF(I24=0,\"\",INDEX(ThreatRankMatrix,MATCH($I$17,Rank,0),MATCH(I24,Rank,0)))","v":""},{"$f":"IF(J24=0,\"\",INDEX(ThreatRankMatrix,MATCH($J$17,Rank,0),MATCH(J24,Rank,0)))","v":""},{"$f":"IF(K24=0,\"\",INDEX(ThreatRankMatrix,MATCH($K$17,Rank,0),MATCH(K24,Rank,0)))","v":""},{"$f":"IF(L24=0,\"\",INDEX(ThreatRankMatrix,MATCH($L$17,Rank,0),MATCH(L24,Rank,0)))","v":""},{"$f":"IF(M24=0,\"\",INDEX(ThreatRankMatrix,MATCH($M$17,Rank,0),MATCH(M24,Rank,0)))","v":""},{"$f":"IF(N24=0,\"\",INDEX(ThreatRankMatrix,MATCH($N$17,Rank,0),MATCH(N24,Rank,0)))","v":""},{"$f":"IF(O24=0,\"\",INDEX(ThreatRankMatrix,MATCH($O$17,Rank,0),MATCH(O24,Rank,0)))","v":""},{"$f":"IF(P24=0,\"\",INDEX(ThreatRankMatrix,MATCH($P$17,Rank,0),MATCH(P24,Rank,0)))","v":""},null,null,null,null,null,null,null,null,null,null,null,null,null,null,null,{"$f":"SUM(AG25:AP25)","v":0},{"$f":"IF(G$17=\"\",0,(IF(G24=0,0,IF(G25=0,0,INDEX(ThreatScore,MATCH(G25,Rank,0))))))","v":0},0,0,0,0,0,0,0,0,0]
[null,null,null,null,null,"Contribution",null,null,null,null,null,null,null,null,null,null,{"$f":"IF(AF27>=Scoring!$B$24,\"Very High\",IF(AF27>=Scoring!$B$25,\"High\",IF(AF27>=Scoring!$B$26,\"Medium\",IF(AF27>=Scoring!$B$27,\"Low\",\"-\"))))","v":"-"}]
[null,null,null,null,null,"Threat Rank ",{"$f":"IF(G26=0,\"\",INDEX(ThreatRankMatrix,MATCH($G$17,Rank,0),MATCH(G26,Rank,0)))","v":""},{"$f":"IF(H26=0,\"\",INDEX(ThreatRankMatrix,MATCH($H$17,Rank,0),MATCH(H26,Rank,0)))","v":""},{"$f":"IF(I26=0,\"\",INDEX(ThreatRankMatrix,MATCH($I$17,Rank,0),MATCH(I26,Rank,0)))","v":""},{"$f":"IF(J26=0,\"\",INDEX(ThreatRankMatrix,MATCH($J$17,Rank,0),MATCH(J26,Rank,0)))","v":""},{"$f":"IF(K26=0,\"\",INDEX(ThreatRankMatrix,MATCH($K$17,Rank,0),MATCH(K26,Rank,0)))","v":""},{"$f":"IF(L26=0,\"\",INDEX(ThreatRankMatrix,MATCH($L$17,Rank,0),MATCH(L26,Rank,0)))","v":""},{"$f":"IF(M26=0,\"\",INDEX(ThreatRankMatrix,MATCH($M$17,Rank,0),MATCH(M26,Rank,0)))","v":""},{"$f":"IF(N26=0,\"\",INDEX(ThreatRankMatrix,MATCH($N$17,Rank,0),MATCH(N26,Rank,0)))","v":""},{"$f":"IF(O26=0,\"\",INDEX(ThreatRankMatrix,MATCH($O$17,Rank,0),MATCH(O26,Rank,0)))","v":""},{"$f":"IF(P26=0,\"\",INDEX(ThreatRankMatrix,MATCH($P$17,Rank,0),MATCH(P26,Rank,0)))","v":""},null,null,null,null,null,null,null,null,null,null,null,null,null,null,null,{"$f":"SUM(AG27:AP27)","v":0},{"$f":"IF(G$17=\"\",0,(IF(G26=0,0,IF(G27=0,0,INDEX(ThreatScore,MATCH(G27,Rank,0))))))","v":0},0,0,0,0,0,0,0,0,0]
[null,null,null,null,null,"Contribution",null,null,null,null,null,null,null,null,null,null,{"$f":"IF(AF29>=Scoring!$B$24,\"Very High\",IF(AF29>=Scoring!$B$25,\"High\",IF(AF29>=Scoring!$B$26,\"Medium\",IF(AF29>=Scoring!$B$27,\"Low\",\"-\"))))","v":"-"}]
[null,null,null,null,null,"Threat Rank ",{"$f":"IF(G28=0,\"\",INDEX(ThreatRankMatrix,MATCH($G$17,Rank,0),MATCH(G28,Rank,0)))","v":""},{"$f":"IF(H28=0,\"\",INDEX(ThreatRankMatrix,MATCH($H$17,Rank,0),MATCH(H28,Rank,0)))","v":""},{"$f":"IF(I28=0,\"\",INDEX(ThreatRankMatrix,MATCH($I$17,Rank,0),MATCH(I28,Rank,0)))","v":""},{"$f":"IF(J28=0,\"\",INDEX(ThreatRankMatrix,MATCH($J$17,Rank,0),MATCH(J28,Rank,0)))","v":""},{"$f":"IF(K28=0,\"\",INDEX(ThreatRankMatrix,MATCH($K$17,Rank,0),MATCH(K28,Rank,0)))","v":""},{"$f":"IF(L28=0,\"\",INDEX(ThreatRankMatrix,MATCH($L$17,Rank,0),MATCH(L28,Rank,0)))","v":""},{"$f":"IF(M28=0,\"\",INDEX(ThreatRankMatrix,MATCH($M$17,Rank,0),MATCH(M28,Rank,0)))","v":""},{"$f":"IF(N28=0,\"\",INDEX(ThreatRankMatrix,MATCH($N$17,Rank,0),MATCH(N28,Rank,0)))","v":""},{"$f":"IF(O28=0,\"\",INDEX(ThreatRankMatrix,MATCH($O$17,Rank,0),MATCH(O28,Rank,0)))","v":""},{"$f":"IF(P28=0,\"\",INDEX(ThreatRankMatrix,MATCH($P$17,Rank,0),MATCH(P28,Rank,0)))","v":""},null,null,null,null,null,null,null,null,null,null,null,null,null,null,null,{"$f":"SUM(AG29:AP29)","v":0},{"$f":"IF(G$17=\"\",0,(IF(G28=0,0,IF(G29=0,0,INDEX(ThreatScore,MATCH(G29,Rank,0))))))","v":0},0,0,0,0,0,0,0,0,0]
[null,null,null,null,null,"Contribution",null,null,null,null,null,null,null,null,null,null,{"$f":"IF(AF31>=Scoring!$B$24,\"Very High\",IF(AF31>=Scoring!$B$25,\"High\",IF(AF31>=Scoring!$B$26,\"Medium\",IF(AF31>=Scoring!$B$27,\"Low\",\"-\"))))","v":"-"}]
[null,null,null,null,null,"Threat Rank ",{"$f":"IF(G30=0,\"\",INDEX(ThreatRankMatrix,MATCH($G$17,Rank,0),MATCH(G30,Rank,0)))","v":""},{"$f":"IF(H30=0,\"\",INDEX(ThreatRankMatrix,MATCH($H$17,Rank,0),MATCH(H30,Rank,0)))","v":""},{"$f":"IF(I30=0,\"\",INDEX(ThreatRankMatrix,MATCH($I$17,Rank,0),MATCH(I30,Rank,0)))","v":""},{"$f":"IF(J30=0,\"\",INDEX(ThreatRankMatrix,MATCH($J$17,Rank,0),MATCH(J30,Rank,0)))","v":""},{"$f":"IF(K30=0,\"\",INDEX(ThreatRankMatrix,MATCH($K$17,Rank,0),MATCH(K30,Rank,0)))","v":""},{"$f":"IF(L30=0,\"\",INDEX(ThreatRankMatrix,MATCH($L$17,Rank,0),MATCH(L30,Rank,0)))","v":""},{"$f":"IF(M30=0,\"\",INDEX(ThreatRankMatrix,MATCH($M$17,Rank,0),MATCH(M30,Rank,0)))","v":""},{"$f":"IF(N30=0,\"\",INDEX(ThreatRankMatrix,MATCH($N$17,Rank,0),MATCH(N30,Rank,0)))","v":""},{"$f":"IF(O30=0,\"\",INDEX(ThreatRankMatrix,MATCH($O$17,Rank,0),MATCH(O30,Rank,0)))","v":""},{"$f":"IF(P30=0,\"\",INDEX(ThreatRankMatrix,MATCH($P$17,Rank,0),MATCH(P30,Rank,0)))","v":""},null,null,null,null,null,null,null,null,null,null,null,null,null,null,null,{"$f":"SUM(AG31:AP31)","v":0},{"$f":"IF(G$17=\"\",0,(IF(G30=0,0,IF(G31=0,0,INDEX(ThreatScore,MATCH(G31,Rank,0))))))","v":0},0,0,0,0,0,0,0,0,0]
[null,null,null,null,null,"Contribution",null,null,null,null,null,null,null,null,null,null,{"$f":"IF(AF33>=Scoring!$B$24,\"Very High\",IF(AF33>=Scoring!$B$25,\"High\",IF(AF33>=Scoring!$B$26,\"Medium\",IF(AF33>=Scoring!$B$27,\"Low\",\"-\"))))","v":"-"}]
[null,null,null,null,null,"Threat Rank ",{"$f":"IF(G32=0,\"\",INDEX(ThreatRankMatrix,MATCH($G$17,Rank,0),MATCH(G32,Rank,0)))","v":""},{"$f":"IF(H32=0,\"\",INDEX(ThreatRankMatrix,MATCH($H$17,Rank,0),MATCH(H32,Rank,0)))","v":""},{"$f":"IF(I32=0,\"\",INDEX(ThreatRankMatrix,MATCH($I$17,Rank,0),MATCH(I32,Rank,0)))","v":""},{"$f":"IF(J32=0,\"\",INDEX(ThreatRankMatrix,MATCH($J$17,Rank,0),MATCH(J32,Rank,0)))","v":""},{"$f":"IF(K32=0,\"\",INDEX(ThreatRankMatrix,MATCH($K$17,Rank,0),MATCH(K32,Rank,0)))","v":""},{"$f":"IF(L32=0,\"\",INDEX(ThreatRankMatrix,MATCH($L$17,Rank,0),MATCH(L32,Rank,0)))","v":""},{"$f":"IF(M32=0,\"\",INDEX(ThreatRankMatrix,MATCH($M$17,Rank,0),MATCH(M32,Rank,0)))","v":""},{"$f":"IF(N32=0,\"\",INDEX(ThreatRankMatrix,MATCH($N$17,Rank,0),MATCH(N32,Rank,0)))","v":""},{"$f":"IF(O32=0,\"\",INDEX(ThreatRankMatrix,MATCH($O$17,Rank,0),MATCH(O32,Rank,0)))","v":""},{"$f":"IF(P32=0,\"\",INDEX(ThreatRankMatrix,MATCH($P$17,Rank,0),MATCH(P32,Rank,0)))","v":""},null,null,null,null,null,null,null,null,null,null,null,null,null,null,null,{"$f":"SUM(AG33:AP33)","v":0},{"$f":"IF(G$17=\"\",0,(IF(G32=0,0,IF(G33=0,0,INDEX(ThreatScore,MATCH(G33,Rank,0))))))","v":0},0,0,0,0,0,0,0,0,0]
[null,null,null,null,null,"Contribution",null,null,null,null,null,null,null,null,null,null,{"$f":"IF(AF35>=Scoring!$B$24,\"Very High\",IF(AF35>=Scoring!$B$25,\"High\",IF(AF35>=Scoring!$B$26,\"Medium\",IF(AF35>=Scoring!$B$27,\"Low\",\"-\"))))","v":"-"}]
[null,null,null,null,null,"Threat Rank ",{"$f":"IF(G34=0,\"\",INDEX(ThreatRankMatrix,MATCH($G$17,Rank,0),MATCH(G34,Rank,0)))","v":""},{"$f":"IF(H34=0,\"\",INDEX(ThreatRankMatrix,MATCH($H$17,Rank,0),MATCH(H34,Rank,0)))","v":""},{"$f":"IF(I34=0,\"\",INDEX(ThreatRankMatrix,MATCH($I$17,Rank,0),MATCH(I34,Rank,0)))","v":""},{"$f":"IF(J34=0,\"\",INDEX(ThreatRankMatrix,MATCH($J$17,Rank,0),MATCH(J34,Rank,0)))","v":""},{"$f":"IF(K34=0,\"\",INDEX(ThreatRankMatrix,MATCH($K$17,Rank,0),MATCH(K34,Rank,0)))","v":""},{"$f":"IF(L34=0,\"\",INDEX(ThreatRankMatrix,MATCH($L$17,Rank,0),MATCH(L34,Rank,0)))","v":""},{"$f":"IF(M34=0,\"\",INDEX(ThreatRankMatrix,MATCH($M$17,Rank,0),MATCH(M34,Rank,0)))","v":""},{"$f":"IF(N34=0,\"\",INDEX(ThreatRankMatrix,MATCH($N$17,Rank,0),MATCH(N34,Rank,0)))","v":""},{"$f":"IF(O34=0,\"\",INDEX(ThreatRankMatrix,MATCH($O$17,Rank,0),MATCH(O34,Rank,0)))","v":""},{"$f":"IF(P34=0,\"\",INDEX(ThreatRankMatrix,MATCH($P$17,Rank,0),MATCH(P34,Rank,0)))","v":""},null,null,null,null,null,null,null,null,null,null,null,null,null,null,null,{"$f":"SUM(AG35:AP35)","v":0},{"$f":"IF(G$17=\"\",0,(IF(G34=0,0,IF(G35=0,0,INDEX(ThreatScore,MATCH(G35,Rank,0))))))","v":0},0,0,0,0,0,0,0,0,0]
[null,null,null,null,null,"Contribution",null,null,null,null,null,null,null,null,null,null,{"$f":"IF(AF37>=Scoring!$B$24,\"Very High\",IF(AF37>=Scoring!$B$25,\"High\",IF(AF37>=Scoring!$B$26,\"Medium\",IF(AF37>=Scoring!$B$27,\"Low\",\"-\"))))","v":"-"}]
[null,null,null,null,null,"Threat Rank ",{"$f":"IF(G36=0,\"\",INDEX(ThreatRankMatrix,MATCH($G$17,Rank,0),MATCH(G36,Rank,0)))","v":""},{"$f":"IF(H36=0,\"\",INDEX(ThreatRankMatrix,MATCH($H$17,Rank,0),MATCH(H36,Rank,0)))","v":""},{"$f":"IF(I36=0,\"\",INDEX(ThreatRankMatrix,MATCH($I$17,Rank,0),MATCH(I36,Rank,0)))","v":""},{"$f":"IF(J36=0,\"\",INDEX(ThreatRankMatrix,MATCH($J$17,Rank,0),MATCH(J36,Rank,0)))","v":""},{"$f":"IF(K36=0,\"\",INDEX(ThreatRankMatrix,MATCH($K$17,Rank,0),MATCH(K36,Rank,0)))","v":""},{"$f":"IF(L36=0,\"\",INDEX(ThreatRankMatrix,MATCH($L$17,Rank,0),MATCH(L36,Rank,0)))","v":""},{"$f":"IF(M36=0,\"\",INDEX(ThreatRankMatrix,MATCH($M$17,Rank,0),MATCH(M36,Rank,0)))","v":""},{"$f":"IF(N36=0,\"\",INDEX(ThreatRankMatrix,MATCH($N$17,Rank,0),MATCH(N36,Rank,0)))","v":""},{"$f":"IF(O36=0,\"\",INDEX(ThreatRankMatrix,MATCH($O$17,Rank,0),MATCH(O36,Rank,0)))","v":""},{"$f":"IF(P36=0,\"\",INDEX(ThreatRankMatrix,MATCH($P$17,Rank,0),MATCH(P36,Rank,0)))","v":""},null,null,null,null,null,null,null,null,null,null,null,null,null,null,null,{"$f":"SUM(AG37:AP37)","v":0},{"$f":"IF(G$17=\"\",0,(IF(G36=0,0,IF(G37=0,0,INDEX(ThreatScore,MATCH(G37,Rank,0))))))","v":0},{"$f":"IF(H$17=\"\",0,(IF(H36=0,0,IF(H37=0,0,INDEX(ThreatScore,MATCH(H37,Rank,0))))))","v":0},{"$f":"IF(I$17=\"\",0,(IF(I36=0,0,IF(I37=0,0,INDEX(ThreatScore,MATCH(I37,Rank,0))))))","v":0},{"$f":"IF(J$17=\"\",0,(IF(J36=0,0,IF(J37=0,0,INDEX(ThreatScore,MATCH(J37,Rank,0))))))","v":0},{"$f":"IF(K$17=\"\",0,(IF(K36=0,0,IF(K37=0,0,INDEX(ThreatScore,MATCH(K37,Rank,0))))))","v":0},{"$f":"IF(L$17=\"\",0,(IF(L36=0,0,IF(L37=0,0,INDEX(ThreatScore,MATCH(L37,Rank,0))))))","v":0},{"$f":"IF(M$17=\"\",0,(IF(M36=0,0,IF(M37=0,0,INDEX(ThreatScore,MATCH(M37,Rank,0))))))","v":0},{"$f":"IF(N$17=\"\",0,(IF(N36=0,0,IF(N37=0,0,INDEX(ThreatScore,MATCH(N37,Rank,0))))))","v":0},{"$f":"IF(O$17=\"\",0,(IF(O36=0,0,IF(O37=0,0,INDEX(ThreatScore,MATCH(O37,Rank,0))))))","v":0},{"$f":"IF(P$17=\"\",0,(IF(P36=0,0,IF(P37=0,0,INDEX(ThreatScore,MATCH(P37,Rank,0))))))","v":0}]
[null,null,null,null,null,"Contribution",null,null,null,null,null,null,null,null,null,null,{"$f":"IF(AF39>=Scoring!$B$24,\"Very High\",IF(AF39>=Scoring!$B$25,\"High\",IF(AF39>=Scoring!$B$26,\"Medium\",IF(AF39>=Scoring!$B$27,\"Low\",\"-\"))))","v":"-"}]
[null,null,null,null,null,"Threat Rank ",{"$f":"IF(G38=0,\"\",INDEX(ThreatRankMatrix,MATCH($G$17,Rank,0),MATCH(G38,Rank,0)))","v":""},{"$f":"IF(H38=0,\"\",INDEX(ThreatRankMatrix,MATCH($H$17,Rank,0),MATCH(H38,Rank,0)))","v":""},{"$f":"IF(I38=0,\"\",INDEX(ThreatRankMatrix,MATCH($I$17,Rank,0),MATCH(I38,Rank,0)))","v":""},{"$f":"IF(J38=0,\"\",INDEX(ThreatRankMatrix,MATCH($J$17,Rank,0),MATCH(J38,Rank,0)))","v":""},{"$f":"IF(K38=0,\"\",INDEX(ThreatRankMatrix,MATCH($K$17,Rank,0),MATCH(K38,Rank,0)))","v":""},{"$f":"IF(L38=0,\"\",INDEX(ThreatRankMatrix,MATCH($L$17,Rank,0),MATCH(L38,Rank,0)))","v":""},{"$f":"IF(M38=0,\"\",INDEX(ThreatRankMatrix,MATCH($M$17,Rank,0),MATCH(M38,Rank,0)))","v":""},{"$f":"IF(N38=0,\"\",INDEX(ThreatRankMatrix,MATCH($N$17,Rank,0),MATCH(N38,Rank,0)))","v":""},{"$f":"IF(O38=0,\"\",INDEX(ThreatRankMatrix,MATCH($O$17,Rank,0),MATCH(O38,Rank,0)))","v":""},{"$f":"IF(P38=0,\"\",INDEX(ThreatRankMatrix,MATCH($P$17,Rank,0),MATCH(P38,Rank,0)))","v":""},null,null,null,null,null,null,null,null,null,null,null,null,null,null,null,{"$f":"SUM(AG39:AP39)","v":0},{"$f":"IF(G$17=\"\",0,(IF(G38=0,0,IF(G39=0,0,INDEX(ThreatScore,MATCH(G39,Rank,0))))))","v":0},{"$f":"IF(H$17=\"\",0,(IF(H38=0,0,IF(H39=0,0,INDEX(ThreatScore,MATCH(H39,Rank,0))))))","v":0},{"$f":"IF(I$17=\"\",0,(IF(I38=0,0,IF(I39=0,0,INDEX(ThreatScore,MATCH(I39,Rank,0))))))","v":0},{"$f":"IF(J$17=\"\",0,(IF(J38=0,0,IF(J39=0,0,INDEX(ThreatScore,MATCH(J39,Rank,0))))))","v":0},{"$f":"IF(K$17=\"\",0,(IF(K38=0,0,IF(K39=0,0,INDEX(ThreatScore,MATCH(K39,Rank,0))))))","v":0},{"$f":"IF(L$17=\"\",0,(IF(L38=0,0,IF(L39=0,0,INDEX(ThreatScore,MATCH(L39,Rank,0))))))","v":0},{"$f":"IF(M$17=\"\",0,(IF(M38=0,0,IF(M39=0,0,INDEX(ThreatScore,MATCH(M39,Rank,0))))))","v":0},{"$f":"IF(N$17=\"\",0,(IF(N38=0,0,IF(N39=0,0,INDEX(ThreatScore,MATCH(N39,Rank,0))))))","v":0},{"$f":"IF(O$17=\"\",0,(IF(O38=0,0,IF(O39=0,0,INDEX(ThreatScore,MATCH(O39,Rank,0))))))","v":0},{"$f":"IF(P$17=\"\",0,(IF(P38=0,0,IF(P39=0,0,INDEX(ThreatScore,MATCH(P39,Rank,0))))))","v":0}]
[null,null,null,null,null,"Contribution",null,null,null,null,null,null,null,null,null,null,{"$f":"IF(AF41>=Scoring!$B$24,\"Very High\",IF(AF41>=Scoring!$B$25,\"High\",IF(AF41>=Scoring!$B$26,\"Medium\",IF(AF41>=Scoring!$B$27,\"Low\",\"-\"))))","v":"-"}]
[null,null,null,null,null,"Threat Rank ",{"$f":"IF(G40=0,\"\",INDEX(ThreatRankMatrix,MATCH($G$17,Rank,0),MATCH(G40,Rank,0)))","v":""},{"$f":"IF(H40=0,\"\",INDEX(ThreatRankMatrix,MATCH($H$17,Rank,0),MATCH(H40,Rank,0)))","v":""},{"$f":"IF(I40=0,\"\",INDEX(ThreatRankMatrix,MATCH($I$17,Rank,0),MATCH(I40,Rank,0)))","v":""},{"$f":"IF(J40=0,\"\",INDEX(ThreatRankMatrix,MATCH($J$17,Rank,0),MATCH(J40,Rank,0)))","v":""},{"$f":"IF(K40=0,\"\",INDEX(ThreatRankMatrix,MATCH($K$17,Rank,0),MATCH(K40,Rank,0)))","v":""},{"$f":"IF(L40=0,\"\",INDEX(ThreatRankMatrix,MATCH($L$17,Rank,0),MATCH(L40,Rank,0)))","v":""},{"$f":"IF(M40=0,\"\",INDEX(ThreatRankMatrix,MATCH($M$17,Rank,0),MATCH(M40,Rank,0)))","v":""},{"$f":"IF(N40=0,\"\",INDEX(ThreatRankMatrix,MATCH($N$17,Rank,0),MATCH(N40,Rank,0)))","v":""},{"$f":"IF(O40=0,\"\",INDEX(ThreatRankMatrix,MATCH($O$17,Rank,0),MATCH(O40,Rank,0)))","v":""},{"$f":"IF(P40=0,\"\",INDEX(ThreatRankMatrix,MATCH($P$17,Rank,0),MATCH(P40,Rank,0)))","v":""},null,null,null,null,null,null,null,null,null,null,null,null,null,null,null,{"$f":"SUM(AG41:AP41)","v":0},{"$f":"IF(G$17=\"\",0,(IF(G40=0,0,IF(G41=0,0,INDEX(ThreatScore,MATCH(G41,Rank,0))))))","v":0},0,0,0,0,0,0,0,0,0]
[]
[]
[]
[null,null,null,null,null,null,null,null,null,null,null,"Fire regime"]
[null,null,null,null,null,null,null,null,null,null,null,{"$f":"INDEX(K4:K7,MATCH(L45,E4:E7,0))","v":{"$error":"#N/A"}}]
[null,null,null,"Strategic \"X-Ray\"",null,null,"Note - resize columns when going to this report"]
[null,null,null,"Target #12"]
[null,null,null,"Overall Current Health"]
[null,null,null,"Overall Future Threat "]
[null,null,null,"Strategic Guidance"]
[null,null,null,"Top Threats"]
[]
[]
[null,null,null,"Top Restoration"]
[]
[null,null,null,"Attributes Needing Critical Attention (VH or H Stress; Poor or Fair- Current)"]
[null,null,null,null,"Current"]
[null,null,null,null,"Future"]
[null,null,null,"Critical Threats (VH or H Contribution)"]
[]
[]
[]
[]
[]
[]
[null,null,null,"PASTE THREAT table here"]
[null,null,null,"Threats (Sources of Stress)         List Sources of stress below (max of 12 per target).  Enter Contribution of each source where applicable.","  Key Attribute >","Fire regime","Species composition",null,"whasty","Area","","","","","","Threat to Target Rank"]
[null,null,null,null,"Stress Rank>","High","High",null,"Medium","Very High","","","","",""]
[null,null,null,"Invasive terrestrial species","Contribution","Medium","High",null,null,null,null,null,null,null,null,"High"]
[null,null,null,null,"Threat Rank ","Medium","High","","","","","","","",""]
[null,null,null,"Residential / commercial development","Contribution","Very High","Low",null,null,null,null,null,null,null,null,"High"]
[null,null,null,null,"Threat Rank ","High","Low","","","","","","","",""]
[null,null,null,"Impervious surfaces","Contribution",null,null,null,null,"Very High",null,null,null,null,null,"Very High"]
[null,null,null,null,"Threat Rank ","","",null,"","Very High","","","","",""]
[null,null,null,null,"Contribution",null,null,null,null,null,null,null,null,null,null,"-"]
[null,null,null,null,"Threat Rank ","","","","","","","","","",""]
[null,null,null,null,"Contribution",null,null,null,null,null,null,null,null,null,null,"-"]
[null,null,null,null,"Threat Rank ","","","","","","","","","",""]
[null,null,null,null,"Contribution",null,null,null,null,null,null,null,null,null,null,"-"]
[null,null,null,null,"Threat Rank ","","","","","","","","","",""]
[null,null,null,null,"Contribution",null,null,null,null,null,null,null,null,null,null,"-"]
[null,null,null,null,"Threat Rank ","","","","","","","","","",""]
[null,null,null,null,"Contribution",null,null,null,null,null,null,null,null,null,null,"-"]
[null,null,null,null,"Threat Rank ","","","","","","","","","",""]
[null,null,null,null,"Contribution",null,null,null,null,null,null,null,null,null,null,"-"]
[null,null,null,null,"Threat Rank ","","","","","","","","","",""]
[null,null,null,null,"Contribution",null,null,null,null,null,null,null,null,null,null,"-"]
[null,null,null,null,"Threat Rank ","","","","","","","","","",""]
[null,null,null,null,"Contribution",null,null,null,null,null,null,null,null,null,null,"-"]
[null,null,null,null,"Threat Rank ","","","","","","","","","",""]
[null,null,null,null,"Contribution",null,null,null,null,null,null,null,null,null,null,"-"]
["Threats (Sources of Stress)         List Sources of stress below (max of 12 per target).  Enter Contribution of each source where applicable.","  Key Attribute >","Fire regime",null,null,null,"","","","",""]
[null,"Stress Rank>","High",null,null,null,"","","","",""]
["Invasive terrestrial species","Contribution","Medium"]
[null,"Threat Rank ","Medium",null,null,null,"","","","",""]
["Residential / commercial development","Contribution","Very High"]
[null,"Threat Rank ","High",null,null,null,"","","","",""]
["Impervious surfaces","Contribution"]
[null,"Threat Rank ","",null,null,null,"","","","",""]
[null,"Contribution"]
[null,"Threat Rank ","","","","","","","","",""]
[null,"Contribution",null,null,null,null,null,null,null,"","","","",""]
[null,"Threat Rank ",""]
[null,"Contribution"]
[null,"Threat Rank ","","Threats (Sources of Stress)         List Sources of stress below (max of 12 per target).  Enter Contribution of each source where applicable.","  Key Attribute >","Fire regime","Species composition",null,"whasty","Area","","","",""]
[null,"Contribution",null,null,"Stress Rank>","High","High",null,null,"Very High","","","",""]
[null,"Threat Rank ","","Invasive terrestrial species","Contribution",null,"High"]
[null,null,null,"Residential / commercial development","Contribution","Very High"]
[null,null,null,"Impervious surfaces","Contribution",null,null,null,null,"Very High"]
[]
[null,null,null,null,null,null,null,null,null,"","","","",""]
[]
[null,null,null,null,null,null,null,null,null,"","","","",""]
[]
[null,null,null,null,null,null,null,null,null,"","","","",""]
[]
[null,null,null,null,null,null,null,null,null,"","","","",""]
[]
[null,null,null,null,null,null,null,null,null,"","","","",""]
[]
[null,null,null,null,null,null,null,null,null,"","","","",""]
[]
[null,null,null,null,null,null,null,null,null,"","","","",""]
[]
[null,null,null,null,null,null,null,null,null,"","","","",""]
[]
[null,null,null,null,null,null,null,null,null,"",""]

{"sheet":"ThreatAdd ","index":17,"n_rows":42,"n_cols":14,"rows_kept":42,"cut":false,"hidden":true,"merged":[]}
["Rank","Sum"]
[{"$f":"IF(B2>=Scoring!$B$38,\"Very High\",IF(B2>=Scoring!$B$39,\"High\",IF(B2>=Scoring!$B$40,\"Medium\",IF(B2>=Scoring!$B$41,\"Low\",IF(B2=0,\"\")))))","v":"Very High"},{"$f":"SUM(C2:N2)","v":254},{"$f":"IF(ThreatSum!C5=0,0,IF(ThreatSum!C5=\"Very High\",Scoring!$B$24,IF(ThreatSum!C5=\"High\",Scoring!$B$25,IF(ThreatSum!C5=\"Medium\",Scoring!$B$26,IF(ThreatSum!C5=\"Low\",Scoring!$B$27)))))","v":false},{"$f":"IF(ThreatSum!D5=0,0,IF(ThreatSum!D5=\"Very High\",Scoring!$B$24,IF(ThreatSum!D5=\"High\",Scoring!$B$25,IF(ThreatSum!D5=\"Medium\",Scoring!$B$26,IF(ThreatSum!D5=\"Low\",Scoring!$B$27)))))","v":1},{"$f":"IF(ThreatSum!E5=0,0,IF(ThreatSum!E5=\"Very High\",Scoring!$B$24,IF(ThreatSum!E5=\"High\",Scoring!$B$25,IF(ThreatSum!E5=\"Medium\",Scoring!$B$26,IF(ThreatSum!E5=\"Low\",Scoring!$B$27)))))","v":105},{"$f":"IF(ThreatSum!F5=0,0,IF(ThreatSum!F5=\"Very High\",Scoring!$B$24,IF(ThreatSum!F5=\"High\",Scoring!$B$25,IF(ThreatSum!F5=\"Medium\",Scoring!$B$26,IF(ThreatSum!F5=\"Low\",Scoring!$B$27)))))","v":7},{"$f":"IF(ThreatSum!G5=0,0,IF(ThreatSum!G5=\"Very High\",Scoring!$B$24,IF(ThreatSum!G5=\"High\",Scoring!$B$25,IF(ThreatSum!G5=\"Medium\",Scoring!$B$26,IF(ThreatSum!G5=\"Low\",Scoring!$B$27)))))","v":35},{"$f":"IF(ThreatSum!H5=0,0,IF(ThreatSum!H5=\"Very High\",Scoring!$B$24,IF(ThreatSum!H5=\"High\",Scoring!$B$25,IF(ThreatSum!H5=\"Medium\",Scoring!$B$26,IF(ThreatSum!H5=\"Low\",Scoring!$B$27)))))","v":35},{"$f":"IF(ThreatSum!I5=0,0,IF(ThreatSum!I5=\"Very High\",Scoring!$B$24,IF(ThreatSum!I5=\"High\",Scoring!$B$25,IF(ThreatSum!I5=\"Medium\",Scoring!$B$26,IF(ThreatSum!I5=\"Low\",Scoring!$B$27)))))","v":35},{"$f":"IF(ThreatSum!J5=0,0,IF(ThreatSum!J5=\"Very High\",Scoring!$B$24,IF(ThreatSum!J5=\"High\",Scoring!$B$25,IF(ThreatSum!J5=\"Medium\",Scoring!$B$26,IF(ThreatSum!J5=\"Low\",Scoring!$B$27)))))","v":false},{"$f":"IF(ThreatSum!K5=0,0,IF(ThreatSum!K5=\"Very High\",Scoring!$B$24,IF(ThreatSum!K5=\"High\",Scoring!$B$25,IF(ThreatSum!K5=\"Medium\",Scoring!$B$26,IF(ThreatSum!K5=\"Low\",Scoring!$B$27)))))","v":35},{"$f":"IF(ThreatSum!L5=0,0,IF(ThreatSum!L5=\"Very High\",Scoring!$B$24,IF(ThreatSum!L5=\"High\",Scoring!$B$25,IF(ThreatSum!L5=\"Medium\",Scoring!$B$26,IF(ThreatSum!L5=\"Low\",Scoring!$B$27)))))","v":1},{"$f":"IF(ThreatSum!M5=0,0,IF(ThreatSum!M5=\"Very High\",Scoring!$B$24,IF(ThreatSum!M5=\"High\",Scoring!$B$25,IF(ThreatSum!M5=\"Medium\",Scoring!$B$26,IF(ThreatSum!M5=\"Low\",Scoring!$B$27)))))","v":false},{"$f":"IF(ThreatSum!N5=0,0,IF(ThreatSum!N5=\"Very High\",Scoring!$B$24,IF(ThreatSum!N5=\"High\",Scoring!$B$25,IF(ThreatSum!N5=\"Medium\",Scoring!$B$26,IF(ThreatSum!N5=\"Low\",Scoring!$B$27)))))","v":false}]
[{"$f":"IF(B3>=Scoring!$B$38,\"Very High\",IF(B3>=Scoring!$B$39,\"High\",IF(B3>=Scoring!$B$40,\"Medium\",IF(B3>=Scoring!$B$41,\"Low\",IF(B3=0,\"\")))))","v":"High"},{"$f":"SUM(C3:N3)","v":176},{"$f":"IF(ThreatSum!C6=0,0,IF(ThreatSum!C6=\"Very High\",Scoring!$B$24,IF(ThreatSum!C6=\"High\",Scoring!$B$25,IF(ThreatSum!C6=\"Medium\",Scoring!$B$26,IF(ThreatSum!C6=\"Low\",Scoring!$B$27)))))","v":7},{"$f":"IF(ThreatSum!D6=0,0,IF(ThreatSum!D6=\"Very High\",Scoring!$B$24,IF(ThreatSum!D6=\"High\",Scoring!$B$25,IF(ThreatSum!D6=\"Medium\",Scoring!$B$26,IF(ThreatSum!D6=\"Low\",Scoring!$B$27)))))","v":7},{"$f":"IF(ThreatSum!E6=0,0,IF(ThreatSum!E6=\"Very High\",Scoring!$B$24,IF(ThreatSum!E6=\"High\",Scoring!$B$25,IF(ThreatSum!E6=\"Medium\",Scoring!$B$26,IF(ThreatSum!E6=\"Low\",Scoring!$B$27)))))","v":35},{"$f":"IF(ThreatSum!F6=0,0,IF(ThreatSum!F6=\"Very High\",Scoring!$B$24,IF(ThreatSum!F6=\"High\",Scoring!$B$25,IF(ThreatSum!F6=\"Medium\",Scoring!$B$26,IF(ThreatSum!F6=\"Low\",Scoring!$B$27)))))","v":7},{"$f":"IF(ThreatSum!G6=0,0,IF(ThreatSum!G6=\"Very High\",Scoring!$B$24,IF(ThreatSum!G6=\"High\",Scoring!$B$25,IF(ThreatSum!G6=\"Medium\",Scoring!$B$26,IF(ThreatSum!G6=\"Low\",Scoring!$B$27)))))","v":7},{"$f":"IF(ThreatSum!H6=0,0,IF(ThreatSum!H6=\"Very High\",Scoring!$B$24,IF(ThreatSum!H6=\"High\",Scoring!$B$25,IF(ThreatSum!H6=\"Medium\",Scoring!$B$26,IF(ThreatSum!H6=\"Low\",Scoring!$B$27)))))","v":35},{"$f":"IF(ThreatSum!I6=0,0,IF(ThreatSum!I6=\"Very High\",Scoring!$B$24,IF(ThreatSum!I6=\"High\",Scoring!$B$25,IF(ThreatSum!I6=\"Medium\",Scoring!$B$26,IF(ThreatSum!I6=\"Low\",Scoring!$B$27)))))","v":35},{"$f":"IF(ThreatSum!J6=0,0,IF(ThreatSum!J6=\"Very High\",Scoring!$B$24,IF(ThreatSum!J6=\"High\",Scoring!$B$25,IF(ThreatSum!J6=\"Medium\",Scoring!$B$26,IF(ThreatSum!J6=\"Low\",Scoring!$B$27)))))","v":7},{"$f":"IF(ThreatSum!K6=0,0,IF(ThreatSum!K6=\"Very High\",Scoring!$B$24,IF(ThreatSum!K6=\"High\",Scoring!$B$25,IF(ThreatSum!K6=\"Medium\",Scoring!$B$26,IF(ThreatSum!K6=\"Low\",Scoring!$B$27)))))","v":35},{"$f":"IF(ThreatSum!L6=0,0,IF(ThreatSum!L6=\"Very High\",Scoring!$B$24,IF(ThreatSum!L6=\"High\",Scoring!$B$25,IF(ThreatSum!L6=\"Medium\",Scoring!$B$26,IF(ThreatSum!L6=\"Low\",Scoring!$B$27)))))","v":1},{"$f":"IF(ThreatSum!M6=0,0,IF(ThreatSum!M6=\"Very High\",Scoring!$B$24,IF(ThreatSum!M6=\"High\",Scoring!$B$25,IF(ThreatSum!M6=\"Medium\",Scoring!$B$26,IF(ThreatSum!M6=\"Low\",Scoring!$B$27)))))","v":false},{"$f":"IF(ThreatSum!N6=0,0,IF(ThreatSum!N6=\"Very High\",Scoring!$B$24,IF(ThreatSum!N6=\"High\",Scoring!$B$25,IF(ThreatSum!N6=\"Medium\",Scoring!$B$26,IF(ThreatSum!N6=\"Low\",Scoring!$B$27)))))","v":false}]
[{"$f":"IF(B4>=Scoring!$B$38,\"Very High\",IF(B4>=Scoring!$B$39,\"High\",IF(B4>=Scoring!$B$40,\"Medium\",IF(B4>=Scoring!$B$41,\"Low\",IF(B4=0,\"\")))))","v":"High"},140,{"$f":"IF(ThreatSum!C7=0,0,IF(ThreatSum!C7=\"Very High\",Scoring!$B$24,IF(ThreatSum!C7=\"High\",Scoring!$B$25,IF(ThreatSum!C7=\"Medium\",Scoring!$B$26,IF(ThreatSum!C7=\"Low\",Scoring!$B$27)))))","v":false},{"$f":"IF(ThreatSum!D7=0,0,IF(ThreatSum!D7=\"Very High\",Scoring!$B$24,IF(ThreatSum!D7=\"High\",Scoring!$B$25,IF(ThreatSum!D7=\"Medium\",Scoring!$B$26,IF(ThreatSum!D7=\"Low\",Scoring!$B$27)))))","v":false},{"$f":"IF(ThreatSum!E7=0,0,IF(ThreatSum!E7=\"Very High\",Scoring!$B$24,IF(ThreatSum!E7=\"High\",Scoring!$B$25,IF(ThreatSum!E7=\"Medium\",Scoring!$B$26,IF(ThreatSum!E7=\"Low\",Scoring!$B$27)))))","v":false},{"$f":"IF(ThreatSum!F7=0,0,IF(ThreatSum!F7=\"Very High\",Scoring!$B$24,IF(ThreatSum!F7=\"High\",Scoring!$B$25,IF(ThreatSum!F7=\"Medium\",Scoring!$B$26,IF(ThreatSum!F7=\"Low\",Scoring!$B$27)))))","v":false},{"$f":"IF(ThreatSum!G7=0,0,IF(ThreatSum!G7=\"Very High\",Scoring!$B$24,IF(ThreatSum!G7=\"High\",Scoring!$B$25,IF(ThreatSum!G7=\"Medium\",Scoring!$B$26,IF(ThreatSum!G7=\"Low\",Scoring!$B$27)))))","v":false},{"$f":"IF(ThreatSum!H7=0,0,IF(ThreatSum!H7=\"Very High\",Scoring!$B$24,IF(ThreatSum!H7=\"High\",Scoring!$B$25,IF(ThreatSum!H7=\"Medium\",Scoring!$B$26,IF(ThreatSum!H7=\"Low\",Scoring!$B$27)))))","v":35},{"$f":"IF(ThreatSum!I7=0,0,IF(ThreatSum!I7=\"Very High\",Scoring!$B$24,IF(ThreatSum!I7=\"High\",Scoring!$B$25,IF(ThreatSum!I7=\"Medium\",Scoring!$B$26,IF(ThreatSum!I7=\"Low\",Scoring!$B$27)))))","v":105},{"$f":"IF(ThreatSum!J7=0,0,IF(ThreatSum!J7=\"Very High\",Scoring!$B$24,IF(ThreatSum!J7=\"High\",Scoring!$B$25,IF(ThreatSum!J7=\"Medium\",Scoring!$B$26,IF(ThreatSum!J7=\"Low\",Scoring!$B$27)))))","v":false},{"$f":"IF(ThreatSum!K7=0,0,IF(ThreatSum!K7=\"Very High\",Scoring!$B$24,IF(ThreatSum!K7=\"High\",Scoring!$B$25,IF(ThreatSum!K7=\"Medium\",Scoring!$B$26,IF(ThreatSum!K7=\"Low\",Scoring!$B$27)))))","v":false},{"$f":"IF(ThreatSum!L7=0,0,IF(ThreatSum!L7=\"Very High\",Scoring!$B$24,IF(ThreatSum!L7=\"High\",Scoring!$B$25,IF(ThreatSum!L7=\"Medium\",Scoring!$B$26,IF(ThreatSum!L7=\"Low\",Scoring!$B$27)))))","v":false},{"$f":"IF(ThreatSum!M7=0,0,IF(ThreatSum!M7=\"Very High\",Scoring!$B$24,IF(ThreatSum!M7=\"High\",Scoring!$B$25,IF(ThreatSum!M7=\"Medium\",Scoring!$B$26,IF(ThreatSum!M7=\"Low\",Scoring!$B$27)))))","v":false},{"$f":"IF(ThreatSum!N7=0,0,IF(ThreatSum!N7=\"Very High\",Scoring!$B$24,IF(ThreatSum!N7=\"High\",Scoring!$B$25,IF(ThreatSum!N7=\"Medium\",Scoring!$B$26,IF(ThreatSum!N7=\"Low\",Scoring!$B$27)))))","v":false}]
[{"$f":"IF(B5>=Scoring!$B$38,\"Very High\",IF(B5>=Scoring!$B$39,\"High\",IF(B5>=Scoring!$B$40,\"Medium\",IF(B5>=Scoring!$B$41,\"Low\",IF(B5=0,\"\")))))","v":"High"},113,{"$f":"IF(ThreatSum!C8=0,0,IF(ThreatSum!C8=\"Very High\",Scoring!$B$24,IF(ThreatSum!C8=\"High\",Scoring!$B$25,IF(ThreatSum!C8=\"Medium\",Scoring!$B$26,IF(ThreatSum!C8=\"Low\",Scoring!$B$27)))))","v":false},{"$f":"IF(ThreatSum!D8=0,0,IF(ThreatSum!D8=\"Very High\",Scoring!$B$24,IF(ThreatSum!D8=\"High\",Scoring!$B$25,IF(ThreatSum!D8=\"Medium\",Scoring!$B$26,IF(ThreatSum!D8=\"Low\",Scoring!$B$27)))))","v":false},{"$f":"IF(ThreatSum!E8=0,0,IF(ThreatSum!E8=\"Very High\",Scoring!$B$24,IF(ThreatSum!E8=\"High\",Scoring!$B$25,IF(ThreatSum!E8=\"Medium\",Scoring!$B$26,IF(ThreatSum!E8=\"Low\",Scoring!$B$27)))))","v":false},{"$f":"IF(ThreatSum!F8=0,0,IF(ThreatSum!F8=\"Very High\",Scoring!$B$24,IF(ThreatSum!F8=\"High\",Scoring!$B$25,IF(ThreatSum!F8=\"Medium\",Scoring!$B$26,IF(ThreatSum!F8=\"Low\",Scoring!$B$27)))))","v":7},{"$f":"IF(ThreatSum!G8=0,0,IF(ThreatSum!G8=\"Very High\",Scoring!$B$24,IF(ThreatSum!G8=\"High\",Scoring!$B$25,IF(ThreatSum!G8=\"Medium\",Scoring!$B$26,IF(ThreatSum!G8=\"Low\",Scoring!$B$27)))))","v":35},{"$f":"IF(ThreatSum!H8=0,0,IF(ThreatSum!H8=\"Very High\",Scoring!$B$24,IF(ThreatSum!H8=\"High\",Scoring!$B$25,IF(ThreatSum!H8=\"Medium\",Scoring!$B$26,IF(ThreatSum!H8=\"Low\",Scoring!$B$27)))))","v":false},{"$f":"IF(ThreatSum!I8=0,0,IF(ThreatSum!I8=\"Very High\",Scoring!$B$24,IF(ThreatSum!I8=\"High\",Scoring!$B$25,IF(ThreatSum!I8=\"Medium\",Scoring!$B$26,IF(ThreatSum!I8=\"Low\",Scoring!$B$27)))))","v":35},{"$f":"IF(ThreatSum!J8=0,0,IF(ThreatSum!J8=\"Very High\",Scoring!$B$24,IF(ThreatSum!J8=\"High\",Scoring!$B$25,IF(ThreatSum!J8=\"Medium\",Scoring!$B$26,IF(ThreatSum!J8=\"Low\",Scoring!$B$27)))))","v":false},{"$f":"IF(ThreatSum!K8=0,0,IF(ThreatSum!K8=\"Very High\",Scoring!$B$24,IF(ThreatSum!K8=\"High\",Scoring!$B$25,IF(ThreatSum!K8=\"Medium\",Scoring!$B$26,IF(ThreatSum!K8=\"Low\",Scoring!$B$27)))))","v":35},{"$f":"IF(ThreatSum!L8=0,0,IF(ThreatSum!L8=\"Very High\",Scoring!$B$24,IF(ThreatSum!L8=\"High\",Scoring!$B$25,IF(ThreatSum!L8=\"Medium\",Scoring!$B$26,IF(ThreatSum!L8=\"Low\",Scoring!$B$27)))))","v":1},{"$f":"IF(ThreatSum!M8=0,0,IF(ThreatSum!M8=\"Very High\",Scoring!$B$24,IF(ThreatSum!M8=\"High\",Scoring!$B$25,IF(ThreatSum!M8=\"Medium\",Scoring!$B$26,IF(ThreatSum!M8=\"Low\",Scoring!$B$27)))))","v":false},{"$f":"IF(ThreatSum!N8=0,0,IF(ThreatSum!N8=\"Very High\",Scoring!$B$24,IF(ThreatSum!N8=\"High\",Scoring!$B$25,IF(ThreatSum!N8=\"Medium\",Scoring!$B$26,IF(ThreatSum!N8=\"Low\",Scoring!$B$27)))))","v":false}]
[{"$f":"IF(B6>=Scoring!$B$38,\"Very High\",IF(B6>=Scoring!$B$39,\"High\",IF(B6>=Scoring!$B$40,\"Medium\",IF(B6>=Scoring!$B$41,\"Low\",IF(B6=0,\"\")))))","v":"High"},87,{"$f":"IF(ThreatSum!C9=0,0,IF(ThreatSum!C9=\"Very High\",Scoring!$B$24,IF(ThreatSum!C9=\"High\",Scoring!$B$25,IF(ThreatSum!C9=\"Medium\",Scoring!$B$26,IF(ThreatSum!C9=\"Low\",Scoring!$B$27)))))","v":false},{"$f":"IF(ThreatSum!D9=0,0,IF(ThreatSum!D9=\"Very High\",Scoring!$B$24,IF(ThreatSum!D9=\"High\",Scoring!$B$25,IF(ThreatSum!D9=\"Medium\",Scoring!$B$26,IF(ThreatSum!D9=\"Low\",Scoring!$B$27)))))","v":7},{"$f":"IF(ThreatSum!E9=0,0,IF(ThreatSum!E9=\"Very High\",Scoring!$B$24,IF(ThreatSum!E9=\"High\",Scoring!$B$25,IF(ThreatSum!E9=\"Medium\",Scoring!$B$26,IF(ThreatSum!E9=\"Low\",Scoring!$B$27)))))","v":1},{"$f":"IF(ThreatSum!F9=0,0,IF(ThreatSum!F9=\"Very High\",Scoring!$B$24,IF(ThreatSum!F9=\"High\",Scoring!$B$25,IF(ThreatSum!F9=\"Medium\",Scoring!$B$26,IF(ThreatSum!F9=\"Low\",Scoring!$B$27)))))","v":false},{"$f":"IF(ThreatSum!G9=0,0,IF(ThreatSum!G9=\"Very High\",Scoring!$B$24,IF(ThreatSum!G9=\"High\",Scoring!$B$25,IF(ThreatSum!G9=\"Medium\",Scoring!$B$26,IF(ThreatSum!G9=\"Low\",Scoring!$B$27)))))","v":7},{"$f":"IF(ThreatSum!H9=0,0,IF(ThreatSum!H9=\"Very High\",Scoring!$B$24,IF(ThreatSum!H9=\"High\",Scoring!$B$25,IF(ThreatSum!H9=\"Medium\",Scoring!$B$26,IF(ThreatSum!H9=\"Low\",Scoring!$B$27)))))","v":false},{"$f":"IF(ThreatSum!I9=0,0,IF(ThreatSum!I9=\"Very High\",Scoring!$B$24,IF(ThreatSum!I9=\"High\",Scoring!$B$25,IF(ThreatSum!I9=\"Medium\",Scoring!$B$26,IF(ThreatSum!I9=\"Low\",Scoring!$B$27)))))","v":35},{"$f":"IF(ThreatSum!J9=0,0,IF(ThreatSum!J9=\"Very High\",Scoring!$B$24,IF(ThreatSum!J9=\"High\",Scoring!$B$25,IF(ThreatSum!J9=\"Medium\",Scoring!$B$26,IF(ThreatSum!J9=\"Low\",Scoring!$B$27)))))","v":1},{"$f":"IF(ThreatSum!K9=0,0,IF(ThreatSum!K9=\"Very High\",Scoring!$B$24,IF(ThreatSum!K9=\"High\",Scoring!$B$25,IF(ThreatSum!K9=\"Medium\",Scoring!$B$26,IF(ThreatSum!K9=\"Low\",Scoring!$B$27)))))","v":35},{"$f":"IF(ThreatSum!L9=0,0,IF(ThreatSum!L9=\"Very High\",Scoring!$B$24,IF(ThreatSum!L9=\"High\",Scoring!$B$25,IF(ThreatSum!L9=\"Medium\",Scoring!$B$26,IF(ThreatSum!L9=\"Low\",Scoring!$B$27)))))","v":1},{"$f":"IF(ThreatSum!M9=0,0,IF(ThreatSum!M9=\"Very High\",Scoring!$B$24,IF(ThreatSum!M9=\"High\",Scoring!$B$25,IF(ThreatSum!M9=\"Medium\",Scoring!$B$26,IF(ThreatSum!M9=\"Low\",Scoring!$B$27)))))","v":false},{"$f":"IF(ThreatSum!N9=0,0,IF(ThreatSum!N9=\"Very High\",Scoring!$B$24,IF(ThreatSum!N9=\"High\",Scoring!$B$25,IF(ThreatSum!N9=\"Medium\",Scoring!$B$26,IF(ThreatSum!N9=\"Low\",Scoring!$B$27)))))","v":false}]
[{"$f":"IF(B7>=Scoring!$B$38,\"Very High\",IF(B7>=Scoring!$B$39,\"High\",IF(B7>=Scoring!$B$40,\"Medium\",IF(B7>=Scoring!$B$41,\"Low\",IF(B7=0,\"\")))))","v":"High"},71,{"$f":"IF(ThreatSum!C10=0,0,IF(ThreatSum!C10=\"Very High\",Scoring!$B$24,IF(ThreatSum!C10=\"High\",Scoring!$B$25,IF(ThreatSum!C10=\"Medium\",Scoring!$B$26,IF(ThreatSum!C10=\"Low\",Scoring!$B$27)))))","v":35},{"$f":"IF(ThreatSum!D10=0,0,IF(ThreatSum!D10=\"Very High\",Scoring!$B$24,IF(ThreatSum!D10=\"High\",Scoring!$B$25,IF(ThreatSum!D10=\"Medium\",Scoring!$B$26,IF(ThreatSum!D10=\"Low\",Scoring!$B$27)))))","v":35},{"$f":"IF(ThreatSum!E10=0,0,IF(ThreatSum!E10=\"Very High\",Scoring!$B$24,IF(ThreatSum!E10=\"High\",Scoring!$B$25,IF(ThreatSum!E10=\"Medium\",Scoring!$B$26,IF(ThreatSum!E10=\"Low\",Scoring!$B$27)))))","v":1},{"$f":"IF(ThreatSum!F10=0,0,IF(ThreatSum!F10=\"Very High\",Scoring!$B$24,IF(ThreatSum!F10=\"High\",Scoring!$B$25,IF(ThreatSum!F10=\"Medium\",Scoring!$B$26,IF(ThreatSum!F10=\"Low\",Scoring!$B$27)))))","v":false},{"$f":"IF(ThreatSum!G10=0,0,IF(ThreatSum!G10=\"Very High\",Scoring!$B$24,IF(ThreatSum!G10=\"High\",Scoring!$B$25,IF(ThreatSum!G10=\"Medium\",Scoring!$B$26,IF(ThreatSum!G10=\"Low\",Scoring!$B$27)))))","v":false},{"$f":"IF(ThreatSum!H10=0,0,IF(ThreatSum!H10=\"Very High\",Scoring!$B$24,IF(ThreatSum!H10=\"High\",Scoring!$B$25,IF(ThreatSum!H10=\"Medium\",Scoring!$B$26,IF(ThreatSum!H10=\"Low\",Scoring!$B$27)))))","v":false},{"$f":"IF(ThreatSum!I10=0,0,IF(ThreatSum!I10=\"Very High\",Scoring!$B$24,IF(ThreatSum!I10=\"High\",Scoring!$B$25,IF(ThreatSum!I10=\"Medium\",Scoring!$B$26,IF(ThreatSum!I10=\"Low\",Scoring!$B$27)))))","v":false},{"$f":"IF(ThreatSum!J10=0,0,IF(ThreatSum!J10=\"Very High\",Scoring!$B$24,IF(ThreatSum!J10=\"High\",Scoring!$B$25,IF(ThreatSum!J10=\"Medium\",Scoring!$B$26,IF(ThreatSum!J10=\"Low\",Scoring!$B$27)))))","v":false},{"$f":"IF(ThreatSum!K10=0,0,IF(ThreatSum!K10=\"Very High\",Scoring!$B$24,IF(ThreatSum!K10=\"High\",Scoring!$B$25,IF(ThreatSum!K10=\"Medium\",Scoring!$B$26,IF(ThreatSum!K10=\"Low\",Scoring!$B$27)))))","v":false},{"$f":"IF(ThreatSum!L10=0,0,IF(ThreatSum!L10=\"Very High\",Scoring!$B$24,IF(ThreatSum!L10=\"High\",Scoring!$B$25,IF(ThreatSum!L10=\"Medium\",Scoring!$B$26,IF(ThreatSum!L10=\"Low\",Scoring!$B$27)))))","v":false},{"$f":"IF(ThreatSum!M10=0,0,IF(ThreatSum!M10=\"Very High\",Scoring!$B$24,IF(ThreatSum!M10=\"High\",Scoring!$B$25,IF(ThreatSum!M10=\"Medium\",Scoring!$B$26,IF(ThreatSum!M10=\"Low\",Scoring!$B$27)))))","v":false},{"$f":"IF(ThreatSum!N10=0,0,IF(ThreatSum!N10=\"Very High\",Scoring!$B$24,IF(ThreatSum!N10=\"High\",Scoring!$B$25,IF(ThreatSum!N10=\"Medium\",Scoring!$B$26,IF(ThreatSum!N10=\"Low\",Scoring!$B$27)))))","v":false}]
[{"$f":"IF(B8>=Scoring!$B$38,\"Very High\",IF(B8>=Scoring!$B$39,\"High\",IF(B8>=Scoring!$B$40,\"Medium\",IF(B8>=Scoring!$B$41,\"Low\",IF(B8=0,\"\")))))","v":"Medium"},65,{"$f":"IF(ThreatSum!C11=0,0,IF(ThreatSum!C11=\"Very High\",Scoring!$B$24,IF(ThreatSum!C11=\"High\",Scoring!$B$25,IF(ThreatSum!C11=\"Medium\",Scoring!$B$26,IF(ThreatSum!C11=\"Low\",Scoring!$B$27)))))","v":false},{"$f":"IF(ThreatSum!D11=0,0,IF(ThreatSum!D11=\"Very High\",Scoring!$B$24,IF(ThreatSum!D11=\"High\",Scoring!$B$25,IF(ThreatSum!D11=\"Medium\",Scoring!$B$26,IF(ThreatSum!D11=\"Low\",Scoring!$B$27)))))","v":false},{"$f":"IF(ThreatSum!E11=0,0,IF(ThreatSum!E11=\"Very High\",Scoring!$B$24,IF(ThreatSum!E11=\"High\",Scoring!$B$25,IF(ThreatSum!E11=\"Medium\",Scoring!$B$26,IF(ThreatSum!E11=\"Low\",Scoring!$B$27)))))","v":false},{"$f":"IF(ThreatSum!F11=0,0,IF(ThreatSum!F11=\"Very High\",Scoring!$B$24,IF(ThreatSum!F11=\"High\",Scoring!$B$25,IF(ThreatSum!F11=\"Medium\",Scoring!$B$26,IF(ThreatSum!F11=\"Low\",Scoring!$B$27)))))","v":1},{"$f":"IF(ThreatSum!G11=0,0,IF(ThreatSum!G11=\"Very High\",Scoring!$B$24,IF(ThreatSum!G11=\"High\",Scoring!$B$25,IF(ThreatSum!G11=\"Medium\",Scoring!$B$26,IF(ThreatSum!G11=\"Low\",Scoring!$B$27)))))","v":7},{"$f":"IF(ThreatSum!H11=0,0,IF(ThreatSum!H11=\"Very High\",Scoring!$B$24,IF(ThreatSum!H11=\"High\",Scoring!$B$25,IF(ThreatSum!H11=\"Medium\",Scoring!$B$26,IF(ThreatSum!H11=\"Low\",Scoring!$B$27)))))","v":7},{"$f":"IF(ThreatSum!I11=0,0,IF(ThreatSum!I11=\"Very High\",Scoring!$B$24,IF(ThreatSum!I11=\"High\",Scoring!$B$25,IF(ThreatSum!I11=\"Medium\",Scoring!$B$26,IF(ThreatSum!I11=\"Low\",Scoring!$B$27)))))","v":7},{"$f":"IF(ThreatSum!J11=0,0,IF(ThreatSum!J11=\"Very High\",Scoring!$B$24,IF(ThreatSum!J11=\"High\",Scoring!$B$25,IF(ThreatSum!J11=\"Medium\",Scoring!$B$26,IF(ThreatSum!J11=\"Low\",Scoring!$B$27)))))","v":1},{"$f":"IF(ThreatSum!K11=0,0,IF(ThreatSum!K11=\"Very High\",Scoring!$B$24,IF(ThreatSum!K11=\"High\",Scoring!$B$25,IF(ThreatSum!K11=\"Medium\",Scoring!$B$26,IF(ThreatSum!K11=\"Low\",Scoring!$B$27)))))","v":35},{"$f":"IF(ThreatSum!L11=0,0,IF(ThreatSum!L11=\"Very High\",Scoring!$B$24,IF(ThreatSum!L11=\"High\",Scoring!$B$25,IF(ThreatSum!L11=\"Medium\",Scoring!$B$26,IF(ThreatSum!L11=\"Low\",Scoring!$B$27)))))","v":7},{"$f":"IF(ThreatSum!M11=0,0,IF(ThreatSum!M11=\"Very High\",Scoring!$B$24,IF(ThreatSum!M11=\"High\",Scoring!$B$25,IF(ThreatSum!M11=\"Medium\",Scoring!$B$26,IF(ThreatSum!M11=\"Low\",Scoring!$B$27)))))","v":false},{"$f":"IF(ThreatSum!N11=0,0,IF(ThreatSum!N11=\"Very High\",Scoring!$B$24,IF(ThreatSum!N11=\"High\",Scoring!$B$25,IF(ThreatSum!N11=\"Medium\",Scoring!$B$26,IF(ThreatSum!N11=\"Low\",Scoring!$B$27)))))","v":false}]
[{"$f":"IF(B9>=Scoring!$B$38,\"Very High\",IF(B9>=Scoring!$B$39,\"High\",IF(B9>=Scoring!$B$40,\"Medium\",IF(B9>=Scoring!$B$41,\"Low\",IF(B9=0,\"\")))))","v":"Medium"},50,{"$f":"IF(ThreatSum!C12=0,0,IF(ThreatSum!C12=\"Very High\",Scoring!$B$24,IF(ThreatSum!C12=\"High\",Scoring!$B$25,IF(ThreatSum!C12=\"Medium\",Scoring!$B$26,IF(ThreatSum!C12=\"Low\",Scoring!$B$27)))))","v":7},{"$f":"IF(ThreatSum!D12=0,0,IF(ThreatSum!D12=\"Very High\",Scoring!$B$24,IF(ThreatSum!D12=\"High\",Scoring!$B$25,IF(ThreatSum!D12=\"Medium\",Scoring!$B$26,IF(ThreatSum!D12=\"Low\",Scoring!$B$27)))))","v":35},{"$f":"IF(ThreatSum!E12=0,0,IF(ThreatSum!E12=\"Very High\",Scoring!$B$24,IF(ThreatSum!E12=\"High\",Scoring!$B$25,IF(ThreatSum!E12=\"Medium\",Scoring!$B$26,IF(ThreatSum!E12=\"Low\",Scoring!$B$27)))))","v":false},{"$f":"IF(ThreatSum!F12=0,0,IF(ThreatSum!F12=\"Very High\",Scoring!$B$24,IF(ThreatSum!F12=\"High\",Scoring!$B$25,IF(ThreatSum!F12=\"Medium\",Scoring!$B$26,IF(ThreatSum!F12=\"Low\",Scoring!$B$27)))))","v":7},{"$f":"IF(ThreatSum!G12=0,0,IF(ThreatSum!G12=\"Very High\",Scoring!$B$24,IF(ThreatSum!G12=\"High\",Scoring!$B$25,IF(ThreatSum!G12=\"Medium\",Scoring!$B$26,IF(ThreatSum!G12=\"Low\",Scoring!$B$27)))))","v":false},{"$f":"IF(ThreatSum!H12=0,0,IF(ThreatSum!H12=\"Very High\",Scoring!$B$24,IF(ThreatSum!H12=\"High\",Scoring!$B$25,IF(ThreatSum!H12=\"Medium\",Scoring!$B$26,IF(ThreatSum!H12=\"Low\",Scoring!$B$27)))))","v":1},{"$f":"IF(ThreatSum!I12=0,0,IF(ThreatSum!I12=\"Very High\",Scoring!$B$24,IF(ThreatSum!I12=\"High\",Scoring!$B$25,IF(ThreatSum!I12=\"Medium\",Scoring!$B$26,IF(ThreatSum!I12=\"Low\",Scoring!$B$27)))))","v":false},{"$f":"IF(ThreatSum!J12=0,0,IF(ThreatSum!J12=\"Very High\",Scoring!$B$24,IF(ThreatSum!J12=\"High\",Scoring!$B$25,IF(ThreatSum!J12=\"Medium\",Scoring!$B$26,IF(ThreatSum!J12=\"Low\",Scoring!$B$27)))))","v":false},{"$f":"IF(ThreatSum!K12=0,0,IF(ThreatSum!K12=\"Very High\",Scoring!$B$24,IF(ThreatSum!K12=\"High\",Scoring!$B$25,IF(ThreatSum!K12=\"Medium\",Scoring!$B$26,IF(ThreatSum!K12=\"Low\",Scoring!$B$27)))))","v":false},{"$f":"IF(ThreatSum!L12=0,0,IF(ThreatSum!L12=\"Very High\",Scoring!$B$24,IF(ThreatSum!L12=\"High\",Scoring!$B$25,IF(ThreatSum!L12=\"Medium\",Scoring!$B$26,IF(ThreatSum!L12=\"Low\",Scoring!$B$27)))))","v":false},{"$f":"IF(ThreatSum!M12=0,0,IF(ThreatSum!M12=\"Very High\",Scoring!$B$24,IF(ThreatSum!M12=\"High\",Scoring!$B$25,IF(ThreatSum!M12=\"Medium\",Scoring!$B$26,IF(ThreatSum!M12=\"Low\",Scoring!$B$27)))))","v":false},{"$f":"IF(ThreatSum!N12=0,0,IF(ThreatSum!N12=\"Very High\",Scoring!$B$24,IF(ThreatSum!N12=\"High\",Scoring!$B$25,IF(ThreatSum!N12=\"Medium\",Scoring!$B$26,IF(ThreatSum!N12=\"Low\",Scoring!$B$27)))))","v":false}]
[{"$f":"IF(B10>=Scoring!$B$38,\"Very High\",IF(B10>=Scoring!$B$39,\"High\",IF(B10>=Scoring!$B$40,\"Medium\",IF(B10>=Scoring!$B$41,\"Low\",IF(B10=0,\"\")))))","v":"Medium"},50,{"$f":"IF(ThreatSum!C13=0,0,IF(ThreatSum!C13=\"Very High\",Scoring!$B$24,IF(ThreatSum!C13=\"High\",Scoring!$B$25,IF(ThreatSum!C13=\"Medium\",Scoring!$B$26,IF(ThreatSum!C13=\"Low\",Scoring!$B$27)))))","v":false},{"$f":"IF(ThreatSum!D13=0,0,IF(ThreatSum!D13=\"Very High\",Scoring!$B$24,IF(ThreatSum!D13=\"High\",Scoring!$B$25,IF(ThreatSum!D13=\"Medium\",Scoring!$B$26,IF(ThreatSum!D13=\"Low\",Scoring!$B$27)))))","v":false},{"$f":"IF(ThreatSum!E13=0,0,IF(ThreatSum!E13=\"Very High\",Scoring!$B$24,IF(ThreatSum!E13=\"High\",Scoring!$B$25,IF(ThreatSum!E13=\"Medium\",Scoring!$B$26,IF(ThreatSum!E13=\"Low\",Scoring!$B$27)))))","v":false},{"$f":"IF(ThreatSum!F13=0,0,IF(ThreatSum!F13=\"Very High\",Scoring!$B$24,IF(ThreatSum!F13=\"High\",Scoring!$B$25,IF(ThreatSum!F13=\"Medium\",Scoring!$B$26,IF(ThreatSum!F13=\"Low\",Scoring!$B$27)))))","v":false},{"$f":"IF(ThreatSum!G13=0,0,IF(ThreatSum!G13=\"Very High\",Scoring!$B$24,IF(ThreatSum!G13=\"High\",Scoring!$B$25,IF(ThreatSum!G13=\"Medium\",Scoring!$B$26,IF(ThreatSum!G13=\"Low\",Scoring!$B$27)))))","v":1},{"$f":"IF(ThreatSum!H13=0,0,IF(ThreatSum!H13=\"Very High\",Scoring!$B$24,IF(ThreatSum!H13=\"High\",Scoring!$B$25,IF(ThreatSum!H13=\"Medium\",Scoring!$B$26,IF(ThreatSum!H13=\"Low\",Scoring!$B$27)))))","v":false},{"$f":"IF(ThreatSum!I13=0,0,IF(ThreatSum!I13=\"Very High\",Scoring!$B$24,IF(ThreatSum!I13=\"High\",Scoring!$B$25,IF(ThreatSum!I13=\"Medium\",Scoring!$B$26,IF(ThreatSum!I13=\"Low\",Scoring!$B$27)))))","v":35},{"$f":"IF(ThreatSum!J13=0,0,IF(ThreatSum!J13=\"Very High\",Scoring!$B$24,IF(ThreatSum!J13=\"High\",Scoring!$B$25,IF(ThreatSum!J13=\"Medium\",Scoring!$B$26,IF(ThreatSum!J13=\"Low\",Scoring!$B$27)))))","v":false},{"$f":"IF(ThreatSum!K13=0,0,IF(ThreatSum!K13=\"Very High\",Scoring!$B$24,IF(ThreatSum!K13=\"High\",Scoring!$B$25,IF(ThreatSum!K13=\"Medium\",Scoring!$B$26,IF(ThreatSum!K13=\"Low\",Scoring!$B$27)))))","v":7},{"$f":"IF(ThreatSum!L13=0,0,IF(ThreatSum!L13=\"Very High\",Scoring!$B$24,IF(ThreatSum!L13=\"High\",Scoring!$B$25,IF(ThreatSum!L13=\"Medium\",Scoring!$B$26,IF(ThreatSum!L13=\"Low\",Scoring!$B$27)))))","v":7},{"$f":"IF(ThreatSum!M13=0,0,IF(ThreatSum!M13=\"Very High\",Scoring!$B$24,IF(ThreatSum!M13=\"High\",Scoring!$B$25,IF(ThreatSum!M13=\"Medium\",Scoring!$B$26,IF(ThreatSum!M13=\"Low\",Scoring!$B$27)))))","v":false},{"$f":"IF(ThreatSum!N13=0,0,IF(ThreatSum!N13=\"Very High\",Scoring!$B$24,IF(ThreatSum!N13=\"High\",Scoring!$B$25,IF(ThreatSum!N13=\"Medium\",Scoring!$B$26,IF(ThreatSum!N13=\"Low\",Scoring!$B$27)))))","v":false}]
[{"$f":"IF(B11>=Scoring!$B$38,\"Very High\",IF(B11>=Scoring!$B$39,\"High\",IF(B11>=Scoring!$B$40,\"Medium\",IF(B11>=Scoring!$B$41,\"Low\",IF(B11=0,\"\")))))","v":"Medium"},45,{"$f":"IF(ThreatSum!C14=0,0,IF(ThreatSum!C14=\"Very High\",Scoring!$B$24,IF(ThreatSum!C14=\"High\",Scoring!$B$25,IF(ThreatSum!C14=\"Medium\",Scoring!$B$26,IF(ThreatSum!C14=\"Low\",Scoring!$B$27)))))","v":35},{"$f":"IF(ThreatSum!D14=0,0,IF(ThreatSum!D14=\"Very High\",Scoring!$B$24,IF(ThreatSum!D14=\"High\",Scoring!$B$25,IF(ThreatSum!D14=\"Medium\",Scoring!$B$26,IF(ThreatSum!D14=\"Low\",Scoring!$B$27)))))","v":1},{"$f":"IF(ThreatSum!E14=0,0,IF(ThreatSum!E14=\"Very High\",Scoring!$B$24,IF(ThreatSum!E14=\"High\",Scoring!$B$25,IF(ThreatSum!E14=\"Medium\",Scoring!$B$26,IF(ThreatSum!E14=\"Low\",Scoring!$B$27)))))","v":false},{"$f":"IF(ThreatSum!F14=0,0,IF(ThreatSum!F14=\"Very High\",Scoring!$B$24,IF(ThreatSum!F14=\"High\",Scoring!$B$25,IF(ThreatSum!F14=\"Medium\",Scoring!$B$26,IF(ThreatSum!F14=\"Low\",Scoring!$B$27)))))","v":7},{"$f":"IF(ThreatSum!G14=0,0,IF(ThreatSum!G14=\"Very High\",Scoring!$B$24,IF(ThreatSum!G14=\"High\",Scoring!$B$25,IF(ThreatSum!G14=\"Medium\",Scoring!$B$26,IF(ThreatSum!G14=\"Low\",Scoring!$B$27)))))","v":false},{"$f":"IF(ThreatSum!H14=0,0,IF(ThreatSum!H14=\"Very High\",Scoring!$B$24,IF(ThreatSum!H14=\"High\",Scoring!$B$25,IF(ThreatSum!H14=\"Medium\",Scoring!$B$26,IF(ThreatSum!H14=\"Low\",Scoring!$B$27)))))","v":1},{"$f":"IF(ThreatSum!I14=0,0,IF(ThreatSum!I14=\"Very High\",Scoring!$B$24,IF(ThreatSum!I14=\"High\",Scoring!$B$25,IF(ThreatSum!I14=\"Medium\",Scoring!$B$26,IF(ThreatSum!I14=\"Low\",Scoring!$B$27)))))","v":false},{"$f":"IF(ThreatSum!J14=0,0,IF(ThreatSum!J14=\"Very High\",Scoring!$B$24,IF(ThreatSum!J14=\"High\",Scoring!$B$25,IF(ThreatSum!J14=\"Medium\",Scoring!$B$26,IF(ThreatSum!J14=\"Low\",Scoring!$B$27)))))","v":1},{"$f":"IF(ThreatSum!K14=0,0,IF(ThreatSum!K14=\"Very High\",Scoring!$B$24,IF(ThreatSum!K14=\"High\",Scoring!$B$25,IF(ThreatSum!K14=\"Medium\",Scoring!$B$26,IF(ThreatSum!K14=\"Low\",Scoring!$B$27)))))","v":false},{"$f":"IF(ThreatSum!L14=0,0,IF(ThreatSum!L14=\"Very High\",Scoring!$B$24,IF(ThreatSum!L14=\"High\",Scoring!$B$25,IF(ThreatSum!L14=\"Medium\",Scoring!$B$26,IF(ThreatSum!L14=\"Low\",Scoring!$B$27)))))","v":false},{"$f":"IF(ThreatSum!M14=0,0,IF(ThreatSum!M14=\"Very High\",Scoring!$B$24,IF(ThreatSum!M14=\"High\",Scoring!$B$25,IF(ThreatSum!M14=\"Medium\",Scoring!$B$26,IF(ThreatSum!M14=\"Low\",Scoring!$B$27)))))","v":false},{"$f":"IF(ThreatSum!N14=0,0,IF(ThreatSum!N14=\"Very High\",Scoring!$B$24,IF(ThreatSum!N14=\"High\",Scoring!$B$25,IF(ThreatSum!N14=\"Medium\",Scoring!$B$26,IF(ThreatSum!N14=\"Low\",Scoring!$B$27)))))","v":false}]
[{"$f":"IF(B12>=Scoring!$B$38,\"Very High\",IF(B12>=Scoring!$B$39,\"High\",IF(B12>=Scoring!$B$40,\"Medium\",IF(B12>=Scoring!$B$41,\"Low\",IF(B12=0,\"\")))))","v":"Medium"},43,{"$f":"IF(ThreatSum!C15=0,0,IF(ThreatSum!C15=\"Very High\",Scoring!$B$24,IF(ThreatSum!C15=\"High\",Scoring!$B$25,IF(ThreatSum!C15=\"Medium\",Scoring!$B$26,IF(ThreatSum!C15=\"Low\",Scoring!$B$27)))))","v":false},{"$f":"IF(ThreatSum!D15=0,0,IF(ThreatSum!D15=\"Very High\",Scoring!$B$24,IF(ThreatSum!D15=\"High\",Scoring!$B$25,IF(ThreatSum!D15=\"Medium\",Scoring!$B$26,IF(ThreatSum!D15=\"Low\",Scoring!$B$27)))))","v":false},{"$f":"IF(ThreatSum!E15=0,0,IF(ThreatSum!E15=\"Very High\",Scoring!$B$24,IF(ThreatSum!E15=\"High\",Scoring!$B$25,IF(ThreatSum!E15=\"Medium\",Scoring!$B$26,IF(ThreatSum!E15=\"Low\",Scoring!$B$27)))))","v":false},{"$f":"IF(ThreatSum!F15=0,0,IF(ThreatSum!F15=\"Very High\",Scoring!$B$24,IF(ThreatSum!F15=\"High\",Scoring!$B$25,IF(ThreatSum!F15=\"Medium\",Scoring!$B$26,IF(ThreatSum!F15=\"Low\",Scoring!$B$27)))))","v":1},{"$f":"IF(ThreatSum!G15=0,0,IF(ThreatSum!G15=\"Very High\",Scoring!$B$24,IF(ThreatSum!G15=\"High\",Scoring!$B$25,IF(ThreatSum!G15=\"Medium\",Scoring!$B$26,IF(ThreatSum!G15=\"Low\",Scoring!$B$27)))))","v":7},{"$f":"IF(ThreatSum!H15=0,0,IF(ThreatSum!H15=\"Very High\",Scoring!$B$24,IF(ThreatSum!H15=\"High\",Scoring!$B$25,IF(ThreatSum!H15=\"Medium\",Scoring!$B$26,IF(ThreatSum!H15=\"Low\",Scoring!$B$27)))))","v":35},{"$f":"IF(ThreatSum!I15=0,0,IF(ThreatSum!I15=\"Very High\",Scoring!$B$24,IF(ThreatSum!I15=\"High\",Scoring!$B$25,IF(ThreatSum!I15=\"Medium\",Scoring!$B$26,IF(ThreatSum!I15=\"Low\",Scoring!$B$27)))))","v":false},{"$f":"IF(ThreatSum!J15=0,0,IF(ThreatSum!J15=\"Very High\",Scoring!$B$24,IF(ThreatSum!J15=\"High\",Scoring!$B$25,IF(ThreatSum!J15=\"Medium\",Scoring!$B$26,IF(ThreatSum!J15=\"Low\",Scoring!$B$27)))))","v":false},{"$f":"IF(ThreatSum!K15=0,0,IF(ThreatSum!K15=\"Very High\",Scoring!$B$24,IF(ThreatSum!K15=\"High\",Scoring!$B$25,IF(ThreatSum!K15=\"Medium\",Scoring!$B$26,IF(ThreatSum!K15=\"Low\",Scoring!$B$27)))))","v":false},{"$f":"IF(ThreatSum!L15=0,0,IF(ThreatSum!L15=\"Very High\",Scoring!$B$24,IF(ThreatSum!L15=\"High\",Scoring!$B$25,IF(ThreatSum!L15=\"Medium\",Scoring!$B$26,IF(ThreatSum!L15=\"Low\",Scoring!$B$27)))))","v":false},{"$f":"IF(ThreatSum!M15=0,0,IF(ThreatSum!M15=\"Very High\",Scoring!$B$24,IF(ThreatSum!M15=\"High\",Scoring!$B$25,IF(ThreatSum!M15=\"Medium\",Scoring!$B$26,IF(ThreatSum!M15=\"Low\",Scoring!$B$27)))))","v":false},{"$f":"IF(ThreatSum!N15=0,0,IF(ThreatSum!N15=\"Very High\",Scoring!$B$24,IF(ThreatSum!N15=\"High\",Scoring!$B$25,IF(ThreatSum!N15=\"Medium\",Scoring!$B$26,IF(ThreatSum!N15=\"Low\",Scoring!$B$27)))))","v":false}]
[{"$f":"IF(B13>=Scoring!$B$38,\"Very High\",IF(B13>=Scoring!$B$39,\"High\",IF(B13>=Scoring!$B$40,\"Medium\",IF(B13>=Scoring!$B$41,\"Low\",IF(B13=0,\"\")))))","v":"Medium"},43,{"$f":"IF(ThreatSum!C16=0,0,IF(ThreatSum!C16=\"Very High\",Scoring!$B$24,IF(ThreatSum!C16=\"High\",Scoring!$B$25,IF(ThreatSum!C16=\"Medium\",Scoring!$B$26,IF(ThreatSum!C16=\"Low\",Scoring!$B$27)))))","v":false},{"$f":"IF(ThreatSum!D16=0,0,IF(ThreatSum!D16=\"Very High\",Scoring!$B$24,IF(ThreatSum!D16=\"High\",Scoring!$B$25,IF(ThreatSum!D16=\"Medium\",Scoring!$B$26,IF(ThreatSum!D16=\"Low\",Scoring!$B$27)))))","v":false},{"$f":"IF(ThreatSum!E16=0,0,IF(ThreatSum!E16=\"Very High\",Scoring!$B$24,IF(ThreatSum!E16=\"High\",Scoring!$B$25,IF(ThreatSum!E16=\"Medium\",Scoring!$B$26,IF(ThreatSum!E16=\"Low\",Scoring!$B$27)))))","v":false},{"$f":"IF(ThreatSum!F16=0,0,IF(ThreatSum!F16=\"Very High\",Scoring!$B$24,IF(ThreatSum!F16=\"High\",Scoring!$B$25,IF(ThreatSum!F16=\"Medium\",Scoring!$B$26,IF(ThreatSum!F16=\"Low\",Scoring!$B$27)))))","v":false},{"$f":"IF(ThreatSum!G16=0,0,IF(ThreatSum!G16=\"Very High\",Scoring!$B$24,IF(ThreatSum!G16=\"High\",Scoring!$B$25,IF(ThreatSum!G16=\"Medium\",Scoring!$B$26,IF(ThreatSum!G16=\"Low\",Scoring!$B$27)))))","v":35},{"$f":"IF(ThreatSum!H16=0,0,IF(ThreatSum!H16=\"Very High\",Scoring!$B$24,IF(ThreatSum!H16=\"High\",Scoring!$B$25,IF(ThreatSum!H16=\"Medium\",Scoring!$B$26,IF(ThreatSum!H16=\"Low\",Scoring!$B$27)))))","v":7},{"$f":"IF(ThreatSum!I16=0,0,IF(ThreatSum!I16=\"Very High\",Scoring!$B$24,IF(ThreatSum!I16=\"High\",Scoring!$B$25,IF(ThreatSum!I16=\"Medium\",Scoring!$B$26,IF(ThreatSum!I16=\"Low\",Scoring!$B$27)))))","v":false},{"$f":"IF(ThreatSum!J16=0,0,IF(ThreatSum!J16=\"Very High\",Scoring!$B$24,IF(ThreatSum!J16=\"High\",Scoring!$B$25,IF(ThreatSum!J16=\"Medium\",Scoring!$B$26,IF(ThreatSum!J16=\"Low\",Scoring!$B$27)))))","v":false},{"$f":"IF(ThreatSum!K16=0,0,IF(ThreatSum!K16=\"Very High\",Scoring!$B$24,IF(ThreatSum!K16=\"High\",Scoring!$B$25,IF(ThreatSum!K16=\"Medium\",Scoring!$B$26,IF(ThreatSum!K16=\"Low\",Scoring!$B$27)))))","v":false},{"$f":"IF(ThreatSum!L16=0,0,IF(ThreatSum!L16=\"Very High\",Scoring!$B$24,IF(ThreatSum!L16=\"High\",Scoring!$B$25,IF(ThreatSum!L16=\"Medium\",Scoring!$B$26,IF(ThreatSum!L16=\"Low\",Scoring!$B$27)))))","v":1},{"$f":"IF(ThreatSum!M16=0,0,IF(ThreatSum!M16=\"Very High\",Scoring!$B$24,IF(ThreatSum!M16=\"High\",Scoring!$B$25,IF(ThreatSum!M16=\"Medium\",Scoring!$B$26,IF(ThreatSum!M16=\"Low\",Scoring!$B$27)))))","v":false},{"$f":"IF(ThreatSum!N16=0,0,IF(ThreatSum!N16=\"Very High\",Scoring!$B$24,IF(ThreatSum!N16=\"High\",Scoring!$B$25,IF(ThreatSum!N16=\"Medium\",Scoring!$B$26,IF(ThreatSum!N16=\"Low\",Scoring!$B$27)))))","v":false}]
[{"$f":"IF(B14>=Scoring!$B$38,\"Very High\",IF(B14>=Scoring!$B$39,\"High\",IF(B14>=Scoring!$B$40,\"Medium\",IF(B14>=Scoring!$B$41,\"Low\",IF(B14=0,\"\")))))","v":"Medium"},39,{"$f":"IF(ThreatSum!C17=0,0,IF(ThreatSum!C17=\"Very High\",Scoring!$B$24,IF(ThreatSum!C17=\"High\",Scoring!$B$25,IF(ThreatSum!C17=\"Medium\",Scoring!$B$26,IF(ThreatSum!C17=\"Low\",Scoring!$B$27)))))","v":1},{"$f":"IF(ThreatSum!D17=0,0,IF(ThreatSum!D17=\"Very High\",Scoring!$B$24,IF(ThreatSum!D17=\"High\",Scoring!$B$25,IF(ThreatSum!D17=\"Medium\",Scoring!$B$26,IF(ThreatSum!D17=\"Low\",Scoring!$B$27)))))","v":1},{"$f":"IF(ThreatSum!E17=0,0,IF(ThreatSum!E17=\"Very High\",Scoring!$B$24,IF(ThreatSum!E17=\"High\",Scoring!$B$25,IF(ThreatSum!E17=\"Medium\",Scoring!$B$26,IF(ThreatSum!E17=\"Low\",Scoring!$B$27)))))","v":false},{"$f":"IF(ThreatSum!F17=0,0,IF(ThreatSum!F17=\"Very High\",Scoring!$B$24,IF(ThreatSum!F17=\"High\",Scoring!$B$25,IF(ThreatSum!F17=\"Medium\",Scoring!$B$26,IF(ThreatSum!F17=\"Low\",Scoring!$B$27)))))","v":35},{"$f":"IF(ThreatSum!G17=0,0,IF(ThreatSum!G17=\"Very High\",Scoring!$B$24,IF(ThreatSum!G17=\"High\",Scoring!$B$25,IF(ThreatSum!G17=\"Medium\",Scoring!$B$26,IF(ThreatSum!G17=\"Low\",Scoring!$B$27)))))","v":false},{"$f":"IF(ThreatSum!H17=0,0,IF(ThreatSum!H17=\"Very High\",Scoring!$B$24,IF(ThreatSum!H17=\"High\",Scoring!$B$25,IF(ThreatSum!H17=\"Medium\",Scoring!$B$26,IF(ThreatSum!H17=\"Low\",Scoring!$B$27)))))","v":1},{"$f":"IF(ThreatSum!I17=0,0,IF(ThreatSum!I17=\"Very High\",Scoring!$B$24,IF(ThreatSum!I17=\"High\",Scoring!$B$25,IF(ThreatSum!I17=\"Medium\",Scoring!$B$26,IF(ThreatSum!I17=\"Low\",Scoring!$B$27)))))","v":false},{"$f":"IF(ThreatSum!J17=0,0,IF(ThreatSum!J17=\"Very High\",Scoring!$B$24,IF(ThreatSum!J17=\"High\",Scoring!$B$25,IF(ThreatSum!J17=\"Medium\",Scoring!$B$26,IF(ThreatSum!J17=\"Low\",Scoring!$B$27)))))","v":1},{"$f":"IF(ThreatSum!K17=0,0,IF(ThreatSum!K17=\"Very High\",Scoring!$B$24,IF(ThreatSum!K17=\"High\",Scoring!$B$25,IF(ThreatSum!K17=\"Medium\",Scoring!$B$26,IF(ThreatSum!K17=\"Low\",Scoring!$B$27)))))","v":false},{"$f":"IF(ThreatSum!L17=0,0,IF(ThreatSum!L17=\"Very High\",Scoring!$B$24,IF(ThreatSum!L17=\"High\",Scoring!$B$25,IF(ThreatSum!L17=\"Medium\",Scoring!$B$26,IF(ThreatSum!L17=\"Low\",Scoring!$B$27)))))","v":false},{"$f":"IF(ThreatSum!M17=0,0,IF(ThreatSum!M17=\"Very High\",Scoring!$B$24,IF(ThreatSum!M17=\"High\",Scoring!$B$25,IF(ThreatSum!M17=\"Medium\",Scoring!$B$26,IF(ThreatSum!M17=\"Low\",Scoring!$B$27)))))","v":false},{"$f":"IF(ThreatSum!N17=0,0,IF(ThreatSum!N17=\"Very High\",Scoring!$B$24,IF(ThreatSum!N17=\"High\",Scoring!$B$25,IF(ThreatSum!N17=\"Medium\",Scoring!$B$26,IF(ThreatSum!N17=\"Low\",Scoring!$B$27)))))","v":false}]
[{"$f":"IF(B15>=Scoring!$B$38,\"Very High\",IF(B15>=Scoring!$B$39,\"High\",IF(B15>=Scoring!$B$40,\"Medium\",IF(B15>=Scoring!$B$41,\"Low\",IF(B15=0,\"\")))))","v":"Medium"},37,{"$f":"IF(ThreatSum!C18=0,0,IF(ThreatSum!C18=\"Very High\",Scoring!$B$24,IF(ThreatSum!C18=\"High\",Scoring!$B$25,IF(ThreatSum!C18=\"Medium\",Scoring!$B$26,IF(ThreatSum!C18=\"Low\",Scoring!$B$27)))))","v":false},{"$f":"IF(ThreatSum!D18=0,0,IF(ThreatSum!D18=\"Very High\",Scoring!$B$24,IF(ThreatSum!D18=\"High\",Scoring!$B$25,IF(ThreatSum!D18=\"Medium\",Scoring!$B$26,IF(ThreatSum!D18=\"Low\",Scoring!$B$27)))))","v":false},{"$f":"IF(ThreatSum!E18=0,0,IF(ThreatSum!E18=\"Very High\",Scoring!$B$24,IF(ThreatSum!E18=\"High\",Scoring!$B$25,IF(ThreatSum!E18=\"Medium\",Scoring!$B$26,IF(ThreatSum!E18=\"Low\",Scoring!$B$27)))))","v":false},{"$f":"IF(ThreatSum!F18=0,0,IF(ThreatSum!F18=\"Very High\",Scoring!$B$24,IF(ThreatSum!F18=\"High\",Scoring!$B$25,IF(ThreatSum!F18=\"Medium\",Scoring!$B$26,IF(ThreatSum!F18=\"Low\",Scoring!$B$27)))))","v":false},{"$f":"IF(ThreatSum!G18=0,0,IF(ThreatSum!G18=\"Very High\",Scoring!$B$24,IF(ThreatSum!G18=\"High\",Scoring!$B$25,IF(ThreatSum!G18=\"Medium\",Scoring!$B$26,IF(ThreatSum!G18=\"Low\",Scoring!$B$27)))))","v":false},{"$f":"IF(ThreatSum!H18=0,0,IF(ThreatSum!H18=\"Very High\",Scoring!$B$24,IF(ThreatSum!H18=\"High\",Scoring!$B$25,IF(ThreatSum!H18=\"Medium\",Scoring!$B$26,IF(ThreatSum!H18=\"Low\",Scoring!$B$27)))))","v":1},{"$f":"IF(ThreatSum!I18=0,0,IF(ThreatSum!I18=\"Very High\",Scoring!$B$24,IF(ThreatSum!I18=\"High\",Scoring!$B$25,IF(ThreatSum!I18=\"Medium\",Scoring!$B$26,IF(ThreatSum!I18=\"Low\",Scoring!$B$27)))))","v":false},{"$f":"IF(ThreatSum!J18=0,0,IF(ThreatSum!J18=\"Very High\",Scoring!$B$24,IF(ThreatSum!J18=\"High\",Scoring!$B$25,IF(ThreatSum!J18=\"Medium\",Scoring!$B$26,IF(ThreatSum!J18=\"Low\",Scoring!$B$27)))))","v":1},{"$f":"IF(ThreatSum!K18=0,0,IF(ThreatSum!K18=\"Very High\",Scoring!$B$24,IF(ThreatSum!K18=\"High\",Scoring!$B$25,IF(ThreatSum!K18=\"Medium\",Scoring!$B$26,IF(ThreatSum!K18=\"Low\",Scoring!$B$27)))))","v":35},{"$f":"IF(ThreatSum!L18=0,0,IF(ThreatSum!L18=\"Very High\",Scoring!$B$24,IF(ThreatSum!L18=\"High\",Scoring!$B$25,IF(ThreatSum!L18=\"Medium\",Scoring!$B$26,IF(ThreatSum!L18=\"Low\",Scoring!$B$27)))))","v":false},{"$f":"IF(ThreatSum!M18=0,0,IF(ThreatSum!M18=\"Very High\",Scoring!$B$24,IF(ThreatSum!M18=\"High\",Scoring!$B$25,IF(ThreatSum!M18=\"Medium\",Scoring!$B$26,IF(ThreatSum!M18=\"Low\",Scoring!$B$27)))))","v":false},{"$f":"IF(ThreatSum!N18=0,0,IF(ThreatSum!N18=\"Very High\",Scoring!$B$24,IF(ThreatSum!N18=\"High\",Scoring!$B$25,IF(ThreatSum!N18=\"Medium\",Scoring!$B$26,IF(ThreatSum!N18=\"Low\",Scoring!$B$27)))))","v":false}]
[{"$f":"IF(B16>=Scoring!$B$38,\"Very High\",IF(B16>=Scoring!$B$39,\"High\",IF(B16>=Scoring!$B$40,\"Medium\",IF(B16>=Scoring!$B$41,\"Low\",IF(B16=0,\"\")))))","v":"Medium"},22,{"$f":"IF(ThreatSum!C19=0,0,IF(ThreatSum!C19=\"Very High\",Scoring!$B$24,IF(ThreatSum!C19=\"High\",Scoring!$B$25,IF(ThreatSum!C19=\"Medium\",Scoring!$B$26,IF(ThreatSum!C19=\"Low\",Scoring!$B$27)))))","v":false},{"$f":"IF(ThreatSum!D19=0,0,IF(ThreatSum!D19=\"Very High\",Scoring!$B$24,IF(ThreatSum!D19=\"High\",Scoring!$B$25,IF(ThreatSum!D19=\"Medium\",Scoring!$B$26,IF(ThreatSum!D19=\"Low\",Scoring!$B$27)))))","v":false},{"$f":"IF(ThreatSum!E19=0,0,IF(ThreatSum!E19=\"Very High\",Scoring!$B$24,IF(ThreatSum!E19=\"High\",Scoring!$B$25,IF(ThreatSum!E19=\"Medium\",Scoring!$B$26,IF(ThreatSum!E19=\"Low\",Scoring!$B$27)))))","v":false},{"$f":"IF(ThreatSum!F19=0,0,IF(ThreatSum!F19=\"Very High\",Scoring!$B$24,IF(ThreatSum!F19=\"High\",Scoring!$B$25,IF(ThreatSum!F19=\"Medium\",Scoring!$B$26,IF(ThreatSum!F19=\"Low\",Scoring!$B$27)))))","v":7},{"$f":"IF(ThreatSum!G19=0,0,IF(ThreatSum!G19=\"Very High\",Scoring!$B$24,IF(ThreatSum!G19=\"High\",Scoring!$B$25,IF(ThreatSum!G19=\"Medium\",Scoring!$B$26,IF(ThreatSum!G19=\"Low\",Scoring!$B$27)))))","v":false},{"$f":"IF(ThreatSum!H19=0,0,IF(ThreatSum!H19=\"Very High\",Scoring!$B$24,IF(ThreatSum!H19=\"High\",Scoring!$B$25,IF(ThreatSum!H19=\"Medium\",Scoring!$B$26,IF(ThreatSum!H19=\"Low\",Scoring!$B$27)))))","v":false},{"$f":"IF(ThreatSum!I19=0,0,IF(ThreatSum!I19=\"Very High\",Scoring!$B$24,IF(ThreatSum!I19=\"High\",Scoring!$B$25,IF(ThreatSum!I19=\"Medium\",Scoring!$B$26,IF(ThreatSum!I19=\"Low\",Scoring!$B$27)))))","v":false},{"$f":"IF(ThreatSum!J19=0,0,IF(ThreatSum!J19=\"Very High\",Scoring!$B$24,IF(ThreatSum!J19=\"High\",Scoring!$B$25,IF(ThreatSum!J19=\"Medium\",Scoring!$B$26,IF(ThreatSum!J19=\"Low\",Scoring!$B$27)))))","v":7},{"$f":"IF(ThreatSum!K19=0,0,IF(ThreatSum!K19=\"Very High\",Scoring!$B$24,IF(ThreatSum!K19=\"High\",Scoring!$B$25,IF(ThreatSum!K19=\"Medium\",Scoring!$B$26,IF(ThreatSum!K19=\"Low\",Scoring!$B$27)))))","v":7},{"$f":"IF(ThreatSum!L19=0,0,IF(ThreatSum!L19=\"Very High\",Scoring!$B$24,IF(ThreatSum!L19=\"High\",Scoring!$B$25,IF(ThreatSum!L19=\"Medium\",Scoring!$B$26,IF(ThreatSum!L19=\"Low\",Scoring!$B$27)))))","v":1},{"$f":"IF(ThreatSum!M19=0,0,IF(ThreatSum!M19=\"Very High\",Scoring!$B$24,IF(ThreatSum!M19=\"High\",Scoring!$B$25,IF(ThreatSum!M19=\"Medium\",Scoring!$B$26,IF(ThreatSum!M19=\"Low\",Scoring!$B$27)))))","v":false},{"$f":"IF(ThreatSum!N19=0,0,IF(ThreatSum!N19=\"Very High\",Scoring!$B$24,IF(ThreatSum!N19=\"High\",Scoring!$B$25,IF(ThreatSum!N19=\"Medium\",Scoring!$B$26,IF(ThreatSum!N19=\"Low\",Scoring!$B$27)))))","v":false}]
[{"$f":"IF(B17>=Scoring!$B$38,\"Very High\",IF(B17>=Scoring!$B$39,\"High\",IF(B17>=Scoring!$B$40,\"Medium\",IF(B17>=Scoring!$B$41,\"Low\",IF(B17=0,\"\")))))","v":"Medium"},18,{"$f":"IF(ThreatSum!C20=0,0,IF(ThreatSum!C20=\"Very High\",Scoring!$B$24,IF(ThreatSum!C20=\"High\",Scoring!$B$25,IF(ThreatSum!C20=\"Medium\",Scoring!$B$26,IF(ThreatSum!C20=\"Low\",Scoring!$B$27)))))","v":false},{"$f":"IF(ThreatSum!D20=0,0,IF(ThreatSum!D20=\"Very High\",Scoring!$B$24,IF(ThreatSum!D20=\"High\",Scoring!$B$25,IF(ThreatSum!D20=\"Medium\",Scoring!$B$26,IF(ThreatSum!D20=\"Low\",Scoring!$B$27)))))","v":1},{"$f":"IF(ThreatSum!E20=0,0,IF(ThreatSum!E20=\"Very High\",Scoring!$B$24,IF(ThreatSum!E20=\"High\",Scoring!$B$25,IF(ThreatSum!E20=\"Medium\",Scoring!$B$26,IF(ThreatSum!E20=\"Low\",Scoring!$B$27)))))","v":false},{"$f":"IF(ThreatSum!F20=0,0,IF(ThreatSum!F20=\"Very High\",Scoring!$B$24,IF(ThreatSum!F20=\"High\",Scoring!$B$25,IF(ThreatSum!F20=\"Medium\",Scoring!$B$26,IF(ThreatSum!F20=\"Low\",Scoring!$B$27)))))","v":1},{"$f":"IF(ThreatSum!G20=0,0,IF(ThreatSum!G20=\"Very High\",Scoring!$B$24,IF(ThreatSum!G20=\"High\",Scoring!$B$25,IF(ThreatSum!G20=\"Medium\",Scoring!$B$26,IF(ThreatSum!G20=\"Low\",Scoring!$B$27)))))","v":false},{"$f":"IF(ThreatSum!H20=0,0,IF(ThreatSum!H20=\"Very High\",Scoring!$B$24,IF(ThreatSum!H20=\"High\",Scoring!$B$25,IF(ThreatSum!H20=\"Medium\",Scoring!$B$26,IF(ThreatSum!H20=\"Low\",Scoring!$B$27)))))","v":1},{"$f":"IF(ThreatSum!I20=0,0,IF(ThreatSum!I20=\"Very High\",Scoring!$B$24,IF(ThreatSum!I20=\"High\",Scoring!$B$25,IF(ThreatSum!I20=\"Medium\",Scoring!$B$26,IF(ThreatSum!I20=\"Low\",Scoring!$B$27)))))","v":7},{"$f":"IF(ThreatSum!J20=0,0,IF(ThreatSum!J20=\"Very High\",Scoring!$B$24,IF(ThreatSum!J20=\"High\",Scoring!$B$25,IF(ThreatSum!J20=\"Medium\",Scoring!$B$26,IF(ThreatSum!J20=\"Low\",Scoring!$B$27)))))","v":false},{"$f":"IF(ThreatSum!K20=0,0,IF(ThreatSum!K20=\"Very High\",Scoring!$B$24,IF(ThreatSum!K20=\"High\",Scoring!$B$25,IF(ThreatSum!K20=\"Medium\",Scoring!$B$26,IF(ThreatSum!K20=\"Low\",Scoring!$B$27)))))","v":7},{"$f":"IF(ThreatSum!L20=0,0,IF(ThreatSum!L20=\"Very High\",Scoring!$B$24,IF(ThreatSum!L20=\"High\",Scoring!$B$25,IF(ThreatSum!L20=\"Medium\",Scoring!$B$26,IF(ThreatSum!L20=\"Low\",Scoring!$B$27)))))","v":1},{"$f":"IF(ThreatSum!M20=0,0,IF(ThreatSum!M20=\"Very High\",Scoring!$B$24,IF(ThreatSum!M20=\"High\",Scoring!$B$25,IF(ThreatSum!M20=\"Medium\",Scoring!$B$26,IF(ThreatSum!M20=\"Low\",Scoring!$B$27)))))","v":false},{"$f":"IF(ThreatSum!N20=0,0,IF(ThreatSum!N20=\"Very High\",Scoring!$B$24,IF(ThreatSum!N20=\"High\",Scoring!$B$25,IF(ThreatSum!N20=\"Medium\",Scoring!$B$26,IF(ThreatSum!N20=\"Low\",Scoring!$B$27)))))","v":false}]
[{"$f":"IF(B18>=Scoring!$B$38,\"Very High\",IF(B18>=Scoring!$B$39,\"High\",IF(B18>=Scoring!$B$40,\"Medium\",IF(B18>=Scoring!$B$41,\"Low\",IF(B18=0,\"\")))))","v":"Low"},9,{"$f":"IF(ThreatSum!C21=0,0,IF(ThreatSum!C21=\"Very High\",Scoring!$B$24,IF(ThreatSum!C21=\"High\",Scoring!$B$25,IF(ThreatSum!C21=\"Medium\",Scoring!$B$26,IF(ThreatSum!C21=\"Low\",Scoring!$B$27)))))","v":false},{"$f":"IF(ThreatSum!D21=0,0,IF(ThreatSum!D21=\"Very High\",Scoring!$B$24,IF(ThreatSum!D21=\"High\",Scoring!$B$25,IF(ThreatSum!D21=\"Medium\",Scoring!$B$26,IF(ThreatSum!D21=\"Low\",Scoring!$B$27)))))","v":7},{"$f":"IF(ThreatSum!E21=0,0,IF(ThreatSum!E21=\"Very High\",Scoring!$B$24,IF(ThreatSum!E21=\"High\",Scoring!$B$25,IF(ThreatSum!E21=\"Medium\",Scoring!$B$26,IF(ThreatSum!E21=\"Low\",Scoring!$B$27)))))","v":false},{"$f":"IF(ThreatSum!F21=0,0,IF(ThreatSum!F21=\"Very High\",Scoring!$B$24,IF(ThreatSum!F21=\"High\",Scoring!$B$25,IF(ThreatSum!F21=\"Medium\",Scoring!$B$26,IF(ThreatSum!F21=\"Low\",Scoring!$B$27)))))","v":1},{"$f":"IF(ThreatSum!G21=0,0,IF(ThreatSum!G21=\"Very High\",Scoring!$B$24,IF(ThreatSum!G21=\"High\",Scoring!$B$25,IF(ThreatSum!G21=\"Medium\",Scoring!$B$26,IF(ThreatSum!G21=\"Low\",Scoring!$B$27)))))","v":false},{"$f":"IF(ThreatSum!H21=0,0,IF(ThreatSum!H21=\"Very High\",Scoring!$B$24,IF(ThreatSum!H21=\"High\",Scoring!$B$25,IF(ThreatSum!H21=\"Medium\",Scoring!$B$26,IF(ThreatSum!H21=\"Low\",Scoring!$B$27)))))","v":1},{"$f":"IF(ThreatSum!I21=0,0,IF(ThreatSum!I21=\"Very High\",Scoring!$B$24,IF(ThreatSum!I21=\"High\",Scoring!$B$25,IF(ThreatSum!I21=\"Medium\",Scoring!$B$26,IF(ThreatSum!I21=\"Low\",Scoring!$B$27)))))","v":false},{"$f":"IF(ThreatSum!J21=0,0,IF(ThreatSum!J21=\"Very High\",Scoring!$B$24,IF(ThreatSum!J21=\"High\",Scoring!$B$25,IF(ThreatSum!J21=\"Medium\",Scoring!$B$26,IF(ThreatSum!J21=\"Low\",Scoring!$B$27)))))","v":false},{"$f":"IF(ThreatSum!K21=0,0,IF(ThreatSum!K21=\"Very High\",Scoring!$B$24,IF(ThreatSum!K21=\"High\",Scoring!$B$25,IF(ThreatSum!K21=\"Medium\",Scoring!$B$26,IF(ThreatSum!K21=\"Low\",Scoring!$B$27)))))","v":false},{"$f":"IF(ThreatSum!L21=0,0,IF(ThreatSum!L21=\"Very High\",Scoring!$B$24,IF(ThreatSum!L21=\"High\",Scoring!$B$25,IF(ThreatSum!L21=\"Medium\",Scoring!$B$26,IF(ThreatSum!L21=\"Low\",Scoring!$B$27)))))","v":false},{"$f":"IF(ThreatSum!M21=0,0,IF(ThreatSum!M21=\"Very High\",Scoring!$B$24,IF(ThreatSum!M21=\"High\",Scoring!$B$25,IF(ThreatSum!M21=\"Medium\",Scoring!$B$26,IF(ThreatSum!M21=\"Low\",Scoring!$B$27)))))","v":false},{"$f":"IF(ThreatSum!N21=0,0,IF(ThreatSum!N21=\"Very High\",Scoring!$B$24,IF(ThreatSum!N21=\"High\",Scoring!$B$25,IF(ThreatSum!N21=\"Medium\",Scoring!$B$26,IF(ThreatSum!N21=\"Low\",Scoring!$B$27)))))","v":false}]
[{"$f":"IF(B19>=Scoring!$B$38,\"Very High\",IF(B19>=Scoring!$B$39,\"High\",IF(B19>=Scoring!$B$40,\"Medium\",IF(B19>=Scoring!$B$41,\"Low\",IF(B19=0,\"\")))))","v":"Low"},7,{"$f":"IF(ThreatSum!C22=0,0,IF(ThreatSum!C22=\"Very High\",Scoring!$B$24,IF(ThreatSum!C22=\"High\",Scoring!$B$25,IF(ThreatSum!C22=\"Medium\",Scoring!$B$26,IF(ThreatSum!C22=\"Low\",Scoring!$B$27)))))","v":false},{"$f":"IF(ThreatSum!D22=0,0,IF(ThreatSum!D22=\"Very High\",Scoring!$B$24,IF(ThreatSum!D22=\"High\",Scoring!$B$25,IF(ThreatSum!D22=\"Medium\",Scoring!$B$26,IF(ThreatSum!D22=\"Low\",Scoring!$B$27)))))","v":false},{"$f":"IF(ThreatSum!E22=0,0,IF(ThreatSum!E22=\"Very High\",Scoring!$B$24,IF(ThreatSum!E22=\"High\",Scoring!$B$25,IF(ThreatSum!E22=\"Medium\",Scoring!$B$26,IF(ThreatSum!E22=\"Low\",Scoring!$B$27)))))","v":false},{"$f":"IF(ThreatSum!F22=0,0,IF(ThreatSum!F22=\"Very High\",Scoring!$B$24,IF(ThreatSum!F22=\"High\",Scoring!$B$25,IF(ThreatSum!F22=\"Medium\",Scoring!$B$26,IF(ThreatSum!F22=\"Low\",Scoring!$B$27)))))","v":false},{"$f":"IF(ThreatSum!G22=0,0,IF(ThreatSum!G22=\"Very High\",Scoring!$B$24,IF(ThreatSum!G22=\"High\",Scoring!$B$25,IF(ThreatSum!G22=\"Medium\",Scoring!$B$26,IF(ThreatSum!G22=\"Low\",Scoring!$B$27)))))","v":false},{"$f":"IF(ThreatSum!H22=0,0,IF(ThreatSum!H22=\"Very High\",Scoring!$B$24,IF(ThreatSum!H22=\"High\",Scoring!$B$25,IF(ThreatSum!H22=\"Medium\",Scoring!$B$26,IF(ThreatSum!H22=\"Low\",Scoring!$B$27)))))","v":false},{"$f":"IF(ThreatSum!I22=0,0,IF(ThreatSum!I22=\"Very High\",Scoring!$B$24,IF(ThreatSum!I22=\"High\",Scoring!$B$25,IF(ThreatSum!I22=\"Medium\",Scoring!$B$26,IF(ThreatSum!I22=\"Low\",Scoring!$B$27)))))","v":false},{"$f":"IF(ThreatSum!J22=0,0,IF(ThreatSum!J22=\"Very High\",Scoring!$B$24,IF(ThreatSum!J22=\"High\",Scoring!$B$25,IF(ThreatSum!J22=\"Medium\",Scoring!$B$26,IF(ThreatSum!J22=\"Low\",Scoring!$B$27)))))","v":false},{"$f":"IF(ThreatSum!K22=0,0,IF(ThreatSum!K22=\"Very High\",Scoring!$B$24,IF(ThreatSum!K22=\"High\",Scoring!$B$25,IF(ThreatSum!K22=\"Medium\",Scoring!$B$26,IF(ThreatSum!K22=\"Low\",Scoring!$B$27)))))","v":7},{"$f":"IF(ThreatSum!L22=0,0,IF(ThreatSum!L22=\"Very High\",Scoring!$B$24,IF(ThreatSum!L22=\"High\",Scoring!$B$25,IF(ThreatSum!L22=\"Medium\",Scoring!$B$26,IF(ThreatSum!L22=\"Low\",Scoring!$B$27)))))","v":false},{"$f":"IF(ThreatSum!M22=0,0,IF(ThreatSum!M22=\"Very High\",Scoring!$B$24,IF(ThreatSum!M22=\"High\",Scoring!$B$25,IF(ThreatSum!M22=\"Medium\",Scoring!$B$26,IF(ThreatSum!M22=\"Low\",Scoring!$B$27)))))","v":false},{"$f":"IF(ThreatSum!N22=0,0,IF(ThreatSum!N22=\"Very High\",Scoring!$B$24,IF(ThreatSum!N22=\"High\",Scoring!$B$25,IF(ThreatSum!N22=\"Medium\",Scoring!$B$26,IF(ThreatSum!N22=\"Low\",Scoring!$B$27)))))","v":false}]
[{"$f":"IF(B20>=Scoring!$B$38,\"Very High\",IF(B20>=Scoring!$B$39,\"High\",IF(B20>=Scoring!$B$40,\"Medium\",IF(B20>=Scoring!$B$41,\"Low\",IF(B20=0,\"\")))))","v":""},0,{"$f":"IF(ThreatSum!C23=0,0,IF(ThreatSum!C23=\"Very High\",Scoring!$B$24,IF(ThreatSum!C23=\"High\",Scoring!$B$25,IF(ThreatSum!C23=\"Medium\",Scoring!$B$26,IF(ThreatSum!C23=\"Low\",Scoring!$B$27)))))","v":false},{"$f":"IF(ThreatSum!D23=0,0,IF(ThreatSum!D23=\"Very High\",Scoring!$B$24,IF(ThreatSum!D23=\"High\",Scoring!$B$25,IF(ThreatSum!D23=\"Medium\",Scoring!$B$26,IF(ThreatSum!D23=\"Low\",Scoring!$B$27)))))","v":false},{"$f":"IF(ThreatSum!E23=0,0,IF(ThreatSum!E23=\"Very High\",Scoring!$B$24,IF(ThreatSum!E23=\"High\",Scoring!$B$25,IF(ThreatSum!E23=\"Medium\",Scoring!$B$26,IF(ThreatSum!E23=\"Low\",Scoring!$B$27)))))","v":false},{"$f":"IF(ThreatSum!F23=0,0,IF(ThreatSum!F23=\"Very High\",Scoring!$B$24,IF(ThreatSum!F23=\"High\",Scoring!$B$25,IF(ThreatSum!F23=\"Medium\",Scoring!$B$26,IF(ThreatSum!F23=\"Low\",Scoring!$B$27)))))","v":false},{"$f":"IF(ThreatSum!G23=0,0,IF(ThreatSum!G23=\"Very High\",Scoring!$B$24,IF(ThreatSum!G23=\"High\",Scoring!$B$25,IF(ThreatSum!G23=\"Medium\",Scoring!$B$26,IF(ThreatSum!G23=\"Low\",Scoring!$B$27)))))","v":false},{"$f":"IF(ThreatSum!H23=0,0,IF(ThreatSum!H23=\"Very High\",Scoring!$B$24,IF(ThreatSum!H23=\"High\",Scoring!$B$25,IF(ThreatSum!H23=\"Medium\",Scoring!$B$26,IF(ThreatSum!H23=\"Low\",Scoring!$B$27)))))","v":false},{"$f":"IF(ThreatSum!I23=0,0,IF(ThreatSum!I23=\"Very High\",Scoring!$B$24,IF(ThreatSum!I23=\"High\",Scoring!$B$25,IF(ThreatSum!I23=\"Medium\",Scoring!$B$26,IF(ThreatSum!I23=\"Low\",Scoring!$B$27)))))","v":false},{"$f":"IF(ThreatSum!J23=0,0,IF(ThreatSum!J23=\"Very High\",Scoring!$B$24,IF(ThreatSum!J23=\"High\",Scoring!$B$25,IF(ThreatSum!J23=\"Medium\",Scoring!$B$26,IF(ThreatSum!J23=\"Low\",Scoring!$B$27)))))","v":false},{"$f":"IF(ThreatSum!K23=0,0,IF(ThreatSum!K23=\"Very High\",Scoring!$B$24,IF(ThreatSum!K23=\"High\",Scoring!$B$25,IF(ThreatSum!K23=\"Medium\",Scoring!$B$26,IF(ThreatSum!K23=\"Low\",Scoring!$B$27)))))","v":false},{"$f":"IF(ThreatSum!L23=0,0,IF(ThreatSum!L23=\"Very High\",Scoring!$B$24,IF(ThreatSum!L23=\"High\",Scoring!$B$25,IF(ThreatSum!L23=\"Medium\",Scoring!$B$26,IF(ThreatSum!L23=\"Low\",Scoring!$B$27)))))","v":false},{"$f":"IF(ThreatSum!M23=0,0,IF(ThreatSum!M23=\"Very High\",Scoring!$B$24,IF(ThreatSum!M23=\"High\",Scoring!$B$25,IF(ThreatSum!M23=\"Medium\",Scoring!$B$26,IF(ThreatSum!M23=\"Low\",Scoring!$B$27)))))","v":false},{"$f":"IF(ThreatSum!N23=0,0,IF(ThreatSum!N23=\"Very High\",Scoring!$B$24,IF(ThreatSum!N23=\"High\",Scoring!$B$25,IF(ThreatSum!N23=\"Medium\",Scoring!$B$26,IF(ThreatSum!N23=\"Low\",Scoring!$B$27)))))","v":false}]
[{"$f":"IF(B21>=Scoring!$B$38,\"Very High\",IF(B21>=Scoring!$B$39,\"High\",IF(B21>=Scoring!$B$40,\"Medium\",IF(B21>=Scoring!$B$41,\"Low\",IF(B21=0,\"\")))))","v":""},0,{"$f":"IF(ThreatSum!C24=0,0,IF(ThreatSum!C24=\"Very High\",Scoring!$B$24,IF(ThreatSum!C24=\"High\",Scoring!$B$25,IF(ThreatSum!C24=\"Medium\",Scoring!$B$26,IF(ThreatSum!C24=\"Low\",Scoring!$B$27)))))","v":false},{"$f":"IF(ThreatSum!D24=0,0,IF(ThreatSum!D24=\"Very High\",Scoring!$B$24,IF(ThreatSum!D24=\"High\",Scoring!$B$25,IF(ThreatSum!D24=\"Medium\",Scoring!$B$26,IF(ThreatSum!D24=\"Low\",Scoring!$B$27)))))","v":false},{"$f":"IF(ThreatSum!E24=0,0,IF(ThreatSum!E24=\"Very High\",Scoring!$B$24,IF(ThreatSum!E24=\"High\",Scoring!$B$25,IF(ThreatSum!E24=\"Medium\",Scoring!$B$26,IF(ThreatSum!E24=\"Low\",Scoring!$B$27)))))","v":false},{"$f":"IF(ThreatSum!F24=0,0,IF(ThreatSum!F24=\"Very High\",Scoring!$B$24,IF(ThreatSum!F24=\"High\",Scoring!$B$25,IF(ThreatSum!F24=\"Medium\",Scoring!$B$26,IF(ThreatSum!F24=\"Low\",Scoring!$B$27)))))","v":false},{"$f":"IF(ThreatSum!G24=0,0,IF(ThreatSum!G24=\"Very High\",Scoring!$B$24,IF(ThreatSum!G24=\"High\",Scoring!$B$25,IF(ThreatSum!G24=\"Medium\",Scoring!$B$26,IF(ThreatSum!G24=\"Low\",Scoring!$B$27)))))","v":false},{"$f":"IF(ThreatSum!H24=0,0,IF(ThreatSum!H24=\"Very High\",Scoring!$B$24,IF(ThreatSum!H24=\"High\",Scoring!$B$25,IF(ThreatSum!H24=\"Medium\",Scoring!$B$26,IF(ThreatSum!H24=\"Low\",Scoring!$B$27)))))","v":false},{"$f":"IF(ThreatSum!I24=0,0,IF(ThreatSum!I24=\"Very High\",Scoring!$B$24,IF(ThreatSum!I24=\"High\",Scoring!$B$25,IF(ThreatSum!I24=\"Medium\",Scoring!$B$26,IF(ThreatSum!I24=\"Low\",Scoring!$B$27)))))","v":false},{"$f":"IF(ThreatSum!J24=0,0,IF(ThreatSum!J24=\"Very High\",Scoring!$B$24,IF(ThreatSum!J24=\"High\",Scoring!$B$25,IF(ThreatSum!J24=\"Medium\",Scoring!$B$26,IF(ThreatSum!J24=\"Low\",Scoring!$B$27)))))","v":false},{"$f":"IF(ThreatSum!K24=0,0,IF(ThreatSum!K24=\"Very High\",Scoring!$B$24,IF(ThreatSum!K24=\"High\",Scoring!$B$25,IF(ThreatSum!K24=\"Medium\",Scoring!$B$26,IF(ThreatSum!K24=\"Low\",Scoring!$B$27)))))","v":false},{"$f":"IF(ThreatSum!L24=0,0,IF(ThreatSum!L24=\"Very High\",Scoring!$B$24,IF(ThreatSum!L24=\"High\",Scoring!$B$25,IF(ThreatSum!L24=\"Medium\",Scoring!$B$26,IF(ThreatSum!L24=\"Low\",Scoring!$B$27)))))","v":false},{"$f":"IF(ThreatSum!M24=0,0,IF(ThreatSum!M24=\"Very High\",Scoring!$B$24,IF(ThreatSum!M24=\"High\",Scoring!$B$25,IF(ThreatSum!M24=\"Medium\",Scoring!$B$26,IF(ThreatSum!M24=\"Low\",Scoring!$B$27)))))","v":false},{"$f":"IF(ThreatSum!N24=0,0,IF(ThreatSum!N24=\"Very High\",Scoring!$B$24,IF(ThreatSum!N24=\"High\",Scoring!$B$25,IF(ThreatSum!N24=\"Medium\",Scoring!$B$26,IF(ThreatSum!N24=\"Low\",Scoring!$B$27)))))","v":false}]
[{"$f":"IF(B22>=Scoring!$B$38,\"Very High\",IF(B22>=Scoring!$B$39,\"High\",IF(B22>=Scoring!$B$40,\"Medium\",IF(B22>=Scoring!$B$41,\"Low\",IF(B22=0,\"\")))))","v":""},0,{"$f":"IF(ThreatSum!C25=0,0,IF(ThreatSum!C25=\"Very High\",Scoring!$B$24,IF(ThreatSum!C25=\"High\",Scoring!$B$25,IF(ThreatSum!C25=\"Medium\",Scoring!$B$26,IF(ThreatSum!C25=\"Low\",Scoring!$B$27)))))","v":false},{"$f":"IF(ThreatSum!D25=0,0,IF(ThreatSum!D25=\"Very High\",Scoring!$B$24,IF(ThreatSum!D25=\"High\",Scoring!$B$25,IF(ThreatSum!D25=\"Medium\",Scoring!$B$26,IF(ThreatSum!D25=\"Low\",Scoring!$B$27)))))","v":false},{"$f":"IF(ThreatSum!E25=0,0,IF(ThreatSum!E25=\"Very High\",Scoring!$B$24,IF(ThreatSum!E25=\"High\",Scoring!$B$25,IF(ThreatSum!E25=\"Medium\",Scoring!$B$26,IF(ThreatSum!E25=\"Low\",Scoring!$B$27)))))","v":false},{"$f":"IF(ThreatSum!F25=0,0,IF(ThreatSum!F25=\"Very High\",Scoring!$B$24,IF(ThreatSum!F25=\"High\",Scoring!$B$25,IF(ThreatSum!F25=\"Medium\",Scoring!$B$26,IF(ThreatSum!F25=\"Low\",Scoring!$B$27)))))","v":false},{"$f":"IF(ThreatSum!G25=0,0,IF(ThreatSum!G25=\"Very High\",Scoring!$B$24,IF(ThreatSum!G25=\"High\",Scoring!$B$25,IF(ThreatSum!G25=\"Medium\",Scoring!$B$26,IF(ThreatSum!G25=\"Low\",Scoring!$B$27)))))","v":false},{"$f":"IF(ThreatSum!H25=0,0,IF(ThreatSum!H25=\"Very High\",Scoring!$B$24,IF(ThreatSum!H25=\"High\",Scoring!$B$25,IF(ThreatSum!H25=\"Medium\",Scoring!$B$26,IF(ThreatSum!H25=\"Low\",Scoring!$B$27)))))","v":false},{"$f":"IF(ThreatSum!I25=0,0,IF(ThreatSum!I25=\"Very High\",Scoring!$B$24,IF(ThreatSum!I25=\"High\",Scoring!$B$25,IF(ThreatSum!I25=\"Medium\",Scoring!$B$26,IF(ThreatSum!I25=\"Low\",Scoring!$B$27)))))","v":false},{"$f":"IF(ThreatSum!J25=0,0,IF(ThreatSum!J25=\"Very High\",Scoring!$B$24,IF(ThreatSum!J25=\"High\",Scoring!$B$25,IF(ThreatSum!J25=\"Medium\",Scoring!$B$26,IF(ThreatSum!J25=\"Low\",Scoring!$B$27)))))","v":false},{"$f":"IF(ThreatSum!K25=0,0,IF(ThreatSum!K25=\"Very High\",Scoring!$B$24,IF(ThreatSum!K25=\"High\",Scoring!$B$25,IF(ThreatSum!K25=\"Medium\",Scoring!$B$26,IF(ThreatSum!K25=\"Low\",Scoring!$B$27)))))","v":false},{"$f":"IF(ThreatSum!L25=0,0,IF(ThreatSum!L25=\"Very High\",Scoring!$B$24,IF(ThreatSum!L25=\"High\",Scoring!$B$25,IF(ThreatSum!L25=\"Medium\",Scoring!$B$26,IF(ThreatSum!L25=\"Low\",Scoring!$B$27)))))","v":false},{"$f":"IF(ThreatSum!M25=0,0,IF(ThreatSum!M25=\"Very High\",Scoring!$B$24,IF(ThreatSum!M25=\"High\",Scoring!$B$25,IF(ThreatSum!M25=\"Medium\",Scoring!$B$26,IF(ThreatSum!M25=\"Low\",Scoring!$B$27)))))","v":false},{"$f":"IF(ThreatSum!N25=0,0,IF(ThreatSum!N25=\"Very High\",Scoring!$B$24,IF(ThreatSum!N25=\"High\",Scoring!$B$25,IF(ThreatSum!N25=\"Medium\",Scoring!$B$26,IF(ThreatSum!N25=\"Low\",Scoring!$B$27)))))","v":false}]
[{"$f":"IF(B23>=Scoring!$B$38,\"Very High\",IF(B23>=Scoring!$B$39,\"High\",IF(B23>=Scoring!$B$40,\"Medium\",IF(B23>=Scoring!$B$41,\"Low\",IF(B23=0,\"\")))))","v":""},0,{"$f":"IF(ThreatSum!C26=0,0,IF(ThreatSum!C26=\"Very High\",Scoring!$B$24,IF(ThreatSum!C26=\"High\",Scoring!$B$25,IF(ThreatSum!C26=\"Medium\",Scoring!$B$26,IF(ThreatSum!C26=\"Low\",Scoring!$B$27)))))","v":false},{"$f":"IF(ThreatSum!D26=0,0,IF(ThreatSum!D26=\"Very High\",Scoring!$B$24,IF(ThreatSum!D26=\"High\",Scoring!$B$25,IF(ThreatSum!D26=\"Medium\",Scoring!$B$26,IF(ThreatSum!D26=\"Low\",Scoring!$B$27)))))","v":false},{"$f":"IF(ThreatSum!E26=0,0,IF(ThreatSum!E26=\"Very High\",Scoring!$B$24,IF(ThreatSum!E26=\"High\",Scoring!$B$25,IF(ThreatSum!E26=\"Medium\",Scoring!$B$26,IF(ThreatSum!E26=\"Low\",Scoring!$B$27)))))","v":false},{"$f":"IF(ThreatSum!F26=0,0,IF(ThreatSum!F26=\"Very High\",Scoring!$B$24,IF(ThreatSum!F26=\"High\",Scoring!$B$25,IF(ThreatSum!F26=\"Medium\",Scoring!$B$26,IF(ThreatSum!F26=\"Low\",Scoring!$B$27)))))","v":false},{"$f":"IF(ThreatSum!G26=0,0,IF(ThreatSum!G26=\"Very High\",Scoring!$B$24,IF(ThreatSum!G26=\"High\",Scoring!$B$25,IF(ThreatSum!G26=\"Medium\",Scoring!$B$26,IF(ThreatSum!G26=\"Low\",Scoring!$B$27)))))","v":false},{"$f":"IF(ThreatSum!H26=0,0,IF(ThreatSum!H26=\"Very High\",Scoring!$B$24,IF(ThreatSum!H26=\"High\",Scoring!$B$25,IF(ThreatSum!H26=\"Medium\",Scoring!$B$26,IF(ThreatSum!H26=\"Low\",Scoring!$B$27)))))","v":false},{"$f":"IF(ThreatSum!I26=0,0,IF(ThreatSum!I26=\"Very High\",Scoring!$B$24,IF(ThreatSum!I26=\"High\",Scoring!$B$25,IF(ThreatSum!I26=\"Medium\",Scoring!$B$26,IF(ThreatSum!I26=\"Low\",Scoring!$B$27)))))","v":false},{"$f":"IF(ThreatSum!J26=0,0,IF(ThreatSum!J26=\"Very High\",Scoring!$B$24,IF(ThreatSum!J26=\"High\",Scoring!$B$25,IF(ThreatSum!J26=\"Medium\",Scoring!$B$26,IF(ThreatSum!J26=\"Low\",Scoring!$B$27)))))","v":false},{"$f":"IF(ThreatSum!K26=0,0,IF(ThreatSum!K26=\"Very High\",Scoring!$B$24,IF(ThreatSum!K26=\"High\",Scoring!$B$25,IF(ThreatSum!K26=\"Medium\",Scoring!$B$26,IF(ThreatSum!K26=\"Low\",Scoring!$B$27)))))","v":false},{"$f":"IF(ThreatSum!L26=0,0,IF(ThreatSum!L26=\"Very High\",Scoring!$B$24,IF(ThreatSum!L26=\"High\",Scoring!$B$25,IF(ThreatSum!L26=\"Medium\",Scoring!$B$26,IF(ThreatSum!L26=\"Low\",Scoring!$B$27)))))","v":false},{"$f":"IF(ThreatSum!M26=0,0,IF(ThreatSum!M26=\"Very High\",Scoring!$B$24,IF(ThreatSum!M26=\"High\",Scoring!$B$25,IF(ThreatSum!M26=\"Medium\",Scoring!$B$26,IF(ThreatSum!M26=\"Low\",Scoring!$B$27)))))","v":false},{"$f":"IF(ThreatSum!N26=0,0,IF(ThreatSum!N26=\"Very High\",Scoring!$B$24,IF(ThreatSum!N26=\"High\",Scoring!$B$25,IF(ThreatSum!N26=\"Medium\",Scoring!$B$26,IF(ThreatSum!N26=\"Low\",Scoring!$B$27)))))","v":false}]
[{"$f":"IF(B24>=Scoring!$B$38,\"Very High\",IF(B24>=Scoring!$B$39,\"High\",IF(B24>=Scoring!$B$40,\"Medium\",IF(B24>=Scoring!$B$41,\"Low\",IF(B24=0,\"\")))))","v":""},0,{"$f":"IF(ThreatSum!C27=0,0,IF(ThreatSum!C27=\"Very High\",Scoring!$B$24,IF(ThreatSum!C27=\"High\",Scoring!$B$25,IF(ThreatSum!C27=\"Medium\",Scoring!$B$26,IF(ThreatSum!C27=\"Low\",Scoring!$B$27)))))","v":false},{"$f":"IF(ThreatSum!D27=0,0,IF(ThreatSum!D27=\"Very High\",Scoring!$B$24,IF(ThreatSum!D27=\"High\",Scoring!$B$25,IF(ThreatSum!D27=\"Medium\",Scoring!$B$26,IF(ThreatSum!D27=\"Low\",Scoring!$B$27)))))","v":false},{"$f":"IF(ThreatSum!E27=0,0,IF(ThreatSum!E27=\"Very High\",Scoring!$B$24,IF(ThreatSum!E27=\"High\",Scoring!$B$25,IF(ThreatSum!E27=\"Medium\",Scoring!$B$26,IF(ThreatSum!E27=\"Low\",Scoring!$B$27)))))","v":false},{"$f":"IF(ThreatSum!F27=0,0,IF(ThreatSum!F27=\"Very High\",Scoring!$B$24,IF(ThreatSum!F27=\"High\",Scoring!$B$25,IF(ThreatSum!F27=\"Medium\",Scoring!$B$26,IF(ThreatSum!F27=\"Low\",Scoring!$B$27)))))","v":false},{"$f":"IF(ThreatSum!G27=0,0,IF(ThreatSum!G27=\"Very High\",Scoring!$B$24,IF(ThreatSum!G27=\"High\",Scoring!$B$25,IF(ThreatSum!G27=\"Medium\",Scoring!$B$26,IF(ThreatSum!G27=\"Low\",Scoring!$B$27)))))","v":false},{"$f":"IF(ThreatSum!H27=0,0,IF(ThreatSum!H27=\"Very High\",Scoring!$B$24,IF(ThreatSum!H27=\"High\",Scoring!$B$25,IF(ThreatSum!H27=\"Medium\",Scoring!$B$26,IF(ThreatSum!H27=\"Low\",Scoring!$B$27)))))","v":false},{"$f":"IF(ThreatSum!I27=0,0,IF(ThreatSum!I27=\"Very High\",Scoring!$B$24,IF(ThreatSum!I27=\"High\",Scoring!$B$25,IF(ThreatSum!I27=\"Medium\",Scoring!$B$26,IF(ThreatSum!I27=\"Low\",Scoring!$B$27)))))","v":false},{"$f":"IF(ThreatSum!J27=0,0,IF(ThreatSum!J27=\"Very High\",Scoring!$B$24,IF(ThreatSum!J27=\"High\",Scoring!$B$25,IF(ThreatSum!J27=\"Medium\",Scoring!$B$26,IF(ThreatSum!J27=\"Low\",Scoring!$B$27)))))","v":false},{"$f":"IF(ThreatSum!K27=0,0,IF(ThreatSum!K27=\"Very High\",Scoring!$B$24,IF(ThreatSum!K27=\"High\",Scoring!$B$25,IF(ThreatSum!K27=\"Medium\",Scoring!$B$26,IF(ThreatSum!K27=\"Low\",Scoring!$B$27)))))","v":false},{"$f":"IF(ThreatSum!L27=0,0,IF(ThreatSum!L27=\"Very High\",Scoring!$B$24,IF(ThreatSum!L27=\"High\",Scoring!$B$25,IF(ThreatSum!L27=\"Medium\",Scoring!$B$26,IF(ThreatSum!L27=\"Low\",Scoring!$B$27)))))","v":false},{"$f":"IF(ThreatSum!M27=0,0,IF(ThreatSum!M27=\"Very High\",Scoring!$B$24,IF(ThreatSum!M27=\"High\",Scoring!$B$25,IF(ThreatSum!M27=\"Medium\",Scoring!$B$26,IF(ThreatSum!M27=\"Low\",Scoring!$B$27)))))","v":false},{"$f":"IF(ThreatSum!N27=0,0,IF(ThreatSum!N27=\"Very High\",Scoring!$B$24,IF(ThreatSum!N27=\"High\",Scoring!$B$25,IF(ThreatSum!N27=\"Medium\",Scoring!$B$26,IF(ThreatSum!N27=\"Low\",Scoring!$B$27)))))","v":false}]
[{"$f":"IF(B25>=Scoring!$B$38,\"Very High\",IF(B25>=Scoring!$B$39,\"High\",IF(B25>=Scoring!$B$40,\"Medium\",IF(B25>=Scoring!$B$41,\"Low\",IF(B25=0,\"\")))))","v":""},0,{"$f":"IF(ThreatSum!C28=0,0,IF(ThreatSum!C28=\"Very High\",Scoring!$B$24,IF(ThreatSum!C28=\"High\",Scoring!$B$25,IF(ThreatSum!C28=\"Medium\",Scoring!$B$26,IF(ThreatSum!C28=\"Low\",Scoring!$B$27)))))","v":false},{"$f":"IF(ThreatSum!D28=0,0,IF(ThreatSum!D28=\"Very High\",Scoring!$B$24,IF(ThreatSum!D28=\"High\",Scoring!$B$25,IF(ThreatSum!D28=\"Medium\",Scoring!$B$26,IF(ThreatSum!D28=\"Low\",Scoring!$B$27)))))","v":false},{"$f":"IF(ThreatSum!E28=0,0,IF(ThreatSum!E28=\"Very High\",Scoring!$B$24,IF(ThreatSum!E28=\"High\",Scoring!$B$25,IF(ThreatSum!E28=\"Medium\",Scoring!$B$26,IF(ThreatSum!E28=\"Low\",Scoring!$B$27)))))","v":false},{"$f":"IF(ThreatSum!F28=0,0,IF(ThreatSum!F28=\"Very High\",Scoring!$B$24,IF(ThreatSum!F28=\"High\",Scoring!$B$25,IF(ThreatSum!F28=\"Medium\",Scoring!$B$26,IF(ThreatSum!F28=\"Low\",Scoring!$B$27)))))","v":false},{"$f":"IF(ThreatSum!G28=0,0,IF(ThreatSum!G28=\"Very High\",Scoring!$B$24,IF(ThreatSum!G28=\"High\",Scoring!$B$25,IF(ThreatSum!G28=\"Medium\",Scoring!$B$26,IF(ThreatSum!G28=\"Low\",Scoring!$B$27)))))","v":false},{"$f":"IF(ThreatSum!H28=0,0,IF(ThreatSum!H28=\"Very High\",Scoring!$B$24,IF(ThreatSum!H28=\"High\",Scoring!$B$25,IF(ThreatSum!H28=\"Medium\",Scoring!$B$26,IF(ThreatSum!H28=\"Low\",Scoring!$B$27)))))","v":false},{"$f":"IF(ThreatSum!I28=0,0,IF(ThreatSum!I28=\"Very High\",Scoring!$B$24,IF(ThreatSum!I28=\"High\",Scoring!$B$25,IF(ThreatSum!I28=\"Medium\",Scoring!$B$26,IF(ThreatSum!I28=\"Low\",Scoring!$B$27)))))","v":false},{"$f":"IF(ThreatSum!J28=0,0,IF(ThreatSum!J28=\"Very High\",Scoring!$B$24,IF(ThreatSum!J28=\"High\",Scoring!$B$25,IF(ThreatSum!J28=\"Medium\",Scoring!$B$26,IF(ThreatSum!J28=\"Low\",Scoring!$B$27)))))","v":false},{"$f":"IF(ThreatSum!K28=0,0,IF(ThreatSum!K28=\"Very High\",Scoring!$B$24,IF(ThreatSum!K28=\"High\",Scoring!$B$25,IF(ThreatSum!K28=\"Medium\",Scoring!$B$26,IF(ThreatSum!K28=\"Low\",Scoring!$B$27)))))","v":false},{"$f":"IF(ThreatSum!L28=0,0,IF(ThreatSum!L28=\"Very High\",Scoring!$B$24,IF(ThreatSum!L28=\"High\",Scoring!$B$25,IF(ThreatSum!L28=\"Medium\",Scoring!$B$26,IF(ThreatSum!L28=\"Low\",Scoring!$B$27)))))","v":false},{"$f":"IF(ThreatSum!M28=0,0,IF(ThreatSum!M28=\"Very High\",Scoring!$B$24,IF(ThreatSum!M28=\"High\",Scoring!$B$25,IF(ThreatSum!M28=\"Medium\",Scoring!$B$26,IF(ThreatSum!M28=\"Low\",Scoring!$B$27)))))","v":false},{"$f":"IF(ThreatSum!N28=0,0,IF(ThreatSum!N28=\"Very High\",Scoring!$B$24,IF(ThreatSum!N28=\"High\",Scoring!$B$25,IF(ThreatSum!N28=\"Medium\",Scoring!$B$26,IF(ThreatSum!N28=\"Low\",Scoring!$B$27)))))","v":false}]
[{"$f":"IF(B26>=Scoring!$B$38,\"Very High\",IF(B26>=Scoring!$B$39,\"High\",IF(B26>=Scoring!$B$40,\"Medium\",IF(B26>=Scoring!$B$41,\"Low\",IF(B26=0,\"\")))))","v":""},0,{"$f":"IF(ThreatSum!C29=0,0,IF(ThreatSum!C29=\"Very High\",Scoring!$B$24,IF(ThreatSum!C29=\"High\",Scoring!$B$25,IF(ThreatSum!C29=\"Medium\",Scoring!$B$26,IF(ThreatSum!C29=\"Low\",Scoring!$B$27)))))","v":false},{"$f":"IF(ThreatSum!D29=0,0,IF(ThreatSum!D29=\"Very High\",Scoring!$B$24,IF(ThreatSum!D29=\"High\",Scoring!$B$25,IF(ThreatSum!D29=\"Medium\",Scoring!$B$26,IF(ThreatSum!D29=\"Low\",Scoring!$B$27)))))","v":false},{"$f":"IF(ThreatSum!E29=0,0,IF(ThreatSum!E29=\"Very High\",Scoring!$B$24,IF(ThreatSum!E29=\"High\",Scoring!$B$25,IF(ThreatSum!E29=\"Medium\",Scoring!$B$26,IF(ThreatSum!E29=\"Low\",Scoring!$B$27)))))","v":false},{"$f":"IF(ThreatSum!F29=0,0,IF(ThreatSum!F29=\"Very High\",Scoring!$B$24,IF(ThreatSum!F29=\"High\",Scoring!$B$25,IF(ThreatSum!F29=\"Medium\",Scoring!$B$26,IF(ThreatSum!F29=\"Low\",Scoring!$B$27)))))","v":false},{"$f":"IF(ThreatSum!G29=0,0,IF(ThreatSum!G29=\"Very High\",Scoring!$B$24,IF(ThreatSum!G29=\"High\",Scoring!$B$25,IF(ThreatSum!G29=\"Medium\",Scoring!$B$26,IF(ThreatSum!G29=\"Low\",Scoring!$B$27)))))","v":false},{"$f":"IF(ThreatSum!H29=0,0,IF(ThreatSum!H29=\"Very High\",Scoring!$B$24,IF(ThreatSum!H29=\"High\",Scoring!$B$25,IF(ThreatSum!H29=\"Medium\",Scoring!$B$26,IF(ThreatSum!H29=\"Low\",Scoring!$B$27)))))","v":false},{"$f":"IF(ThreatSum!I29=0,0,IF(ThreatSum!I29=\"Very High\",Scoring!$B$24,IF(ThreatSum!I29=\"High\",Scoring!$B$25,IF(ThreatSum!I29=\"Medium\",Scoring!$B$26,IF(ThreatSum!I29=\"Low\",Scoring!$B$27)))))","v":false},{"$f":"IF(ThreatSum!J29=0,0,IF(ThreatSum!J29=\"Very High\",Scoring!$B$24,IF(ThreatSum!J29=\"High\",Scoring!$B$25,IF(ThreatSum!J29=\"Medium\",Scoring!$B$26,IF(ThreatSum!J29=\"Low\",Scoring!$B$27)))))","v":false},{"$f":"IF(ThreatSum!K29=0,0,IF(ThreatSum!K29=\"Very High\",Scoring!$B$24,IF(ThreatSum!K29=\"High\",Scoring!$B$25,IF(ThreatSum!K29=\"Medium\",Scoring!$B$26,IF(ThreatSum!K29=\"Low\",Scoring!$B$27)))))","v":false},{"$f":"IF(ThreatSum!L29=0,0,IF(ThreatSum!L29=\"Very High\",Scoring!$B$24,IF(ThreatSum!L29=\"High\",Scoring!$B$25,IF(ThreatSum!L29=\"Medium\",Scoring!$B$26,IF(ThreatSum!L29=\"Low\",Scoring!$B$27)))))","v":false},{"$f":"IF(ThreatSum!M29=0,0,IF(ThreatSum!M29=\"Very High\",Scoring!$B$24,IF(ThreatSum!M29=\"High\",Scoring!$B$25,IF(ThreatSum!M29=\"Medium\",Scoring!$B$26,IF(ThreatSum!M29=\"Low\",Scoring!$B$27)))))","v":false},{"$f":"IF(ThreatSum!N29=0,0,IF(ThreatSum!N29=\"Very High\",Scoring!$B$24,IF(ThreatSum!N29=\"High\",Scoring!$B$25,IF(ThreatSum!N29=\"Medium\",Scoring!$B$26,IF(ThreatSum!N29=\"Low\",Scoring!$B$27)))))","v":false}]
[{"$f":"IF(B27>=Scoring!$B$38,\"Very High\",IF(B27>=Scoring!$B$39,\"High\",IF(B27>=Scoring!$B$40,\"Medium\",IF(B27>=Scoring!$B$41,\"Low\",IF(B27=0,\"\")))))","v":""},0,{"$f":"IF(ThreatSum!C30=0,0,IF(ThreatSum!C30=\"Very High\",Scoring!$B$24,IF(ThreatSum!C30=\"High\",Scoring!$B$25,IF(ThreatSum!C30=\"Medium\",Scoring!$B$26,IF(ThreatSum!C30=\"Low\",Scoring!$B$27)))))","v":false},{"$f":"IF(ThreatSum!D30=0,0,IF(ThreatSum!D30=\"Very High\",Scoring!$B$24,IF(ThreatSum!D30=\"High\",Scoring!$B$25,IF(ThreatSum!D30=\"Medium\",Scoring!$B$26,IF(ThreatSum!D30=\"Low\",Scoring!$B$27)))))","v":false},{"$f":"IF(ThreatSum!E30=0,0,IF(ThreatSum!E30=\"Very High\",Scoring!$B$24,IF(ThreatSum!E30=\"High\",Scoring!$B$25,IF(ThreatSum!E30=\"Medium\",Scoring!$B$26,IF(ThreatSum!E30=\"Low\",Scoring!$B$27)))))","v":false},{"$f":"IF(ThreatSum!F30=0,0,IF(ThreatSum!F30=\"Very High\",Scoring!$B$24,IF(ThreatSum!F30=\"High\",Scoring!$B$25,IF(ThreatSum!F30=\"Medium\",Scoring!$B$26,IF(ThreatSum!F30=\"Low\",Scoring!$B$27)))))","v":false},{"$f":"IF(ThreatSum!G30=0,0,IF(ThreatSum!G30=\"Very High\",Scoring!$B$24,IF(ThreatSum!G30=\"High\",Scoring!$B$25,IF(ThreatSum!G30=\"Medium\",Scoring!$B$26,IF(ThreatSum!G30=\"Low\",Scoring!$B$27)))))","v":false},{"$f":"IF(ThreatSum!H30=0,0,IF(ThreatSum!H30=\"Very High\",Scoring!$B$24,IF(ThreatSum!H30=\"High\",Scoring!$B$25,IF(ThreatSum!H30=\"Medium\",Scoring!$B$26,IF(ThreatSum!H30=\"Low\",Scoring!$B$27)))))","v":false},{"$f":"IF(ThreatSum!I30=0,0,IF(ThreatSum!I30=\"Very High\",Scoring!$B$24,IF(ThreatSum!I30=\"High\",Scoring!$B$25,IF(ThreatSum!I30=\"Medium\",Scoring!$B$26,IF(ThreatSum!I30=\"Low\",Scoring!$B$27)))))","v":false},{"$f":"IF(ThreatSum!J30=0,0,IF(ThreatSum!J30=\"Very High\",Scoring!$B$24,IF(ThreatSum!J30=\"High\",Scoring!$B$25,IF(ThreatSum!J30=\"Medium\",Scoring!$B$26,IF(ThreatSum!J30=\"Low\",Scoring!$B$27)))))","v":false},{"$f":"IF(ThreatSum!K30=0,0,IF(ThreatSum!K30=\"Very High\",Scoring!$B$24,IF(ThreatSum!K30=\"High\",Scoring!$B$25,IF(ThreatSum!K30=\"Medium\",Scoring!$B$26,IF(ThreatSum!K30=\"Low\",Scoring!$B$27)))))","v":false},{"$f":"IF(ThreatSum!L30=0,0,IF(ThreatSum!L30=\"Very High\",Scoring!$B$24,IF(ThreatSum!L30=\"High\",Scoring!$B$25,IF(ThreatSum!L30=\"Medium\",Scoring!$B$26,IF(ThreatSum!L30=\"Low\",Scoring!$B$27)))))","v":false},{"$f":"IF(ThreatSum!M30=0,0,IF(ThreatSum!M30=\"Very High\",Scoring!$B$24,IF(ThreatSum!M30=\"High\",Scoring!$B$25,IF(ThreatSum!M30=\"Medium\",Scoring!$B$26,IF(ThreatSum!M30=\"Low\",Scoring!$B$27)))))","v":false},{"$f":"IF(ThreatSum!N30=0,0,IF(ThreatSum!N30=\"Very High\",Scoring!$B$24,IF(ThreatSum!N30=\"High\",Scoring!$B$25,IF(ThreatSum!N30=\"Medium\",Scoring!$B$26,IF(ThreatSum!N30=\"Low\",Scoring!$B$27)))))","v":false}]
[{"$f":"IF(B28>=Scoring!$B$38,\"Very High\",IF(B28>=Scoring!$B$39,\"High\",IF(B28>=Scoring!$B$40,\"Medium\",IF(B28>=Scoring!$B$41,\"Low\",IF(B28=0,\"\")))))","v":""},0,{"$f":"IF(ThreatSum!C31=0,0,IF(ThreatSum!C31=\"Very High\",Scoring!$B$24,IF(ThreatSum!C31=\"High\",Scoring!$B$25,IF(ThreatSum!C31=\"Medium\",Scoring!$B$26,IF(ThreatSum!C31=\"Low\",Scoring!$B$27)))))","v":false},{"$f":"IF(ThreatSum!D31=0,0,IF(ThreatSum!D31=\"Very High\",Scoring!$B$24,IF(ThreatSum!D31=\"High\",Scoring!$B$25,IF(ThreatSum!D31=\"Medium\",Scoring!$B$26,IF(ThreatSum!D31=\"Low\",Scoring!$B$27)))))","v":false},{"$f":"IF(ThreatSum!E31=0,0,IF(ThreatSum!E31=\"Very High\",Scoring!$B$24,IF(ThreatSum!E31=\"High\",Scoring!$B$25,IF(ThreatSum!E31=\"Medium\",Scoring!$B$26,IF(ThreatSum!E31=\"Low\",Scoring!$B$27)))))","v":false},{"$f":"IF(ThreatSum!F31=0,0,IF(ThreatSum!F31=\"Very High\",Scoring!$B$24,IF(ThreatSum!F31=\"High\",Scoring!$B$25,IF(ThreatSum!F31=\"Medium\",Scoring!$B$26,IF(ThreatSum!F31=\"Low\",Scoring!$B$27)))))","v":false},{"$f":"IF(ThreatSum!G31=0,0,IF(ThreatSum!G31=\"Very High\",Scoring!$B$24,IF(ThreatSum!G31=\"High\",Scoring!$B$25,IF(ThreatSum!G31=\"Medium\",Scoring!$B$26,IF(ThreatSum!G31=\"Low\",Scoring!$B$27)))))","v":false},{"$f":"IF(ThreatSum!H31=0,0,IF(ThreatSum!H31=\"Very High\",Scoring!$B$24,IF(ThreatSum!H31=\"High\",Scoring!$B$25,IF(ThreatSum!H31=\"Medium\",Scoring!$B$26,IF(ThreatSum!H31=\"Low\",Scoring!$B$27)))))","v":false},{"$f":"IF(ThreatSum!I31=0,0,IF(ThreatSum!I31=\"Very High\",Scoring!$B$24,IF(ThreatSum!I31=\"High\",Scoring!$B$25,IF(ThreatSum!I31=\"Medium\",Scoring!$B$26,IF(ThreatSum!I31=\"Low\",Scoring!$B$27)))))","v":false},{"$f":"IF(ThreatSum!J31=0,0,IF(ThreatSum!J31=\"Very High\",Scoring!$B$24,IF(ThreatSum!J31=\"High\",Scoring!$B$25,IF(ThreatSum!J31=\"Medium\",Scoring!$B$26,IF(ThreatSum!J31=\"Low\",Scoring!$B$27)))))","v":false},{"$f":"IF(ThreatSum!K31=0,0,IF(ThreatSum!K31=\"Very High\",Scoring!$B$24,IF(ThreatSum!K31=\"High\",Scoring!$B$25,IF(ThreatSum!K31=\"Medium\",Scoring!$B$26,IF(ThreatSum!K31=\"Low\",Scoring!$B$27)))))","v":false},{"$f":"IF(ThreatSum!L31=0,0,IF(ThreatSum!L31=\"Very High\",Scoring!$B$24,IF(ThreatSum!L31=\"High\",Scoring!$B$25,IF(ThreatSum!L31=\"Medium\",Scoring!$B$26,IF(ThreatSum!L31=\"Low\",Scoring!$B$27)))))","v":false},{"$f":"IF(ThreatSum!M31=0,0,IF(ThreatSum!M31=\"Very High\",Scoring!$B$24,IF(ThreatSum!M31=\"High\",Scoring!$B$25,IF(ThreatSum!M31=\"Medium\",Scoring!$B$26,IF(ThreatSum!M31=\"Low\",Scoring!$B$27)))))","v":false},{"$f":"IF(ThreatSum!N31=0,0,IF(ThreatSum!N31=\"Very High\",Scoring!$B$24,IF(ThreatSum!N31=\"High\",Scoring!$B$25,IF(ThreatSum!N31=\"Medium\",Scoring!$B$26,IF(ThreatSum!N31=\"Low\",Scoring!$B$27)))))","v":false}]
[{"$f":"IF(B29>=Scoring!$B$38,\"Very High\",IF(B29>=Scoring!$B$39,\"High\",IF(B29>=Scoring!$B$40,\"Medium\",IF(B29>=Scoring!$B$41,\"Low\",IF(B29=0,\"\")))))","v":""},0,{"$f":"IF(ThreatSum!C32=0,0,IF(ThreatSum!C32=\"Very High\",Scoring!$B$24,IF(ThreatSum!C32=\"High\",Scoring!$B$25,IF(ThreatSum!C32=\"Medium\",Scoring!$B$26,IF(ThreatSum!C32=\"Low\",Scoring!$B$27)))))","v":false},{"$f":"IF(ThreatSum!D32=0,0,IF(ThreatSum!D32=\"Very High\",Scoring!$B$24,IF(ThreatSum!D32=\"High\",Scoring!$B$25,IF(ThreatSum!D32=\"Medium\",Scoring!$B$26,IF(ThreatSum!D32=\"Low\",Scoring!$B$27)))))","v":false},{"$f":"IF(ThreatSum!E32=0,0,IF(ThreatSum!E32=\"Very High\",Scoring!$B$24,IF(ThreatSum!E32=\"High\",Scoring!$B$25,IF(ThreatSum!E32=\"Medium\",Scoring!$B$26,IF(ThreatSum!E32=\"Low\",Scoring!$B$27)))))","v":false},{"$f":"IF(ThreatSum!F32=0,0,IF(ThreatSum!F32=\"Very High\",Scoring!$B$24,IF(ThreatSum!F32=\"High\",Scoring!$B$25,IF(ThreatSum!F32=\"Medium\",Scoring!$B$26,IF(ThreatSum!F32=\"Low\",Scoring!$B$27)))))","v":false},{"$f":"IF(ThreatSum!G32=0,0,IF(ThreatSum!G32=\"Very High\",Scoring!$B$24,IF(ThreatSum!G32=\"High\",Scoring!$B$25,IF(ThreatSum!G32=\"Medium\",Scoring!$B$26,IF(ThreatSum!G32=\"Low\",Scoring!$B$27)))))","v":false},{"$f":"IF(ThreatSum!H32=0,0,IF(ThreatSum!H32=\"Very High\",Scoring!$B$24,IF(ThreatSum!H32=\"High\",Scoring!$B$25,IF(ThreatSum!H32=\"Medium\",Scoring!$B$26,IF(ThreatSum!H32=\"Low\",Scoring!$B$27)))))","v":false},{"$f":"IF(ThreatSum!I32=0,0,IF(ThreatSum!I32=\"Very High\",Scoring!$B$24,IF(ThreatSum!I32=\"High\",Scoring!$B$25,IF(ThreatSum!I32=\"Medium\",Scoring!$B$26,IF(ThreatSum!I32=\"Low\",Scoring!$B$27)))))","v":false},{"$f":"IF(ThreatSum!J32=0,0,IF(ThreatSum!J32=\"Very High\",Scoring!$B$24,IF(ThreatSum!J32=\"High\",Scoring!$B$25,IF(ThreatSum!J32=\"Medium\",Scoring!$B$26,IF(ThreatSum!J32=\"Low\",Scoring!$B$27)))))","v":false},{"$f":"IF(ThreatSum!K32=0,0,IF(ThreatSum!K32=\"Very High\",Scoring!$B$24,IF(ThreatSum!K32=\"High\",Scoring!$B$25,IF(ThreatSum!K32=\"Medium\",Scoring!$B$26,IF(ThreatSum!K32=\"Low\",Scoring!$B$27)))))","v":false},{"$f":"IF(ThreatSum!L32=0,0,IF(ThreatSum!L32=\"Very High\",Scoring!$B$24,IF(ThreatSum!L32=\"High\",Scoring!$B$25,IF(ThreatSum!L32=\"Medium\",Scoring!$B$26,IF(ThreatSum!L32=\"Low\",Scoring!$B$27)))))","v":false},{"$f":"IF(ThreatSum!M32=0,0,IF(ThreatSum!M32=\"Very High\",Scoring!$B$24,IF(ThreatSum!M32=\"High\",Scoring!$B$25,IF(ThreatSum!M32=\"Medium\",Scoring!$B$26,IF(ThreatSum!M32=\"Low\",Scoring!$B$27)))))","v":false},{"$f":"IF(ThreatSum!N32=0,0,IF(ThreatSum!N32=\"Very High\",Scoring!$B$24,IF(ThreatSum!N32=\"High\",Scoring!$B$25,IF(ThreatSum!N32=\"Medium\",Scoring!$B$26,IF(ThreatSum!N32=\"Low\",Scoring!$B$27)))))","v":false}]
[{"$f":"IF(B30>=Scoring!$B$38,\"Very High\",IF(B30>=Scoring!$B$39,\"High\",IF(B30>=Scoring!$B$40,\"Medium\",IF(B30>=Scoring!$B$41,\"Low\",IF(B30=0,\"\")))))","v":""},0,{"$f":"IF(ThreatSum!C33=0,0,IF(ThreatSum!C33=\"Very High\",Scoring!$B$24,IF(ThreatSum!C33=\"High\",Scoring!$B$25,IF(ThreatSum!C33=\"Medium\",Scoring!$B$26,IF(ThreatSum!C33=\"Low\",Scoring!$B$27)))))","v":false},{"$f":"IF(ThreatSum!D33=0,0,IF(ThreatSum!D33=\"Very High\",Scoring!$B$24,IF(ThreatSum!D33=\"High\",Scoring!$B$25,IF(ThreatSum!D33=\"Medium\",Scoring!$B$26,IF(ThreatSum!D33=\"Low\",Scoring!$B$27)))))","v":false},{"$f":"IF(ThreatSum!E33=0,0,IF(ThreatSum!E33=\"Very High\",Scoring!$B$24,IF(ThreatSum!E33=\"High\",Scoring!$B$25,IF(ThreatSum!E33=\"Medium\",Scoring!$B$26,IF(ThreatSum!E33=\"Low\",Scoring!$B$27)))))","v":false},{"$f":"IF(ThreatSum!F33=0,0,IF(ThreatSum!F33=\"Very High\",Scoring!$B$24,IF(ThreatSum!F33=\"High\",Scoring!$B$25,IF(ThreatSum!F33=\"Medium\",Scoring!$B$26,IF(ThreatSum!F33=\"Low\",Scoring!$B$27)))))","v":false},{"$f":"IF(ThreatSum!G33=0,0,IF(ThreatSum!G33=\"Very High\",Scoring!$B$24,IF(ThreatSum!G33=\"High\",Scoring!$B$25,IF(ThreatSum!G33=\"Medium\",Scoring!$B$26,IF(ThreatSum!G33=\"Low\",Scoring!$B$27)))))","v":false},{"$f":"IF(ThreatSum!H33=0,0,IF(ThreatSum!H33=\"Very High\",Scoring!$B$24,IF(ThreatSum!H33=\"High\",Scoring!$B$25,IF(ThreatSum!H33=\"Medium\",Scoring!$B$26,IF(ThreatSum!H33=\"Low\",Scoring!$B$27)))))","v":false},{"$f":"IF(ThreatSum!I33=0,0,IF(ThreatSum!I33=\"Very High\",Scoring!$B$24,IF(ThreatSum!I33=\"High\",Scoring!$B$25,IF(ThreatSum!I33=\"Medium\",Scoring!$B$26,IF(ThreatSum!I33=\"Low\",Scoring!$B$27)))))","v":false},{"$f":"IF(ThreatSum!J33=0,0,IF(ThreatSum!J33=\"Very High\",Scoring!$B$24,IF(ThreatSum!J33=\"High\",Scoring!$B$25,IF(ThreatSum!J33=\"Medium\",Scoring!$B$26,IF(ThreatSum!J33=\"Low\",Scoring!$B$27)))))","v":false},{"$f":"IF(ThreatSum!K33=0,0,IF(ThreatSum!K33=\"Very High\",Scoring!$B$24,IF(ThreatSum!K33=\"High\",Scoring!$B$25,IF(ThreatSum!K33=\"Medium\",Scoring!$B$26,IF(ThreatSum!K33=\"Low\",Scoring!$B$27)))))","v":false},{"$f":"IF(ThreatSum!L33=0,0,IF(ThreatSum!L33=\"Very High\",Scoring!$B$24,IF(ThreatSum!L33=\"High\",Scoring!$B$25,IF(ThreatSum!L33=\"Medium\",Scoring!$B$26,IF(ThreatSum!L33=\"Low\",Scoring!$B$27)))))","v":false},{"$f":"IF(ThreatSum!M33=0,0,IF(ThreatSum!M33=\"Very High\",Scoring!$B$24,IF(ThreatSum!M33=\"High\",Scoring!$B$25,IF(ThreatSum!M33=\"Medium\",Scoring!$B$26,IF(ThreatSum!M33=\"Low\",Scoring!$B$27)))))","v":false},{"$f":"IF(ThreatSum!N33=0,0,IF(ThreatSum!N33=\"Very High\",Scoring!$B$24,IF(ThreatSum!N33=\"High\",Scoring!$B$25,IF(ThreatSum!N33=\"Medium\",Scoring!$B$26,IF(ThreatSum!N33=\"Low\",Scoring!$B$27)))))","v":false}]
[{"$f":"IF(B31>=Scoring!$B$38,\"Very High\",IF(B31>=Scoring!$B$39,\"High\",IF(B31>=Scoring!$B$40,\"Medium\",IF(B31>=Scoring!$B$41,\"Low\",IF(B31=0,\"\")))))","v":""},0,{"$f":"IF(ThreatSum!C34=0,0,IF(ThreatSum!C34=\"Very High\",Scoring!$B$24,IF(ThreatSum!C34=\"High\",Scoring!$B$25,IF(ThreatSum!C34=\"Medium\",Scoring!$B$26,IF(ThreatSum!C34=\"Low\",Scoring!$B$27)))))","v":false},{"$f":"IF(ThreatSum!D34=0,0,IF(ThreatSum!D34=\"Very High\",Scoring!$B$24,IF(ThreatSum!D34=\"High\",Scoring!$B$25,IF(ThreatSum!D34=\"Medium\",Scoring!$B$26,IF(ThreatSum!D34=\"Low\",Scoring!$B$27)))))","v":false},{"$f":"IF(ThreatSum!E34=0,0,IF(ThreatSum!E34=\"Very High\",Scoring!$B$24,IF(ThreatSum!E34=\"High\",Scoring!$B$25,IF(ThreatSum!E34=\"Medium\",Scoring!$B$26,IF(ThreatSum!E34=\"Low\",Scoring!$B$27)))))","v":false},{"$f":"IF(ThreatSum!F34=0,0,IF(ThreatSum!F34=\"Very High\",Scoring!$B$24,IF(ThreatSum!F34=\"High\",Scoring!$B$25,IF(ThreatSum!F34=\"Medium\",Scoring!$B$26,IF(ThreatSum!F34=\"Low\",Scoring!$B$27)))))","v":false},{"$f":"IF(ThreatSum!G34=0,0,IF(ThreatSum!G34=\"Very High\",Scoring!$B$24,IF(ThreatSum!G34=\"High\",Scoring!$B$25,IF(ThreatSum!G34=\"Medium\",Scoring!$B$26,IF(ThreatSum!G34=\"Low\",Scoring!$B$27)))))","v":false},{"$f":"IF(ThreatSum!H34=0,0,IF(ThreatSum!H34=\"Very High\",Scoring!$B$24,IF(ThreatSum!H34=\"High\",Scoring!$B$25,IF(ThreatSum!H34=\"Medium\",Scoring!$B$26,IF(ThreatSum!H34=\"Low\",Scoring!$B$27)))))","v":false},{"$f":"IF(ThreatSum!I34=0,0,IF(ThreatSum!I34=\"Very High\",Scoring!$B$24,IF(ThreatSum!I34=\"High\",Scoring!$B$25,IF(ThreatSum!I34=\"Medium\",Scoring!$B$26,IF(ThreatSum!I34=\"Low\",Scoring!$B$27)))))","v":false},{"$f":"IF(ThreatSum!J34=0,0,IF(ThreatSum!J34=\"Very High\",Scoring!$B$24,IF(ThreatSum!J34=\"High\",Scoring!$B$25,IF(ThreatSum!J34=\"Medium\",Scoring!$B$26,IF(ThreatSum!J34=\"Low\",Scoring!$B$27)))))","v":false},{"$f":"IF(ThreatSum!K34=0,0,IF(ThreatSum!K34=\"Very High\",Scoring!$B$24,IF(ThreatSum!K34=\"High\",Scoring!$B$25,IF(ThreatSum!K34=\"Medium\",Scoring!$B$26,IF(ThreatSum!K34=\"Low\",Scoring!$B$27)))))","v":false},{"$f":"IF(ThreatSum!L34=0,0,IF(ThreatSum!L34=\"Very High\",Scoring!$B$24,IF(ThreatSum!L34=\"High\",Scoring!$B$25,IF(ThreatSum!L34=\"Medium\",Scoring!$B$26,IF(ThreatSum!L34=\"Low\",Scoring!$B$27)))))","v":false},{"$f":"IF(ThreatSum!M34=0,0,IF(ThreatSum!M34=\"Very High\",Scoring!$B$24,IF(ThreatSum!M34=\"High\",Scoring!$B$25,IF(ThreatSum!M34=\"Medium\",Scoring!$B$26,IF(ThreatSum!M34=\"Low\",Scoring!$B$27)))))","v":false},{"$f":"IF(ThreatSum!N34=0,0,IF(ThreatSum!N34=\"Very High\",Scoring!$B$24,IF(ThreatSum!N34=\"High\",Scoring!$B$25,IF(ThreatSum!N34=\"Medium\",Scoring!$B$26,IF(ThreatSum!N34=\"Low\",Scoring!$B$27)))))","v":false}]
[{"$f":"IF(B32>=Scoring!$B$38,\"Very High\",IF(B32>=Scoring!$B$39,\"High\",IF(B32>=Scoring!$B$40,\"Medium\",IF(B32>=Scoring!$B$41,\"Low\",IF(B32=0,\"\")))))","v":""},0,{"$f":"IF(ThreatSum!C35=0,0,IF(ThreatSum!C35=\"Very High\",Scoring!$B$24,IF(ThreatSum!C35=\"High\",Scoring!$B$25,IF(ThreatSum!C35=\"Medium\",Scoring!$B$26,IF(ThreatSum!C35=\"Low\",Scoring!$B$27)))))","v":false},{"$f":"IF(ThreatSum!D35=0,0,IF(ThreatSum!D35=\"Very High\",Scoring!$B$24,IF(ThreatSum!D35=\"High\",Scoring!$B$25,IF(ThreatSum!D35=\"Medium\",Scoring!$B$26,IF(ThreatSum!D35=\"Low\",Scoring!$B$27)))))","v":false},{"$f":"IF(ThreatSum!E35=0,0,IF(ThreatSum!E35=\"Very High\",Scoring!$B$24,IF(ThreatSum!E35=\"High\",Scoring!$B$25,IF(ThreatSum!E35=\"Medium\",Scoring!$B$26,IF(ThreatSum!E35=\"Low\",Scoring!$B$27)))))","v":false},{"$f":"IF(ThreatSum!F35=0,0,IF(ThreatSum!F35=\"Very High\",Scoring!$B$24,IF(ThreatSum!F35=\"High\",Scoring!$B$25,IF(ThreatSum!F35=\"Medium\",Scoring!$B$26,IF(ThreatSum!F35=\"Low\",Scoring!$B$27)))))","v":false},{"$f":"IF(ThreatSum!G35=0,0,IF(ThreatSum!G35=\"Very High\",Scoring!$B$24,IF(ThreatSum!G35=\"High\",Scoring!$B$25,IF(ThreatSum!G35=\"Medium\",Scoring!$B$26,IF(ThreatSum!G35=\"Low\",Scoring!$B$27)))))","v":false},{"$f":"IF(ThreatSum!H35=0,0,IF(ThreatSum!H35=\"Very High\",Scoring!$B$24,IF(ThreatSum!H35=\"High\",Scoring!$B$25,IF(ThreatSum!H35=\"Medium\",Scoring!$B$26,IF(ThreatSum!H35=\"Low\",Scoring!$B$27)))))","v":false},{"$f":"IF(ThreatSum!I35=0,0,IF(ThreatSum!I35=\"Very High\",Scoring!$B$24,IF(ThreatSum!I35=\"High\",Scoring!$B$25,IF(ThreatSum!I35=\"Medium\",Scoring!$B$26,IF(ThreatSum!I35=\"Low\",Scoring!$B$27)))))","v":false},{"$f":"IF(ThreatSum!J35=0,0,IF(ThreatSum!J35=\"Very High\",Scoring!$B$24,IF(ThreatSum!J35=\"High\",Scoring!$B$25,IF(ThreatSum!J35=\"Medium\",Scoring!$B$26,IF(ThreatSum!J35=\"Low\",Scoring!$B$27)))))","v":false},{"$f":"IF(ThreatSum!K35=0,0,IF(ThreatSum!K35=\"Very High\",Scoring!$B$24,IF(ThreatSum!K35=\"High\",Scoring!$B$25,IF(ThreatSum!K35=\"Medium\",Scoring!$B$26,IF(ThreatSum!K35=\"Low\",Scoring!$B$27)))))","v":false},{"$f":"IF(ThreatSum!L35=0,0,IF(ThreatSum!L35=\"Very High\",Scoring!$B$24,IF(ThreatSum!L35=\"High\",Scoring!$B$25,IF(ThreatSum!L35=\"Medium\",Scoring!$B$26,IF(ThreatSum!L35=\"Low\",Scoring!$B$27)))))","v":false},{"$f":"IF(ThreatSum!M35=0,0,IF(ThreatSum!M35=\"Very High\",Scoring!$B$24,IF(ThreatSum!M35=\"High\",Scoring!$B$25,IF(ThreatSum!M35=\"Medium\",Scoring!$B$26,IF(ThreatSum!M35=\"Low\",Scoring!$B$27)))))","v":false},{"$f":"IF(ThreatSum!N35=0,0,IF(ThreatSum!N35=\"Very High\",Scoring!$B$24,IF(ThreatSum!N35=\"High\",Scoring!$B$25,IF(ThreatSum!N35=\"Medium\",Scoring!$B$26,IF(ThreatSum!N35=\"Low\",Scoring!$B$27)))))","v":false}]
[{"$f":"IF(B33>=Scoring!$B$38,\"Very High\",IF(B33>=Scoring!$B$39,\"High\",IF(B33>=Scoring!$B$40,\"Medium\",IF(B33>=Scoring!$B$41,\"Low\",IF(B33=0,\"\")))))","v":""},0,{"$f":"IF(ThreatSum!C36=0,0,IF(ThreatSum!C36=\"Very High\",Scoring!$B$24,IF(ThreatSum!C36=\"High\",Scoring!$B$25,IF(ThreatSum!C36=\"Medium\",Scoring!$B$26,IF(ThreatSum!C36=\"Low\",Scoring!$B$27)))))","v":false},{"$f":"IF(ThreatSum!D36=0,0,IF(ThreatSum!D36=\"Very High\",Scoring!$B$24,IF(ThreatSum!D36=\"High\",Scoring!$B$25,IF(ThreatSum!D36=\"Medium\",Scoring!$B$26,IF(ThreatSum!D36=\"Low\",Scoring!$B$27)))))","v":false},{"$f":"IF(ThreatSum!E36=0,0,IF(ThreatSum!E36=\"Very High\",Scoring!$B$24,IF(ThreatSum!E36=\"High\",Scoring!$B$25,IF(ThreatSum!E36=\"Medium\",Scoring!$B$26,IF(ThreatSum!E36=\"Low\",Scoring!$B$27)))))","v":false},{"$f":"IF(ThreatSum!F36=0,0,IF(ThreatSum!F36=\"Very High\",Scoring!$B$24,IF(ThreatSum!F36=\"High\",Scoring!$B$25,IF(ThreatSum!F36=\"Medium\",Scoring!$B$26,IF(ThreatSum!F36=\"Low\",Scoring!$B$27)))))","v":false},{"$f":"IF(ThreatSum!G36=0,0,IF(ThreatSum!G36=\"Very High\",Scoring!$B$24,IF(ThreatSum!G36=\"High\",Scoring!$B$25,IF(ThreatSum!G36=\"Medium\",Scoring!$B$26,IF(ThreatSum!G36=\"Low\",Scoring!$B$27)))))","v":false},{"$f":"IF(ThreatSum!H36=0,0,IF(ThreatSum!H36=\"Very High\",Scoring!$B$24,IF(ThreatSum!H36=\"High\",Scoring!$B$25,IF(ThreatSum!H36=\"Medium\",Scoring!$B$26,IF(ThreatSum!H36=\"Low\",Scoring!$B$27)))))","v":false},{"$f":"IF(ThreatSum!I36=0,0,IF(ThreatSum!I36=\"Very High\",Scoring!$B$24,IF(ThreatSum!I36=\"High\",Scoring!$B$25,IF(ThreatSum!I36=\"Medium\",Scoring!$B$26,IF(ThreatSum!I36=\"Low\",Scoring!$B$27)))))","v":false},{"$f":"IF(ThreatSum!J36=0,0,IF(ThreatSum!J36=\"Very High\",Scoring!$B$24,IF(ThreatSum!J36=\"High\",Scoring!$B$25,IF(ThreatSum!J36=\"Medium\",Scoring!$B$26,IF(ThreatSum!J36=\"Low\",Scoring!$B$27)))))","v":false},{"$f":"IF(ThreatSum!K36=0,0,IF(ThreatSum!K36=\"Very High\",Scoring!$B$24,IF(ThreatSum!K36=\"High\",Scoring!$B$25,IF(ThreatSum!K36=\"Medium\",Scoring!$B$26,IF(ThreatSum!K36=\"Low\",Scoring!$B$27)))))","v":false},{"$f":"IF(ThreatSum!L36=0,0,IF(ThreatSum!L36=\"Very High\",Scoring!$B$24,IF(ThreatSum!L36=\"High\",Scoring!$B$25,IF(ThreatSum!L36=\"Medium\",Scoring!$B$26,IF(ThreatSum!L36=\"Low\",Scoring!$B$27)))))","v":false},{"$f":"IF(ThreatSum!M36=0,0,IF(ThreatSum!M36=\"Very High\",Scoring!$B$24,IF(ThreatSum!M36=\"High\",Scoring!$B$25,IF(ThreatSum!M36=\"Medium\",Scoring!$B$26,IF(ThreatSum!M36=\"Low\",Scoring!$B$27)))))","v":false},{"$f":"IF(ThreatSum!N36=0,0,IF(ThreatSum!N36=\"Very High\",Scoring!$B$24,IF(ThreatSum!N36=\"High\",Scoring!$B$25,IF(ThreatSum!N36=\"Medium\",Scoring!$B$26,IF(ThreatSum!N36=\"Low\",Scoring!$B$27)))))","v":false}]
[{"$f":"IF(B34>=Scoring!$B$38,\"Very High\",IF(B34>=Scoring!$B$39,\"High\",IF(B34>=Scoring!$B$40,\"Medium\",IF(B34>=Scoring!$B$41,\"Low\",IF(B34=0,\"\")))))","v":""},0,{"$f":"IF(ThreatSum!C37=0,0,IF(ThreatSum!C37=\"Very High\",Scoring!$B$24,IF(ThreatSum!C37=\"High\",Scoring!$B$25,IF(ThreatSum!C37=\"Medium\",Scoring!$B$26,IF(ThreatSum!C37=\"Low\",Scoring!$B$27)))))","v":false},{"$f":"IF(ThreatSum!D37=0,0,IF(ThreatSum!D37=\"Very High\",Scoring!$B$24,IF(ThreatSum!D37=\"High\",Scoring!$B$25,IF(ThreatSum!D37=\"Medium\",Scoring!$B$26,IF(ThreatSum!D37=\"Low\",Scoring!$B$27)))))","v":false},{"$f":"IF(ThreatSum!E37=0,0,IF(ThreatSum!E37=\"Very High\",Scoring!$B$24,IF(ThreatSum!E37=\"High\",Scoring!$B$25,IF(ThreatSum!E37=\"Medium\",Scoring!$B$26,IF(ThreatSum!E37=\"Low\",Scoring!$B$27)))))","v":false},{"$f":"IF(ThreatSum!F37=0,0,IF(ThreatSum!F37=\"Very High\",Scoring!$B$24,IF(ThreatSum!F37=\"High\",Scoring!$B$25,IF(ThreatSum!F37=\"Medium\",Scoring!$B$26,IF(ThreatSum!F37=\"Low\",Scoring!$B$27)))))","v":false},{"$f":"IF(ThreatSum!G37=0,0,IF(ThreatSum!G37=\"Very High\",Scoring!$B$24,IF(ThreatSum!G37=\"High\",Scoring!$B$25,IF(ThreatSum!G37=\"Medium\",Scoring!$B$26,IF(ThreatSum!G37=\"Low\",Scoring!$B$27)))))","v":false},{"$f":"IF(ThreatSum!H37=0,0,IF(ThreatSum!H37=\"Very High\",Scoring!$B$24,IF(ThreatSum!H37=\"High\",Scoring!$B$25,IF(ThreatSum!H37=\"Medium\",Scoring!$B$26,IF(ThreatSum!H37=\"Low\",Scoring!$B$27)))))","v":false},{"$f":"IF(ThreatSum!I37=0,0,IF(ThreatSum!I37=\"Very High\",Scoring!$B$24,IF(ThreatSum!I37=\"High\",Scoring!$B$25,IF(ThreatSum!I37=\"Medium\",Scoring!$B$26,IF(ThreatSum!I37=\"Low\",Scoring!$B$27)))))","v":false},{"$f":"IF(ThreatSum!J37=0,0,IF(ThreatSum!J37=\"Very High\",Scoring!$B$24,IF(ThreatSum!J37=\"High\",Scoring!$B$25,IF(ThreatSum!J37=\"Medium\",Scoring!$B$26,IF(ThreatSum!J37=\"Low\",Scoring!$B$27)))))","v":false},{"$f":"IF(ThreatSum!K37=0,0,IF(ThreatSum!K37=\"Very High\",Scoring!$B$24,IF(ThreatSum!K37=\"High\",Scoring!$B$25,IF(ThreatSum!K37=\"Medium\",Scoring!$B$26,IF(ThreatSum!K37=\"Low\",Scoring!$B$27)))))","v":false},{"$f":"IF(ThreatSum!L37=0,0,IF(ThreatSum!L37=\"Very High\",Scoring!$B$24,IF(ThreatSum!L37=\"High\",Scoring!$B$25,IF(ThreatSum!L37=\"Medium\",Scoring!$B$26,IF(ThreatSum!L37=\"Low\",Scoring!$B$27)))))","v":false},{"$f":"IF(ThreatSum!M37=0,0,IF(ThreatSum!M37=\"Very High\",Scoring!$B$24,IF(ThreatSum!M37=\"High\",Scoring!$B$25,IF(ThreatSum!M37=\"Medium\",Scoring!$B$26,IF(ThreatSum!M37=\"Low\",Scoring!$B$27)))))","v":false},{"$f":"IF(ThreatSum!N37=0,0,IF(ThreatSum!N37=\"Very High\",Scoring!$B$24,IF(ThreatSum!N37=\"High\",Scoring!$B$25,IF(ThreatSum!N37=\"Medium\",Scoring!$B$26,IF(ThreatSum!N37=\"Low\",Scoring!$B$27)))))","v":false}]
[{"$f":"IF(B35>=Scoring!$B$38,\"Very High\",IF(B35>=Scoring!$B$39,\"High\",IF(B35>=Scoring!$B$40,\"Medium\",IF(B35>=Scoring!$B$41,\"Low\",IF(B35=0,\"\")))))","v":""},0,{"$f":"IF(ThreatSum!C38=0,0,IF(ThreatSum!C38=\"Very High\",Scoring!$B$24,IF(ThreatSum!C38=\"High\",Scoring!$B$25,IF(ThreatSum!C38=\"Medium\",Scoring!$B$26,IF(ThreatSum!C38=\"Low\",Scoring!$B$27)))))","v":false},{"$f":"IF(ThreatSum!D38=0,0,IF(ThreatSum!D38=\"Very High\",Scoring!$B$24,IF(ThreatSum!D38=\"High\",Scoring!$B$25,IF(ThreatSum!D38=\"Medium\",Scoring!$B$26,IF(ThreatSum!D38=\"Low\",Scoring!$B$27)))))","v":false},{"$f":"IF(ThreatSum!E38=0,0,IF(ThreatSum!E38=\"Very High\",Scoring!$B$24,IF(ThreatSum!E38=\"High\",Scoring!$B$25,IF(ThreatSum!E38=\"Medium\",Scoring!$B$26,IF(ThreatSum!E38=\"Low\",Scoring!$B$27)))))","v":false},{"$f":"IF(ThreatSum!F38=0,0,IF(ThreatSum!F38=\"Very High\",Scoring!$B$24,IF(ThreatSum!F38=\"High\",Scoring!$B$25,IF(ThreatSum!F38=\"Medium\",Scoring!$B$26,IF(ThreatSum!F38=\"Low\",Scoring!$B$27)))))","v":false},{"$f":"IF(ThreatSum!G38=0,0,IF(ThreatSum!G38=\"Very High\",Scoring!$B$24,IF(ThreatSum!G38=\"High\",Scoring!$B$25,IF(ThreatSum!G38=\"Medium\",Scoring!$B$26,IF(ThreatSum!G38=\"Low\",Scoring!$B$27)))))","v":false},{"$f":"IF(ThreatSum!H38=0,0,IF(ThreatSum!H38=\"Very High\",Scoring!$B$24,IF(ThreatSum!H38=\"High\",Scoring!$B$25,IF(ThreatSum!H38=\"Medium\",Scoring!$B$26,IF(ThreatSum!H38=\"Low\",Scoring!$B$27)))))","v":false},{"$f":"IF(ThreatSum!I38=0,0,IF(ThreatSum!I38=\"Very High\",Scoring!$B$24,IF(ThreatSum!I38=\"High\",Scoring!$B$25,IF(ThreatSum!I38=\"Medium\",Scoring!$B$26,IF(ThreatSum!I38=\"Low\",Scoring!$B$27)))))","v":false},{"$f":"IF(ThreatSum!J38=0,0,IF(ThreatSum!J38=\"Very High\",Scoring!$B$24,IF(ThreatSum!J38=\"High\",Scoring!$B$25,IF(ThreatSum!J38=\"Medium\",Scoring!$B$26,IF(ThreatSum!J38=\"Low\",Scoring!$B$27)))))","v":false},{"$f":"IF(ThreatSum!K38=0,0,IF(ThreatSum!K38=\"Very High\",Scoring!$B$24,IF(ThreatSum!K38=\"High\",Scoring!$B$25,IF(ThreatSum!K38=\"Medium\",Scoring!$B$26,IF(ThreatSum!K38=\"Low\",Scoring!$B$27)))))","v":false},{"$f":"IF(ThreatSum!L38=0,0,IF(ThreatSum!L38=\"Very High\",Scoring!$B$24,IF(ThreatSum!L38=\"High\",Scoring!$B$25,IF(ThreatSum!L38=\"Medium\",Scoring!$B$26,IF(ThreatSum!L38=\"Low\",Scoring!$B$27)))))","v":false},{"$f":"IF(ThreatSum!M38=0,0,IF(ThreatSum!M38=\"Very High\",Scoring!$B$24,IF(ThreatSum!M38=\"High\",Scoring!$B$25,IF(ThreatSum!M38=\"Medium\",Scoring!$B$26,IF(ThreatSum!M38=\"Low\",Scoring!$B$27)))))","v":false},{"$f":"IF(ThreatSum!N38=0,0,IF(ThreatSum!N38=\"Very High\",Scoring!$B$24,IF(ThreatSum!N38=\"High\",Scoring!$B$25,IF(ThreatSum!N38=\"Medium\",Scoring!$B$26,IF(ThreatSum!N38=\"Low\",Scoring!$B$27)))))","v":false}]
[{"$f":"IF(B36>=Scoring!$B$38,\"Very High\",IF(B36>=Scoring!$B$39,\"High\",IF(B36>=Scoring!$B$40,\"Medium\",IF(B36>=Scoring!$B$41,\"Low\",IF(B36=0,\"\")))))","v":""},0,{"$f":"IF(ThreatSum!C39=0,0,IF(ThreatSum!C39=\"Very High\",Scoring!$B$24,IF(ThreatSum!C39=\"High\",Scoring!$B$25,IF(ThreatSum!C39=\"Medium\",Scoring!$B$26,IF(ThreatSum!C39=\"Low\",Scoring!$B$27)))))","v":false},{"$f":"IF(ThreatSum!D39=0,0,IF(ThreatSum!D39=\"Very High\",Scoring!$B$24,IF(ThreatSum!D39=\"High\",Scoring!$B$25,IF(ThreatSum!D39=\"Medium\",Scoring!$B$26,IF(ThreatSum!D39=\"Low\",Scoring!$B$27)))))","v":false},{"$f":"IF(ThreatSum!E39=0,0,IF(ThreatSum!E39=\"Very High\",Scoring!$B$24,IF(ThreatSum!E39=\"High\",Scoring!$B$25,IF(ThreatSum!E39=\"Medium\",Scoring!$B$26,IF(ThreatSum!E39=\"Low\",Scoring!$B$27)))))","v":false},{"$f":"IF(ThreatSum!F39=0,0,IF(ThreatSum!F39=\"Very High\",Scoring!$B$24,IF(ThreatSum!F39=\"High\",Scoring!$B$25,IF(ThreatSum!F39=\"Medium\",Scoring!$B$26,IF(ThreatSum!F39=\"Low\",Scoring!$B$27)))))","v":false},{"$f":"IF(ThreatSum!G39=0,0,IF(ThreatSum!G39=\"Very High\",Scoring!$B$24,IF(ThreatSum!G39=\"High\",Scoring!$B$25,IF(ThreatSum!G39=\"Medium\",Scoring!$B$26,IF(ThreatSum!G39=\"Low\",Scoring!$B$27)))))","v":false},{"$f":"IF(ThreatSum!H39=0,0,IF(ThreatSum!H39=\"Very High\",Scoring!$B$24,IF(ThreatSum!H39=\"High\",Scoring!$B$25,IF(ThreatSum!H39=\"Medium\",Scoring!$B$26,IF(ThreatSum!H39=\"Low\",Scoring!$B$27)))))","v":false},{"$f":"IF(ThreatSum!I39=0,0,IF(ThreatSum!I39=\"Very High\",Scoring!$B$24,IF(ThreatSum!I39=\"High\",Scoring!$B$25,IF(ThreatSum!I39=\"Medium\",Scoring!$B$26,IF(ThreatSum!I39=\"Low\",Scoring!$B$27)))))","v":false},{"$f":"IF(ThreatSum!J39=0,0,IF(ThreatSum!J39=\"Very High\",Scoring!$B$24,IF(ThreatSum!J39=\"High\",Scoring!$B$25,IF(ThreatSum!J39=\"Medium\",Scoring!$B$26,IF(ThreatSum!J39=\"Low\",Scoring!$B$27)))))","v":false},{"$f":"IF(ThreatSum!K39=0,0,IF(ThreatSum!K39=\"Very High\",Scoring!$B$24,IF(ThreatSum!K39=\"High\",Scoring!$B$25,IF(ThreatSum!K39=\"Medium\",Scoring!$B$26,IF(ThreatSum!K39=\"Low\",Scoring!$B$27)))))","v":false},{"$f":"IF(ThreatSum!L39=0,0,IF(ThreatSum!L39=\"Very High\",Scoring!$B$24,IF(ThreatSum!L39=\"High\",Scoring!$B$25,IF(ThreatSum!L39=\"Medium\",Scoring!$B$26,IF(ThreatSum!L39=\"Low\",Scoring!$B$27)))))","v":false},{"$f":"IF(ThreatSum!M39=0,0,IF(ThreatSum!M39=\"Very High\",Scoring!$B$24,IF(ThreatSum!M39=\"High\",Scoring!$B$25,IF(ThreatSum!M39=\"Medium\",Scoring!$B$26,IF(ThreatSum!M39=\"Low\",Scoring!$B$27)))))","v":false},{"$f":"IF(ThreatSum!N39=0,0,IF(ThreatSum!N39=\"Very High\",Scoring!$B$24,IF(ThreatSum!N39=\"High\",Scoring!$B$25,IF(ThreatSum!N39=\"Medium\",Scoring!$B$26,IF(ThreatSum!N39=\"Low\",Scoring!$B$27)))))","v":false}]
[{"$f":"IF(B37>=Scoring!$B$38,\"Very High\",IF(B37>=Scoring!$B$39,\"High\",IF(B37>=Scoring!$B$40,\"Medium\",IF(B37>=Scoring!$B$41,\"Low\",IF(B37=0,\"\")))))","v":""},0,{"$f":"IF(ThreatSum!C40=0,0,IF(ThreatSum!C40=\"Very High\",Scoring!$B$24,IF(ThreatSum!C40=\"High\",Scoring!$B$25,IF(ThreatSum!C40=\"Medium\",Scoring!$B$26,IF(ThreatSum!C40=\"Low\",Scoring!$B$27)))))","v":false},{"$f":"IF(ThreatSum!D40=0,0,IF(ThreatSum!D40=\"Very High\",Scoring!$B$24,IF(ThreatSum!D40=\"High\",Scoring!$B$25,IF(ThreatSum!D40=\"Medium\",Scoring!$B$26,IF(ThreatSum!D40=\"Low\",Scoring!$B$27)))))","v":false},{"$f":"IF(ThreatSum!E40=0,0,IF(ThreatSum!E40=\"Very High\",Scoring!$B$24,IF(ThreatSum!E40=\"High\",Scoring!$B$25,IF(ThreatSum!E40=\"Medium\",Scoring!$B$26,IF(ThreatSum!E40=\"Low\",Scoring!$B$27)))))","v":false},{"$f":"IF(ThreatSum!F40=0,0,IF(ThreatSum!F40=\"Very High\",Scoring!$B$24,IF(ThreatSum!F40=\"High\",Scoring!$B$25,IF(ThreatSum!F40=\"Medium\",Scoring!$B$26,IF(ThreatSum!F40=\"Low\",Scoring!$B$27)))))","v":false},{"$f":"IF(ThreatSum!G40=0,0,IF(ThreatSum!G40=\"Very High\",Scoring!$B$24,IF(ThreatSum!G40=\"High\",Scoring!$B$25,IF(ThreatSum!G40=\"Medium\",Scoring!$B$26,IF(ThreatSum!G40=\"Low\",Scoring!$B$27)))))","v":false},{"$f":"IF(ThreatSum!H40=0,0,IF(ThreatSum!H40=\"Very High\",Scoring!$B$24,IF(ThreatSum!H40=\"High\",Scoring!$B$25,IF(ThreatSum!H40=\"Medium\",Scoring!$B$26,IF(ThreatSum!H40=\"Low\",Scoring!$B$27)))))","v":false},{"$f":"IF(ThreatSum!I40=0,0,IF(ThreatSum!I40=\"Very High\",Scoring!$B$24,IF(ThreatSum!I40=\"High\",Scoring!$B$25,IF(ThreatSum!I40=\"Medium\",Scoring!$B$26,IF(ThreatSum!I40=\"Low\",Scoring!$B$27)))))","v":false},{"$f":"IF(ThreatSum!J40=0,0,IF(ThreatSum!J40=\"Very High\",Scoring!$B$24,IF(ThreatSum!J40=\"High\",Scoring!$B$25,IF(ThreatSum!J40=\"Medium\",Scoring!$B$26,IF(ThreatSum!J40=\"Low\",Scoring!$B$27)))))","v":false},{"$f":"IF(ThreatSum!K40=0,0,IF(ThreatSum!K40=\"Very High\",Scoring!$B$24,IF(ThreatSum!K40=\"High\",Scoring!$B$25,IF(ThreatSum!K40=\"Medium\",Scoring!$B$26,IF(ThreatSum!K40=\"Low\",Scoring!$B$27)))))","v":false},{"$f":"IF(ThreatSum!L40=0,0,IF(ThreatSum!L40=\"Very High\",Scoring!$B$24,IF(ThreatSum!L40=\"High\",Scoring!$B$25,IF(ThreatSum!L40=\"Medium\",Scoring!$B$26,IF(ThreatSum!L40=\"Low\",Scoring!$B$27)))))","v":false},{"$f":"IF(ThreatSum!M40=0,0,IF(ThreatSum!M40=\"Very High\",Scoring!$B$24,IF(ThreatSum!M40=\"High\",Scoring!$B$25,IF(ThreatSum!M40=\"Medium\",Scoring!$B$26,IF(ThreatSum!M40=\"Low\",Scoring!$B$27)))))","v":false},{"$f":"IF(ThreatSum!N40=0,0,IF(ThreatSum!N40=\"Very High\",Scoring!$B$24,IF(ThreatSum!N40=\"High\",Scoring!$B$25,IF(ThreatSum!N40=\"Medium\",Scoring!$B$26,IF(ThreatSum!N40=\"Low\",Scoring!$B$27)))))","v":false}]
[{"$f":"IF(B38>=Scoring!$B$38,\"Very High\",IF(B38>=Scoring!$B$39,\"High\",IF(B38>=Scoring!$B$40,\"Medium\",IF(B38>=Scoring!$B$41,\"Low\",IF(B38=0,\"\")))))","v":""},0,{"$f":"IF(ThreatSum!C41=0,0,IF(ThreatSum!C41=\"Very High\",Scoring!$B$24,IF(ThreatSum!C41=\"High\",Scoring!$B$25,IF(ThreatSum!C41=\"Medium\",Scoring!$B$26,IF(ThreatSum!C41=\"Low\",Scoring!$B$27)))))","v":false},{"$f":"IF(ThreatSum!D41=0,0,IF(ThreatSum!D41=\"Very High\",Scoring!$B$24,IF(ThreatSum!D41=\"High\",Scoring!$B$25,IF(ThreatSum!D41=\"Medium\",Scoring!$B$26,IF(ThreatSum!D41=\"Low\",Scoring!$B$27)))))","v":false},{"$f":"IF(ThreatSum!E41=0,0,IF(ThreatSum!E41=\"Very High\",Scoring!$B$24,IF(ThreatSum!E41=\"High\",Scoring!$B$25,IF(ThreatSum!E41=\"Medium\",Scoring!$B$26,IF(ThreatSum!E41=\"Low\",Scoring!$B$27)))))","v":false},{"$f":"IF(ThreatSum!F41=0,0,IF(ThreatSum!F41=\"Very High\",Scoring!$B$24,IF(ThreatSum!F41=\"High\",Scoring!$B$25,IF(ThreatSum!F41=\"Medium\",Scoring!$B$26,IF(ThreatSum!F41=\"Low\",Scoring!$B$27)))))","v":false},{"$f":"IF(ThreatSum!G41=0,0,IF(ThreatSum!G41=\"Very High\",Scoring!$B$24,IF(ThreatSum!G41=\"High\",Scoring!$B$25,IF(ThreatSum!G41=\"Medium\",Scoring!$B$26,IF(ThreatSum!G41=\"Low\",Scoring!$B$27)))))","v":false},{"$f":"IF(ThreatSum!H41=0,0,IF(ThreatSum!H41=\"Very High\",Scoring!$B$24,IF(ThreatSum!H41=\"High\",Scoring!$B$25,IF(ThreatSum!H41=\"Medium\",Scoring!$B$26,IF(ThreatSum!H41=\"Low\",Scoring!$B$27)))))","v":false},{"$f":"IF(ThreatSum!I41=0,0,IF(ThreatSum!I41=\"Very High\",Scoring!$B$24,IF(ThreatSum!I41=\"High\",Scoring!$B$25,IF(ThreatSum!I41=\"Medium\",Scoring!$B$26,IF(ThreatSum!I41=\"Low\",Scoring!$B$27)))))","v":false},{"$f":"IF(ThreatSum!J41=0,0,IF(ThreatSum!J41=\"Very High\",Scoring!$B$24,IF(ThreatSum!J41=\"High\",Scoring!$B$25,IF(ThreatSum!J41=\"Medium\",Scoring!$B$26,IF(ThreatSum!J41=\"Low\",Scoring!$B$27)))))","v":false},{"$f":"IF(ThreatSum!K41=0,0,IF(ThreatSum!K41=\"Very High\",Scoring!$B$24,IF(ThreatSum!K41=\"High\",Scoring!$B$25,IF(ThreatSum!K41=\"Medium\",Scoring!$B$26,IF(ThreatSum!K41=\"Low\",Scoring!$B$27)))))","v":false},{"$f":"IF(ThreatSum!L41=0,0,IF(ThreatSum!L41=\"Very High\",Scoring!$B$24,IF(ThreatSum!L41=\"High\",Scoring!$B$25,IF(ThreatSum!L41=\"Medium\",Scoring!$B$26,IF(ThreatSum!L41=\"Low\",Scoring!$B$27)))))","v":false},{"$f":"IF(ThreatSum!M41=0,0,IF(ThreatSum!M41=\"Very High\",Scoring!$B$24,IF(ThreatSum!M41=\"High\",Scoring!$B$25,IF(ThreatSum!M41=\"Medium\",Scoring!$B$26,IF(ThreatSum!M41=\"Low\",Scoring!$B$27)))))","v":false},{"$f":"IF(ThreatSum!N41=0,0,IF(ThreatSum!N41=\"Very High\",Scoring!$B$24,IF(ThreatSum!N41=\"High\",Scoring!$B$25,IF(ThreatSum!N41=\"Medium\",Scoring!$B$26,IF(ThreatSum!N41=\"Low\",Scoring!$B$27)))))","v":false}]
[{"$f":"IF(B39>=Scoring!$B$38,\"Very High\",IF(B39>=Scoring!$B$39,\"High\",IF(B39>=Scoring!$B$40,\"Medium\",IF(B39>=Scoring!$B$41,\"Low\",IF(B39=0,\"\")))))","v":""},0,{"$f":"IF(ThreatSum!C42=0,0,IF(ThreatSum!C42=\"Very High\",Scoring!$B$24,IF(ThreatSum!C42=\"High\",Scoring!$B$25,IF(ThreatSum!C42=\"Medium\",Scoring!$B$26,IF(ThreatSum!C42=\"Low\",Scoring!$B$27)))))","v":false},{"$f":"IF(ThreatSum!D42=0,0,IF(ThreatSum!D42=\"Very High\",Scoring!$B$24,IF(ThreatSum!D42=\"High\",Scoring!$B$25,IF(ThreatSum!D42=\"Medium\",Scoring!$B$26,IF(ThreatSum!D42=\"Low\",Scoring!$B$27)))))","v":false},{"$f":"IF(ThreatSum!E42=0,0,IF(ThreatSum!E42=\"Very High\",Scoring!$B$24,IF(ThreatSum!E42=\"High\",Scoring!$B$25,IF(ThreatSum!E42=\"Medium\",Scoring!$B$26,IF(ThreatSum!E42=\"Low\",Scoring!$B$27)))))","v":false},{"$f":"IF(ThreatSum!F42=0,0,IF(ThreatSum!F42=\"Very High\",Scoring!$B$24,IF(ThreatSum!F42=\"High\",Scoring!$B$25,IF(ThreatSum!F42=\"Medium\",Scoring!$B$26,IF(ThreatSum!F42=\"Low\",Scoring!$B$27)))))","v":false},{"$f":"IF(ThreatSum!G42=0,0,IF(ThreatSum!G42=\"Very High\",Scoring!$B$24,IF(ThreatSum!G42=\"High\",Scoring!$B$25,IF(ThreatSum!G42=\"Medium\",Scoring!$B$26,IF(ThreatSum!G42=\"Low\",Scoring!$B$27)))))","v":false},{"$f":"IF(ThreatSum!H42=0,0,IF(ThreatSum!H42=\"Very High\",Scoring!$B$24,IF(ThreatSum!H42=\"High\",Scoring!$B$25,IF(ThreatSum!H42=\"Medium\",Scoring!$B$26,IF(ThreatSum!H42=\"Low\",Scoring!$B$27)))))","v":false},{"$f":"IF(ThreatSum!I42=0,0,IF(ThreatSum!I42=\"Very High\",Scoring!$B$24,IF(ThreatSum!I42=\"High\",Scoring!$B$25,IF(ThreatSum!I42=\"Medium\",Scoring!$B$26,IF(ThreatSum!I42=\"Low\",Scoring!$B$27)))))","v":false},{"$f":"IF(ThreatSum!J42=0,0,IF(ThreatSum!J42=\"Very High\",Scoring!$B$24,IF(ThreatSum!J42=\"High\",Scoring!$B$25,IF(ThreatSum!J42=\"Medium\",Scoring!$B$26,IF(ThreatSum!J42=\"Low\",Scoring!$B$27)))))","v":false},{"$f":"IF(ThreatSum!K42=0,0,IF(ThreatSum!K42=\"Very High\",Scoring!$B$24,IF(ThreatSum!K42=\"High\",Scoring!$B$25,IF(ThreatSum!K42=\"Medium\",Scoring!$B$26,IF(ThreatSum!K42=\"Low\",Scoring!$B$27)))))","v":false},{"$f":"IF(ThreatSum!L42=0,0,IF(ThreatSum!L42=\"Very High\",Scoring!$B$24,IF(ThreatSum!L42=\"High\",Scoring!$B$25,IF(ThreatSum!L42=\"Medium\",Scoring!$B$26,IF(ThreatSum!L42=\"Low\",Scoring!$B$27)))))","v":false},{"$f":"IF(ThreatSum!M42=0,0,IF(ThreatSum!M42=\"Very High\",Scoring!$B$24,IF(ThreatSum!M42=\"High\",Scoring!$B$25,IF(ThreatSum!M42=\"Medium\",Scoring!$B$26,IF(ThreatSum!M42=\"Low\",Scoring!$B$27)))))","v":false},{"$f":"IF(ThreatSum!N42=0,0,IF(ThreatSum!N42=\"Very High\",Scoring!$B$24,IF(ThreatSum!N42=\"High\",Scoring!$B$25,IF(ThreatSum!N42=\"Medium\",Scoring!$B$26,IF(ThreatSum!N42=\"Low\",Scoring!$B$27)))))","v":false}]
[{"$f":"IF(B40>=Scoring!$B$38,\"Very High\",IF(B40>=Scoring!$B$39,\"High\",IF(B40>=Scoring!$B$40,\"Medium\",IF(B40>=Scoring!$B$41,\"Low\",IF(B40=0,\"\")))))","v":""},0,{"$f":"IF(ThreatSum!C43=0,0,IF(ThreatSum!C43=\"Very High\",Scoring!$B$24,IF(ThreatSum!C43=\"High\",Scoring!$B$25,IF(ThreatSum!C43=\"Medium\",Scoring!$B$26,IF(ThreatSum!C43=\"Low\",Scoring!$B$27)))))","v":false},{"$f":"IF(ThreatSum!D43=0,0,IF(ThreatSum!D43=\"Very High\",Scoring!$B$24,IF(ThreatSum!D43=\"High\",Scoring!$B$25,IF(ThreatSum!D43=\"Medium\",Scoring!$B$26,IF(ThreatSum!D43=\"Low\",Scoring!$B$27)))))","v":false},{"$f":"IF(ThreatSum!E43=0,0,IF(ThreatSum!E43=\"Very High\",Scoring!$B$24,IF(ThreatSum!E43=\"High\",Scoring!$B$25,IF(ThreatSum!E43=\"Medium\",Scoring!$B$26,IF(ThreatSum!E43=\"Low\",Scoring!$B$27)))))","v":false},{"$f":"IF(ThreatSum!F43=0,0,IF(ThreatSum!F43=\"Very High\",Scoring!$B$24,IF(ThreatSum!F43=\"High\",Scoring!$B$25,IF(ThreatSum!F43=\"Medium\",Scoring!$B$26,IF(ThreatSum!F43=\"Low\",Scoring!$B$27)))))","v":false},{"$f":"IF(ThreatSum!G43=0,0,IF(ThreatSum!G43=\"Very High\",Scoring!$B$24,IF(ThreatSum!G43=\"High\",Scoring!$B$25,IF(ThreatSum!G43=\"Medium\",Scoring!$B$26,IF(ThreatSum!G43=\"Low\",Scoring!$B$27)))))","v":false},{"$f":"IF(ThreatSum!H43=0,0,IF(ThreatSum!H43=\"Very High\",Scoring!$B$24,IF(ThreatSum!H43=\"High\",Scoring!$B$25,IF(ThreatSum!H43=\"Medium\",Scoring!$B$26,IF(ThreatSum!H43=\"Low\",Scoring!$B$27)))))","v":false},{"$f":"IF(ThreatSum!I43=0,0,IF(ThreatSum!I43=\"Very High\",Scoring!$B$24,IF(ThreatSum!I43=\"High\",Scoring!$B$25,IF(ThreatSum!I43=\"Medium\",Scoring!$B$26,IF(ThreatSum!I43=\"Low\",Scoring!$B$27)))))","v":false},{"$f":"IF(ThreatSum!J43=0,0,IF(ThreatSum!J43=\"Very High\",Scoring!$B$24,IF(ThreatSum!J43=\"High\",Scoring!$B$25,IF(ThreatSum!J43=\"Medium\",Scoring!$B$26,IF(ThreatSum!J43=\"Low\",Scoring!$B$27)))))","v":false},{"$f":"IF(ThreatSum!K43=0,0,IF(ThreatSum!K43=\"Very High\",Scoring!$B$24,IF(ThreatSum!K43=\"High\",Scoring!$B$25,IF(ThreatSum!K43=\"Medium\",Scoring!$B$26,IF(ThreatSum!K43=\"Low\",Scoring!$B$27)))))","v":false},{"$f":"IF(ThreatSum!L43=0,0,IF(ThreatSum!L43=\"Very High\",Scoring!$B$24,IF(ThreatSum!L43=\"High\",Scoring!$B$25,IF(ThreatSum!L43=\"Medium\",Scoring!$B$26,IF(ThreatSum!L43=\"Low\",Scoring!$B$27)))))","v":false},{"$f":"IF(ThreatSum!M43=0,0,IF(ThreatSum!M43=\"Very High\",Scoring!$B$24,IF(ThreatSum!M43=\"High\",Scoring!$B$25,IF(ThreatSum!M43=\"Medium\",Scoring!$B$26,IF(ThreatSum!M43=\"Low\",Scoring!$B$27)))))","v":false},{"$f":"IF(ThreatSum!N43=0,0,IF(ThreatSum!N43=\"Very High\",Scoring!$B$24,IF(ThreatSum!N43=\"High\",Scoring!$B$25,IF(ThreatSum!N43=\"Medium\",Scoring!$B$26,IF(ThreatSum!N43=\"Low\",Scoring!$B$27)))))","v":false}]
[null,null,{"$f":"IF(C42>Scoring!$B$71,\"Very High\",IF(C42>Scoring!$B$72,\"High\",IF(C42>Scoring!$B$73,\"Medium\",IF(C42>=Scoring!$B$74,\"Low\",IF(C42=0,\"\")))))","v":"High"},{"$f":"IF(D42>Scoring!$B$71,\"Very High\",IF(D42>Scoring!$B$72,\"High\",IF(D42>Scoring!$B$73,\"Medium\",IF(D42>=Scoring!$B$74,\"Low\",IF(D42=0,\"\")))))","v":"High"},{"$f":"IF(E42>Scoring!$B$71,\"Very High\",IF(E42>Scoring!$B$72,\"High\",IF(E42>Scoring!$B$73,\"Medium\",IF(E42>=Scoring!$B$74,\"Low\",IF(E42=0,\"\")))))","v":"High"},{"$f":"IF(F42>Scoring!$B$71,\"Very High\",IF(F42>Scoring!$B$72,\"High\",IF(F42>Scoring!$B$73,\"Medium\",IF(F42>=Scoring!$B$74,\"Low\",IF(F42=0,\"\")))))","v":"High"},{"$f":"IF(G42>Scoring!$B$71,\"Very High\",IF(G42>Scoring!$B$72,\"High\",IF(G42>Scoring!$B$73,\"Medium\",IF(G42>=Scoring!$B$74,\"Low\",IF(G42=0,\"\")))))","v":"High"},{"$f":"IF(H42>Scoring!$B$71,\"Very High\",IF(H42>Scoring!$B$72,\"High\",IF(H42>Scoring!$B$73,\"Medium\",IF(H42>=Scoring!$B$74,\"Low\",IF(H42=0,\"\")))))","v":"High"},{"$f":"IF(I42>Scoring!$B$71,\"Very High\",IF(I42>Scoring!$B$72,\"High\",IF(I42>Scoring!$B$73,\"Medium\",IF(I42>=Scoring!$B$74,\"Low\",IF(I42=0,\"\")))))","v":"Very High"},{"$f":"IF(J42>Scoring!$B$71,\"Very High\",IF(J42>Scoring!$B$72,\"High\",IF(J42>Scoring!$B$73,\"Medium\",IF(J42>=Scoring!$B$74,\"Low\",IF(J42=0,\"\")))))","v":"Medium"},{"$f":"IF(K42>Scoring!$B$71,\"Very High\",IF(K42>Scoring!$B$72,\"High\",IF(K42>Scoring!$B$73,\"Medium\",IF(K42>=Scoring!$B$74,\"Low\",IF(K42=0,\"\")))))","v":"Very High"},{"$f":"IF(L42>Scoring!$B$71,\"Very High\",IF(L42>Scoring!$B$72,\"High\",IF(L42>Scoring!$B$73,\"Medium\",IF(L42>=Scoring!$B$74,\"Low\",IF(L42=0,\"\")))))","v":"Medium"},{"$f":"IF(M42>Scoring!$B$71,\"Very High\",IF(M42>Scoring!$B$72,\"High\",IF(M42>Scoring!$B$73,\"Medium\",IF(M42>=Scoring!$B$74,\"Low\",IF(M42=0,\"\")))))","v":""},{"$f":"IF(N42>Scoring!$B$71,\"Very High\",IF(N42>Scoring!$B$72,\"High\",IF(N42>Scoring!$B$73,\"Medium\",IF(N42>=Scoring!$B$74,\"Low\",IF(N42=0,\"\")))))","v":""}]
[null,{"$f":"SUM(B2:B40)","v":1269},{"$f":"SUM(C2:C40)","v":85},{"$f":"SUM(D2:D40)","v":95},142,81,134,160,294,19,238,21,{"$f":"SUM(M2:M40)","v":0},0]

{"sheet":"PivotRank","index":18,"n_rows":19,"n_cols":13,"rows_kept":19,"cut":false,"hidden":true,"merged":[]}
["Threat",1,2,3,4,5,6,7,8,9,10,11,12]
["Residential / commercial development",null,"Low","Very High","Medium","High","High","High",null,"High","Low"]
["Incompatible road design / maintenance","Medium","Medium","High","Medium","Medium","High","High","Medium","High","Low"]
["Filling in sloughs or wetlands",null,null,null,null,null,"High","Very High"]
["Removal of native vegetation from riparian zone",null,null,null,"Medium","High",null,"High",null,"High","Low"]
["Invasive terrestrial species/pests/pathogens",null,"Medium","Low",null,"Medium",null,"High","Low","High","Low"]
["Warmer climate with more frequent weather extremes","High","High","Low"]
["Hardening stream banks with rip rap, channelization, etc.",null,null,null,"Low","Medium","Medium","Medium","Low","High","Medium"]
["Fire suppression","Medium","High",null,"Medium",null,"Low"]
["Invasive aquatic species/pests/pathogens",null,null,null,null,"Low",null,"High",null,"Medium","Medium"]
["Incompatible motorized vehicle use off-roads/ATV/bulldozers (e.g. pioneering, etc.)","High","Low",null,"Medium",null,"Low",null,"Low"]
["Culverts that impede fish passage",null,null,null,"Low","Medium","High"]
["Construction of ditches, dikes, drainage, dredging",null,null,null,null,"High","Medium",null,null,null,"Low"]
["Incompatible mining (excluding roads)","Low","Low",null,"High",null,"Low",null,"Low"]
["Stormwater",null,null,null,null,null,"Low",null,"Low","High"]
["Incompatible boating",null,null,null,"Medium",null,null,null,"Medium","Medium","Low"]
["Dumping of trash, debris, etc. ",null,"Low",null,"Low",null,"Low","Medium",null,"Medium","Low"]
["Incompatible timber management practices",null,"Medium",null,"Low",null,"Low"]
["Industrial discharge",null,null,null,null,null,null,null,null,"Medium"]

{"sheet":"Pivot","index":19,"n_rows":20,"n_cols":13,"rows_kept":20,"cut":false,"hidden":true,"merged":[]}
["Threat",1,2,3,4,5,6,7,8,9,10,11,12]
["Residential / commercial development",null,1,105,7,35,35,35,null,35,1]
["Incompatible road design / maintenance",7,7,35,7,7,35,35,7,35,1]
["Filling in sloughs or wetlands",null,null,null,null,null,35,105]
["Removal of native vegetation from riparian zone",null,null,null,7,35,null,35,null,35,1]
["Invasive terrestrial species/pests/pathogens",null,7,1,null,7,null,35,1,35,1]
["Warmer climate with more frequent weather extremes",35,35,1,null,null,null,0]
["Hardening stream banks with rip rap, channelization, etc.",null,null,null,1,7,7,7,1,35,7]
["Fire suppression",7,35,null,7,null,1,null,0]
["Invasive aquatic species/pests/pathogens",null,null,null,null,1,null,35,null,7,7]
["Incompatible motorized vehicle use off-roads/ATV/bulldozers (e.g. pioneering, etc.)",35,1,null,7,null,1,null,1]
["Culverts that impede fish passage",null,null,null,1,7,35]
["Construction of ditches, dikes, drainage, dredging",null,null,null,null,35,7,null,0,null,1]
["Incompatible mining (excluding roads)",1,1,null,35,null,1,null,1]
["Stormwater",null,null,null,null,null,1,0,1,35]
["Incompatible boating",null,null,null,7,null,null,null,7,7,1]
["Dumping of trash, debris, etc. ",0,1,null,1,null,1,7,0,7,1]
["Incompatible timber management practices",null,7,null,1,null,1,null,0]
["Industrial discharge",null,null,null,null,null,null,null,null,7]
[0,0,0,0,0,0,null,0,0,0,0,0,0]

{"sheet":"Data","index":20,"n_rows":145,"n_cols":19,"rows_kept":145,"cut":false,"hidden":true,"merged":[]}
["Number","Target","Threat","Rank","Score"]
[1,{"$f":"'1'!$E$1","v":"Boreal Forests - Upper Chena"},{"$f":"'1'!$E$18","v":"Warmer climate with more frequent weather extremes"},{"$f":"'1'!$Q$18","v":"High"},{"$f":"IF(D2=0,0,INDEX(ThreatScore,MATCH(D2,Rank,0)))","v":35},null,"Sum of Score","Number"]
[1,{"$f":"'1'!$E$1","v":"Boreal Forests - Upper Chena"},{"$f":"'1'!$E$20","v":"Incompatible mining (excluding roads)"},{"$f":"'1'!$Q$20","v":"Low"},1,null,"Threat",1,2,3,4,5,6,7,8,9,10,11,12]
[1,{"$f":"'1'!$E$1","v":"Boreal Forests - Upper Chena"},{"$f":"'1'!$E$22","v":"Incompatible road design / maintenance"},{"$f":"'1'!$Q$22","v":"Medium"},7,null,"Residential / commercial development",null,1,105,7,35,35,35,null,35,1]
[1,{"$f":"'1'!$E$1","v":"Boreal Forests - Upper Chena"},{"$f":"'1'!$E$24","v":"Incompatible motorized vehicle use off-roads/ATV/bulldozers (e.g. pioneering, etc.)"},{"$f":"'1'!$Q$24","v":"High"},35,null,"Incompatible road design / maintenance",7,7,35,7,7,35,35,7,35,1]
[1,{"$f":"'1'!$E$1","v":"Boreal Forests - Upper Chena"},{"$f":"'1'!$E$26","v":"Dumping of trash, debris, etc. "},{"$f":"'1'!$Q$26","v":"-"},0,null,"Filling in sloughs or wetlands",null,null,null,null,null,35,105]
[1,{"$f":"'1'!$E$1","v":"Boreal Forests - Upper Chena"},{"$f":"'1'!$E$28","v":"Fire suppression"},{"$f":"'1'!$Q$28","v":"Medium"},7,null,"Removal of native vegetation from riparian zone",null,null,null,7,35,null,35,null,35,1]
[1,{"$f":"'1'!$E$1","v":"Boreal Forests - Upper Chena"},{"$f":"'1'!$E$30","v":0},{"$f":"'1'!$Q$30","v":"-"},0,null,"Invasive terrestrial species/pests/pathogens",null,7,1,null,7,null,35,1,35,1]
[1,{"$f":"'1'!$E$1","v":"Boreal Forests - Upper Chena"},{"$f":"'1'!$E$32","v":0},{"$f":"'1'!$Q$32","v":"-"},0,null,"Warmer climate with more frequent weather extremes",35,35,1,null,null,null,0]
[1,{"$f":"'1'!$E$1","v":"Boreal Forests - Upper Chena"},{"$f":"'1'!$E$34","v":0},{"$f":"'1'!$Q$34","v":"-"},0,null,"Hardening stream banks with rip rap, channelization, etc.",null,null,null,1,7,7,7,1,35,7]
[1,{"$f":"'1'!$E$1","v":"Boreal Forests - Upper Chena"},{"$f":"'1'!$E$36","v":0},{"$f":"'1'!$Q$36","v":"-"},0,null,"Fire suppression",7,35,null,7,null,1,null,0]
[1,{"$f":"'1'!$E$1","v":"Boreal Forests - Upper Chena"},{"$f":"'1'!$E$38","v":0},{"$f":"'1'!$Q$38","v":"-"},0,null,"Invasive aquatic species/pests/pathogens",null,null,null,null,1,null,35,null,7,7]
[1,{"$f":"'1'!$E$1","v":"Boreal Forests - Upper Chena"},{"$f":"'1'!$E$40","v":0},{"$f":"'1'!$Q$40","v":"-"},0,null,"Incompatible motorized vehicle use off-roads/ATV/bulldozers (e.g. pioneering, etc.)",35,1,null,7,null,1,null,1]
[2,{"$f":"'2'!$E$1","v":"Boreal Forests - Upper Chena"},{"$f":"'2'!$E$18","v":"Warmer climate with more frequent weather extremes"},{"$f":"'2'!$Q18","v":"High"},35,null,"Culverts that impede fish passage",null,null,null,1,7,35]
[2,{"$f":"'2'!$E$1","v":"Boreal Forests - Upper Chena"},{"$f":"'2'!$E$20","v":"Invasive terrestrial species/pests/pathogens"},{"$f":"'2'!$Q20","v":"Medium"},7,null,"Construction of ditches, dikes, drainage, dredging",null,null,null,null,35,7,null,0,null,1]
[2,{"$f":"'2'!$E$1","v":"Boreal Forests - Upper Chena"},{"$f":"'2'!$E$22","v":"Incompatible road design / maintenance"},{"$f":"'2'!$Q22","v":"Medium"},7,null,"Incompatible mining (excluding roads)",1,1,null,35,null,1,null,1]
[2,{"$f":"'2'!$E$1","v":"Boreal Forests - Upper Chena"},{"$f":"'2'!$E$24","v":"Residential / commercial development"},{"$f":"'2'!$Q24","v":"Low"},1,null,"Stormwater",null,null,null,null,null,1,0,1,35]
[2,{"$f":"'2'!$E$1","v":"Boreal Forests - Upper Chena"},{"$f":"'2'!$E$26","v":"Incompatible timber management practices"},{"$f":"'2'!$Q26","v":"Medium"},7,null,"Incompatible boating",null,null,null,7,null,null,null,7,7,1]
[2,{"$f":"'2'!$E$1","v":"Boreal Forests - Upper Chena"},{"$f":"'2'!$E$28","v":"Incompatible mining (excluding roads)"},{"$f":"'2'!$Q28","v":"Low"},1,null,"Dumping of trash, debris, etc. ",0,1,null,1,null,1,7,0,7,1]
[2,{"$f":"'2'!$E$1","v":"Boreal Forests - Upper Chena"},{"$f":"'2'!$E$30","v":"Incompatible motorized vehicle use off-roads/ATV/bulldozers (e.g. pioneering, etc.)"},{"$f":"'2'!$Q30","v":"Low"},1,null,"Incompatible timber management practices",null,7,null,1,null,1,null,0]
[2,{"$f":"'2'!$E$1","v":"Boreal Forests - Upper Chena"},{"$f":"'2'!$E$32","v":"Fire suppression"},{"$f":"'2'!$Q32","v":"High"},35,null,"Industrial discharge",null,null,null,null,null,null,null,null,7]
[2,{"$f":"'2'!$E$1","v":"Boreal Forests - Upper Chena"},{"$f":"'2'!$E$34","v":"Dumping of trash, debris, etc. "},{"$f":"'2'!$Q34","v":"Low"},1,null,0,0,0,0,0,0,null,0,0,0,0,0,0]
[2,{"$f":"'2'!$E$1","v":"Boreal Forests - Upper Chena"},{"$f":"'2'!$E$36","v":0},{"$f":"'2'!$Q36","v":"-"},0]
[2,{"$f":"'2'!$E$1","v":"Boreal Forests - Upper Chena"},{"$f":"'2'!$E$38","v":0},{"$f":"'2'!$Q38","v":"-"},0]
[2,{"$f":"'2'!$E$1","v":"Boreal Forests - Upper Chena"},{"$f":"'2'!$E$40","v":0},{"$f":"'2'!$Q40","v":"-"},0]
[3,{"$f":"'3'!$E$1","v":"Boreal Forests - Lower Chena"},{"$f":"'3'!$E$18","v":"Warmer climate with more frequent weather extremes"},{"$f":"'3'!$Q$18","v":"Low"},1]
[3,{"$f":"'3'!$E$1","v":"Boreal Forests - Lower Chena"},{"$f":"'3'!$E$20","v":"Invasive terrestrial species/pests/pathogens"},{"$f":"'3'!$Q$20","v":"Low"},1]
[3,{"$f":"'3'!$E$1","v":"Boreal Forests - Lower Chena"},{"$f":"'3'!$E$22","v":"Incompatible road design / maintenance"},{"$f":"'3'!$Q$22","v":"High"},35]
[3,{"$f":"'3'!$E$1","v":"Boreal Forests - Lower Chena"},{"$f":"'3'!$E$24","v":"Residential / commercial development"},{"$f":"'3'!$Q$24","v":"Very High"},105]
[3,{"$f":"'3'!$E$1","v":"Boreal Forests - Lower Chena"},{"$f":"'3'!$E$26","v":0},{"$f":"'3'!$Q$26","v":"-"},0]
[3,{"$f":"'3'!$E$1","v":"Boreal Forests - Lower Chena"},{"$f":"'3'!$E$28","v":0},{"$f":"'3'!$Q$28","v":"-"},0]
[3,{"$f":"'3'!$E$1","v":"Boreal Forests - Lower Chena"},{"$f":"'3'!$E$30","v":0},{"$f":"'3'!$Q$30","v":"-"},0]
[3,{"$f":"'3'!$E$1","v":"Boreal Forests - Lower Chena"},{"$f":"'3'!$E$32","v":0},{"$f":"'3'!$Q$32","v":"-"},0]
[3,{"$f":"'3'!$E$1","v":"Boreal Forests - Lower Chena"},{"$f":"'3'!$E$34","v":0},{"$f":"'3'!$Q$34","v":"-"},0]
[3,{"$f":"'3'!$E$1","v":"Boreal Forests - Lower Chena"},{"$f":"'3'!$E$36","v":0},{"$f":"'3'!$Q$36","v":"-"},0]
[3,{"$f":"'3'!$E$1","v":"Boreal Forests - Lower Chena"},{"$f":"'3'!$E$38","v":0},{"$f":"'3'!$Q$38","v":"-"},0]
[3,{"$f":"'3'!$E$1","v":"Boreal Forests - Lower Chena"},{"$f":"'3'!$E$40","v":0},{"$f":"'3'!$Q$40","v":"-"},0]
[4,{"$f":"'4'!$E$1","v":"Tributaries - Upper Chena"},{"$f":"'4'!$E$18","v":"Removal of native vegetation from riparian zone"},{"$f":"'4'!$Q$18","v":"Medium"},7]
[4,{"$f":"'4'!$E$1","v":"Tributaries - Upper Chena"},{"$f":"'4'!$E$20","v":"Incompatible road design / maintenance"},{"$f":"'4'!$Q$20","v":"Medium"},7]
[4,{"$f":"'4'!$E$1","v":"Tributaries - Upper Chena"},{"$f":"'4'!$E$22","v":"Hardening stream banks with rip rap, channelization, etc."},{"$f":"'4'!$Q$22","v":"Low"},1]
[4,{"$f":"'4'!$E$1","v":"Tributaries - Upper Chena"},{"$f":"'4'!$E$24","v":"Incompatible mining (excluding roads)"},{"$f":"'4'!$Q$24","v":"High"},35]
[4,{"$f":"'4'!$E$1","v":"Tributaries - Upper Chena"},{"$f":"'4'!$E$26","v":"Residential / commercial development"},{"$f":"'4'!$Q$26","v":"Medium"},7]
[4,{"$f":"'4'!$E$1","v":"Tributaries - Upper Chena"},{"$f":"'4'!$E$28","v":"Dumping of trash, debris, etc. "},{"$f":"'4'!$Q$28","v":"Low"},1]
[4,{"$f":"'4'!$E$1","v":"Tributaries - Upper Chena"},{"$f":"'4'!$E$30","v":"Culverts that impede fish passage"},{"$f":"'4'!$Q$30","v":"Low"},1]
[4,{"$f":"'4'!$E$1","v":"Tributaries - Upper Chena"},{"$f":"'4'!$E$32","v":"Fire suppression"},{"$f":"'4'!$Q$32","v":"Medium"},7]
[4,{"$f":"'4'!$E$1","v":"Tributaries - Upper Chena"},{"$f":"'4'!$E$34","v":"Incompatible timber management practices"},{"$f":"'4'!$Q$34","v":"Low"},1]
[4,{"$f":"'4'!$E$1","v":"Tributaries - Upper Chena"},{"$f":"'4'!$E$36","v":"Incompatible boating"},{"$f":"'4'!$Q$36","v":"Medium"},7]
[4,{"$f":"'4'!$E$1","v":"Tributaries - Upper Chena"},{"$f":"'4'!$E$38","v":"Incompatible motorized vehicle use off-roads/ATV/bulldozers (e.g. pioneering, etc.)"},{"$f":"'4'!$Q$38","v":"Medium"},7]
[4,{"$f":"'4'!$E$1","v":"Tributaries - Upper Chena"},{"$f":"'4'!$E$40","v":0},{"$f":"'4'!$Q$40","v":"-"},0]
[5,{"$f":"'5'!$E$1","v":"Tributaries - Lower Chena"},{"$f":"'5'!$E$18","v":"Invasive terrestrial species/pests/pathogens"},{"$f":"'5'!$Q$18","v":"Medium"},7]
[5,{"$f":"'5'!$E$1","v":"Tributaries - Lower Chena"},{"$f":"'5'!$E$20","v":"Invasive aquatic species/pests/pathogens"},{"$f":"'5'!$Q$20","v":"Low"},1]
[5,{"$f":"'5'!$E$1","v":"Tributaries - Lower Chena"},{"$f":"'5'!$E$22","v":"Hardening stream banks with rip rap, channelization, etc."},{"$f":"'5'!$Q$22","v":"Medium"},7]
[5,{"$f":"'5'!$E$1","v":"Tributaries - Lower Chena"},{"$f":"'5'!$E$24","v":"Removal of native vegetation from riparian zone"},{"$f":"'5'!$Q$24","v":"High"},35]
[5,{"$f":"'5'!$E$1","v":"Tributaries - Lower Chena"},{"$f":"'5'!$E$26","v":"Residential / commercial development"},{"$f":"'5'!$Q$26","v":"High"},35]
[5,{"$f":"'5'!$E$1","v":"Tributaries - Lower Chena"},{"$f":"'5'!$E$28","v":"Construction of ditches, dikes, drainage, dredging"},{"$f":"'5'!$Q$28","v":"High"},35]
[5,{"$f":"'5'!$E$1","v":"Tributaries - Lower Chena"},{"$f":"'5'!$E$30","v":"Incompatible road design / maintenance"},{"$f":"'5'!$Q$30","v":"Medium"},7]
[5,{"$f":"'5'!$E$1","v":"Tributaries - Lower Chena"},{"$f":"'5'!$E$32","v":"Culverts that impede fish passage"},{"$f":"'5'!$Q$32","v":"Medium"},7]
[5,{"$f":"'5'!$E$1","v":"Tributaries - Lower Chena"},{"$f":"'5'!$E$34","v":0},{"$f":"'5'!$Q$34","v":"-"},0]
[5,{"$f":"'5'!$E$1","v":"Tributaries - Lower Chena"},{"$f":"'5'!$E$36","v":0},{"$f":"'5'!$Q$36","v":"-"},0]
[5,{"$f":"'5'!$E$1","v":"Tributaries - Lower Chena"},{"$f":"'5'!$E$38","v":0},{"$f":"'5'!$Q$38","v":"-"},0]
[5,{"$f":"'5'!$E$1","v":"Tributaries - Lower Chena"},{"$f":"'5'!$E$40","v":0},{"$f":"'5'!$Q$40","v":"-"},0]
[6,{"$f":"'6'!$E$1","v":"Sloughs and Wetlands - Upper Chena"},{"$f":"'6'!$E$18","v":"Incompatible road design / maintenance"},{"$f":"'6'!$Q$18","v":"High"},35]
[6,{"$f":"'6'!$E$1","v":"Sloughs and Wetlands - Upper Chena"},{"$f":"'6'!$E$20","v":"Construction of ditches, dikes, drainage, dredging"},{"$f":"'6'!$Q$20","v":"Medium"},7]
[6,{"$f":"'6'!$E$1","v":"Sloughs and Wetlands - Upper Chena"},{"$f":"'6'!$E$22","v":"Culverts that impede fish passage"},{"$f":"'6'!$Q$22","v":"High"},35]
[6,{"$f":"'6'!$E$1","v":"Sloughs and Wetlands - Upper Chena"},{"$f":"'6'!$E$24","v":"Filling in sloughs or wetlands"},{"$f":"'6'!$Q$24","v":"High"},35]
[6,{"$f":"'6'!$E$1","v":"Sloughs and Wetlands - Upper Chena"},{"$f":"'6'!$E$26","v":"Incompatible mining (excluding roads)"},{"$f":"'6'!$Q$26","v":"Low"},1]
[6,{"$f":"'6'!$E$1","v":"Sloughs and Wetlands - Upper Chena"},{"$f":"'6'!$E$28","v":"Residential / commercial development"},{"$f":"'6'!$Q$28","v":"High"},35]
[6,{"$f":"'6'!$E$1","v":"Sloughs and Wetlands - Upper Chena"},{"$f":"'6'!$E$30","v":"Hardening stream banks with rip rap, channelization, etc."},{"$f":"'6'!$Q$30","v":"Medium"},7]
[6,{"$f":"'6'!$E$1","v":"Sloughs and Wetlands - Upper Chena"},{"$f":"'6'!$E$32","v":"Dumping of trash, debris, etc. "},{"$f":"'6'!$Q$32","v":"Low"},1]
[6,{"$f":"'6'!$E$1","v":"Sloughs and Wetlands - Upper Chena"},{"$f":"'6'!$E$34","v":"Stormwater"},{"$f":"'6'!$Q$34","v":"Low"},1]
[6,{"$f":"'6'!$E$1","v":"Sloughs and Wetlands - Upper Chena"},{"$f":"'6'!$E$36","v":"Fire suppression"},{"$f":"'6'!$Q$36","v":"Low"},1]
[6,{"$f":"'6'!$E$1","v":"Sloughs and Wetlands - Upper Chena"},{"$f":"'6'!$E$38","v":"Incompatible timber management practices"},{"$f":"'6'!$Q$38","v":"Low"},1]
[6,{"$f":"'6'!$E$1","v":"Sloughs and Wetlands - Upper Chena"},{"$f":"'6'!$E$40","v":"Incompatible motorized vehicle use off-roads/ATV/bulldozers (e.g. pioneering, etc.)"},{"$f":"'6'!$Q$40","v":"Low"},1]
[7,{"$f":"'7'!$E$1","v":"Sloughs and Wetlands - Lower Chena"},{"$f":"'7'!$E$18","v":"Removal of native vegetation from riparian zone"},{"$f":"'7'!$Q$18","v":"High"},35]
[7,{"$f":"'7'!$E$1","v":"Sloughs and Wetlands - Lower Chena"},{"$f":"'7'!$E$20","v":"Invasive terrestrial species/pests/pathogens"},{"$f":"'7'!$Q$20","v":"High"},35]
[7,{"$f":"'7'!$E$1","v":"Sloughs and Wetlands - Lower Chena"},{"$f":"'7'!$E$22","v":"Incompatible road design / maintenance"},{"$f":"'7'!$Q$22","v":"High"},35]
[7,{"$f":"'7'!$E$1","v":"Sloughs and Wetlands - Lower Chena"},{"$f":"'7'!$E$24","v":"Residential / commercial development"},{"$f":"'7'!$Q$24","v":"High"},35]
[7,{"$f":"'7'!$E$1","v":"Sloughs and Wetlands - Lower Chena"},{"$f":"'7'!$E$26","v":"Hardening stream banks with rip rap, channelization, etc."},{"$f":"'7'!$Q$26","v":"Medium"},{"$f":"IF(D78=0,0,INDEX(ThreatScore,MATCH(D78,Rank,0)))","v":7}]
[7,{"$f":"'7'!$E$1","v":"Sloughs and Wetlands - Lower Chena"},{"$f":"'7'!$E$28","v":"Warmer climate with more frequent weather extremes"},{"$f":"'7'!$Q$28","v":"-"},0]
[7,{"$f":"'7'!$E$1","v":"Sloughs and Wetlands - Lower Chena"},{"$f":"'7'!$E$30","v":"Invasive aquatic species/pests/pathogens"},{"$f":"'7'!$Q$30","v":"High"},35]
[7,{"$f":"'7'!$E$1","v":"Sloughs and Wetlands - Lower Chena"},{"$f":"'7'!$E$32","v":"Dumping of trash, debris, etc. "},{"$f":"'7'!$Q$32","v":"Medium"},7]
[7,{"$f":"'7'!$E$1","v":"Sloughs and Wetlands - Lower Chena"},{"$f":"'7'!$E$34","v":"Filling in sloughs or wetlands"},{"$f":"'7'!$Q$34","v":"Very High"},105]
[7,{"$f":"'7'!$E$1","v":"Sloughs and Wetlands - Lower Chena"},{"$f":"'7'!$E$36","v":"Stormwater"},{"$f":"'7'!$Q$36","v":"-"},0]
[7,{"$f":"'7'!$E$1","v":"Sloughs and Wetlands - Lower Chena"},{"$f":"'7'!$E$38","v":0},{"$f":"'7'!$Q$38","v":"-"},0]
[7,{"$f":"'7'!$E$1","v":"Sloughs and Wetlands - Lower Chena"},{"$f":"'7'!$E$40","v":0},{"$f":"'7'!$Q$40","v":"-"},0]
[8,{"$f":"'8'!$E$1","v":"Mainstem River & Major Forks - Upper Chena"},{"$f":"'8'!$E$18","v":"Invasive terrestrial species/pests/pathogens"},{"$f":"'8'!$Q$18","v":"Low"},1]
[8,{"$f":"'8'!$E$1","v":"Mainstem River & Major Forks - Upper Chena"},{"$f":"'8'!$E$20","v":"Incompatible road design / maintenance"},{"$f":"'8'!$Q$20","v":"Medium"},7]
[8,{"$f":"'8'!$E$1","v":"Mainstem River & Major Forks - Upper Chena"},{"$f":"'8'!$E$22","v":"Incompatible mining (excluding roads)"},{"$f":"'8'!$Q$22","v":"Low"},1]
[8,{"$f":"'8'!$E$1","v":"Mainstem River & Major Forks - Upper Chena"},{"$f":"'8'!$E$24","v":"Incompatible motorized vehicle use off-roads/ATV/bulldozers (e.g. pioneering, etc.)"},{"$f":"'8'!$Q$24","v":"Low"},1]
[8,{"$f":"'8'!$E$1","v":"Mainstem River & Major Forks - Upper Chena"},{"$f":"'8'!$E$26","v":"Incompatible boating"},{"$f":"'8'!$Q$26","v":"Medium"},7]
[8,{"$f":"'8'!$E$1","v":"Mainstem River & Major Forks - Upper Chena"},{"$f":"'8'!$E$28","v":"Hardening stream banks with rip rap, channelization, etc."},{"$f":"'8'!$Q$28","v":"Low"},1]
[8,{"$f":"'8'!$E$1","v":"Mainstem River & Major Forks - Upper Chena"},{"$f":"'8'!$E$30","v":"Dumping of trash, debris, etc. "},{"$f":"'8'!$Q$30","v":"-"},0]
[8,{"$f":"'8'!$E$1","v":"Mainstem River & Major Forks - Upper Chena"},{"$f":"'8'!$E$32","v":"Stormwater"},{"$f":"'8'!$Q$32","v":"Low"},1]
[8,{"$f":"'8'!$E$1","v":"Mainstem River & Major Forks - Upper Chena"},{"$f":"'8'!$E$34","v":"Construction of ditches, dikes, drainage, dredging"},{"$f":"'8'!$Q$34","v":"-"},0]
[8,{"$f":"'8'!$E$1","v":"Mainstem River & Major Forks - Upper Chena"},{"$f":"'8'!$E$36","v":"Fire suppression"},{"$f":"'8'!$Q$36","v":"-"},0]
[8,{"$f":"'8'!$E$1","v":"Mainstem River & Major Forks - Upper Chena"},{"$f":"'8'!$E$38","v":"Incompatible timber management practices"},{"$f":"'8'!$Q$38","v":"-"},0]
[8,{"$f":"'8'!$E$1","v":"Mainstem River & Major Forks - Upper Chena"},{"$f":"'8'!$E$40","v":0},{"$f":"'8'!$Q$40","v":"-"},0]
[9,{"$f":"'9'!$E$1","v":"Mainstem River & Major Forks - Lower Chena"},{"$f":"'9'!$E$18","v":"Removal of native vegetation from riparian zone"},{"$f":"'9'!$Q$18","v":"High"},35]
[9,{"$f":"'9'!$E$1","v":"Mainstem River & Major Forks - Lower Chena"},{"$f":"'9'!$E$20","v":"Residential / commercial development"},{"$f":"'9'!$Q$20","v":"High"},35]
[9,{"$f":"'9'!$E$1","v":"Mainstem River & Major Forks - Lower Chena"},{"$f":"'9'!$E$22","v":"Incompatible boating"},{"$f":"'9'!$Q$22","v":"Medium"},7]
[9,{"$f":"'9'!$E$1","v":"Mainstem River & Major Forks - Lower Chena"},{"$f":"'9'!$E$24","v":"Hardening stream banks with rip rap, channelization, etc."},{"$f":"'9'!$Q$24","v":"High"},35]
[9,{"$f":"'9'!$E$1","v":"Mainstem River & Major Forks - Lower Chena"},{"$f":"'9'!$E$26","v":"Dumping of trash, debris, etc. "},{"$f":"'9'!$Q$26","v":"Medium"},7]
[9,{"$f":"'9'!$E$1","v":"Mainstem River & Major Forks - Lower Chena"},{"$f":"'9'!$E$28","v":"Incompatible road design / maintenance"},{"$f":"'9'!$Q$28","v":"High"},35]
[9,{"$f":"'9'!$E$1","v":"Mainstem River & Major Forks - Lower Chena"},{"$f":"'9'!$E$30","v":"Stormwater"},{"$f":"'9'!$Q$30","v":"High"},35]
[9,{"$f":"'9'!$E$1","v":"Mainstem River & Major Forks - Lower Chena"},{"$f":"'9'!$E$32","v":"Industrial discharge"},{"$f":"'9'!$Q$32","v":"Medium"},7]
[9,{"$f":"'9'!$E$1","v":"Mainstem River & Major Forks - Lower Chena"},{"$f":"'9'!$E$34","v":"Invasive aquatic species/pests/pathogens"},{"$f":"'9'!$Q$34","v":"Medium"},7]
[9,{"$f":"'9'!$E$1","v":"Mainstem River & Major Forks - Lower Chena"},{"$f":"'9'!$E$36","v":"Invasive terrestrial species/pests/pathogens"},{"$f":"'9'!$Q$36","v":"High"},35]
[9,{"$f":"'9'!$E$1","v":"Mainstem River & Major Forks - Lower Chena"},{"$f":"'9'!$E$38","v":0},{"$f":"'9'!$Q$38","v":"-"},0]
[9,{"$f":"'9'!$E$1","v":"Mainstem River & Major Forks - Lower Chena"},{"$f":"'9'!$E$40","v":0},{"$f":"'9'!$Q$40","v":"-"},0]
[10,{"$f":"'10'!$E$1","v":"Confluence with Tanana"},{"$f":"'10'!$E$18","v":"Incompatible boating"},{"$f":"'10'!$Q$18","v":"Low"},1]
[10,{"$f":"'10'!$E$1","v":"Confluence with Tanana"},{"$f":"'10'!$E$20","v":"Removal of native vegetation from riparian zone"},{"$f":"'10'!$Q$20","v":"Low"},1]
[10,{"$f":"'10'!$E$1","v":"Confluence with Tanana"},{"$f":"'10'!$E$22","v":"Invasive terrestrial species/pests/pathogens"},{"$f":"'10'!$Q$22","v":"Low"},1]
[10,{"$f":"'10'!$E$1","v":"Confluence with Tanana"},{"$f":"'10'!$E$24","v":"Residential / commercial development"},{"$f":"'10'!$Q$24","v":"Low"},1]
[10,{"$f":"'10'!$E$1","v":"Confluence with Tanana"},{"$f":"'10'!$E$26","v":"Hardening stream banks with rip rap, channelization, etc."},{"$f":"'10'!$Q$26","v":"Medium"},7]
[10,{"$f":"'10'!$E$1","v":"Confluence with Tanana"},{"$f":"'10'!$E$28","v":"Invasive aquatic species/pests/pathogens"},{"$f":"'10'!$Q$28","v":"Medium"},7]
[10,{"$f":"'10'!$E$1","v":"Confluence with Tanana"},{"$f":"'10'!$E$30","v":"Dumping of trash, debris, etc. "},{"$f":"'10'!$Q$30","v":"Low"},1]
[10,{"$f":"'10'!$E$1","v":"Confluence with Tanana"},{"$f":"'10'!$E$32","v":"Incompatible road design / maintenance"},{"$f":"'10'!$Q$32","v":"Low"},1]
[10,{"$f":"'10'!$E$1","v":"Confluence with Tanana"},{"$f":"'10'!$E$34","v":"Construction of ditches, dikes, drainage, dredging"},{"$f":"'10'!$Q$34","v":"Low"},1]
[10,{"$f":"'10'!$E$1","v":"Confluence with Tanana"},{"$f":"'10'!$E$36","v":0},{"$f":"'10'!$Q$36","v":"-"},0]
[10,{"$f":"'10'!$E$1","v":"Confluence with Tanana"},{"$f":"'10'!$E$38","v":0},{"$f":"'10'!$Q$38","v":"-"},0]
[10,{"$f":"'10'!$E$1","v":"Confluence with Tanana"},{"$f":"'10'!$E$40","v":0},{"$f":"'10'!$Q$40","v":"-"},0]
[11,{"$f":"'11'!$E$1","v":""},{"$f":"'11'!$E$18","v":0},{"$f":"'11'!$Q$18","v":"-"},0]
[11,{"$f":"'11'!$E$1","v":""},{"$f":"'11'!$E$20","v":0},{"$f":"'11'!$Q$20","v":"-"},0]
[11,{"$f":"'11'!$E$1","v":""},{"$f":"'11'!$E$22","v":0},{"$f":"'11'!$Q$22","v":"-"},0]
[11,{"$f":"'11'!$E$1","v":""},{"$f":"'11'!$E$24","v":0},{"$f":"'11'!$Q$24","v":"-"},0]
[11,{"$f":"'11'!$E$1","v":""},{"$f":"'11'!$E$26","v":0},{"$f":"'11'!$Q$26","v":"-"},0]
[11,{"$f":"'11'!$E$1","v":""},{"$f":"'11'!$E$28","v":0},{"$f":"'11'!$Q$28","v":"-"},0]
[11,{"$f":"'11'!$E$1","v":""},{"$f":"'11'!$E$30","v":0},{"$f":"'11'!$Q$30","v":"-"},0]
[11,{"$f":"'11'!$E$1","v":""},{"$f":"'11'!$E$32","v":0},{"$f":"'11'!$Q$32","v":"-"},0]
[11,{"$f":"'11'!$E$1","v":""},{"$f":"'11'!$E$34","v":0},{"$f":"'11'!$Q$34","v":"-"},0]
[11,{"$f":"'11'!$E$1","v":""},{"$f":"'11'!$E$36","v":0},{"$f":"'11'!$Q$36","v":"-"},0]
[11,{"$f":"'11'!$E$1","v":""},{"$f":"'11'!$E$38","v":0},{"$f":"'11'!$Q$38","v":"-"},0]
[11,{"$f":"'11'!$E$1","v":""},{"$f":"'11'!$E$40","v":0},{"$f":"'11'!$Q$40","v":"-"},0]
[12,{"$f":"'12'!$E$1","v":""},{"$f":"'12'!$E$18","v":0},{"$f":"'12'!$Q$18","v":"-"},0]
[12,{"$f":"'12'!$E$1","v":""},{"$f":"'12'!$E$20","v":0},{"$f":"'12'!$Q$20","v":"-"},0]
[12,{"$f":"'12'!$E$1","v":""},{"$f":"'12'!$E$22","v":0},{"$f":"'12'!$Q$22","v":"-"},0]
[12,{"$f":"'12'!$E$1","v":""},{"$f":"'12'!$E$24","v":0},{"$f":"'12'!$Q$24","v":"-"},0]
[12,{"$f":"'12'!$E$1","v":""},{"$f":"'12'!$E$26","v":0},{"$f":"'12'!$Q$26","v":"-"},0]
[12,{"$f":"'12'!$E$1","v":""},{"$f":"'12'!$E$28","v":0},{"$f":"'12'!$Q$28","v":"-"},0]
[12,{"$f":"'12'!$E$1","v":""},{"$f":"'12'!$E$30","v":0},{"$f":"'12'!$Q$30","v":"-"},0]
[12,{"$f":"'12'!$E$1","v":""},{"$f":"'12'!$E$32","v":0},{"$f":"'12'!$Q$32","v":"-"},0]
[12,{"$f":"'12'!$E$1","v":""},{"$f":"'12'!$E$34","v":0},{"$f":"'12'!$Q$34","v":"-"},0]
[12,{"$f":"'12'!$E$1","v":""},{"$f":"'12'!$E$36","v":0},{"$f":"'12'!$Q$36","v":"-"},0]
[12,{"$f":"'12'!$E$1","v":""},{"$f":"'12'!$E$38","v":0},{"$f":"'12'!$Q$38","v":"-"},0]
[12,{"$f":"'12'!$E$1","v":""},{"$f":"'12'!$E$40","v":0},{"$f":"'12'!$Q$40","v":"-"},0]

{"sheet":"Strategies","index":21,"n_rows":191,"n_cols":38,"rows_kept":191,"cut":false,"hidden":false,"merged":[[173,1,173,3],[174,1,174,3],[171,1,171,2],[155,1,155,2],[161,1,161,3],[163,1,163,3],[156,1,156,2],[159,1,159,3],[160,1,160,3],[157,1,157,2],[165,1,165,5],[166,1,166,5],[168,1,168,2],[169,1,169,2],[170,1,170,2],[153,1,153,5],[117,1,117,5],[85,1,85,2],[146,1,146,3],[87,1,87,3],[88,1,88,3],[95,1,95,3],[97,1,97,3],[101,1,101,5],[106,1,106,2],[100,1,100,5],[104,1,104,2],[103,1,103,2],[110,1,110,3],[111,1,111,3],[112,1,112,3],[152,1,152,5],[122,1,122,2],[136,1,136,2],[120,1,120,2],[121,1,121,2],[124,1,124,3],[125,1,125,3],[126,1,126,3],[145,1,145,3],[147,1,147,3],[149,1,149,3],[118,1,118,5],[131,1,131,5],[142,1,142,2],[143,1,143,2],[141,1,141,2],[2,1,2,5],[37,1,37,2],[59,1,59,2],[84,1,84,2],[18,1,18,3],[22,1,22,3],[23,1,23,3],[19,1,19,3],[20,1,20,3],[32,1,32,5],[54,1,54,5],[79,1,79,5],[36,1,36,2],[40,1,40,3],[41,1,41,3],[83,1,83,2],[93,1,93,3],[94,1,94,3],[89,1,89,3],[137,1,137,2],[140,1,140,2],[139,1,139,2],[3,1,3,3],[57,1,57,2],[49,1,49,3],[51,1,51,3],[6,1,6,2],[4,1,4,5],[17,1,17,3],[7,1,7,2],[35,1,35,2],[27,1,27,3],[29,1,29,3],[55,1,55,5],[8,1,8,2],[38,1,38,2],[24,1,24,3],[25,1,25,3],[33,1,33,5],[9,1,9,2],[189,1,189,3],[180,1,180,5],[182,1,182,2],[185,1,185,3],[183,1,183,2],[175,1,175,3],[177,1,177,3],[179,1,179,5],[186,1,186,3],[187,1,187,3],[138,1,138,2],[63,1,63,2],[64,1,64,2],[68,1,68,3],[69,1,69,3],[70,1,70,3],[73,1,73,3],[128,1,128,3],[132,1,132,5],[134,1,134,2],[135,1,135,2],[76,1,76,3],[67,1,67,3],[80,1,80,5],[74,1,74,3],[82,1,82,2],[66,1,66,3],[71,1,71,3],[114,1,114,3],[108,1,108,2],[107,1,107,2],[105,1,105,2],[72,1,72,3],[92,1,92,3],[10,1,10,2],[11,1,11,2],[12,1,12,2],[13,1,13,2],[15,1,15,2],[14,1,14,2],[90,1,90,3],[91,1,91,3],[61,1,61,2],[26,1,26,3],[21,1,21,3],[62,1,62,2],[58,1,58,2],[43,1,43,3],[60,1,60,2],[42,1,42,3],[44,1,44,3],[46,1,46,3],[48,1,48,3],[45,1,45,3],[47,1,47,3]]}
[null,"Strategies "]
[null,null,null,null,null,"Instructions"]
[null,"Objectives"]
["O1","Objective 1"]
["O","Beginning 2020, assure no net loss of currently native vegetated riparian area in the Lower Chena River mainstem and tributaries and sloughs, and by 2025 assure that 50% of the shoreline along all reaches has \"good\" native riparian vegetation (see interagency report)."]
[]
["T","Targets/Key Attributes Benefited",null,"Current Rating","Projected Future Rating With No Action","Projected Future Rating If Objective Achieved",null,null,null,null,null,null,null,null,null,null,null,null,null,null,null,null,null,null,null,null,null,null,"Current Score","Score w No Action","Score w Strategies","Current Weight","Future Weight No Action","Future Weight w Action","Current Weighted Score","Future No Action Weighted Score","Future Action Weighted Score","Delta Benefit"]
["K","Tributaries - Lower Chena|Extent of area",null,{"$f":"IF(B8=\"\",\"\",INDEX(KEADrop!E:E,MATCH(B8,KEADrop!D:D,0)))","v":"Fair"},{"$f":"IF(B8=0,\"\",INDEX(KEADrop!F:F,MATCH(B8,KEADrop!D:D,0)))","v":"Fair -"},"Good -",null,null,null,null,null,null,null,null,null,null,null,null,null,null,null,null,null,null,null,null,null,null,{"$f":"IF(D8=Scoring!$A$50,Scoring!$B$50,IF(D8=Scoring!$A$49,Scoring!$B$49,IF(D8=Scoring!$A$48,Scoring!$B$48,IF(D8=Scoring!$A$47,Scoring!$B$47,IF(D8=Scoring!$A$46,Scoring!$B$46,IF(D8=Scoring!$A$45,Scoring!$B$45,IF(D8=\"\",0)))))))","v":40.04},{"$f":"IF(E8=Scoring!$A$50,Scoring!$B$50,IF(E8=Scoring!$A$49,Scoring!$B$49,IF(E8=Scoring!$A$48,Scoring!$B$48,IF(E8=Scoring!$A$47,Scoring!$B$47,IF(E8=Scoring!$A$46,Scoring!$B$46,IF(E8=Scoring!$A$45,Scoring!$B$45,IF(E8=\"\",0)))))))","v":20.03},{"$f":"IF(F8=Scoring!$A$50,Scoring!$B$50,IF(F8=Scoring!$A$49,Scoring!$B$49,IF(F8=Scoring!$A$48,Scoring!$B$48,IF(F8=Scoring!$A$47,Scoring!$B$47,IF(F8=Scoring!$A$46,Scoring!$B$46,IF(F8=Scoring!$A$45,Scoring!$B$45,IF(F8=\"\",0)))))))","v":60.04},{"$f":"IF(D8=Scoring!$A$50,Scoring!$C$50,IF(D8=Scoring!$A$49,Scoring!$C$49,IF(D8=Scoring!$A$48,Scoring!$C$48,IF(D8=Scoring!$A$47,Scoring!$C$47,IF(D8=Scoring!$A$46,Scoring!$C$46,IF(D8=Scoring!$A$45,Scoring!$C$45,IF(D8=\"\",0)))))))","v":1},{"$f":"IF(E8=Scoring!$A$50,Scoring!$C$50,IF(E8=Scoring!$A$49,Scoring!$C$49,IF(E8=Scoring!$A$48,Scoring!$C$48,IF(E8=Scoring!$A$47,Scoring!$C$47,IF(E8=Scoring!$A$46,Scoring!$C$46,IF(E8=Scoring!$A$45,Scoring!$C$45,IF(E8=\"\",0)))))))","v":1},{"$f":"IF(F8=Scoring!$A$50,Scoring!$C$50,IF(F8=Scoring!$A$49,Scoring!$C$49,IF(F8=Scoring!$A$48,Scoring!$C$48,IF(F8=Scoring!$A$47,Scoring!$C$47,IF(F8=Scoring!$A$46,Scoring!$C$46,IF(F8=Scoring!$A$45,Scoring!$C$45,IF(F8=\"\",0)))))))","v":1},{"$f":"AC8*AF8","v":40.04},20.03,60.04]
["K","Mainstem River & Major Forks - Lower Chena|Extent of area",null,{"$f":"IF(B9=\"\",\"\",INDEX(KEADrop!E:E,MATCH(B9,KEADrop!D:D,0)))","v":"Fair"},{"$f":"IF(B9=0,\"\",INDEX(KEADrop!F:F,MATCH(B9,KEADrop!D:D,0)))","v":"Fair -"},"Good -",null,null,null,null,null,null,null,null,null,null,null,null,null,null,null,null,null,null,null,null,null,null,{"$f":"IF(D9=Scoring!$A$50,Scoring!$B$50,IF(D9=Scoring!$A$49,Scoring!$B$49,IF(D9=Scoring!$A$48,Scoring!$B$48,IF(D9=Scoring!$A$47,Scoring!$B$47,IF(D9=Scoring!$A$46,Scoring!$B$46,IF(D9=Scoring!$A$45,Scoring!$B$45,IF(D9=\"\",0)))))))","v":40.04},{"$f":"IF(E9=Scoring!$A$50,Scoring!$B$50,IF(E9=Scoring!$A$49,Scoring!$B$49,IF(E9=Scoring!$A$48,Scoring!$B$48,IF(E9=Scoring!$A$47,Scoring!$B$47,IF(E9=Scoring!$A$46,Scoring!$B$46,IF(E9=Scoring!$A$45,Scoring!$B$45,IF(E9=\"\",0)))))))","v":20.03},{"$f":"IF(F9=Scoring!$A$50,Scoring!$B$50,IF(F9=Scoring!$A$49,Scoring!$B$49,IF(F9=Scoring!$A$48,Scoring!$B$48,IF(F9=Scoring!$A$47,Scoring!$B$47,IF(F9=Scoring!$A$46,Scoring!$B$46,IF(F9=Scoring!$A$45,Scoring!$B$45,IF(F9=\"\",0)))))))","v":60.04},{"$f":"IF(D9=Scoring!$A$50,Scoring!$C$50,IF(D9=Scoring!$A$49,Scoring!$C$49,IF(D9=Scoring!$A$48,Scoring!$C$48,IF(D9=Scoring!$A$47,Scoring!$C$47,IF(D9=Scoring!$A$46,Scoring!$C$46,IF(D9=Scoring!$A$45,Scoring!$C$45,IF(D9=\"\",0)))))))","v":1},{"$f":"IF(E9=Scoring!$A$50,Scoring!$C$50,IF(E9=Scoring!$A$49,Scoring!$C$49,IF(E9=Scoring!$A$48,Scoring!$C$48,IF(E9=Scoring!$A$47,Scoring!$C$47,IF(E9=Scoring!$A$46,Scoring!$C$46,IF(E9=Scoring!$A$45,Scoring!$C$45,IF(E9=\"\",0)))))))","v":1},{"$f":"IF(F9=Scoring!$A$50,Scoring!$C$50,IF(F9=Scoring!$A$49,Scoring!$C$49,IF(F9=Scoring!$A$48,Scoring!$C$48,IF(F9=Scoring!$A$47,Scoring!$C$47,IF(F9=Scoring!$A$46,Scoring!$C$46,IF(F9=Scoring!$A$45,Scoring!$C$45,IF(F9=\"\",0)))))))","v":1},{"$f":"AC9*AF9","v":40.04},{"$f":"AD9*AG9","v":20.03},{"$f":"AE9*AH9","v":60.04}]
["K","Sloughs and Wetlands - Lower Chena|Extent of area",null,{"$f":"IF(B10=\"\",\"\",INDEX(KEADrop!E:E,MATCH(B10,KEADrop!D:D,0)))","v":"Fair"},{"$f":"IF(B10=0,\"\",INDEX(KEADrop!F:F,MATCH(B10,KEADrop!D:D,0)))","v":"Fair"},"Good -",null,null,null,null,null,null,null,null,null,null,null,null,null,null,null,null,null,null,null,null,null,null,{"$f":"IF(D10=Scoring!$A$50,Scoring!$B$50,IF(D10=Scoring!$A$49,Scoring!$B$49,IF(D10=Scoring!$A$48,Scoring!$B$48,IF(D10=Scoring!$A$47,Scoring!$B$47,IF(D10=Scoring!$A$46,Scoring!$B$46,IF(D10=Scoring!$A$45,Scoring!$B$45,IF(D10=\"\",0)))))))","v":40.04},{"$f":"IF(E10=Scoring!$A$50,Scoring!$B$50,IF(E10=Scoring!$A$49,Scoring!$B$49,IF(E10=Scoring!$A$48,Scoring!$B$48,IF(E10=Scoring!$A$47,Scoring!$B$47,IF(E10=Scoring!$A$46,Scoring!$B$46,IF(E10=Scoring!$A$45,Scoring!$B$45,IF(E10=\"\",0)))))))","v":40.04},{"$f":"IF(F10=Scoring!$A$50,Scoring!$B$50,IF(F10=Scoring!$A$49,Scoring!$B$49,IF(F10=Scoring!$A$48,Scoring!$B$48,IF(F10=Scoring!$A$47,Scoring!$B$47,IF(F10=Scoring!$A$46,Scoring!$B$46,IF(F10=Scoring!$A$45,Scoring!$B$45,IF(F10=\"\",0)))))))","v":60.04},{"$f":"IF(D10=Scoring!$A$50,Scoring!$C$50,IF(D10=Scoring!$A$49,Scoring!$C$49,IF(D10=Scoring!$A$48,Scoring!$C$48,IF(D10=Scoring!$A$47,Scoring!$C$47,IF(D10=Scoring!$A$46,Scoring!$C$46,IF(D10=Scoring!$A$45,Scoring!$C$45,IF(D10=\"\",0)))))))","v":1},{"$f":"IF(E10=Scoring!$A$50,Scoring!$C$50,IF(E10=Scoring!$A$49,Scoring!$C$49,IF(E10=Scoring!$A$48,Scoring!$C$48,IF(E10=Scoring!$A$47,Scoring!$C$47,IF(E10=Scoring!$A$46,Scoring!$C$46,IF(E10=Scoring!$A$45,Scoring!$C$45,IF(E10=\"\",0)))))))","v":1},{"$f":"IF(F10=Scoring!$A$50,Scoring!$C$50,IF(F10=Scoring!$A$49,Scoring!$C$49,IF(F10=Scoring!$A$48,Scoring!$C$48,IF(F10=Scoring!$A$47,Scoring!$C$47,IF(F10=Scoring!$A$46,Scoring!$C$46,IF(F10=Scoring!$A$45,Scoring!$C$45,IF(F10=\"\",0)))))))","v":1},{"$f":"AC10*AF10","v":40.04},{"$f":"AD10*AG10","v":40.04},{"$f":"AE10*AH10","v":60.04}]
["K","Mainstem River & Major Forks - Lower Chena|Characteristic native communities",null,{"$f":"IF(B11=\"\",\"\",INDEX(KEADrop!E:E,MATCH(B11,KEADrop!D:D,0)))","v":"Good -"},{"$f":"IF(B11=0,\"\",INDEX(KEADrop!F:F,MATCH(B11,KEADrop!D:D,0)))","v":"Fair"},"Good -",null,null,null,null,null,null,null,null,null,null,null,null,null,null,null,null,null,null,null,null,null,null,{"$f":"IF(D11=Scoring!$A$50,Scoring!$B$50,IF(D11=Scoring!$A$49,Scoring!$B$49,IF(D11=Scoring!$A$48,Scoring!$B$48,IF(D11=Scoring!$A$47,Scoring!$B$47,IF(D11=Scoring!$A$46,Scoring!$B$46,IF(D11=Scoring!$A$45,Scoring!$B$45,IF(D11=\"\",0)))))))","v":60.04},{"$f":"IF(E11=Scoring!$A$50,Scoring!$B$50,IF(E11=Scoring!$A$49,Scoring!$B$49,IF(E11=Scoring!$A$48,Scoring!$B$48,IF(E11=Scoring!$A$47,Scoring!$B$47,IF(E11=Scoring!$A$46,Scoring!$B$46,IF(E11=Scoring!$A$45,Scoring!$B$45,IF(E11=\"\",0)))))))","v":40.04},{"$f":"IF(F11=Scoring!$A$50,Scoring!$B$50,IF(F11=Scoring!$A$49,Scoring!$B$49,IF(F11=Scoring!$A$48,Scoring!$B$48,IF(F11=Scoring!$A$47,Scoring!$B$47,IF(F11=Scoring!$A$46,Scoring!$B$46,IF(F11=Scoring!$A$45,Scoring!$B$45,IF(F11=\"\",0)))))))","v":60.04},{"$f":"IF(D11=Scoring!$A$50,Scoring!$C$50,IF(D11=Scoring!$A$49,Scoring!$C$49,IF(D11=Scoring!$A$48,Scoring!$C$48,IF(D11=Scoring!$A$47,Scoring!$C$47,IF(D11=Scoring!$A$46,Scoring!$C$46,IF(D11=Scoring!$A$45,Scoring!$C$45,IF(D11=\"\",0)))))))","v":1},{"$f":"IF(E11=Scoring!$A$50,Scoring!$C$50,IF(E11=Scoring!$A$49,Scoring!$C$49,IF(E11=Scoring!$A$48,Scoring!$C$48,IF(E11=Scoring!$A$47,Scoring!$C$47,IF(E11=Scoring!$A$46,Scoring!$C$46,IF(E11=Scoring!$A$45,Scoring!$C$45,IF(E11=\"\",0)))))))","v":1},{"$f":"IF(F11=Scoring!$A$50,Scoring!$C$50,IF(F11=Scoring!$A$49,Scoring!$C$49,IF(F11=Scoring!$A$48,Scoring!$C$48,IF(F11=Scoring!$A$47,Scoring!$C$47,IF(F11=Scoring!$A$46,Scoring!$C$46,IF(F11=Scoring!$A$45,Scoring!$C$45,IF(F11=\"\",0)))))))","v":1},{"$f":"AC11*AF11","v":60.04},{"$f":"AD11*AG11","v":40.04},{"$f":"AE11*AH11","v":60.04}]
["K","Sloughs and Wetlands - Lower Chena|Characteristic native communities",null,{"$f":"IF(B12=\"\",\"\",INDEX(KEADrop!E:E,MATCH(B12,KEADrop!D:D,0)))","v":"Fair"},{"$f":"IF(B12=0,\"\",INDEX(KEADrop!F:F,MATCH(B12,KEADrop!D:D,0)))","v":"Fair"},"Good -",null,null,null,null,null,null,null,null,null,null,null,null,null,null,null,null,null,null,null,null,null,null,{"$f":"IF(D12=Scoring!$A$50,Scoring!$B$50,IF(D12=Scoring!$A$49,Scoring!$B$49,IF(D12=Scoring!$A$48,Scoring!$B$48,IF(D12=Scoring!$A$47,Scoring!$B$47,IF(D12=Scoring!$A$46,Scoring!$B$46,IF(D12=Scoring!$A$45,Scoring!$B$45,IF(D12=\"\",0)))))))","v":40.04},{"$f":"IF(E12=Scoring!$A$50,Scoring!$B$50,IF(E12=Scoring!$A$49,Scoring!$B$49,IF(E12=Scoring!$A$48,Scoring!$B$48,IF(E12=Scoring!$A$47,Scoring!$B$47,IF(E12=Scoring!$A$46,Scoring!$B$46,IF(E12=Scoring!$A$45,Scoring!$B$45,IF(E12=\"\",0)))))))","v":40.04},{"$f":"IF(F12=Scoring!$A$50,Scoring!$B$50,IF(F12=Scoring!$A$49,Scoring!$B$49,IF(F12=Scoring!$A$48,Scoring!$B$48,IF(F12=Scoring!$A$47,Scoring!$B$47,IF(F12=Scoring!$A$46,Scoring!$B$46,IF(F12=Scoring!$A$45,Scoring!$B$45,IF(F12=\"\",0)))))))","v":60.04},{"$f":"IF(D12=Scoring!$A$50,Scoring!$C$50,IF(D12=Scoring!$A$49,Scoring!$C$49,IF(D12=Scoring!$A$48,Scoring!$C$48,IF(D12=Scoring!$A$47,Scoring!$C$47,IF(D12=Scoring!$A$46,Scoring!$C$46,IF(D12=Scoring!$A$45,Scoring!$C$45,IF(D12=\"\",0)))))))","v":1},{"$f":"IF(E12=Scoring!$A$50,Scoring!$C$50,IF(E12=Scoring!$A$49,Scoring!$C$49,IF(E12=Scoring!$A$48,Scoring!$C$48,IF(E12=Scoring!$A$47,Scoring!$C$47,IF(E12=Scoring!$A$46,Scoring!$C$46,IF(E12=Scoring!$A$45,Scoring!$C$45,IF(E12=\"\",0)))))))","v":1},{"$f":"IF(F12=Scoring!$A$50,Scoring!$C$50,IF(F12=Scoring!$A$49,Scoring!$C$49,IF(F12=Scoring!$A$48,Scoring!$C$48,IF(F12=Scoring!$A$47,Scoring!$C$47,IF(F12=Scoring!$A$46,Scoring!$C$46,IF(F12=Scoring!$A$45,Scoring!$C$45,IF(F12=\"\",0)))))))","v":1},{"$f":"AC12*AF12","v":40.04},{"$f":"AD12*AG12","v":40.04},{"$f":"AE12*AH12","v":60.04}]
["K","Tributaries - Lower Chena|Characteristic native communities",null,{"$f":"IF(B13=\"\",\"\",INDEX(KEADrop!E:E,MATCH(B13,KEADrop!D:D,0)))","v":"Good"},{"$f":"IF(B13=0,\"\",INDEX(KEADrop!F:F,MATCH(B13,KEADrop!D:D,0)))","v":"Good -"},"Good -",null,null,null,null,null,null,null,null,null,null,null,null,null,null,null,null,null,null,null,null,null,null,{"$f":"IF(D13=Scoring!$A$50,Scoring!$B$50,IF(D13=Scoring!$A$49,Scoring!$B$49,IF(D13=Scoring!$A$48,Scoring!$B$48,IF(D13=Scoring!$A$47,Scoring!$B$47,IF(D13=Scoring!$A$46,Scoring!$B$46,IF(D13=Scoring!$A$45,Scoring!$B$45,IF(D13=\"\",0)))))))","v":80.03},{"$f":"IF(E13=Scoring!$A$50,Scoring!$B$50,IF(E13=Scoring!$A$49,Scoring!$B$49,IF(E13=Scoring!$A$48,Scoring!$B$48,IF(E13=Scoring!$A$47,Scoring!$B$47,IF(E13=Scoring!$A$46,Scoring!$B$46,IF(E13=Scoring!$A$45,Scoring!$B$45,IF(E13=\"\",0)))))))","v":60.04},{"$f":"IF(F13=Scoring!$A$50,Scoring!$B$50,IF(F13=Scoring!$A$49,Scoring!$B$49,IF(F13=Scoring!$A$48,Scoring!$B$48,IF(F13=Scoring!$A$47,Scoring!$B$47,IF(F13=Scoring!$A$46,Scoring!$B$46,IF(F13=Scoring!$A$45,Scoring!$B$45,IF(F13=\"\",0)))))))","v":60.04},{"$f":"IF(D13=Scoring!$A$50,Scoring!$C$50,IF(D13=Scoring!$A$49,Scoring!$C$49,IF(D13=Scoring!$A$48,Scoring!$C$48,IF(D13=Scoring!$A$47,Scoring!$C$47,IF(D13=Scoring!$A$46,Scoring!$C$46,IF(D13=Scoring!$A$45,Scoring!$C$45,IF(D13=\"\",0)))))))","v":1},{"$f":"IF(E13=Scoring!$A$50,Scoring!$C$50,IF(E13=Scoring!$A$49,Scoring!$C$49,IF(E13=Scoring!$A$48,Scoring!$C$48,IF(E13=Scoring!$A$47,Scoring!$C$47,IF(E13=Scoring!$A$46,Scoring!$C$46,IF(E13=Scoring!$A$45,Scoring!$C$45,IF(E13=\"\",0)))))))","v":1},{"$f":"IF(F13=Scoring!$A$50,Scoring!$C$50,IF(F13=Scoring!$A$49,Scoring!$C$49,IF(F13=Scoring!$A$48,Scoring!$C$48,IF(F13=Scoring!$A$47,Scoring!$C$47,IF(F13=Scoring!$A$46,Scoring!$C$46,IF(F13=Scoring!$A$45,Scoring!$C$45,IF(F13=\"\",0)))))))","v":1},{"$f":"AC13*AF13","v":80.03},{"$f":"AD13*AG13","v":60.04},{"$f":"AE13*AH13","v":60.04}]
["K","Tributaries - Lower Chena|Water quality",null,{"$f":"IF(B14=\"\",\"\",INDEX(KEADrop!E:E,MATCH(B14,KEADrop!D:D,0)))","v":"Fair"},{"$f":"IF(B14=0,\"\",INDEX(KEADrop!F:F,MATCH(B14,KEADrop!D:D,0)))","v":"Fair -"},"Fair",null,null,null,null,null,null,null,null,null,null,null,null,null,null,null,null,null,null,null,null,null,null,{"$f":"IF(D14=Scoring!$A$50,Scoring!$B$50,IF(D14=Scoring!$A$49,Scoring!$B$49,IF(D14=Scoring!$A$48,Scoring!$B$48,IF(D14=Scoring!$A$47,Scoring!$B$47,IF(D14=Scoring!$A$46,Scoring!$B$46,IF(D14=Scoring!$A$45,Scoring!$B$45,IF(D14=\"\",0)))))))","v":40.04},{"$f":"IF(E14=Scoring!$A$50,Scoring!$B$50,IF(E14=Scoring!$A$49,Scoring!$B$49,IF(E14=Scoring!$A$48,Scoring!$B$48,IF(E14=Scoring!$A$47,Scoring!$B$47,IF(E14=Scoring!$A$46,Scoring!$B$46,IF(E14=Scoring!$A$45,Scoring!$B$45,IF(E14=\"\",0)))))))","v":20.03},{"$f":"IF(F14=Scoring!$A$50,Scoring!$B$50,IF(F14=Scoring!$A$49,Scoring!$B$49,IF(F14=Scoring!$A$48,Scoring!$B$48,IF(F14=Scoring!$A$47,Scoring!$B$47,IF(F14=Scoring!$A$46,Scoring!$B$46,IF(F14=Scoring!$A$45,Scoring!$B$45,IF(F14=\"\",0)))))))","v":40.04},{"$f":"IF(D14=Scoring!$A$50,Scoring!$C$50,IF(D14=Scoring!$A$49,Scoring!$C$49,IF(D14=Scoring!$A$48,Scoring!$C$48,IF(D14=Scoring!$A$47,Scoring!$C$47,IF(D14=Scoring!$A$46,Scoring!$C$46,IF(D14=Scoring!$A$45,Scoring!$C$45,IF(D14=\"\",0)))))))","v":1},{"$f":"IF(E14=Scoring!$A$50,Scoring!$C$50,IF(E14=Scoring!$A$49,Scoring!$C$49,IF(E14=Scoring!$A$48,Scoring!$C$48,IF(E14=Scoring!$A$47,Scoring!$C$47,IF(E14=Scoring!$A$46,Scoring!$C$46,IF(E14=Scoring!$A$45,Scoring!$C$45,IF(E14=\"\",0)))))))","v":1},{"$f":"IF(F14=Scoring!$A$50,Scoring!$C$50,IF(F14=Scoring!$A$49,Scoring!$C$49,IF(F14=Scoring!$A$48,Scoring!$C$48,IF(F14=Scoring!$A$47,Scoring!$C$47,IF(F14=Scoring!$A$46,Scoring!$C$46,IF(F14=Scoring!$A$45,Scoring!$C$45,IF(F14=\"\",0)))))))","v":1},{"$f":"AC14*AF14","v":40.04},{"$f":"AD14*AG14","v":20.03},{"$f":"AE14*AH14","v":40.04}]
["K","Sloughs and Wetlands - Upper Chena|Water quality",null,{"$f":"IF(B15=\"\",\"\",INDEX(KEADrop!E:E,MATCH(B15,KEADrop!D:D,0)))","v":"Good"},{"$f":"IF(B15=0,\"\",INDEX(KEADrop!F:F,MATCH(B15,KEADrop!D:D,0)))","v":"Good -"},"Good -",null,null,null,null,null,null,null,null,null,null,null,null,null,null,null,null,null,null,null,null,null,null,{"$f":"IF(D15=Scoring!$A$50,Scoring!$B$50,IF(D15=Scoring!$A$49,Scoring!$B$49,IF(D15=Scoring!$A$48,Scoring!$B$48,IF(D15=Scoring!$A$47,Scoring!$B$47,IF(D15=Scoring!$A$46,Scoring!$B$46,IF(D15=Scoring!$A$45,Scoring!$B$45,IF(D15=\"\",0)))))))","v":80.03},{"$f":"IF(E15=Scoring!$A$50,Scoring!$B$50,IF(E15=Scoring!$A$49,Scoring!$B$49,IF(E15=Scoring!$A$48,Scoring!$B$48,IF(E15=Scoring!$A$47,Scoring!$B$47,IF(E15=Scoring!$A$46,Scoring!$B$46,IF(E15=Scoring!$A$45,Scoring!$B$45,IF(E15=\"\",0)))))))","v":60.04},{"$f":"IF(F15=Scoring!$A$50,Scoring!$B$50,IF(F15=Scoring!$A$49,Scoring!$B$49,IF(F15=Scoring!$A$48,Scoring!$B$48,IF(F15=Scoring!$A$47,Scoring!$B$47,IF(F15=Scoring!$A$46,Scoring!$B$46,IF(F15=Scoring!$A$45,Scoring!$B$45,IF(F15=\"\",0)))))))","v":60.04},{"$f":"IF(D15=Scoring!$A$50,Scoring!$C$50,IF(D15=Scoring!$A$49,Scoring!$C$49,IF(D15=Scoring!$A$48,Scoring!$C$48,IF(D15=Scoring!$A$47,Scoring!$C$47,IF(D15=Scoring!$A$46,Scoring!$C$46,IF(D15=Scoring!$A$45,Scoring!$C$45,IF(D15=\"\",0)))))))","v":1},{"$f":"IF(E15=Scoring!$A$50,Scoring!$C$50,IF(E15=Scoring!$A$49,Scoring!$C$49,IF(E15=Scoring!$A$48,Scoring!$C$48,IF(E15=Scoring!$A$47,Scoring!$C$47,IF(E15=Scoring!$A$46,Scoring!$C$46,IF(E15=Scoring!$A$45,Scoring!$C$45,IF(E15=\"\",0)))))))","v":1},{"$f":"IF(F15=Scoring!$A$50,Scoring!$C$50,IF(F15=Scoring!$A$49,Scoring!$C$49,IF(F15=Scoring!$A$48,Scoring!$C$48,IF(F15=Scoring!$A$47,Scoring!$C$47,IF(F15=Scoring!$A$46,Scoring!$C$46,IF(F15=Scoring!$A$45,Scoring!$C$45,IF(F15=\"\",0)))))))","v":1},{"$f":"AC15*AF15","v":80.03},{"$f":"AD15*AG15","v":60.04},{"$f":"AE15*AH15","v":60.04}]
["K","Mainstem River & Major Forks - Lower Chena|Water quality",null,{"$f":"IF(B16=\"\",\"\",INDEX(KEADrop!E:E,MATCH(B16,KEADrop!D:D,0)))","v":"Fair"},{"$f":"IF(B16=0,\"\",INDEX(KEADrop!F:F,MATCH(B16,KEADrop!D:D,0)))","v":"Fair -"},"Fair",null,null,null,null,null,null,null,null,null,null,null,null,null,null,null,null,null,null,null,null,null,null,{"$f":"IF(D16=Scoring!$A$50,Scoring!$B$50,IF(D16=Scoring!$A$49,Scoring!$B$49,IF(D16=Scoring!$A$48,Scoring!$B$48,IF(D16=Scoring!$A$47,Scoring!$B$47,IF(D16=Scoring!$A$46,Scoring!$B$46,IF(D16=Scoring!$A$45,Scoring!$B$45,IF(D16=\"\",0)))))))","v":40.04},{"$f":"IF(E16=Scoring!$A$50,Scoring!$B$50,IF(E16=Scoring!$A$49,Scoring!$B$49,IF(E16=Scoring!$A$48,Scoring!$B$48,IF(E16=Scoring!$A$47,Scoring!$B$47,IF(E16=Scoring!$A$46,Scoring!$B$46,IF(E16=Scoring!$A$45,Scoring!$B$45,IF(E16=\"\",0)))))))","v":20.03},{"$f":"IF(F16=Scoring!$A$50,Scoring!$B$50,IF(F16=Scoring!$A$49,Scoring!$B$49,IF(F16=Scoring!$A$48,Scoring!$B$48,IF(F16=Scoring!$A$47,Scoring!$B$47,IF(F16=Scoring!$A$46,Scoring!$B$46,IF(F16=Scoring!$A$45,Scoring!$B$45,IF(F16=\"\",0)))))))","v":40.04},{"$f":"IF(D16=Scoring!$A$50,Scoring!$C$50,IF(D16=Scoring!$A$49,Scoring!$C$49,IF(D16=Scoring!$A$48,Scoring!$C$48,IF(D16=Scoring!$A$47,Scoring!$C$47,IF(D16=Scoring!$A$46,Scoring!$C$46,IF(D16=Scoring!$A$45,Scoring!$C$45,IF(D16=\"\",0)))))))","v":1},{"$f":"IF(E16=Scoring!$A$50,Scoring!$C$50,IF(E16=Scoring!$A$49,Scoring!$C$49,IF(E16=Scoring!$A$48,Scoring!$C$48,IF(E16=Scoring!$A$47,Scoring!$C$47,IF(E16=Scoring!$A$46,Scoring!$C$46,IF(E16=Scoring!$A$45,Scoring!$C$45,IF(E16=\"\",0)))))))","v":1},{"$f":"IF(F16=Scoring!$A$50,Scoring!$C$50,IF(F16=Scoring!$A$49,Scoring!$C$49,IF(F16=Scoring!$A$48,Scoring!$C$48,IF(F16=Scoring!$A$47,Scoring!$C$47,IF(F16=Scoring!$A$46,Scoring!$C$46,IF(F16=Scoring!$A$45,Scoring!$C$45,IF(F16=\"\",0)))))))","v":1},{"$f":"AC16*AF16","v":40.04},{"$f":"AD16*AG16","v":20.03},{"$f":"AE16*AH16","v":40.04}]
[null,null,null,null,null,null,null,null,null,null,null,null,null,null,null,null,null,null,null,null,null,null,null,null,null,null,null,null,null,null,null,null,null,null,{"$f":"SUM(INDEX(AI:AI, ROW()-8):INDEX(AI:AI, ROW()-1))","v":420.3},{"$f":"SUM(INDEX(AJ:AJ, ROW()-8):INDEX(AJ:AJ, ROW()-1))","v":300.28999999999996},{"$f":"SUM(INDEX(AK:AK, ROW()-8):INDEX(AK:AK, ROW()-1))","v":440.32000000000005},{"$f":"AK17-AJ17","v":140.03000000000009}]
["L","Strategic Actions                                                                                                                                              Enter Key, High-Level Strategies Needed to Achieve Objective",null,null,"Feasibility","Cost Estimate",null,null,null,null,null,null,null,null,null,null,null,null,null,null,null,null,null,null,null,null,"Cost",null,"Feasibility","Weight",null,null,null,null,null,null,null,"Benefits"]
["ST","Get critical data and maps on vegetated riparian areas; determine minimum buffer width and vegetation composition needed (consider the nested targets).  See interagency riparian management zone recommendations.",null,null,"Very High",null,null,null,null,null,null,null,null,null,null,null,null,null,null,null,null,null,null,null,null,null,{"$f":"IF(F19=0,0,F19)","v":0},null,{"$f":"IF(E19=\"Very High\",Scoring!$B$54,IF(E19=\"High\",Scoring!$B$55,IF(E19=\"Medium\",Scoring!$B$56,IF(E19=\"Low\",Scoring!$B$57,IF(E19=\"Very Low\",Scoring!$B$58,IF(E19=\"\",0))))))","v":100},{"$f":"IF(E19=\"Very High\",Scoring!$C$54,IF(E19=\"High\",Scoring!$C$55,IF(E19=\"Medium\",Scoring!$C$56,IF(E19=\"Low\",Scoring!$C$57,IF(E19=\"Very Low\",Scoring!$C$58,IF(E19=\"\",0))))))","v":0.85},{"$f":"AD19*AC19","v":85}]
["S","Draft zoning overlay ordinance that will prevent net loss of vegetation while allowing reasonable uses by landowners.  Draw upon existing waterways setback and waterways protection zoning.",null,null,"Very High",null,null,null,null,null,null,null,null,null,null,null,null,null,null,null,null,null,null,null,null,null,0,null,{"$f":"IF(E20=\"Very High\",Scoring!$B$54,IF(E20=\"High\",Scoring!$B$55,IF(E20=\"Medium\",Scoring!$B$56,IF(E20=\"Low\",Scoring!$B$57,IF(E20=\"Very Low\",Scoring!$B$58,IF(E20=\"\",0))))))","v":100},{"$f":"IF(E20=\"Very High\",Scoring!$C$54,IF(E20=\"High\",Scoring!$C$55,IF(E20=\"Medium\",Scoring!$C$56,IF(E20=\"Low\",Scoring!$C$57,IF(E20=\"Very Low\",Scoring!$C$58,IF(E20=\"\",0))))))","v":0.85},85]
["S","Organize and mobilize support of key constituencies (e.g., Riverfront Commission, property owners, developers, planning commission, zoning commission) to support amendment of Fairbanks North Star Burough ordinance",null,null,"Medium",null,null,null,null,null,null,null,null,null,null,null,null,null,null,null,null,null,null,null,null,null,0,null,{"$f":"IF(E21=\"Very High\",Scoring!$B$54,IF(E21=\"High\",Scoring!$B$55,IF(E21=\"Medium\",Scoring!$B$56,IF(E21=\"Low\",Scoring!$B$57,IF(E21=\"Very Low\",Scoring!$B$58,IF(E21=\"\",0))))))","v":50},{"$f":"IF(E21=\"Very High\",Scoring!$C$54,IF(E21=\"High\",Scoring!$C$55,IF(E21=\"Medium\",Scoring!$C$56,IF(E21=\"Low\",Scoring!$C$57,IF(E21=\"Very Low\",Scoring!$C$58,IF(E21=\"\",0))))))","v":2},100]
["S","Education - \"Habitat Happy\". Show landowners and other key constituencies the benefits of riparian vegetation, and that funding is available for restoration.",null,null,"Very High",null,null,null,null,null,null,null,null,null,null,null,null,null,null,null,null,null,null,null,null,null,0,null,{"$f":"IF(E22=\"Very High\",Scoring!$B$54,IF(E22=\"High\",Scoring!$B$55,IF(E22=\"Medium\",Scoring!$B$56,IF(E22=\"Low\",Scoring!$B$57,IF(E22=\"Very Low\",Scoring!$B$58,IF(E22=\"\",0))))))","v":100},{"$f":"IF(E22=\"Very High\",Scoring!$C$54,IF(E22=\"High\",Scoring!$C$55,IF(E22=\"Medium\",Scoring!$C$56,IF(E22=\"Low\",Scoring!$C$57,IF(E22=\"Very Low\",Scoring!$C$58,IF(E22=\"\",0))))))","v":0.85},85]
["S","Secure support of planning director, mayor and planning commission chairman",null,null,"Medium",null,null,null,null,null,null,null,null,null,null,null,null,null,null,null,null,null,null,null,null,null,0,null,{"$f":"IF(E23=\"Very High\",Scoring!$B$54,IF(E23=\"High\",Scoring!$B$55,IF(E23=\"Medium\",Scoring!$B$56,IF(E23=\"Low\",Scoring!$B$57,IF(E23=\"Very Low\",Scoring!$B$58,IF(E23=\"\",0))))))","v":50},{"$f":"IF(E23=\"Very High\",Scoring!$C$54,IF(E23=\"High\",Scoring!$C$55,IF(E23=\"Medium\",Scoring!$C$56,IF(E23=\"Low\",Scoring!$C$57,IF(E23=\"Very Low\",Scoring!$C$58,IF(E23=\"\",0))))))","v":2},100]
["S","Secure adoption of ordinance by burough assembly",null,null,"Low",null,null,null,null,null,null,null,null,null,null,null,null,null,null,null,null,null,null,null,null,null,0,null,{"$f":"IF(E24=\"Very High\",Scoring!$B$54,IF(E24=\"High\",Scoring!$B$55,IF(E24=\"Medium\",Scoring!$B$56,IF(E24=\"Low\",Scoring!$B$57,IF(E24=\"Very Low\",Scoring!$B$58,IF(E24=\"\",0))))))","v":25},{"$f":"IF(E24=\"Very High\",Scoring!$C$54,IF(E24=\"High\",Scoring!$C$55,IF(E24=\"Medium\",Scoring!$C$56,IF(E24=\"Low\",Scoring!$C$57,IF(E24=\"Very Low\",Scoring!$C$58,IF(E24=\"\",0))))))","v":5},125]
["S","Prioritize the potential restoration projects within all reaches based on habitat value, current degradation, and opportunity. Develop a list of \"shovel ready projects\" -- list the \"best bang for buck\" projects and an action plan with proper design for each.  Remember the fish in the design.",null,null,"Very High",null,null,null,null,null,null,null,null,null,null,null,null,null,null,null,null,null,null,null,null,null,0,null,{"$f":"IF(E25=\"Very High\",Scoring!$B$54,IF(E25=\"High\",Scoring!$B$55,IF(E25=\"Medium\",Scoring!$B$56,IF(E25=\"Low\",Scoring!$B$57,IF(E25=\"Very Low\",Scoring!$B$58,IF(E25=\"\",0))))))","v":100},{"$f":"IF(E25=\"Very High\",Scoring!$C$54,IF(E25=\"High\",Scoring!$C$55,IF(E25=\"Medium\",Scoring!$C$56,IF(E25=\"Low\",Scoring!$C$57,IF(E25=\"Very Low\",Scoring!$C$58,IF(E25=\"\",0))))))","v":0.85},85]
["S","Get $$$ - e.g., NFWF, AKSSF, USFS, others; compensatory mitigiation as funding source and mitigation banking opportunities",null,null,"High",null,null,null,null,null,null,null,null,null,null,null,null,null,null,null,null,null,null,null,null,null,0,null,{"$f":"IF(E26=\"Very High\",Scoring!$B$54,IF(E26=\"High\",Scoring!$B$55,IF(E26=\"Medium\",Scoring!$B$56,IF(E26=\"Low\",Scoring!$B$57,IF(E26=\"Very Low\",Scoring!$B$58,IF(E26=\"\",0))))))","v":75},{"$f":"IF(E26=\"Very High\",Scoring!$C$54,IF(E26=\"High\",Scoring!$C$55,IF(E26=\"Medium\",Scoring!$C$56,IF(E26=\"Low\",Scoring!$C$57,IF(E26=\"Very Low\",Scoring!$C$58,IF(E26=\"\",0))))))","v":1},75]
["S","Get the job done: Contractors hired by private landowners or agency owners.",null,null,"High",50000,null,null,null,null,null,null,null,null,null,null,null,null,null,null,null,null,null,null,null,null,50000,null,{"$f":"IF(E27=\"Very High\",Scoring!$B$54,IF(E27=\"High\",Scoring!$B$55,IF(E27=\"Medium\",Scoring!$B$56,IF(E27=\"Low\",Scoring!$B$57,IF(E27=\"Very Low\",Scoring!$B$58,IF(E27=\"\",0))))))","v":75},{"$f":"IF(E27=\"Very High\",Scoring!$C$54,IF(E27=\"High\",Scoring!$C$55,IF(E27=\"Medium\",Scoring!$C$56,IF(E27=\"Low\",Scoring!$C$57,IF(E27=\"Very Low\",Scoring!$C$58,IF(E27=\"\",0))))))","v":1},75]
["L","Overall Feasibility & Overall Cost",null,null,{"$f":"AF30","v":"Medium"},{"$f":"AA29","v":50000}]
["L",null,null,null,null,null,null,null,null,null,null,null,null,null,null,null,null,null,null,null,null,null,null,null,null,null,{"$f":"SUM(AA19:AA28)","v":50000},null,null,{"$f":"SUM(AD19:AD28)","v":14.4},{"$f":"SUM(AE19:AE28)","v":815},{"$f":"IFERROR(AE29/AD29,0)","v":56.597222222222221},"Weighted feasibility score"]
["L","Return on Investment",null,null,{"$f":"IF(ISERROR(INDEX(MatrixOverall,(MATCH(AL30,ROIRank,0)-1)*5+MATCH(AA30,ROIRank,0),MATCH(AF30,ROIRank,0))),\"-\",INDEX(MatrixOverall,(MATCH(AL30,ROIRank,0)-1)*5+MATCH(AA30,ROIRank,0),MATCH(AF30,ROIRank,0)))","v":"Very High"},null,null,null,null,null,null,null,null,null,null,null,null,null,null,null,null,null,null,null,null,null,{"$f":"IF(AA29>=Scoring!$C$92,\"Very High\",IF(AA29>=Scoring!$C$93,\"High\",IF(AA29>=Scoring!$C$94,\"Medium\",IF(AA29>=Scoring!$C$95,\"Low\",\"-\"))))","v":"Medium"},null,null,null,null,{"$f":"IF(AF29>=Scoring!$B$54,\"Very High\",IF(AF29>=Scoring!$B$55,\"High\",IF(AF29>=Scoring!$B$56,\"Medium\",IF(AF29>=Scoring!$B$57,\"Low\",IF(AF29>0,\"Very Low\",\"-\")))))","v":"Medium"},null,null,null,null,null,{"$f":"IF(AL17>=Scoring!$C$79,\"Very High\",IF(AL17>=Scoring!$C$80,\"High\",IF(AL17>=Scoring!$C$81,\"Medium\",IF(AL17>=Scoring!$C$82,\"Low\",\"-\"))))","v":"Very High"}]
["L"]
[]
["O2","Objective 2"]
["O","Restore important fish habitat by reducing hardened banks in the lower Chena sloughs, tributaties and mainstem.  By 2025, assure that 50% of the banks and substrate within each reach provide “good” diversity and abundance of suitable substrates/shelter in most rearing habitat for fish -- through large woody debris, native vegetated banks or bioengineered banks.  Assure no additional hardening on public land and private land as of 2020. "]
["L"]
["T2","Targets/Key Attributes Benefited",null,"Current Rating","Projected Future Rating With No Action","Projected Future Rating If Objective Achieved",null,null,null,null,null,null,null,null,null,null,null,null,null,null,null,null,null,null,null,null,null,null,"Current Score","Score w No Action","Score w Strategies","Current Weight","Future Weight No Action","Future Weight w Action","Current Weighted Score","Future No Action Weighted Score","Future Action Weighted Score","Delta Benefit"]
["K","Tributaries - Lower Chena|Substrate and banks",null,{"$f":"IF(B37=\"\",\"\",INDEX(KEADrop!E:E,MATCH(B37,KEADrop!D:D,0)))","v":"Fair"},{"$f":"IF(B37=0,\"\",INDEX(KEADrop!F:F,MATCH(B37,KEADrop!D:D,0)))","v":"Fair"},"Good",null,null,null,null,null,null,null,null,null,null,null,null,null,null,null,null,null,null,null,null,null,null,{"$f":"IF(D37=Scoring!$A$50,Scoring!$B$50,IF(D37=Scoring!$A$49,Scoring!$B$49,IF(D37=Scoring!$A$48,Scoring!$B$48,IF(D37=Scoring!$A$47,Scoring!$B$47,IF(D37=Scoring!$A$46,Scoring!$B$46,IF(D37=Scoring!$A$45,Scoring!$B$45,IF(D37=\"\",0)))))))","v":40.04},{"$f":"IF(E37=Scoring!$A$50,Scoring!$B$50,IF(E37=Scoring!$A$49,Scoring!$B$49,IF(E37=Scoring!$A$48,Scoring!$B$48,IF(E37=Scoring!$A$47,Scoring!$B$47,IF(E37=Scoring!$A$46,Scoring!$B$46,IF(E37=Scoring!$A$45,Scoring!$B$45,IF(E37=\"\",0)))))))","v":40.04},{"$f":"IF(F37=Scoring!$A$50,Scoring!$B$50,IF(F37=Scoring!$A$49,Scoring!$B$49,IF(F37=Scoring!$A$48,Scoring!$B$48,IF(F37=Scoring!$A$47,Scoring!$B$47,IF(F37=Scoring!$A$46,Scoring!$B$46,IF(F37=Scoring!$A$45,Scoring!$B$45,IF(F37=\"\",0)))))))","v":80.03},{"$f":"IF(D37=Scoring!$A$50,Scoring!$C$50,IF(D37=Scoring!$A$49,Scoring!$C$49,IF(D37=Scoring!$A$48,Scoring!$C$48,IF(D37=Scoring!$A$47,Scoring!$C$47,IF(D37=Scoring!$A$46,Scoring!$C$46,IF(D37=Scoring!$A$45,Scoring!$C$45,IF(D37=\"\",0)))))))","v":1},{"$f":"IF(E37=Scoring!$A$50,Scoring!$C$50,IF(E37=Scoring!$A$49,Scoring!$C$49,IF(E37=Scoring!$A$48,Scoring!$C$48,IF(E37=Scoring!$A$47,Scoring!$C$47,IF(E37=Scoring!$A$46,Scoring!$C$46,IF(E37=Scoring!$A$45,Scoring!$C$45,IF(E37=\"\",0)))))))","v":1},{"$f":"IF(F37=Scoring!$A$50,Scoring!$C$50,IF(F37=Scoring!$A$49,Scoring!$C$49,IF(F37=Scoring!$A$48,Scoring!$C$48,IF(F37=Scoring!$A$47,Scoring!$C$47,IF(F37=Scoring!$A$46,Scoring!$C$46,IF(F37=Scoring!$A$45,Scoring!$C$45,IF(F37=\"\",0)))))))","v":1},{"$f":"AC37*AF37","v":40.04},{"$f":"AD37*AG37","v":40.04},{"$f":"AE37*AH37","v":80.03}]
["K","Mainstem River & Major Forks - Lower Chena|Substrate and banks (in channel habitat?)",null,{"$f":"IF(B38=\"\",\"\",INDEX(KEADrop!E:E,MATCH(B38,KEADrop!D:D,0)))","v":"Good -"},{"$f":"IF(B38=0,\"\",INDEX(KEADrop!F:F,MATCH(B38,KEADrop!D:D,0)))","v":"Fair"},"Good -",null,null,null,null,null,null,null,null,null,null,null,null,null,null,null,null,null,null,null,null,null,null,{"$f":"IF(D38=Scoring!$A$50,Scoring!$B$50,IF(D38=Scoring!$A$49,Scoring!$B$49,IF(D38=Scoring!$A$48,Scoring!$B$48,IF(D38=Scoring!$A$47,Scoring!$B$47,IF(D38=Scoring!$A$46,Scoring!$B$46,IF(D38=Scoring!$A$45,Scoring!$B$45,IF(D38=\"\",0)))))))","v":60.04},{"$f":"IF(E38=Scoring!$A$50,Scoring!$B$50,IF(E38=Scoring!$A$49,Scoring!$B$49,IF(E38=Scoring!$A$48,Scoring!$B$48,IF(E38=Scoring!$A$47,Scoring!$B$47,IF(E38=Scoring!$A$46,Scoring!$B$46,IF(E38=Scoring!$A$45,Scoring!$B$45,IF(E38=\"\",0)))))))","v":40.04},{"$f":"IF(F38=Scoring!$A$50,Scoring!$B$50,IF(F38=Scoring!$A$49,Scoring!$B$49,IF(F38=Scoring!$A$48,Scoring!$B$48,IF(F38=Scoring!$A$47,Scoring!$B$47,IF(F38=Scoring!$A$46,Scoring!$B$46,IF(F38=Scoring!$A$45,Scoring!$B$45,IF(F38=\"\",0)))))))","v":60.04},{"$f":"IF(D38=Scoring!$A$50,Scoring!$C$50,IF(D38=Scoring!$A$49,Scoring!$C$49,IF(D38=Scoring!$A$48,Scoring!$C$48,IF(D38=Scoring!$A$47,Scoring!$C$47,IF(D38=Scoring!$A$46,Scoring!$C$46,IF(D38=Scoring!$A$45,Scoring!$C$45,IF(D38=\"\",0)))))))","v":1},{"$f":"IF(E38=Scoring!$A$50,Scoring!$C$50,IF(E38=Scoring!$A$49,Scoring!$C$49,IF(E38=Scoring!$A$48,Scoring!$C$48,IF(E38=Scoring!$A$47,Scoring!$C$47,IF(E38=Scoring!$A$46,Scoring!$C$46,IF(E38=Scoring!$A$45,Scoring!$C$45,IF(E38=\"\",0)))))))","v":1},{"$f":"IF(F38=Scoring!$A$50,Scoring!$C$50,IF(F38=Scoring!$A$49,Scoring!$C$49,IF(F38=Scoring!$A$48,Scoring!$C$48,IF(F38=Scoring!$A$47,Scoring!$C$47,IF(F38=Scoring!$A$46,Scoring!$C$46,IF(F38=Scoring!$A$45,Scoring!$C$45,IF(F38=\"\",0)))))))","v":1},{"$f":"AC38*AF38","v":60.04},{"$f":"AD38*AG38","v":40.04},{"$f":"AE38*AH38","v":60.04}]
["K","Sloughs and Wetlands - Lower Chena|Substrate and banks",null,{"$f":"IF(B39=\"\",\"\",INDEX(KEADrop!E:E,MATCH(B39,KEADrop!D:D,0)))","v":"Fair"},{"$f":"IF(B39=0,\"\",INDEX(KEADrop!F:F,MATCH(B39,KEADrop!D:D,0)))","v":"Fair"},"Good",null,null,null,null,null,null,null,null,null,null,null,null,null,null,null,null,null,null,null,null,null,null,{"$f":"IF(D39=Scoring!$A$50,Scoring!$B$50,IF(D39=Scoring!$A$49,Scoring!$B$49,IF(D39=Scoring!$A$48,Scoring!$B$48,IF(D39=Scoring!$A$47,Scoring!$B$47,IF(D39=Scoring!$A$46,Scoring!$B$46,IF(D39=Scoring!$A$45,Scoring!$B$45,IF(D39=\"\",0)))))))","v":40.04},{"$f":"IF(E39=Scoring!$A$50,Scoring!$B$50,IF(E39=Scoring!$A$49,Scoring!$B$49,IF(E39=Scoring!$A$48,Scoring!$B$48,IF(E39=Scoring!$A$47,Scoring!$B$47,IF(E39=Scoring!$A$46,Scoring!$B$46,IF(E39=Scoring!$A$45,Scoring!$B$45,IF(E39=\"\",0)))))))","v":40.04},{"$f":"IF(F39=Scoring!$A$50,Scoring!$B$50,IF(F39=Scoring!$A$49,Scoring!$B$49,IF(F39=Scoring!$A$48,Scoring!$B$48,IF(F39=Scoring!$A$47,Scoring!$B$47,IF(F39=Scoring!$A$46,Scoring!$B$46,IF(F39=Scoring!$A$45,Scoring!$B$45,IF(F39=\"\",0)))))))","v":80.03},{"$f":"IF(D39=Scoring!$A$50,Scoring!$C$50,IF(D39=Scoring!$A$49,Scoring!$C$49,IF(D39=Scoring!$A$48,Scoring!$C$48,IF(D39=Scoring!$A$47,Scoring!$C$47,IF(D39=Scoring!$A$46,Scoring!$C$46,IF(D39=Scoring!$A$45,Scoring!$C$45,IF(D39=\"\",0)))))))","v":1},{"$f":"IF(E39=Scoring!$A$50,Scoring!$C$50,IF(E39=Scoring!$A$49,Scoring!$C$49,IF(E39=Scoring!$A$48,Scoring!$C$48,IF(E39=Scoring!$A$47,Scoring!$C$47,IF(E39=Scoring!$A$46,Scoring!$C$46,IF(E39=Scoring!$A$45,Scoring!$C$45,IF(E39=\"\",0)))))))","v":1},{"$f":"IF(F39=Scoring!$A$50,Scoring!$C$50,IF(F39=Scoring!$A$49,Scoring!$C$49,IF(F39=Scoring!$A$48,Scoring!$C$48,IF(F39=Scoring!$A$47,Scoring!$C$47,IF(F39=Scoring!$A$46,Scoring!$C$46,IF(F39=Scoring!$A$45,Scoring!$C$45,IF(F39=\"\",0)))))))","v":1},{"$f":"AC39*AF39","v":40.04},{"$f":"AD39*AG39","v":40.04},{"$f":"AE39*AH39","v":80.03}]
["B2",null,null,null,null,null,null,null,null,null,null,null,null,null,null,null,null,null,null,null,null,null,null,null,null,null,null,null,null,null,null,null,null,null,{"$f":"SUM(INDEX(AI:AI,ROW()-10):INDEX(AI:AI,ROW()-1))","v":140.12},{"$f":"SUM(INDEX(AJ:AJ,ROW()-10):INDEX(AJ:AJ,ROW()-1))","v":120.12},{"$f":"SUM(INDEX(AK:AK,ROW()-10):INDEX(AK:AK,ROW()-1))","v":220.1},{"$f":"AK40-AJ40","v":99.97999999999999}]
["L","Strategic Actions                                                                                                                                              Enter Key, High-Level Strategies Needed to Achieve Objective",null,null,"Feasibility","Cost Estimate",null,null,null,null,null,null,null,null,null,null,null,null,null,null,null,null,null,null,null,null,"Cost",null,"Feasibility","Weight"]
["ST","Prioritize the potential projects within all reaches based on habitat value, current degradation, and opportunity. Develop a list of \"shovel ready projects\" -- list the \"best bang for buck\" projects and an action plan with proper design for each.  Remember the fish in designing for cover.",null,null,"Very High",null,null,null,null,null,null,null,null,null,null,null,null,null,null,null,null,null,null,null,null,null,{"$f":"F42","v":0},null,{"$f":"IF(E42=\"Very High\",Scoring!$B$54,IF(E42=\"High\",Scoring!$B$55,IF(E42=\"Medium\",Scoring!$B$56,IF(E42=\"Low\",Scoring!$B$57,IF(E42=\"Very Low\",Scoring!$B$58,IF(E42=\"\",0))))))","v":100},{"$f":"IF(E42=\"Very High\",Scoring!$C$54,IF(E42=\"High\",Scoring!$C$55,IF(E42=\"Medium\",Scoring!$C$56,IF(E42=\"Low\",Scoring!$C$57,IF(E42=\"Very Low\",Scoring!$C$58,IF(E42=\"\",0))))))","v":0.85},{"$f":"AC42*AD42","v":85}]
["S","Get $$$ - ADFG, USFWS, landowners (e.g., DOD, NFWF, AKSSF, USFWS (salmon hotspot); compensatory mitigiation as funding source",null,null,"High",null,null,null,null,null,null,null,null,null,null,null,null,null,null,null,null,null,null,null,null,null,{"$f":"IF(F43=0,0,F43)","v":0},null,{"$f":"IF(E43=\"Very High\",Scoring!$B$54,IF(E43=\"High\",Scoring!$B$55,IF(E43=\"Medium\",Scoring!$B$56,IF(E43=\"Low\",Scoring!$B$57,IF(E43=\"Very Low\",Scoring!$B$58,IF(E43=\"\",0))))))","v":75},{"$f":"IF(E43=\"Very High\",Scoring!$C$54,IF(E43=\"High\",Scoring!$C$55,IF(E43=\"Medium\",Scoring!$C$56,IF(E43=\"Low\",Scoring!$C$57,IF(E43=\"Very Low\",Scoring!$C$58,IF(E43=\"\",0))))))","v":1},{"$f":"AD43*AC43","v":75}]
["S","Research current management plan for dam operation, and work with ACOE to allow more woody debris below Moose Creek dam.",null,null,"High",null,null,null,null,null,null,null,null,null,null,null,null,null,null,null,null,null,null,null,null,null,0,null,{"$f":"IF(E44=\"Very High\",Scoring!$B$54,IF(E44=\"High\",Scoring!$B$55,IF(E44=\"Medium\",Scoring!$B$56,IF(E44=\"Low\",Scoring!$B$57,IF(E44=\"Very Low\",Scoring!$B$58,IF(E44=\"\",0))))))","v":75},{"$f":"IF(E44=\"Very High\",Scoring!$C$54,IF(E44=\"High\",Scoring!$C$55,IF(E44=\"Medium\",Scoring!$C$56,IF(E44=\"Low\",Scoring!$C$57,IF(E44=\"Very Low\",Scoring!$C$58,IF(E44=\"\",0))))))","v":1},75]
["S","Secure borough ordinance that prohibits future hardening.",null,null,"Low",null,null,null,null,null,null,null,null,null,null,null,null,null,null,null,null,null,null,null,null,null,0,null,{"$f":"IF(E45=\"Very High\",Scoring!$B$54,IF(E45=\"High\",Scoring!$B$55,IF(E45=\"Medium\",Scoring!$B$56,IF(E45=\"Low\",Scoring!$B$57,IF(E45=\"Very Low\",Scoring!$B$58,IF(E45=\"\",0))))))","v":25},{"$f":"IF(E45=\"Very High\",Scoring!$C$54,IF(E45=\"High\",Scoring!$C$55,IF(E45=\"Medium\",Scoring!$C$56,IF(E45=\"Low\",Scoring!$C$57,IF(E45=\"Very Low\",Scoring!$C$58,IF(E45=\"\",0))))))","v":5},125]
["S","Education on the Power of Roots - show landowners benefits of intact vegetation and education to show boaters and other key constituencies the benefits of woody debris.",null,null,"High",null,null,null,null,null,null,null,null,null,null,null,null,null,null,null,null,null,null,null,null,null,0,null,{"$f":"IF(E46=\"Very High\",Scoring!$B$54,IF(E46=\"High\",Scoring!$B$55,IF(E46=\"Medium\",Scoring!$B$56,IF(E46=\"Low\",Scoring!$B$57,IF(E46=\"Very Low\",Scoring!$B$58,IF(E46=\"\",0))))))","v":75},{"$f":"IF(E46=\"Very High\",Scoring!$C$54,IF(E46=\"High\",Scoring!$C$55,IF(E46=\"Medium\",Scoring!$C$56,IF(E46=\"Low\",Scoring!$C$57,IF(E46=\"Very Low\",Scoring!$C$58,IF(E46=\"\",0))))))","v":1},75]
["S","Build constituency to support both DOD and borough action.",null,null,"Medium",null,null,null,null,null,null,null,null,null,null,null,null,null,null,null,null,null,null,null,null,null,0,null,{"$f":"IF(E47=\"Very High\",Scoring!$B$54,IF(E47=\"High\",Scoring!$B$55,IF(E47=\"Medium\",Scoring!$B$56,IF(E47=\"Low\",Scoring!$B$57,IF(E47=\"Very Low\",Scoring!$B$58,IF(E47=\"\",0))))))","v":50},{"$f":"IF(E47=\"Very High\",Scoring!$C$54,IF(E47=\"High\",Scoring!$C$55,IF(E47=\"Medium\",Scoring!$C$56,IF(E47=\"Low\",Scoring!$C$57,IF(E47=\"Very Low\",Scoring!$C$58,IF(E47=\"\",0))))))","v":2},100]
["S","Build \"Fort Fish.\"  ",null,null,"Medium",null,null,null,null,null,null,null,null,null,null,null,null,null,null,null,null,null,null,null,null,null,0,null,{"$f":"IF(E48=\"Very High\",Scoring!$B$54,IF(E48=\"High\",Scoring!$B$55,IF(E48=\"Medium\",Scoring!$B$56,IF(E48=\"Low\",Scoring!$B$57,IF(E48=\"Very Low\",Scoring!$B$58,IF(E48=\"\",0))))))","v":50},{"$f":"IF(E48=\"Very High\",Scoring!$C$54,IF(E48=\"High\",Scoring!$C$55,IF(E48=\"Medium\",Scoring!$C$56,IF(E48=\"Low\",Scoring!$C$57,IF(E48=\"Very Low\",Scoring!$C$58,IF(E48=\"\",0))))))","v":2},100]
["S","Get the job done: Contractors hired by landowners (or DOD).",null,null,"Very High",50000,null,null,null,null,null,null,null,null,null,null,null,null,null,null,null,null,null,null,null,null,50000,null,{"$f":"IF(E49=\"Very High\",Scoring!$B$54,IF(E49=\"High\",Scoring!$B$55,IF(E49=\"Medium\",Scoring!$B$56,IF(E49=\"Low\",Scoring!$B$57,IF(E49=\"Very Low\",Scoring!$B$58,IF(E49=\"\",0))))))","v":100},{"$f":"IF(E49=\"Very High\",Scoring!$C$54,IF(E49=\"High\",Scoring!$C$55,IF(E49=\"Medium\",Scoring!$C$56,IF(E49=\"Low\",Scoring!$C$57,IF(E49=\"Very Low\",Scoring!$C$58,IF(E49=\"\",0))))))","v":0.85},85]
["L","Overall Feasibility & Overall Cost",null,null,{"$f":"IF(AF51>=Scoring!$B$54,\"Very High\",IF(AF51>=Scoring!$B$55,\"High\",IF(AF51>=Scoring!$B$56,\"Medium\",IF(AF51>=Scoring!$B$57,\"Low\",IF(AF51>0,\"Very Low\",\"\")))))","v":"Medium"},{"$f":"AA51","v":50000}]
["L",null,null,null,null,null,null,null,null,null,null,null,null,null,null,null,null,null,null,null,null,null,null,null,null,null,{"$f":"SUM(AA42:AA50)","v":50000},null,null,{"$f":"SUM(AD42:AD50)","v":13.7},{"$f":"SUM(AE42:AE50)","v":720},{"$f":"IFERROR(AE51/AD51,0)","v":52.554744525547449},"Weighted feasibility score"]
["L","Return on Investment",null,null,{"$f":"IF(ISERROR(INDEX(MatrixOverall,(MATCH(AL52,ROIRank,0)-1)*5+MATCH(AA52,ROIRank,0),MATCH(AF52,ROIRank,0))),\"-\",INDEX(MatrixOverall,(MATCH(AL52,ROIRank,0)-1)*5+MATCH(AA52,ROIRank,0),MATCH(AF52,ROIRank,0)))","v":"High"},null,null,null,null,null,null,null,null,null,null,null,null,null,null,null,null,null,null,null,null,null,{"$f":"IF(AA51>=Scoring!$C$92,\"Very High\",IF(AA51>=Scoring!$C$93,\"High\",IF(AA51>=Scoring!$C$94,\"Medium\",IF(AA51>=Scoring!$C$95,\"Low\",\"-\"))))","v":"Medium"},null,null,null,null,{"$f":"IF(AF51>=Scoring!$B$54,\"Very High\",IF(AF51>=Scoring!$B$55,\"High\",IF(AF51>=Scoring!$B$56,\"Medium\",IF(AF51>=Scoring!$B$57,\"Low\",IF(AF51>0,\"Very Low\",\"-\")))))","v":"Medium"},null,null,null,null,null,{"$f":"IF(AL40>=Scoring!$C$79,\"Very High\",IF(AL40>=Scoring!$C$80,\"High\",IF(AL40>=Scoring!$C$81,\"Medium\",IF(AL40>=Scoring!$C$82,\"Low\",\"-\"))))","v":"High"}]
["L"]
[]
["O3","Objective 3"]
["O","By 2025, improve connectivity for fish passge in the Chena tributaries and sloughs: (1) all exisiting culverts will be “green” (based on ADFG inventory of barriers); (2) no new barriers will be erected after 2020; (3) remove other targeted barriers to reconnect passage"]
["L"]
["L","Targets/Key Attributes Benefited",null,"Current Rating","Projected Future Rating With No Action","Projected Future Rating If Objective Achieved",null,null,null,null,null,null,null,null,null,null,null,null,null,null,null,null,null,null,null,null,null,null,"Current Score","Score w No Action","Score w Strategies","Current Weight","Future Weight No Action","Future Weight w Action","Current Weighted Score","Future No Action Weighted Score","Future Action Weighted Score","Delta Benefit"]
["K","Tributaries - Lower Chena|Connectivity to mainstem river and within tributaries",null,{"$f":"IF(B59=\"\",\"\",INDEX(KEADrop!E:E,MATCH(B59,KEADrop!D:D,0)))","v":"Fair"},{"$f":"IF(B59=0,\"\",INDEX(KEADrop!F:F,MATCH(B59,KEADrop!D:D,0)))","v":"Fair -"},"Good -",null,null,null,null,null,null,null,null,null,null,null,null,null,null,null,null,null,null,null,null,null,null,{"$f":"IF(D59=Scoring!$A$50,Scoring!$B$50,IF(D59=Scoring!$A$49,Scoring!$B$49,IF(D59=Scoring!$A$48,Scoring!$B$48,IF(D59=Scoring!$A$47,Scoring!$B$47,IF(D59=Scoring!$A$46,Scoring!$B$46,IF(D59=Scoring!$A$45,Scoring!$B$45,IF(D59=\"\",0)))))))","v":40.04},{"$f":"IF(E59=Scoring!$A$50,Scoring!$B$50,IF(E59=Scoring!$A$49,Scoring!$B$49,IF(E59=Scoring!$A$48,Scoring!$B$48,IF(E59=Scoring!$A$47,Scoring!$B$47,IF(E59=Scoring!$A$46,Scoring!$B$46,IF(E59=Scoring!$A$45,Scoring!$B$45,IF(E59=\"\",0)))))))","v":20.03},{"$f":"IF(F59=Scoring!$A$50,Scoring!$B$50,IF(F59=Scoring!$A$49,Scoring!$B$49,IF(F59=Scoring!$A$48,Scoring!$B$48,IF(F59=Scoring!$A$47,Scoring!$B$47,IF(F59=Scoring!$A$46,Scoring!$B$46,IF(F59=Scoring!$A$45,Scoring!$B$45,IF(F59=\"\",0)))))))","v":60.04},{"$f":"IF(D59=Scoring!$A$50,Scoring!$C$50,IF(D59=Scoring!$A$49,Scoring!$C$49,IF(D59=Scoring!$A$48,Scoring!$C$48,IF(D59=Scoring!$A$47,Scoring!$C$47,IF(D59=Scoring!$A$46,Scoring!$C$46,IF(D59=Scoring!$A$45,Scoring!$C$45,IF(D59=\"\",0)))))))","v":1},{"$f":"IF(E59=Scoring!$A$50,Scoring!$C$50,IF(E59=Scoring!$A$49,Scoring!$C$49,IF(E59=Scoring!$A$48,Scoring!$C$48,IF(E59=Scoring!$A$47,Scoring!$C$47,IF(E59=Scoring!$A$46,Scoring!$C$46,IF(E59=Scoring!$A$45,Scoring!$C$45,IF(E59=\"\",0)))))))","v":1},{"$f":"IF(F59=Scoring!$A$50,Scoring!$C$50,IF(F59=Scoring!$A$49,Scoring!$C$49,IF(F59=Scoring!$A$48,Scoring!$C$48,IF(F59=Scoring!$A$47,Scoring!$C$47,IF(F59=Scoring!$A$46,Scoring!$C$46,IF(F59=Scoring!$A$45,Scoring!$C$45,IF(F59=\"\",0)))))))","v":1},{"$f":"AC59*AF59","v":40.04},{"$f":"AD59*AG59","v":20.03},{"$f":"AE59*AH59","v":60.04}]
["K","Sloughs and Wetlands - Lower Chena|Connectivity to mainstem river and tributaries",null,{"$f":"IF(B60=\"\",\"\",INDEX(KEADrop!E:E,MATCH(B60,KEADrop!D:D,0)))","v":"Fair"},{"$f":"IF(B60=0,\"\",INDEX(KEADrop!F:F,MATCH(B60,KEADrop!D:D,0)))","v":"Fair -"},"Good -",null,null,null,null,null,null,null,null,null,null,null,null,null,null,null,null,null,null,null,null,null,null,{"$f":"IF(D60=Scoring!$A$50,Scoring!$B$50,IF(D60=Scoring!$A$49,Scoring!$B$49,IF(D60=Scoring!$A$48,Scoring!$B$48,IF(D60=Scoring!$A$47,Scoring!$B$47,IF(D60=Scoring!$A$46,Scoring!$B$46,IF(D60=Scoring!$A$45,Scoring!$B$45,IF(D60=\"\",0)))))))","v":40.04},{"$f":"IF(E60=Scoring!$A$50,Scoring!$B$50,IF(E60=Scoring!$A$49,Scoring!$B$49,IF(E60=Scoring!$A$48,Scoring!$B$48,IF(E60=Scoring!$A$47,Scoring!$B$47,IF(E60=Scoring!$A$46,Scoring!$B$46,IF(E60=Scoring!$A$45,Scoring!$B$45,IF(E60=\"\",0)))))))","v":20.03},{"$f":"IF(F60=Scoring!$A$50,Scoring!$B$50,IF(F60=Scoring!$A$49,Scoring!$B$49,IF(F60=Scoring!$A$48,Scoring!$B$48,IF(F60=Scoring!$A$47,Scoring!$B$47,IF(F60=Scoring!$A$46,Scoring!$B$46,IF(F60=Scoring!$A$45,Scoring!$B$45,IF(F60=\"\",0)))))))","v":60.04},{"$f":"IF(D60=Scoring!$A$50,Scoring!$C$50,IF(D60=Scoring!$A$49,Scoring!$C$49,IF(D60=Scoring!$A$48,Scoring!$C$48,IF(D60=Scoring!$A$47,Scoring!$C$47,IF(D60=Scoring!$A$46,Scoring!$C$46,IF(D60=Scoring!$A$45,Scoring!$C$45,IF(D60=\"\",0)))))))","v":1},{"$f":"IF(E60=Scoring!$A$50,Scoring!$C$50,IF(E60=Scoring!$A$49,Scoring!$C$49,IF(E60=Scoring!$A$48,Scoring!$C$48,IF(E60=Scoring!$A$47,Scoring!$C$47,IF(E60=Scoring!$A$46,Scoring!$C$46,IF(E60=Scoring!$A$45,Scoring!$C$45,IF(E60=\"\",0)))))))","v":1},{"$f":"IF(F60=Scoring!$A$50,Scoring!$C$50,IF(F60=Scoring!$A$49,Scoring!$C$49,IF(F60=Scoring!$A$48,Scoring!$C$48,IF(F60=Scoring!$A$47,Scoring!$C$47,IF(F60=Scoring!$A$46,Scoring!$C$46,IF(F60=Scoring!$A$45,Scoring!$C$45,IF(F60=\"\",0)))))))","v":1},{"$f":"AC60*AF60","v":40.04},{"$f":"AD60*AG60","v":20.03},{"$f":"AE60*AH60","v":60.04}]
["K","Tributaries - Upper Chena|Connectivity to tributaries and within mainstem",null,{"$f":"IF(B61=\"\",\"\",INDEX(KEADrop!E:E,MATCH(B61,KEADrop!D:D,0)))","v":"Good"},{"$f":"IF(B61=0,\"\",INDEX(KEADrop!F:F,MATCH(B61,KEADrop!D:D,0)))","v":"Good -"},"Good",null,null,null,null,null,null,null,null,null,null,null,null,null,null,null,null,null,null,null,null,null,null,{"$f":"IF(D61=Scoring!$A$50,Scoring!$B$50,IF(D61=Scoring!$A$49,Scoring!$B$49,IF(D61=Scoring!$A$48,Scoring!$B$48,IF(D61=Scoring!$A$47,Scoring!$B$47,IF(D61=Scoring!$A$46,Scoring!$B$46,IF(D61=Scoring!$A$45,Scoring!$B$45,IF(D61=\"\",0)))))))","v":80.03},{"$f":"IF(E61=Scoring!$A$50,Scoring!$B$50,IF(E61=Scoring!$A$49,Scoring!$B$49,IF(E61=Scoring!$A$48,Scoring!$B$48,IF(E61=Scoring!$A$47,Scoring!$B$47,IF(E61=Scoring!$A$46,Scoring!$B$46,IF(E61=Scoring!$A$45,Scoring!$B$45,IF(E61=\"\",0)))))))","v":60.04},{"$f":"IF(F61=Scoring!$A$50,Scoring!$B$50,IF(F61=Scoring!$A$49,Scoring!$B$49,IF(F61=Scoring!$A$48,Scoring!$B$48,IF(F61=Scoring!$A$47,Scoring!$B$47,IF(F61=Scoring!$A$46,Scoring!$B$46,IF(F61=Scoring!$A$45,Scoring!$B$45,IF(F61=\"\",0)))))))","v":80.03},{"$f":"IF(D61=Scoring!$A$50,Scoring!$C$50,IF(D61=Scoring!$A$49,Scoring!$C$49,IF(D61=Scoring!$A$48,Scoring!$C$48,IF(D61=Scoring!$A$47,Scoring!$C$47,IF(D61=Scoring!$A$46,Scoring!$C$46,IF(D61=Scoring!$A$45,Scoring!$C$45,IF(D61=\"\",0)))))))","v":1},{"$f":"IF(E61=Scoring!$A$50,Scoring!$C$50,IF(E61=Scoring!$A$49,Scoring!$C$49,IF(E61=Scoring!$A$48,Scoring!$C$48,IF(E61=Scoring!$A$47,Scoring!$C$47,IF(E61=Scoring!$A$46,Scoring!$C$46,IF(E61=Scoring!$A$45,Scoring!$C$45,IF(E61=\"\",0)))))))","v":1},{"$f":"IF(F61=Scoring!$A$50,Scoring!$C$50,IF(F61=Scoring!$A$49,Scoring!$C$49,IF(F61=Scoring!$A$48,Scoring!$C$48,IF(F61=Scoring!$A$47,Scoring!$C$47,IF(F61=Scoring!$A$46,Scoring!$C$46,IF(F61=Scoring!$A$45,Scoring!$C$45,IF(F61=\"\",0)))))))","v":1},{"$f":"AC61*AF61","v":80.03},{"$f":"AD61*AG61","v":60.04},{"$f":"AE61*AH61","v":80.03}]
["K","Sloughs and Wetlands - Upper Chena|Connectivity to mainstem river and tributaries",null,{"$f":"IF(B62=\"\",\"\",INDEX(KEADrop!E:E,MATCH(B62,KEADrop!D:D,0)))","v":"Fair"},{"$f":"IF(B62=0,\"\",INDEX(KEADrop!F:F,MATCH(B62,KEADrop!D:D,0)))","v":"Fair -"},"Good -",null,null,null,null,null,null,null,null,null,null,null,null,null,null,null,null,null,null,null,null,null,null,{"$f":"IF(D62=Scoring!$A$50,Scoring!$B$50,IF(D62=Scoring!$A$49,Scoring!$B$49,IF(D62=Scoring!$A$48,Scoring!$B$48,IF(D62=Scoring!$A$47,Scoring!$B$47,IF(D62=Scoring!$A$46,Scoring!$B$46,IF(D62=Scoring!$A$45,Scoring!$B$45,IF(D62=\"\",0)))))))","v":40.04},{"$f":"IF(E62=Scoring!$A$50,Scoring!$B$50,IF(E62=Scoring!$A$49,Scoring!$B$49,IF(E62=Scoring!$A$48,Scoring!$B$48,IF(E62=Scoring!$A$47,Scoring!$B$47,IF(E62=Scoring!$A$46,Scoring!$B$46,IF(E62=Scoring!$A$45,Scoring!$B$45,IF(E62=\"\",0)))))))","v":20.03},{"$f":"IF(F62=Scoring!$A$50,Scoring!$B$50,IF(F62=Scoring!$A$49,Scoring!$B$49,IF(F62=Scoring!$A$48,Scoring!$B$48,IF(F62=Scoring!$A$47,Scoring!$B$47,IF(F62=Scoring!$A$46,Scoring!$B$46,IF(F62=Scoring!$A$45,Scoring!$B$45,IF(F62=\"\",0)))))))","v":60.04},{"$f":"IF(D62=Scoring!$A$50,Scoring!$C$50,IF(D62=Scoring!$A$49,Scoring!$C$49,IF(D62=Scoring!$A$48,Scoring!$C$48,IF(D62=Scoring!$A$47,Scoring!$C$47,IF(D62=Scoring!$A$46,Scoring!$C$46,IF(D62=Scoring!$A$45,Scoring!$C$45,IF(D62=\"\",0)))))))","v":1},{"$f":"IF(E62=Scoring!$A$50,Scoring!$C$50,IF(E62=Scoring!$A$49,Scoring!$C$49,IF(E62=Scoring!$A$48,Scoring!$C$48,IF(E62=Scoring!$A$47,Scoring!$C$47,IF(E62=Scoring!$A$46,Scoring!$C$46,IF(E62=Scoring!$A$45,Scoring!$C$45,IF(E62=\"\",0)))))))","v":1},{"$f":"IF(F62=Scoring!$A$50,Scoring!$C$50,IF(F62=Scoring!$A$49,Scoring!$C$49,IF(F62=Scoring!$A$48,Scoring!$C$48,IF(F62=Scoring!$A$47,Scoring!$C$47,IF(F62=Scoring!$A$46,Scoring!$C$46,IF(F62=Scoring!$A$45,Scoring!$C$45,IF(F62=\"\",0)))))))","v":1},{"$f":"AC62*AF62","v":40.04},{"$f":"AD62*AG62","v":20.03},{"$f":"AE62*AH62","v":60.04}]
["K","Tributaries - Lower Chena|Hydrologic regime",null,{"$f":"IF(B63=\"\",\"\",INDEX(KEADrop!E:E,MATCH(B63,KEADrop!D:D,0)))","v":"Fair"},{"$f":"IF(B63=0,\"\",INDEX(KEADrop!F:F,MATCH(B63,KEADrop!D:D,0)))","v":"Fair -"},"Fair",null,null,null,null,null,null,null,null,null,null,null,null,null,null,null,null,null,null,null,null,null,null,{"$f":"IF(D63=Scoring!$A$50,Scoring!$B$50,IF(D63=Scoring!$A$49,Scoring!$B$49,IF(D63=Scoring!$A$48,Scoring!$B$48,IF(D63=Scoring!$A$47,Scoring!$B$47,IF(D63=Scoring!$A$46,Scoring!$B$46,IF(D63=Scoring!$A$45,Scoring!$B$45,IF(D63=\"\",0)))))))","v":40.04},{"$f":"IF(E63=Scoring!$A$50,Scoring!$B$50,IF(E63=Scoring!$A$49,Scoring!$B$49,IF(E63=Scoring!$A$48,Scoring!$B$48,IF(E63=Scoring!$A$47,Scoring!$B$47,IF(E63=Scoring!$A$46,Scoring!$B$46,IF(E63=Scoring!$A$45,Scoring!$B$45,IF(E63=\"\",0)))))))","v":20.03},{"$f":"IF(F63=Scoring!$A$50,Scoring!$B$50,IF(F63=Scoring!$A$49,Scoring!$B$49,IF(F63=Scoring!$A$48,Scoring!$B$48,IF(F63=Scoring!$A$47,Scoring!$B$47,IF(F63=Scoring!$A$46,Scoring!$B$46,IF(F63=Scoring!$A$45,Scoring!$B$45,IF(F63=\"\",0)))))))","v":40.04},{"$f":"IF(D63=Scoring!$A$50,Scoring!$C$50,IF(D63=Scoring!$A$49,Scoring!$C$49,IF(D63=Scoring!$A$48,Scoring!$C$48,IF(D63=Scoring!$A$47,Scoring!$C$47,IF(D63=Scoring!$A$46,Scoring!$C$46,IF(D63=Scoring!$A$45,Scoring!$C$45,IF(D63=\"\",0)))))))","v":1},{"$f":"IF(E63=Scoring!$A$50,Scoring!$C$50,IF(E63=Scoring!$A$49,Scoring!$C$49,IF(E63=Scoring!$A$48,Scoring!$C$48,IF(E63=Scoring!$A$47,Scoring!$C$47,IF(E63=Scoring!$A$46,Scoring!$C$46,IF(E63=Scoring!$A$45,Scoring!$C$45,IF(E63=\"\",0)))))))","v":1},{"$f":"IF(F63=Scoring!$A$50,Scoring!$C$50,IF(F63=Scoring!$A$49,Scoring!$C$49,IF(F63=Scoring!$A$48,Scoring!$C$48,IF(F63=Scoring!$A$47,Scoring!$C$47,IF(F63=Scoring!$A$46,Scoring!$C$46,IF(F63=Scoring!$A$45,Scoring!$C$45,IF(F63=\"\",0)))))))","v":1},{"$f":"AC63*AF63","v":40.04},{"$f":"AD63*AG63","v":20.03},{"$f":"AE63*AH63","v":40.04}]
["K","Sloughs and Wetlands - Upper Chena|Hydrologic regime",null,{"$f":"IF(B64=\"\",\"\",INDEX(KEADrop!E:E,MATCH(B64,KEADrop!D:D,0)))","v":"Good"},{"$f":"IF(B64=0,\"\",INDEX(KEADrop!F:F,MATCH(B64,KEADrop!D:D,0)))","v":"Good -"},"Good",null,null,null,null,null,null,null,null,null,null,null,null,null,null,null,null,null,null,null,null,null,null,{"$f":"IF(D64=Scoring!$A$50,Scoring!$B$50,IF(D64=Scoring!$A$49,Scoring!$B$49,IF(D64=Scoring!$A$48,Scoring!$B$48,IF(D64=Scoring!$A$47,Scoring!$B$47,IF(D64=Scoring!$A$46,Scoring!$B$46,IF(D64=Scoring!$A$45,Scoring!$B$45,IF(D64=\"\",0)))))))","v":80.03},{"$f":"IF(E64=Scoring!$A$50,Scoring!$B$50,IF(E64=Scoring!$A$49,Scoring!$B$49,IF(E64=Scoring!$A$48,Scoring!$B$48,IF(E64=Scoring!$A$47,Scoring!$B$47,IF(E64=Scoring!$A$46,Scoring!$B$46,IF(E64=Scoring!$A$45,Scoring!$B$45,IF(E64=\"\",0)))))))","v":60.04},{"$f":"IF(F64=Scoring!$A$50,Scoring!$B$50,IF(F64=Scoring!$A$49,Scoring!$B$49,IF(F64=Scoring!$A$48,Scoring!$B$48,IF(F64=Scoring!$A$47,Scoring!$B$47,IF(F64=Scoring!$A$46,Scoring!$B$46,IF(F64=Scoring!$A$45,Scoring!$B$45,IF(F64=\"\",0)))))))","v":80.03},{"$f":"IF(D64=Scoring!$A$50,Scoring!$C$50,IF(D64=Scoring!$A$49,Scoring!$C$49,IF(D64=Scoring!$A$48,Scoring!$C$48,IF(D64=Scoring!$A$47,Scoring!$C$47,IF(D64=Scoring!$A$46,Scoring!$C$46,IF(D64=Scoring!$A$45,Scoring!$C$45,IF(D64=\"\",0)))))))","v":1},{"$f":"IF(E64=Scoring!$A$50,Scoring!$C$50,IF(E64=Scoring!$A$49,Scoring!$C$49,IF(E64=Scoring!$A$48,Scoring!$C$48,IF(E64=Scoring!$A$47,Scoring!$C$47,IF(E64=Scoring!$A$46,Scoring!$C$46,IF(E64=Scoring!$A$45,Scoring!$C$45,IF(E64=\"\",0)))))))","v":1},{"$f":"IF(F64=Scoring!$A$50,Scoring!$C$50,IF(F64=Scoring!$A$49,Scoring!$C$49,IF(F64=Scoring!$A$48,Scoring!$C$48,IF(F64=Scoring!$A$47,Scoring!$C$47,IF(F64=Scoring!$A$46,Scoring!$C$46,IF(F64=Scoring!$A$45,Scoring!$C$45,IF(F64=\"\",0)))))))","v":1},{"$f":"AC64*AF64","v":80.03},{"$f":"AD64*AG64","v":60.04},{"$f":"AE64*AH64","v":80.03}]
["K","Sloughs and Wetlands - Lower Chena|Hydrologic regime",null,{"$f":"IF(B65=\"\",\"\",INDEX(KEADrop!E:E,MATCH(B65,KEADrop!D:D,0)))","v":"Fair"},{"$f":"IF(B65=0,\"\",INDEX(KEADrop!F:F,MATCH(B65,KEADrop!D:D,0)))","v":"Fair -"},"Fair",null,null,null,null,null,null,null,null,null,null,null,null,null,null,null,null,null,null,null,null,null,null,{"$f":"IF(D65=Scoring!$A$50,Scoring!$B$50,IF(D65=Scoring!$A$49,Scoring!$B$49,IF(D65=Scoring!$A$48,Scoring!$B$48,IF(D65=Scoring!$A$47,Scoring!$B$47,IF(D65=Scoring!$A$46,Scoring!$B$46,IF(D65=Scoring!$A$45,Scoring!$B$45,IF(D65=\"\",0)))))))","v":40.04},{"$f":"IF(E65=Scoring!$A$50,Scoring!$B$50,IF(E65=Scoring!$A$49,Scoring!$B$49,IF(E65=Scoring!$A$48,Scoring!$B$48,IF(E65=Scoring!$A$47,Scoring!$B$47,IF(E65=Scoring!$A$46,Scoring!$B$46,IF(E65=Scoring!$A$45,Scoring!$B$45,IF(E65=\"\",0)))))))","v":20.03},{"$f":"IF(F65=Scoring!$A$50,Scoring!$B$50,IF(F65=Scoring!$A$49,Scoring!$B$49,IF(F65=Scoring!$A$48,Scoring!$B$48,IF(F65=Scoring!$A$47,Scoring!$B$47,IF(F65=Scoring!$A$46,Scoring!$B$46,IF(F65=Scoring!$A$45,Scoring!$B$45,IF(F65=\"\",0)))))))","v":40.04},{"$f":"IF(D65=Scoring!$A$50,Scoring!$C$50,IF(D65=Scoring!$A$49,Scoring!$C$49,IF(D65=Scoring!$A$48,Scoring!$C$48,IF(D65=Scoring!$A$47,Scoring!$C$47,IF(D65=Scoring!$A$46,Scoring!$C$46,IF(D65=Scoring!$A$45,Scoring!$C$45,IF(D65=\"\",0)))))))","v":1},{"$f":"IF(E65=Scoring!$A$50,Scoring!$C$50,IF(E65=Scoring!$A$49,Scoring!$C$49,IF(E65=Scoring!$A$48,Scoring!$C$48,IF(E65=Scoring!$A$47,Scoring!$C$47,IF(E65=Scoring!$A$46,Scoring!$C$46,IF(E65=Scoring!$A$45,Scoring!$C$45,IF(E65=\"\",0)))))))","v":1},{"$f":"IF(F65=Scoring!$A$50,Scoring!$C$50,IF(F65=Scoring!$A$49,Scoring!$C$49,IF(F65=Scoring!$A$48,Scoring!$C$48,IF(F65=Scoring!$A$47,Scoring!$C$47,IF(F65=Scoring!$A$46,Scoring!$C$46,IF(F65=Scoring!$A$45,Scoring!$C$45,IF(F65=\"\",0)))))))","v":1},{"$f":"AC65*AF65","v":40.04},{"$f":"AD65*AG65","v":20.03},{"$f":"AE65*AH65","v":40.04}]
["L",null,null,null,null,null,null,null,null,null,null,null,null,null,null,null,null,null,null,null,null,null,null,null,null,null,null,null,null,null,null,null,null,null,{"$f":"SUM(INDEX(AI:AI,ROW()-10):INDEX(AI:AI,ROW()-1))","v":360.26000000000005},{"$f":"SUM(INDEX(AJ:AJ,ROW()-10):INDEX(AJ:AJ,ROW()-1))","v":220.23},{"$f":"SUM(INDEX(AK:AK,ROW()-10):INDEX(AK:AK,ROW()-1))","v":420.26000000000005},{"$f":"AK66-AJ66","v":200.03000000000006}]
["L","Strategic Actions                                                                                                                                              Enter Key, High-Level Strategies Needed to Achieve Objective",null,null,"Feasibility","Cost Estimate",null,null,null,null,null,null,null,null,null,null,null,null,null,null,null,null,null,null,null,null,"Cost",null,"Feasibility","Weight"]
["ST","Develop a list of \"shovel ready projects\" -- list the \"best bang for buck\" barriers and an action plan with proper design for each barrier  to DOT",null,null,"Very High",null,null,null,null,null,null,null,null,null,null,null,null,null,null,null,null,null,null,null,null,null,{"$f":"F68","v":0},null,{"$f":"IF(E68=\"Very High\",Scoring!$B$54,IF(E68=\"High\",Scoring!$B$55,IF(E68=\"Medium\",Scoring!$B$56,IF(E68=\"Low\",Scoring!$B$57,IF(E68=\"Very Low\",Scoring!$B$58,IF(E68=\"\",0))))))","v":100},{"$f":"IF(E68=\"Very High\",Scoring!$C$54,IF(E68=\"High\",Scoring!$C$55,IF(E68=\"Medium\",Scoring!$C$56,IF(E68=\"Low\",Scoring!$C$57,IF(E68=\"Very Low\",Scoring!$C$58,IF(E68=\"\",0))))))","v":0.85},{"$f":"AC68*AD68","v":85}]
["S","Get $$$ - matchng funds as incentive for DOT; explore Exxon-Valdez settlement, NFWF, AKSSF, USFWS (salmon hotspot); compensatory mitigiation as funding source",null,null,"High",null,null,null,null,null,null,null,null,null,null,null,null,null,null,null,null,null,null,null,null,null,{"$f":"IF(F69=0,0,F69)","v":0},null,{"$f":"IF(E69=\"Very High\",Scoring!$B$54,IF(E69=\"High\",Scoring!$B$55,IF(E69=\"Medium\",Scoring!$B$56,IF(E69=\"Low\",Scoring!$B$57,IF(E69=\"Very Low\",Scoring!$B$58,IF(E69=\"\",0))))))","v":75},{"$f":"IF(E69=\"Very High\",Scoring!$C$54,IF(E69=\"High\",Scoring!$C$55,IF(E69=\"Medium\",Scoring!$C$56,IF(E69=\"Low\",Scoring!$C$57,IF(E69=\"Very Low\",Scoring!$C$58,IF(E69=\"\",0))))))","v":1},{"$f":"AD69*AC69","v":75}]
["S","Get borough to pass ordinance that requires fish passage for all new culverts (see Mat-Su model)",null,null,"Low",null,null,null,null,null,null,null,null,null,null,null,null,null,null,null,null,null,null,null,null,null,0,null,{"$f":"IF(E70=\"Very High\",Scoring!$B$54,IF(E70=\"High\",Scoring!$B$55,IF(E70=\"Medium\",Scoring!$B$56,IF(E70=\"Low\",Scoring!$B$57,IF(E70=\"Very Low\",Scoring!$B$58,IF(E70=\"\",0))))))","v":25},{"$f":"IF(E70=\"Very High\",Scoring!$C$54,IF(E70=\"High\",Scoring!$C$55,IF(E70=\"Medium\",Scoring!$C$56,IF(E70=\"Low\",Scoring!$C$57,IF(E70=\"Very Low\",Scoring!$C$58,IF(E70=\"\",0))))))","v":5},125]
["S","Build constituency to support both DOT and borough action (see Mat-Su and others) ",null,null,"Medium",null,null,null,null,null,null,null,null,null,null,null,null,null,null,null,null,null,null,null,null,null,0,null,{"$f":"IF(E71=\"Very High\",Scoring!$B$54,IF(E71=\"High\",Scoring!$B$55,IF(E71=\"Medium\",Scoring!$B$56,IF(E71=\"Low\",Scoring!$B$57,IF(E71=\"Very Low\",Scoring!$B$58,IF(E71=\"\",0))))))","v":50},{"$f":"IF(E71=\"Very High\",Scoring!$C$54,IF(E71=\"High\",Scoring!$C$55,IF(E71=\"Medium\",Scoring!$C$56,IF(E71=\"Low\",Scoring!$C$57,IF(E71=\"Very Low\",Scoring!$C$58,IF(E71=\"\",0))))))","v":2},100]
["S","Identify other significant barriers that have yet been catalogued, and add them to the shovel-ready list",null,null,"Very High",null,null,null,null,null,null,null,null,null,null,null,null,null,null,null,null,null,null,null,null,null,0,null,{"$f":"IF(E72=\"Very High\",Scoring!$B$54,IF(E72=\"High\",Scoring!$B$55,IF(E72=\"Medium\",Scoring!$B$56,IF(E72=\"Low\",Scoring!$B$57,IF(E72=\"Very Low\",Scoring!$B$58,IF(E72=\"\",0))))))","v":100},{"$f":"IF(E72=\"Very High\",Scoring!$C$54,IF(E72=\"High\",Scoring!$C$55,IF(E72=\"Medium\",Scoring!$C$56,IF(E72=\"Low\",Scoring!$C$57,IF(E72=\"Very Low\",Scoring!$C$58,IF(E72=\"\",0))))))","v":0.85},85]
["S","Get the job done",null,null,"Very High",null,null,null,null,null,null,null,null,null,null,null,null,null,null,null,null,null,null,null,null,null,0,null,{"$f":"IF(E73=\"Very High\",Scoring!$B$54,IF(E73=\"High\",Scoring!$B$55,IF(E73=\"Medium\",Scoring!$B$56,IF(E73=\"Low\",Scoring!$B$57,IF(E73=\"Very Low\",Scoring!$B$58,IF(E73=\"\",0))))))","v":100},{"$f":"IF(E73=\"Very High\",Scoring!$C$54,IF(E73=\"High\",Scoring!$C$55,IF(E73=\"Medium\",Scoring!$C$56,IF(E73=\"Low\",Scoring!$C$57,IF(E73=\"Very Low\",Scoring!$C$58,IF(E73=\"\",0))))))","v":0.85},85]
["S","Maintain the green status",null,null,"High",50000,null,null,null,null,null,null,null,null,null,null,null,null,null,null,null,null,null,null,null,null,50000,null,{"$f":"IF(E74=\"Very High\",Scoring!$B$54,IF(E74=\"High\",Scoring!$B$55,IF(E74=\"Medium\",Scoring!$B$56,IF(E74=\"Low\",Scoring!$B$57,IF(E74=\"Very Low\",Scoring!$B$58,IF(E74=\"\",0))))))","v":75},{"$f":"IF(E74=\"Very High\",Scoring!$C$54,IF(E74=\"High\",Scoring!$C$55,IF(E74=\"Medium\",Scoring!$C$56,IF(E74=\"Low\",Scoring!$C$57,IF(E74=\"Very Low\",Scoring!$C$58,IF(E74=\"\",0))))))","v":1},75]
["L","Overall Feasibility & Overall Cost",null,null,{"$f":"IF(AF76>=Scoring!$B$54,\"Very High\",IF(AF76>=Scoring!$B$55,\"High\",IF(AF76>=Scoring!$B$56,\"Medium\",IF(AF76>=Scoring!$B$57,\"Low\",IF(AF76>0,\"Very Low\",\"\")))))","v":"Medium"},{"$f":"AA76","v":50000}]
["L",null,null,null,null,null,null,null,null,null,null,null,null,null,null,null,null,null,null,null,null,null,null,null,null,null,{"$f":"SUM(AA68:AA75)","v":50000},null,null,{"$f":"SUM(AD68:AD75)","v":11.549999999999999},{"$f":"SUM(AE68:AE75)","v":630},{"$f":"IFERROR(AE76/AD76,0)","v":54.545454545454554},"Weighted feasibility score"]
["L","Return on Investment",null,null,{"$f":"IF(ISERROR(INDEX(MatrixOverall,(MATCH(AL77,ROIRank,0)-1)*5+MATCH(AA77,ROIRank,0),MATCH(AF77,ROIRank,0))),\"-\",INDEX(MatrixOverall,(MATCH(AL77,ROIRank,0)-1)*5+MATCH(AA77,ROIRank,0),MATCH(AF77,ROIRank,0)))","v":"Very High"},null,null,null,null,null,null,null,null,null,null,null,null,null,null,null,null,null,null,null,null,null,{"$f":"IF(AA76>=Scoring!$C$92,\"Very High\",IF(AA76>=Scoring!$C$93,\"High\",IF(AA76>=Scoring!$C$94,\"Medium\",IF(AA76>=Scoring!$C$95,\"Low\",\"-\"))))","v":"Medium"},null,null,null,null,{"$f":"IF(AF76>=Scoring!$B$54,\"Very High\",IF(AF76>=Scoring!$B$55,\"High\",IF(AF76>=Scoring!$B$56,\"Medium\",IF(AF76>=Scoring!$B$57,\"Low\",IF(AF76>0,\"Very Low\",\"-\")))))","v":"Medium"},null,null,null,null,null,{"$f":"IF(AL66>=Scoring!$C$79,\"Very High\",IF(AL66>=Scoring!$C$80,\"High\",IF(AL66>=Scoring!$C$81,\"Medium\",IF(AL66>=Scoring!$C$82,\"Low\",\"-\"))))","v":"Very High"}]
["L"]
[]
["O4","Objective 4"]
["O","By 2020, the Lower Chena river, tributaries and sloughs will meet DEC water quality standards* (* restoration plan in place - e.g., Noyes Slough).  Key sources are roads, development, stormwater."]
["L"]
["L","Targets/Key Attributes Benefited",null,"Current Rating","Projected Future Rating With No Action","Projected Future Rating If Objective Achieved",null,null,null,null,null,null,null,null,null,null,null,null,null,null,null,null,null,null,null,null,null,null,"Current Score","Score w No Action","Score w Strategies","Current Weight","Future Weight No Action","Future Weight w Action","Current Weighted Score","Future No Action Weighted Score","Future Action Weighted Score","Delta Benefit"]
["K","Tributaries - Lower Chena|Water quality",null,{"$f":"IF(B84=\"\",\"\",INDEX(KEADrop!E:E,MATCH(B84,KEADrop!D:D,0)))","v":"Fair"},{"$f":"IF(B84=0,\"\",INDEX(KEADrop!F:F,MATCH(B84,KEADrop!D:D,0)))","v":"Fair -"},"Good -",null,null,null,null,null,null,null,null,null,null,null,null,null,null,null,null,null,null,null,null,null,null,{"$f":"IF(D84=Scoring!$A$50,Scoring!$B$50,IF(D84=Scoring!$A$49,Scoring!$B$49,IF(D84=Scoring!$A$48,Scoring!$B$48,IF(D84=Scoring!$A$47,Scoring!$B$47,IF(D84=Scoring!$A$46,Scoring!$B$46,IF(D84=Scoring!$A$45,Scoring!$B$45,IF(D84=\"\",0)))))))","v":40.04},{"$f":"IF(E84=Scoring!$A$50,Scoring!$B$50,IF(E84=Scoring!$A$49,Scoring!$B$49,IF(E84=Scoring!$A$48,Scoring!$B$48,IF(E84=Scoring!$A$47,Scoring!$B$47,IF(E84=Scoring!$A$46,Scoring!$B$46,IF(E84=Scoring!$A$45,Scoring!$B$45,IF(E84=\"\",0)))))))","v":20.03},{"$f":"IF(F84=Scoring!$A$50,Scoring!$B$50,IF(F84=Scoring!$A$49,Scoring!$B$49,IF(F84=Scoring!$A$48,Scoring!$B$48,IF(F84=Scoring!$A$47,Scoring!$B$47,IF(F84=Scoring!$A$46,Scoring!$B$46,IF(F84=Scoring!$A$45,Scoring!$B$45,IF(F84=\"\",0)))))))","v":60.04},{"$f":"IF(D84=Scoring!$A$50,Scoring!$C$50,IF(D84=Scoring!$A$49,Scoring!$C$49,IF(D84=Scoring!$A$48,Scoring!$C$48,IF(D84=Scoring!$A$47,Scoring!$C$47,IF(D84=Scoring!$A$46,Scoring!$C$46,IF(D84=Scoring!$A$45,Scoring!$C$45,IF(D84=\"\",0)))))))","v":1},{"$f":"IF(E84=Scoring!$A$50,Scoring!$C$50,IF(E84=Scoring!$A$49,Scoring!$C$49,IF(E84=Scoring!$A$48,Scoring!$C$48,IF(E84=Scoring!$A$47,Scoring!$C$47,IF(E84=Scoring!$A$46,Scoring!$C$46,IF(E84=Scoring!$A$45,Scoring!$C$45,IF(E84=\"\",0)))))))","v":1},{"$f":"IF(F84=Scoring!$A$50,Scoring!$C$50,IF(F84=Scoring!$A$49,Scoring!$C$49,IF(F84=Scoring!$A$48,Scoring!$C$48,IF(F84=Scoring!$A$47,Scoring!$C$47,IF(F84=Scoring!$A$46,Scoring!$C$46,IF(F84=Scoring!$A$45,Scoring!$C$45,IF(F84=\"\",0)))))))","v":1},{"$f":"AC84*AF84","v":40.04},{"$f":"AD84*AG84","v":20.03},{"$f":"AE84*AH84","v":60.04}]
["K","Mainstem River & Major Forks - Lower Chena|Water quality",null,{"$f":"IF(B85=\"\",\"\",INDEX(KEADrop!E:E,MATCH(B85,KEADrop!D:D,0)))","v":"Fair"},{"$f":"IF(B85=0,\"\",INDEX(KEADrop!F:F,MATCH(B85,KEADrop!D:D,0)))","v":"Fair -"},"Good -",null,null,null,null,null,null,null,null,null,null,null,null,null,null,null,null,null,null,null,null,null,null,{"$f":"IF(D85=Scoring!$A$50,Scoring!$B$50,IF(D85=Scoring!$A$49,Scoring!$B$49,IF(D85=Scoring!$A$48,Scoring!$B$48,IF(D85=Scoring!$A$47,Scoring!$B$47,IF(D85=Scoring!$A$46,Scoring!$B$46,IF(D85=Scoring!$A$45,Scoring!$B$45,IF(D85=\"\",0)))))))","v":40.04},{"$f":"IF(E85=Scoring!$A$50,Scoring!$B$50,IF(E85=Scoring!$A$49,Scoring!$B$49,IF(E85=Scoring!$A$48,Scoring!$B$48,IF(E85=Scoring!$A$47,Scoring!$B$47,IF(E85=Scoring!$A$46,Scoring!$B$46,IF(E85=Scoring!$A$45,Scoring!$B$45,IF(E85=\"\",0)))))))","v":20.03},{"$f":"IF(F85=Scoring!$A$50,Scoring!$B$50,IF(F85=Scoring!$A$49,Scoring!$B$49,IF(F85=Scoring!$A$48,Scoring!$B$48,IF(F85=Scoring!$A$47,Scoring!$B$47,IF(F85=Scoring!$A$46,Scoring!$B$46,IF(F85=Scoring!$A$45,Scoring!$B$45,IF(F85=\"\",0)))))))","v":60.04},{"$f":"IF(D85=Scoring!$A$50,Scoring!$C$50,IF(D85=Scoring!$A$49,Scoring!$C$49,IF(D85=Scoring!$A$48,Scoring!$C$48,IF(D85=Scoring!$A$47,Scoring!$C$47,IF(D85=Scoring!$A$46,Scoring!$C$46,IF(D85=Scoring!$A$45,Scoring!$C$45,IF(D85=\"\",0)))))))","v":1},{"$f":"IF(E85=Scoring!$A$50,Scoring!$C$50,IF(E85=Scoring!$A$49,Scoring!$C$49,IF(E85=Scoring!$A$48,Scoring!$C$48,IF(E85=Scoring!$A$47,Scoring!$C$47,IF(E85=Scoring!$A$46,Scoring!$C$46,IF(E85=Scoring!$A$45,Scoring!$C$45,IF(E85=\"\",0)))))))","v":1},{"$f":"IF(F85=Scoring!$A$50,Scoring!$C$50,IF(F85=Scoring!$A$49,Scoring!$C$49,IF(F85=Scoring!$A$48,Scoring!$C$48,IF(F85=Scoring!$A$47,Scoring!$C$47,IF(F85=Scoring!$A$46,Scoring!$C$46,IF(F85=Scoring!$A$45,Scoring!$C$45,IF(F85=\"\",0)))))))","v":1},{"$f":"AC85*AF85","v":40.04},{"$f":"AD85*AG85","v":20.03},{"$f":"AE85*AH85","v":60.04}]
["K","Sloughs and Wetlands - Lower Chena|Water quality",null,{"$f":"IF(B86=\"\",\"\",INDEX(KEADrop!E:E,MATCH(B86,KEADrop!D:D,0)))","v":"Fair"},{"$f":"IF(B86=0,\"\",INDEX(KEADrop!F:F,MATCH(B86,KEADrop!D:D,0)))","v":"Fair"},"Good -",null,null,null,null,null,null,null,null,null,null,null,null,null,null,null,null,null,null,null,null,null,null,{"$f":"IF(D86=Scoring!$A$50,Scoring!$B$50,IF(D86=Scoring!$A$49,Scoring!$B$49,IF(D86=Scoring!$A$48,Scoring!$B$48,IF(D86=Scoring!$A$47,Scoring!$B$47,IF(D86=Scoring!$A$46,Scoring!$B$46,IF(D86=Scoring!$A$45,Scoring!$B$45,IF(D86=\"\",0)))))))","v":40.04},{"$f":"IF(E86=Scoring!$A$50,Scoring!$B$50,IF(E86=Scoring!$A$49,Scoring!$B$49,IF(E86=Scoring!$A$48,Scoring!$B$48,IF(E86=Scoring!$A$47,Scoring!$B$47,IF(E86=Scoring!$A$46,Scoring!$B$46,IF(E86=Scoring!$A$45,Scoring!$B$45,IF(E86=\"\",0)))))))","v":40.04},{"$f":"IF(F86=Scoring!$A$50,Scoring!$B$50,IF(F86=Scoring!$A$49,Scoring!$B$49,IF(F86=Scoring!$A$48,Scoring!$B$48,IF(F86=Scoring!$A$47,Scoring!$B$47,IF(F86=Scoring!$A$46,Scoring!$B$46,IF(F86=Scoring!$A$45,Scoring!$B$45,IF(F86=\"\",0)))))))","v":60.04},{"$f":"IF(D86=Scoring!$A$50,Scoring!$C$50,IF(D86=Scoring!$A$49,Scoring!$C$49,IF(D86=Scoring!$A$48,Scoring!$C$48,IF(D86=Scoring!$A$47,Scoring!$C$47,IF(D86=Scoring!$A$46,Scoring!$C$46,IF(D86=Scoring!$A$45,Scoring!$C$45,IF(D86=\"\",0)))))))","v":1},{"$f":"IF(E86=Scoring!$A$50,Scoring!$C$50,IF(E86=Scoring!$A$49,Scoring!$C$49,IF(E86=Scoring!$A$48,Scoring!$C$48,IF(E86=Scoring!$A$47,Scoring!$C$47,IF(E86=Scoring!$A$46,Scoring!$C$46,IF(E86=Scoring!$A$45,Scoring!$C$45,IF(E86=\"\",0)))))))","v":1},{"$f":"IF(F86=Scoring!$A$50,Scoring!$C$50,IF(F86=Scoring!$A$49,Scoring!$C$49,IF(F86=Scoring!$A$48,Scoring!$C$48,IF(F86=Scoring!$A$47,Scoring!$C$47,IF(F86=Scoring!$A$46,Scoring!$C$46,IF(F86=Scoring!$A$45,Scoring!$C$45,IF(F86=\"\",0)))))))","v":1},{"$f":"AC86*AF86","v":40.04},{"$f":"AD86*AG86","v":40.04},{"$f":"AE86*AH86","v":60.04}]
["L",null,null,null,null,null,null,null,null,null,null,null,null,null,null,null,null,null,null,null,null,null,null,null,null,null,null,null,null,null,null,null,null,null,{"$f":"SUM(INDEX(AI:AI,ROW()-10):INDEX(AI:AI,ROW()-1))","v":120.12},{"$f":"SUM(INDEX(AJ:AJ,ROW()-10):INDEX(AJ:AJ,ROW()-1))","v":80.099999999999994},{"$f":"SUM(INDEX(AK:AK,ROW()-10):INDEX(AK:AK,ROW()-1))","v":180.12},{"$f":"AK87-AJ87","v":100.02000000000001}]
["L","Strategic Actions                                                                                                                                              Enter Key, High-Level Strategies Needed to Achieve Objective",null,null,"Feasibility","Cost Estimate",null,null,null,null,null,null,null,null,null,null,null,null,null,null,null,null,null,null,null,null,"Cost",null,"Feasibility","Weight"]
["ST","Strategies for riparian vegetation will serve important component of water quality improvement",null,null,null,null,null,null,null,null,null,null,null,null,null,null,null,null,null,null,null,null,null,null,null,null,{"$f":"F89","v":0},null,{"$f":"IF(E89=\"Very High\",Scoring!$B$54,IF(E89=\"High\",Scoring!$B$55,IF(E89=\"Medium\",Scoring!$B$56,IF(E89=\"Low\",Scoring!$B$57,IF(E89=\"Very Low\",Scoring!$B$58,IF(E89=\"\",0))))))","v":0},{"$f":"IF(E89=\"Very High\",Scoring!$C$54,IF(E89=\"High\",Scoring!$C$55,IF(E89=\"Medium\",Scoring!$C$56,IF(E89=\"Low\",Scoring!$C$57,IF(E89=\"Very Low\",Scoring!$C$58,IF(E89=\"\",0))))))","v":0},{"$f":"AC89*AD89","v":0}]
["S","Multiagency Green Infrastructure Group (GIG) addresses impervious surfaces associated with existing development, which also helps minimize amount going into storm drains",null,null,null,null,null,null,null,null,null,null,null,null,null,null,null,null,null,null,null,null,null,null,null,null,{"$f":"IF(F90=0,0,F90)","v":0},null,{"$f":"IF(E90=\"Very High\",Scoring!$B$54,IF(E90=\"High\",Scoring!$B$55,IF(E90=\"Medium\",Scoring!$B$56,IF(E90=\"Low\",Scoring!$B$57,IF(E90=\"Very Low\",Scoring!$B$58,IF(E90=\"\",0))))))","v":0},{"$f":"IF(E90=\"Very High\",Scoring!$C$54,IF(E90=\"High\",Scoring!$C$55,IF(E90=\"Medium\",Scoring!$C$56,IF(E90=\"Low\",Scoring!$C$57,IF(E90=\"Very Low\",Scoring!$C$58,IF(E90=\"\",0))))))","v":0},{"$f":"AD90*AC90","v":0}]
["S","Major municipal permiting requirements also address stormwater runoff, to a substantial degree",null,null,"Medium",null,null,null,null,null,null,null,null,null,null,null,null,null,null,null,null,null,null,null,null,null,0,null,{"$f":"IF(E91=\"Very High\",Scoring!$B$54,IF(E91=\"High\",Scoring!$B$55,IF(E91=\"Medium\",Scoring!$B$56,IF(E91=\"Low\",Scoring!$B$57,IF(E91=\"Very Low\",Scoring!$B$58,IF(E91=\"\",0))))))","v":50},{"$f":"IF(E91=\"Very High\",Scoring!$C$54,IF(E91=\"High\",Scoring!$C$55,IF(E91=\"Medium\",Scoring!$C$56,IF(E91=\"Low\",Scoring!$C$57,IF(E91=\"Very Low\",Scoring!$C$58,IF(E91=\"\",0))))))","v":2},100]
["S","Assess loading of runoff (sediment and other pollutants) from state highways, burough and city roads, and private lanes.  What are the major sources?",null,null,"High",null,null,null,null,null,null,null,null,null,null,null,null,null,null,null,null,null,null,null,null,null,0,null,{"$f":"IF(E92=\"Very High\",Scoring!$B$54,IF(E92=\"High\",Scoring!$B$55,IF(E92=\"Medium\",Scoring!$B$56,IF(E92=\"Low\",Scoring!$B$57,IF(E92=\"Very Low\",Scoring!$B$58,IF(E92=\"\",0))))))","v":75},{"$f":"IF(E92=\"Very High\",Scoring!$C$54,IF(E92=\"High\",Scoring!$C$55,IF(E92=\"Medium\",Scoring!$C$56,IF(E92=\"Low\",Scoring!$C$57,IF(E92=\"Very Low\",Scoring!$C$58,IF(E92=\"\",0))))))","v":1},75]
["S","Explore with DOT and road agencies the use of vacuum sweepers (not pushers and brooms), catch basins, sediment filters and other options. Find out what they measures will apply, what testing is needed, what is required to do it at suffucient scale, and what we can do to help make it happen.  (SWAC)",null,null,"Medium",null,null,null,null,null,null,null,null,null,null,null,null,null,null,null,null,null,null,null,null,null,0,null,{"$f":"IF(E93=\"Very High\",Scoring!$B$54,IF(E93=\"High\",Scoring!$B$55,IF(E93=\"Medium\",Scoring!$B$56,IF(E93=\"Low\",Scoring!$B$57,IF(E93=\"Very Low\",Scoring!$B$58,IF(E93=\"\",0))))))","v":50},{"$f":"IF(E93=\"Very High\",Scoring!$C$54,IF(E93=\"High\",Scoring!$C$55,IF(E93=\"Medium\",Scoring!$C$56,IF(E93=\"Low\",Scoring!$C$57,IF(E93=\"Very Low\",Scoring!$C$58,IF(E93=\"\",0))))))","v":2},100]
["S","Improve exsiting education and training regarding Alaska Stormwater Pollution Prevention Plan:  landowners, businesses, construction companies, road commissioners, municipal employees -- the BMPs are the bible.  (CESCL and AGC)",null,null,"High",null,null,null,null,null,null,null,null,null,null,null,null,null,null,null,null,null,null,null,null,null,0,null,{"$f":"IF(E94=\"Very High\",Scoring!$B$54,IF(E94=\"High\",Scoring!$B$55,IF(E94=\"Medium\",Scoring!$B$56,IF(E94=\"Low\",Scoring!$B$57,IF(E94=\"Very Low\",Scoring!$B$58,IF(E94=\"\",0))))))","v":75},{"$f":"IF(E94=\"Very High\",Scoring!$C$54,IF(E94=\"High\",Scoring!$C$55,IF(E94=\"Medium\",Scoring!$C$56,IF(E94=\"Low\",Scoring!$C$57,IF(E94=\"Very Low\",Scoring!$C$58,IF(E94=\"\",0))))))","v":1},75]
["S","Develop and put into place an ongoing assessment/monitoring of water quality condition in our target water bodies.",null,null,"Medium",50000,null,null,null,null,null,null,null,null,null,null,null,null,null,null,null,null,null,null,null,null,50000,null,{"$f":"IF(E95=\"Very High\",Scoring!$B$54,IF(E95=\"High\",Scoring!$B$55,IF(E95=\"Medium\",Scoring!$B$56,IF(E95=\"Low\",Scoring!$B$57,IF(E95=\"Very Low\",Scoring!$B$58,IF(E95=\"\",0))))))","v":50},{"$f":"IF(E95=\"Very High\",Scoring!$C$54,IF(E95=\"High\",Scoring!$C$55,IF(E95=\"Medium\",Scoring!$C$56,IF(E95=\"Low\",Scoring!$C$57,IF(E95=\"Very Low\",Scoring!$C$58,IF(E95=\"\",0))))))","v":2},100]
["L","Overall Feasibility & Overall Cost",null,null,{"$f":"IF(AF97>=Scoring!$B$54,\"Very High\",IF(AF97>=Scoring!$B$55,\"High\",IF(AF97>=Scoring!$B$56,\"Medium\",IF(AF97>=Scoring!$B$57,\"Low\",IF(AF97>0,\"Very Low\",\"\")))))","v":"Medium"},{"$f":"AA97","v":50000}]
["L",null,null,null,null,null,null,null,null,null,null,null,null,null,null,null,null,null,null,null,null,null,null,null,null,null,{"$f":"SUM(AA89:AA96)","v":50000},null,null,{"$f":"SUM(AD89:AD96)","v":8},{"$f":"SUM(AE89:AE96)","v":450},{"$f":"IFERROR(AE97/AD97,0)","v":56.25},"Weighted feasibility score"]
["L","Return on Investment",null,null,{"$f":"IF(ISERROR(INDEX(MatrixOverall,(MATCH(AL98,ROIRank,0)-1)*5+MATCH(AA98,ROIRank,0),MATCH(AF98,ROIRank,0))),\"-\",INDEX(MatrixOverall,(MATCH(AL98,ROIRank,0)-1)*5+MATCH(AA98,ROIRank,0),MATCH(AF98,ROIRank,0)))","v":"High"},null,null,null,null,null,null,null,null,null,null,null,null,null,null,null,null,null,null,null,null,null,{"$f":"IF(AA97>=Scoring!$C$92,\"Very High\",IF(AA97>=Scoring!$C$93,\"High\",IF(AA97>=Scoring!$C$94,\"Medium\",IF(AA97>=Scoring!$C$95,\"Low\",\"-\"))))","v":"Medium"},null,null,null,null,{"$f":"IF(AF97>=Scoring!$B$54,\"Very High\",IF(AF97>=Scoring!$B$55,\"High\",IF(AF97>=Scoring!$B$56,\"Medium\",IF(AF97>=Scoring!$B$57,\"Low\",IF(AF97>0,\"Very Low\",\"-\")))))","v":"Medium"},null,null,null,null,null,{"$f":"IF(AL87>=Scoring!$C$79,\"Very High\",IF(AL87>=Scoring!$C$80,\"High\",IF(AL87>=Scoring!$C$81,\"Medium\",IF(AL87>=Scoring!$C$82,\"Low\",\"-\"))))","v":"High"}]
["L"]
[]
["O5","Objective 5"]
["O","By 2025, future roads and residential development in the Upper and Lower Chena watershed boreal forests will minimize forest fragmentation and habitat loss, avoid adverse downstream impacts on water quality and flows, and avoid key fire prone areas (e.g. black spruce)."]
["L"]
["L","Targets/Key Attributes Benefited",null,"Current Rating","Projected Future Rating With No Action","Projected Future Rating If Objective Achieved",null,null,null,null,null,null,null,null,null,null,null,null,null,null,null,null,null,null,null,null,null,null,"Current Score","Score w No Action","Score w Strategies","Current Weight","Future Weight No Action","Future Weight w Action","Current Weighted Score","Future No Action Weighted Score","Future Action Weighted Score","Delta Benefit"]
["K","Boreal Forests - Upper Chena|Habitat connectivity",null,{"$f":"IF(B105=\"\",\"\",INDEX(KEADrop!E:E,MATCH(B105,KEADrop!D:D,0)))","v":"Good"},{"$f":"IF(B105=0,\"\",INDEX(KEADrop!F:F,MATCH(B105,KEADrop!D:D,0)))","v":"Good -"},"Good -",null,null,null,null,null,null,null,null,null,null,null,null,null,null,null,null,null,null,null,null,null,null,{"$f":"IF(D105=Scoring!$A$50,Scoring!$B$50,IF(D105=Scoring!$A$49,Scoring!$B$49,IF(D105=Scoring!$A$48,Scoring!$B$48,IF(D105=Scoring!$A$47,Scoring!$B$47,IF(D105=Scoring!$A$46,Scoring!$B$46,IF(D105=Scoring!$A$45,Scoring!$B$45,IF(D105=\"\",0)))))))","v":80.03},{"$f":"IF(E105=Scoring!$A$50,Scoring!$B$50,IF(E105=Scoring!$A$49,Scoring!$B$49,IF(E105=Scoring!$A$48,Scoring!$B$48,IF(E105=Scoring!$A$47,Scoring!$B$47,IF(E105=Scoring!$A$46,Scoring!$B$46,IF(E105=Scoring!$A$45,Scoring!$B$45,IF(E105=\"\",0)))))))","v":60.04},{"$f":"IF(F105=Scoring!$A$50,Scoring!$B$50,IF(F105=Scoring!$A$49,Scoring!$B$49,IF(F105=Scoring!$A$48,Scoring!$B$48,IF(F105=Scoring!$A$47,Scoring!$B$47,IF(F105=Scoring!$A$46,Scoring!$B$46,IF(F105=Scoring!$A$45,Scoring!$B$45,IF(F105=\"\",0)))))))","v":60.04},{"$f":"IF(D105=Scoring!$A$50,Scoring!$C$50,IF(D105=Scoring!$A$49,Scoring!$C$49,IF(D105=Scoring!$A$48,Scoring!$C$48,IF(D105=Scoring!$A$47,Scoring!$C$47,IF(D105=Scoring!$A$46,Scoring!$C$46,IF(D105=Scoring!$A$45,Scoring!$C$45,IF(D105=\"\",0)))))))","v":1},{"$f":"IF(E105=Scoring!$A$50,Scoring!$C$50,IF(E105=Scoring!$A$49,Scoring!$C$49,IF(E105=Scoring!$A$48,Scoring!$C$48,IF(E105=Scoring!$A$47,Scoring!$C$47,IF(E105=Scoring!$A$46,Scoring!$C$46,IF(E105=Scoring!$A$45,Scoring!$C$45,IF(E105=\"\",0)))))))","v":1},{"$f":"IF(F105=Scoring!$A$50,Scoring!$C$50,IF(F105=Scoring!$A$49,Scoring!$C$49,IF(F105=Scoring!$A$48,Scoring!$C$48,IF(F105=Scoring!$A$47,Scoring!$C$47,IF(F105=Scoring!$A$46,Scoring!$C$46,IF(F105=Scoring!$A$45,Scoring!$C$45,IF(F105=\"\",0)))))))","v":1},{"$f":"AC105*AF105","v":80.03},{"$f":"AD105*AG105","v":60.04},{"$f":"AE105*AH105","v":60.04}]
["K","Boreal Forests - Lower Chena|Habitat connectivity",null,{"$f":"IF(B106=\"\",\"\",INDEX(KEADrop!E:E,MATCH(B106,KEADrop!D:D,0)))","v":"Fair"},{"$f":"IF(B106=0,\"\",INDEX(KEADrop!F:F,MATCH(B106,KEADrop!D:D,0)))","v":"Fair -"},"Fair -",null,null,null,null,null,null,null,null,null,null,null,null,null,null,null,null,null,null,null,null,null,null,{"$f":"IF(D106=Scoring!$A$50,Scoring!$B$50,IF(D106=Scoring!$A$49,Scoring!$B$49,IF(D106=Scoring!$A$48,Scoring!$B$48,IF(D106=Scoring!$A$47,Scoring!$B$47,IF(D106=Scoring!$A$46,Scoring!$B$46,IF(D106=Scoring!$A$45,Scoring!$B$45,IF(D106=\"\",0)))))))","v":40.04},{"$f":"IF(E106=Scoring!$A$50,Scoring!$B$50,IF(E106=Scoring!$A$49,Scoring!$B$49,IF(E106=Scoring!$A$48,Scoring!$B$48,IF(E106=Scoring!$A$47,Scoring!$B$47,IF(E106=Scoring!$A$46,Scoring!$B$46,IF(E106=Scoring!$A$45,Scoring!$B$45,IF(E106=\"\",0)))))))","v":20.03},{"$f":"IF(F106=Scoring!$A$50,Scoring!$B$50,IF(F106=Scoring!$A$49,Scoring!$B$49,IF(F106=Scoring!$A$48,Scoring!$B$48,IF(F106=Scoring!$A$47,Scoring!$B$47,IF(F106=Scoring!$A$46,Scoring!$B$46,IF(F106=Scoring!$A$45,Scoring!$B$45,IF(F106=\"\",0)))))))","v":20.03},{"$f":"IF(D106=Scoring!$A$50,Scoring!$C$50,IF(D106=Scoring!$A$49,Scoring!$C$49,IF(D106=Scoring!$A$48,Scoring!$C$48,IF(D106=Scoring!$A$47,Scoring!$C$47,IF(D106=Scoring!$A$46,Scoring!$C$46,IF(D106=Scoring!$A$45,Scoring!$C$45,IF(D106=\"\",0)))))))","v":1},{"$f":"IF(E106=Scoring!$A$50,Scoring!$C$50,IF(E106=Scoring!$A$49,Scoring!$C$49,IF(E106=Scoring!$A$48,Scoring!$C$48,IF(E106=Scoring!$A$47,Scoring!$C$47,IF(E106=Scoring!$A$46,Scoring!$C$46,IF(E106=Scoring!$A$45,Scoring!$C$45,IF(E106=\"\",0)))))))","v":1},{"$f":"IF(F106=Scoring!$A$50,Scoring!$C$50,IF(F106=Scoring!$A$49,Scoring!$C$49,IF(F106=Scoring!$A$48,Scoring!$C$48,IF(F106=Scoring!$A$47,Scoring!$C$47,IF(F106=Scoring!$A$46,Scoring!$C$46,IF(F106=Scoring!$A$45,Scoring!$C$45,IF(F106=\"\",0)))))))","v":1},{"$f":"AC106*AF106","v":40.04},{"$f":"AD106*AG106","v":20.03},{"$f":"AE106*AH106","v":20.03}]
["K","Boreal Forests - Lower Chena|Hydrologic regime",null,{"$f":"IF(B107=\"\",\"\",INDEX(KEADrop!E:E,MATCH(B107,KEADrop!D:D,0)))","v":"Fair"},{"$f":"IF(B107=0,\"\",INDEX(KEADrop!F:F,MATCH(B107,KEADrop!D:D,0)))","v":"Fair -"},"Fair",null,null,null,null,null,null,null,null,null,null,null,null,null,null,null,null,null,null,null,null,null,null,{"$f":"IF(D107=Scoring!$A$50,Scoring!$B$50,IF(D107=Scoring!$A$49,Scoring!$B$49,IF(D107=Scoring!$A$48,Scoring!$B$48,IF(D107=Scoring!$A$47,Scoring!$B$47,IF(D107=Scoring!$A$46,Scoring!$B$46,IF(D107=Scoring!$A$45,Scoring!$B$45,IF(D107=\"\",0)))))))","v":40.04},{"$f":"IF(E107=Scoring!$A$50,Scoring!$B$50,IF(E107=Scoring!$A$49,Scoring!$B$49,IF(E107=Scoring!$A$48,Scoring!$B$48,IF(E107=Scoring!$A$47,Scoring!$B$47,IF(E107=Scoring!$A$46,Scoring!$B$46,IF(E107=Scoring!$A$45,Scoring!$B$45,IF(E107=\"\",0)))))))","v":20.03},{"$f":"IF(F107=Scoring!$A$50,Scoring!$B$50,IF(F107=Scoring!$A$49,Scoring!$B$49,IF(F107=Scoring!$A$48,Scoring!$B$48,IF(F107=Scoring!$A$47,Scoring!$B$47,IF(F107=Scoring!$A$46,Scoring!$B$46,IF(F107=Scoring!$A$45,Scoring!$B$45,IF(F107=\"\",0)))))))","v":40.04},{"$f":"IF(D107=Scoring!$A$50,Scoring!$C$50,IF(D107=Scoring!$A$49,Scoring!$C$49,IF(D107=Scoring!$A$48,Scoring!$C$48,IF(D107=Scoring!$A$47,Scoring!$C$47,IF(D107=Scoring!$A$46,Scoring!$C$46,IF(D107=Scoring!$A$45,Scoring!$C$45,IF(D107=\"\",0)))))))","v":1},{"$f":"IF(E107=Scoring!$A$50,Scoring!$C$50,IF(E107=Scoring!$A$49,Scoring!$C$49,IF(E107=Scoring!$A$48,Scoring!$C$48,IF(E107=Scoring!$A$47,Scoring!$C$47,IF(E107=Scoring!$A$46,Scoring!$C$46,IF(E107=Scoring!$A$45,Scoring!$C$45,IF(E107=\"\",0)))))))","v":1},{"$f":"IF(F107=Scoring!$A$50,Scoring!$C$50,IF(F107=Scoring!$A$49,Scoring!$C$49,IF(F107=Scoring!$A$48,Scoring!$C$48,IF(F107=Scoring!$A$47,Scoring!$C$47,IF(F107=Scoring!$A$46,Scoring!$C$46,IF(F107=Scoring!$A$45,Scoring!$C$45,IF(F107=\"\",0)))))))","v":1},{"$f":"AC107*AF107","v":40.04},{"$f":"AD107*AG107","v":20.03},{"$f":"AE107*AH107","v":40.04}]
["K","Boreal Forests - Lower Chena|Extent of area",null,{"$f":"IF(B108=\"\",\"\",INDEX(KEADrop!E:E,MATCH(B108,KEADrop!D:D,0)))","v":"Fair"},{"$f":"IF(B108=0,\"\",INDEX(KEADrop!F:F,MATCH(B108,KEADrop!D:D,0)))","v":"Fair -"},"Fair",null,null,null,null,null,null,null,null,null,null,null,null,null,null,null,null,null,null,null,null,null,null,{"$f":"IF(D108=Scoring!$A$50,Scoring!$B$50,IF(D108=Scoring!$A$49,Scoring!$B$49,IF(D108=Scoring!$A$48,Scoring!$B$48,IF(D108=Scoring!$A$47,Scoring!$B$47,IF(D108=Scoring!$A$46,Scoring!$B$46,IF(D108=Scoring!$A$45,Scoring!$B$45,IF(D108=\"\",0)))))))","v":40.04},{"$f":"IF(E108=Scoring!$A$50,Scoring!$B$50,IF(E108=Scoring!$A$49,Scoring!$B$49,IF(E108=Scoring!$A$48,Scoring!$B$48,IF(E108=Scoring!$A$47,Scoring!$B$47,IF(E108=Scoring!$A$46,Scoring!$B$46,IF(E108=Scoring!$A$45,Scoring!$B$45,IF(E108=\"\",0)))))))","v":20.03},{"$f":"IF(F108=Scoring!$A$50,Scoring!$B$50,IF(F108=Scoring!$A$49,Scoring!$B$49,IF(F108=Scoring!$A$48,Scoring!$B$48,IF(F108=Scoring!$A$47,Scoring!$B$47,IF(F108=Scoring!$A$46,Scoring!$B$46,IF(F108=Scoring!$A$45,Scoring!$B$45,IF(F108=\"\",0)))))))","v":40.04},{"$f":"IF(D108=Scoring!$A$50,Scoring!$C$50,IF(D108=Scoring!$A$49,Scoring!$C$49,IF(D108=Scoring!$A$48,Scoring!$C$48,IF(D108=Scoring!$A$47,Scoring!$C$47,IF(D108=Scoring!$A$46,Scoring!$C$46,IF(D108=Scoring!$A$45,Scoring!$C$45,IF(D108=\"\",0)))))))","v":1},{"$f":"IF(E108=Scoring!$A$50,Scoring!$C$50,IF(E108=Scoring!$A$49,Scoring!$C$49,IF(E108=Scoring!$A$48,Scoring!$C$48,IF(E108=Scoring!$A$47,Scoring!$C$47,IF(E108=Scoring!$A$46,Scoring!$C$46,IF(E108=Scoring!$A$45,Scoring!$C$45,IF(E108=\"\",0)))))))","v":1},{"$f":"IF(F108=Scoring!$A$50,Scoring!$C$50,IF(F108=Scoring!$A$49,Scoring!$C$49,IF(F108=Scoring!$A$48,Scoring!$C$48,IF(F108=Scoring!$A$47,Scoring!$C$47,IF(F108=Scoring!$A$46,Scoring!$C$46,IF(F108=Scoring!$A$45,Scoring!$C$45,IF(F108=\"\",0)))))))","v":1},{"$f":"AC108*AF108","v":40.04},{"$f":"AD108*AG108","v":20.03},{"$f":"AE108*AH108","v":40.04}]
["K","Tributaries - Lower Chena|Water quality",null,{"$f":"IF(B109=\"\",\"\",INDEX(KEADrop!E:E,MATCH(B109,KEADrop!D:D,0)))","v":"Fair"},{"$f":"IF(B109=0,\"\",INDEX(KEADrop!F:F,MATCH(B109,KEADrop!D:D,0)))","v":"Fair -"},"Fair",null,null,null,null,null,null,null,null,null,null,null,null,null,null,null,null,null,null,null,null,null,null,{"$f":"IF(D109=Scoring!$A$50,Scoring!$B$50,IF(D109=Scoring!$A$49,Scoring!$B$49,IF(D109=Scoring!$A$48,Scoring!$B$48,IF(D109=Scoring!$A$47,Scoring!$B$47,IF(D109=Scoring!$A$46,Scoring!$B$46,IF(D109=Scoring!$A$45,Scoring!$B$45,IF(D109=\"\",0)))))))","v":40.04},{"$f":"IF(E109=Scoring!$A$50,Scoring!$B$50,IF(E109=Scoring!$A$49,Scoring!$B$49,IF(E109=Scoring!$A$48,Scoring!$B$48,IF(E109=Scoring!$A$47,Scoring!$B$47,IF(E109=Scoring!$A$46,Scoring!$B$46,IF(E109=Scoring!$A$45,Scoring!$B$45,IF(E109=\"\",0)))))))","v":20.03},{"$f":"IF(F109=Scoring!$A$50,Scoring!$B$50,IF(F109=Scoring!$A$49,Scoring!$B$49,IF(F109=Scoring!$A$48,Scoring!$B$48,IF(F109=Scoring!$A$47,Scoring!$B$47,IF(F109=Scoring!$A$46,Scoring!$B$46,IF(F109=Scoring!$A$45,Scoring!$B$45,IF(F109=\"\",0)))))))","v":40.04},{"$f":"IF(D109=Scoring!$A$50,Scoring!$C$50,IF(D109=Scoring!$A$49,Scoring!$C$49,IF(D109=Scoring!$A$48,Scoring!$C$48,IF(D109=Scoring!$A$47,Scoring!$C$47,IF(D109=Scoring!$A$46,Scoring!$C$46,IF(D109=Scoring!$A$45,Scoring!$C$45,IF(D109=\"\",0)))))))","v":1},{"$f":"IF(E109=Scoring!$A$50,Scoring!$C$50,IF(E109=Scoring!$A$49,Scoring!$C$49,IF(E109=Scoring!$A$48,Scoring!$C$48,IF(E109=Scoring!$A$47,Scoring!$C$47,IF(E109=Scoring!$A$46,Scoring!$C$46,IF(E109=Scoring!$A$45,Scoring!$C$45,IF(E109=\"\",0)))))))","v":1},{"$f":"IF(F109=Scoring!$A$50,Scoring!$C$50,IF(F109=Scoring!$A$49,Scoring!$C$49,IF(F109=Scoring!$A$48,Scoring!$C$48,IF(F109=Scoring!$A$47,Scoring!$C$47,IF(F109=Scoring!$A$46,Scoring!$C$46,IF(F109=Scoring!$A$45,Scoring!$C$45,IF(F109=\"\",0)))))))","v":1},{"$f":"AC109*AF109","v":40.04},{"$f":"AD109*AG109","v":20.03},{"$f":"AE109*AH109","v":40.04}]
["L",null,null,null,null,null,null,null,null,null,null,null,null,null,null,null,null,null,null,null,null,null,null,null,null,null,null,null,null,null,null,null,null,null,{"$f":"SUM(INDEX(AI:AI,ROW()-10):INDEX(AI:AI,ROW()-1))","v":240.18999999999997},{"$f":"SUM(INDEX(AJ:AJ,ROW()-10):INDEX(AJ:AJ,ROW()-1))","v":140.16},{"$f":"SUM(INDEX(AK:AK,ROW()-10):INDEX(AK:AK,ROW()-1))","v":200.18999999999997},{"$f":"AK110-AJ110","v":60.029999999999973}]
["L","Strategic Actions                                                                                                                                              Enter Key, High-Level Strategies Needed to Achieve Objective",null,null,"Feasibility","Cost Estimate",null,null,null,null,null,null,null,null,null,null,null,null,null,null,null,null,null,null,null,null,"Cost",null,"Feasibility","Weight"]
["ST","Enter strategic action here",null,null,null,50000,null,null,null,null,null,null,null,null,null,null,null,null,null,null,null,null,null,null,null,null,{"$f":"F112","v":50000},null,{"$f":"IF(E112=\"Very High\",Scoring!$B$54,IF(E112=\"High\",Scoring!$B$55,IF(E112=\"Medium\",Scoring!$B$56,IF(E112=\"Low\",Scoring!$B$57,IF(E112=\"Very Low\",Scoring!$B$58,IF(E112=\"\",0))))))","v":0},{"$f":"IF(E112=\"Very High\",Scoring!$C$54,IF(E112=\"High\",Scoring!$C$55,IF(E112=\"Medium\",Scoring!$C$56,IF(E112=\"Low\",Scoring!$C$57,IF(E112=\"Very Low\",Scoring!$C$58,IF(E112=\"\",0))))))","v":0},{"$f":"AC112*AD112","v":0}]
["L","Overall Feasibility & Overall Cost",null,null,{"$f":"IF(AF114>=Scoring!$B$54,\"Very High\",IF(AF114>=Scoring!$B$55,\"High\",IF(AF114>=Scoring!$B$56,\"Medium\",IF(AF114>=Scoring!$B$57,\"Low\",IF(AF114>0,\"Very Low\",\"\")))))","v":""},{"$f":"AA114","v":50000}]
["L",null,null,null,null,null,null,null,null,null,null,null,null,null,null,null,null,null,null,null,null,null,null,null,null,null,{"$f":"SUM(AA112:AA113)","v":50000},null,null,{"$f":"SUM(AD112:AD113)","v":0},{"$f":"SUM(AE112:AE113)","v":0},{"$f":"IFERROR(AE114/AD114,0)","v":0},"Weighted feasibility score"]
["L","Return on Investment",null,null,{"$f":"IF(ISERROR(INDEX(MatrixOverall,(MATCH(AL115,ROIRank,0)-1)*5+MATCH(AA115,ROIRank,0),MATCH(AF115,ROIRank,0))),\"-\",INDEX(MatrixOverall,(MATCH(AL115,ROIRank,0)-1)*5+MATCH(AA115,ROIRank,0),MATCH(AF115,ROIRank,0)))","v":"-"},null,null,null,null,null,null,null,null,null,null,null,null,null,null,null,null,null,null,null,null,null,{"$f":"IF(AA114>=Scoring!$C$92,\"Very High\",IF(AA114>=Scoring!$C$93,\"High\",IF(AA114>=Scoring!$C$94,\"Medium\",IF(AA114>=Scoring!$C$95,\"Low\",\"-\"))))","v":"Medium"},null,null,null,null,{"$f":"IF(AF114>=Scoring!$B$54,\"Very High\",IF(AF114>=Scoring!$B$55,\"High\",IF(AF114>=Scoring!$B$56,\"Medium\",IF(AF114>=Scoring!$B$57,\"Low\",IF(AF114>0,\"Very Low\",\"-\")))))","v":"-"},null,null,null,null,null,{"$f":"IF(AL110>=Scoring!$C$79,\"Very High\",IF(AL110>=Scoring!$C$80,\"High\",IF(AL110>=Scoring!$C$81,\"Medium\",IF(AL110>=Scoring!$C$82,\"Low\",\"-\"))))","v":"Medium"}]
["L"]
[]
["O6","Objective 6"]
["O","By 2020, assure no net loss of sloughs and wetlands in the upper and lower Chena - primarily occurring from filling and residential/commerical development.  "]
["L"]
["L","Targets/Key Attributes Benefited",null,"Current Rating","Projected Future Rating With No Action","Projected Future Rating If Objective Achieved",null,null,null,null,null,null,null,null,null,null,null,null,null,null,null,null,null,null,null,null,null,null,"Current Score","Score w No Action","Score w Strategies","Current Weight","Future Weight No Action","Future Weight w Action","Current Weighted Score","Future No Action Weighted Score","Future Action Weighted Score","Delta Benefit"]
["K","Sloughs and Wetlands - Upper Chena|Extent of area",null,{"$f":"IF(B122=\"\",\"\",INDEX(KEADrop!E:E,MATCH(B122,KEADrop!D:D,0)))","v":"Good"},{"$f":"IF(B122=0,\"\",INDEX(KEADrop!F:F,MATCH(B122,KEADrop!D:D,0)))","v":"Fair"},"Good",null,null,null,null,null,null,null,null,null,null,null,null,null,null,null,null,null,null,null,null,null,null,{"$f":"IF(D122=Scoring!$A$50,Scoring!$B$50,IF(D122=Scoring!$A$49,Scoring!$B$49,IF(D122=Scoring!$A$48,Scoring!$B$48,IF(D122=Scoring!$A$47,Scoring!$B$47,IF(D122=Scoring!$A$46,Scoring!$B$46,IF(D122=Scoring!$A$45,Scoring!$B$45,IF(D122=\"\",0)))))))","v":80.03},{"$f":"IF(E122=Scoring!$A$50,Scoring!$B$50,IF(E122=Scoring!$A$49,Scoring!$B$49,IF(E122=Scoring!$A$48,Scoring!$B$48,IF(E122=Scoring!$A$47,Scoring!$B$47,IF(E122=Scoring!$A$46,Scoring!$B$46,IF(E122=Scoring!$A$45,Scoring!$B$45,IF(E122=\"\",0)))))))","v":40.04},{"$f":"IF(F122=Scoring!$A$50,Scoring!$B$50,IF(F122=Scoring!$A$49,Scoring!$B$49,IF(F122=Scoring!$A$48,Scoring!$B$48,IF(F122=Scoring!$A$47,Scoring!$B$47,IF(F122=Scoring!$A$46,Scoring!$B$46,IF(F122=Scoring!$A$45,Scoring!$B$45,IF(F122=\"\",0)))))))","v":80.03},{"$f":"IF(D122=Scoring!$A$50,Scoring!$C$50,IF(D122=Scoring!$A$49,Scoring!$C$49,IF(D122=Scoring!$A$48,Scoring!$C$48,IF(D122=Scoring!$A$47,Scoring!$C$47,IF(D122=Scoring!$A$46,Scoring!$C$46,IF(D122=Scoring!$A$45,Scoring!$C$45,IF(D122=\"\",0)))))))","v":1},{"$f":"IF(E122=Scoring!$A$50,Scoring!$C$50,IF(E122=Scoring!$A$49,Scoring!$C$49,IF(E122=Scoring!$A$48,Scoring!$C$48,IF(E122=Scoring!$A$47,Scoring!$C$47,IF(E122=Scoring!$A$46,Scoring!$C$46,IF(E122=Scoring!$A$45,Scoring!$C$45,IF(E122=\"\",0)))))))","v":1},{"$f":"IF(F122=Scoring!$A$50,Scoring!$C$50,IF(F122=Scoring!$A$49,Scoring!$C$49,IF(F122=Scoring!$A$48,Scoring!$C$48,IF(F122=Scoring!$A$47,Scoring!$C$47,IF(F122=Scoring!$A$46,Scoring!$C$46,IF(F122=Scoring!$A$45,Scoring!$C$45,IF(F122=\"\",0)))))))","v":1},{"$f":"AC122*AF122","v":80.03},{"$f":"AD122*AG122","v":40.04},{"$f":"AE122*AH122","v":80.03}]
["K","Sloughs and Wetlands - Lower Chena|Extent of area",null,{"$f":"IF(B123=\"\",\"\",INDEX(KEADrop!E:E,MATCH(B123,KEADrop!D:D,0)))","v":"Fair"},{"$f":"IF(B123=0,\"\",INDEX(KEADrop!F:F,MATCH(B123,KEADrop!D:D,0)))","v":"Fair"},"Fair",null,null,null,null,null,null,null,null,null,null,null,null,null,null,null,null,null,null,null,null,null,null,{"$f":"IF(D123=Scoring!$A$50,Scoring!$B$50,IF(D123=Scoring!$A$49,Scoring!$B$49,IF(D123=Scoring!$A$48,Scoring!$B$48,IF(D123=Scoring!$A$47,Scoring!$B$47,IF(D123=Scoring!$A$46,Scoring!$B$46,IF(D123=Scoring!$A$45,Scoring!$B$45,IF(D123=\"\",0)))))))","v":40.04},{"$f":"IF(E123=Scoring!$A$50,Scoring!$B$50,IF(E123=Scoring!$A$49,Scoring!$B$49,IF(E123=Scoring!$A$48,Scoring!$B$48,IF(E123=Scoring!$A$47,Scoring!$B$47,IF(E123=Scoring!$A$46,Scoring!$B$46,IF(E123=Scoring!$A$45,Scoring!$B$45,IF(E123=\"\",0)))))))","v":40.04},{"$f":"IF(F123=Scoring!$A$50,Scoring!$B$50,IF(F123=Scoring!$A$49,Scoring!$B$49,IF(F123=Scoring!$A$48,Scoring!$B$48,IF(F123=Scoring!$A$47,Scoring!$B$47,IF(F123=Scoring!$A$46,Scoring!$B$46,IF(F123=Scoring!$A$45,Scoring!$B$45,IF(F123=\"\",0)))))))","v":40.04},{"$f":"IF(D123=Scoring!$A$50,Scoring!$C$50,IF(D123=Scoring!$A$49,Scoring!$C$49,IF(D123=Scoring!$A$48,Scoring!$C$48,IF(D123=Scoring!$A$47,Scoring!$C$47,IF(D123=Scoring!$A$46,Scoring!$C$46,IF(D123=Scoring!$A$45,Scoring!$C$45,IF(D123=\"\",0)))))))","v":1},{"$f":"IF(E123=Scoring!$A$50,Scoring!$C$50,IF(E123=Scoring!$A$49,Scoring!$C$49,IF(E123=Scoring!$A$48,Scoring!$C$48,IF(E123=Scoring!$A$47,Scoring!$C$47,IF(E123=Scoring!$A$46,Scoring!$C$46,IF(E123=Scoring!$A$45,Scoring!$C$45,IF(E123=\"\",0)))))))","v":1},{"$f":"IF(F123=Scoring!$A$50,Scoring!$C$50,IF(F123=Scoring!$A$49,Scoring!$C$49,IF(F123=Scoring!$A$48,Scoring!$C$48,IF(F123=Scoring!$A$47,Scoring!$C$47,IF(F123=Scoring!$A$46,Scoring!$C$46,IF(F123=Scoring!$A$45,Scoring!$C$45,IF(F123=\"\",0)))))))","v":1},{"$f":"AC123*AF123","v":40.04},{"$f":"AD123*AG123","v":40.04},{"$f":"AE123*AH123","v":40.04}]
["L",null,null,null,null,null,null,null,null,null,null,null,null,null,null,null,null,null,null,null,null,null,null,null,null,null,null,null,null,null,null,null,null,null,{"$f":"SUM(INDEX(AI:AI,ROW()-10):INDEX(AI:AI,ROW()-1))","v":120.07},{"$f":"SUM(INDEX(AJ:AJ,ROW()-10):INDEX(AJ:AJ,ROW()-1))","v":80.08},{"$f":"SUM(INDEX(AK:AK,ROW()-10):INDEX(AK:AK,ROW()-1))","v":120.07},{"$f":"AK124-AJ124","v":39.989999999999995}]
["L","Strategic Actions                                                                                                                                              Enter Key, High-Level Strategies Needed to Achieve Objective",null,null,"Feasibility","Cost Estimate",null,null,null,null,null,null,null,null,null,null,null,null,null,null,null,null,null,null,null,null,"Cost",null,"Feasibility","Weight"]
["ST",null,null,null,null,50000,null,null,null,null,null,null,null,null,null,null,null,null,null,null,null,null,null,null,null,null,{"$f":"F126","v":50000},null,{"$f":"IF(E126=\"Very High\",Scoring!$B$54,IF(E126=\"High\",Scoring!$B$55,IF(E126=\"Medium\",Scoring!$B$56,IF(E126=\"Low\",Scoring!$B$57,IF(E126=\"Very Low\",Scoring!$B$58,IF(E126=\"\",0))))))","v":0},{"$f":"IF(E126=\"Very High\",Scoring!$C$54,IF(E126=\"High\",Scoring!$C$55,IF(E126=\"Medium\",Scoring!$C$56,IF(E126=\"Low\",Scoring!$C$57,IF(E126=\"Very Low\",Scoring!$C$58,IF(E126=\"\",0))))))","v":0},{"$f":"AC126*AD126","v":0}]
["L","Overall Feasibility & Overall Cost",null,null,{"$f":"IF(AF128>=Scoring!$B$54,\"Very High\",IF(AF128>=Scoring!$B$55,\"High\",IF(AF128>=Scoring!$B$56,\"Medium\",IF(AF128>=Scoring!$B$57,\"Low\",IF(AF128>0,\"Very Low\",\"\")))))","v":""},{"$f":"AA128","v":50000}]
["L",null,null,null,null,null,null,null,null,null,null,null,null,null,null,null,null,null,null,null,null,null,null,null,null,null,{"$f":"SUM(AA126:AA127)","v":50000},null,null,{"$f":"SUM(AD126:AD127)","v":0},{"$f":"SUM(AE126:AE127)","v":0},{"$f":"IFERROR(AE128/AD128,0)","v":0},"Weighted feasibility score"]
["L","Return on Investment",null,null,{"$f":"IF(ISERROR(INDEX(MatrixOverall,(MATCH(AL129,ROIRank,0)-1)*5+MATCH(AA129,ROIRank,0),MATCH(AF129,ROIRank,0))),\"-\",INDEX(MatrixOverall,(MATCH(AL129,ROIRank,0)-1)*5+MATCH(AA129,ROIRank,0),MATCH(AF129,ROIRank,0)))","v":"-"},null,null,null,null,null,null,null,null,null,null,null,null,null,null,null,null,null,null,null,null,null,{"$f":"IF(AA128>=Scoring!$C$92,\"Very High\",IF(AA128>=Scoring!$C$93,\"High\",IF(AA128>=Scoring!$C$94,\"Medium\",IF(AA128>=Scoring!$C$95,\"Low\",\"-\"))))","v":"Medium"},null,null,null,null,{"$f":"IF(AF128>=Scoring!$B$54,\"Very High\",IF(AF128>=Scoring!$B$55,\"High\",IF(AF128>=Scoring!$B$56,\"Medium\",IF(AF128>=Scoring!$B$57,\"Low\",IF(AF128>0,\"Very Low\",\"-\")))))","v":"-"},null,null,null,null,null,{"$f":"IF(AL124>=Scoring!$C$79,\"Very High\",IF(AL124>=Scoring!$C$80,\"High\",IF(AL124>=Scoring!$C$81,\"Medium\",IF(AL124>=Scoring!$C$82,\"Low\",\"-\"))))","v":"Medium"}]
["L"]
[]
["O7","Objective 7"]
["O","By 2020, implement a program to control invasive species (terrestrial and aquatic) in the Chena River Watershed: (1) eradicate high priority invaders e.g. - elodea; (2) contain any established invasives to their existing areas - e.g. bird vetch; and (3) prevent the establishment of any new harmful invasives."]
["L"]
["L","Targets/Key Attributes Benefited",null,"Current Rating","Projected Future Rating With No Action","Projected Future Rating If Objective Achieved",null,null,null,null,null,null,null,null,null,null,null,null,null,null,null,null,null,null,null,null,null,null,"Current Score","Score w No Action","Score w Strategies","Current Weight","Future Weight No Action","Future Weight w Action","Current Weighted Score","Future No Action Weighted Score","Future Action Weighted Score","Delta Benefit"]
["K","Boreal Forests - Upper Chena|Vegetation composition & structure - mosaic",null,{"$f":"IF(B136=\"\",\"\",INDEX(KEADrop!E:E,MATCH(B136,KEADrop!D:D,0)))","v":"Good"},{"$f":"IF(B136=0,\"\",INDEX(KEADrop!F:F,MATCH(B136,KEADrop!D:D,0)))","v":"Good -"},"Good",null,null,null,null,null,null,null,null,null,null,null,null,null,null,null,null,null,null,null,null,null,null,{"$f":"IF(D136=Scoring!$A$50,Scoring!$B$50,IF(D136=Scoring!$A$49,Scoring!$B$49,IF(D136=Scoring!$A$48,Scoring!$B$48,IF(D136=Scoring!$A$47,Scoring!$B$47,IF(D136=Scoring!$A$46,Scoring!$B$46,IF(D136=Scoring!$A$45,Scoring!$B$45,IF(D136=\"\",0)))))))","v":80.03},{"$f":"IF(E136=Scoring!$A$50,Scoring!$B$50,IF(E136=Scoring!$A$49,Scoring!$B$49,IF(E136=Scoring!$A$48,Scoring!$B$48,IF(E136=Scoring!$A$47,Scoring!$B$47,IF(E136=Scoring!$A$46,Scoring!$B$46,IF(E136=Scoring!$A$45,Scoring!$B$45,IF(E136=\"\",0)))))))","v":60.04},{"$f":"IF(F136=Scoring!$A$50,Scoring!$B$50,IF(F136=Scoring!$A$49,Scoring!$B$49,IF(F136=Scoring!$A$48,Scoring!$B$48,IF(F136=Scoring!$A$47,Scoring!$B$47,IF(F136=Scoring!$A$46,Scoring!$B$46,IF(F136=Scoring!$A$45,Scoring!$B$45,IF(F136=\"\",0)))))))","v":80.03},{"$f":"IF(D136=Scoring!$A$50,Scoring!$C$50,IF(D136=Scoring!$A$49,Scoring!$C$49,IF(D136=Scoring!$A$48,Scoring!$C$48,IF(D136=Scoring!$A$47,Scoring!$C$47,IF(D136=Scoring!$A$46,Scoring!$C$46,IF(D136=Scoring!$A$45,Scoring!$C$45,IF(D136=\"\",0)))))))","v":1},{"$f":"IF(E136=Scoring!$A$50,Scoring!$C$50,IF(E136=Scoring!$A$49,Scoring!$C$49,IF(E136=Scoring!$A$48,Scoring!$C$48,IF(E136=Scoring!$A$47,Scoring!$C$47,IF(E136=Scoring!$A$46,Scoring!$C$46,IF(E136=Scoring!$A$45,Scoring!$C$45,IF(E136=\"\",0)))))))","v":1},{"$f":"IF(F136=Scoring!$A$50,Scoring!$C$50,IF(F136=Scoring!$A$49,Scoring!$C$49,IF(F136=Scoring!$A$48,Scoring!$C$48,IF(F136=Scoring!$A$47,Scoring!$C$47,IF(F136=Scoring!$A$46,Scoring!$C$46,IF(F136=Scoring!$A$45,Scoring!$C$45,IF(F136=\"\",0)))))))","v":1},{"$f":"AC136*AF136","v":80.03},{"$f":"AD136*AG136","v":60.04},{"$f":"AE136*AH136","v":80.03}]
["K","Boreal Forests - Lower Chena|Vegetation composition & structure - mosaic",null,{"$f":"IF(B137=\"\",\"\",INDEX(KEADrop!E:E,MATCH(B137,KEADrop!D:D,0)))","v":"Good"},{"$f":"IF(B137=0,\"\",INDEX(KEADrop!F:F,MATCH(B137,KEADrop!D:D,0)))","v":"Good -"},"Good",null,null,null,null,null,null,null,null,null,null,null,null,null,null,null,null,null,null,null,null,null,null,{"$f":"IF(D137=Scoring!$A$50,Scoring!$B$50,IF(D137=Scoring!$A$49,Scoring!$B$49,IF(D137=Scoring!$A$48,Scoring!$B$48,IF(D137=Scoring!$A$47,Scoring!$B$47,IF(D137=Scoring!$A$46,Scoring!$B$46,IF(D137=Scoring!$A$45,Scoring!$B$45,IF(D137=\"\",0)))))))","v":80.03},{"$f":"IF(E137=Scoring!$A$50,Scoring!$B$50,IF(E137=Scoring!$A$49,Scoring!$B$49,IF(E137=Scoring!$A$48,Scoring!$B$48,IF(E137=Scoring!$A$47,Scoring!$B$47,IF(E137=Scoring!$A$46,Scoring!$B$46,IF(E137=Scoring!$A$45,Scoring!$B$45,IF(E137=\"\",0)))))))","v":60.04},{"$f":"IF(F137=Scoring!$A$50,Scoring!$B$50,IF(F137=Scoring!$A$49,Scoring!$B$49,IF(F137=Scoring!$A$48,Scoring!$B$48,IF(F137=Scoring!$A$47,Scoring!$B$47,IF(F137=Scoring!$A$46,Scoring!$B$46,IF(F137=Scoring!$A$45,Scoring!$B$45,IF(F137=\"\",0)))))))","v":80.03},{"$f":"IF(D137=Scoring!$A$50,Scoring!$C$50,IF(D137=Scoring!$A$49,Scoring!$C$49,IF(D137=Scoring!$A$48,Scoring!$C$48,IF(D137=Scoring!$A$47,Scoring!$C$47,IF(D137=Scoring!$A$46,Scoring!$C$46,IF(D137=Scoring!$A$45,Scoring!$C$45,IF(D137=\"\",0)))))))","v":1},{"$f":"IF(E137=Scoring!$A$50,Scoring!$C$50,IF(E137=Scoring!$A$49,Scoring!$C$49,IF(E137=Scoring!$A$48,Scoring!$C$48,IF(E137=Scoring!$A$47,Scoring!$C$47,IF(E137=Scoring!$A$46,Scoring!$C$46,IF(E137=Scoring!$A$45,Scoring!$C$45,IF(E137=\"\",0)))))))","v":1},{"$f":"IF(F137=Scoring!$A$50,Scoring!$C$50,IF(F137=Scoring!$A$49,Scoring!$C$49,IF(F137=Scoring!$A$48,Scoring!$C$48,IF(F137=Scoring!$A$47,Scoring!$C$47,IF(F137=Scoring!$A$46,Scoring!$C$46,IF(F137=Scoring!$A$45,Scoring!$C$45,IF(F137=\"\",0)))))))","v":1},{"$f":"AC137*AF137","v":80.03},{"$f":"AD137*AG137","v":60.04},{"$f":"AE137*AH137","v":80.03}]
["K","Tributaries - Upper Chena|Species composition",null,{"$f":"IF(B138=\"\",\"\",INDEX(KEADrop!E:E,MATCH(B138,KEADrop!D:D,0)))","v":"Good"},{"$f":"IF(B138=0,\"\",INDEX(KEADrop!F:F,MATCH(B138,KEADrop!D:D,0)))","v":"Good -"},"Good",null,null,null,null,null,null,null,null,null,null,null,null,null,null,null,null,null,null,null,null,null,null,{"$f":"IF(D138=Scoring!$A$50,Scoring!$B$50,IF(D138=Scoring!$A$49,Scoring!$B$49,IF(D138=Scoring!$A$48,Scoring!$B$48,IF(D138=Scoring!$A$47,Scoring!$B$47,IF(D138=Scoring!$A$46,Scoring!$B$46,IF(D138=Scoring!$A$45,Scoring!$B$45,IF(D138=\"\",0)))))))","v":80.03},{"$f":"IF(E138=Scoring!$A$50,Scoring!$B$50,IF(E138=Scoring!$A$49,Scoring!$B$49,IF(E138=Scoring!$A$48,Scoring!$B$48,IF(E138=Scoring!$A$47,Scoring!$B$47,IF(E138=Scoring!$A$46,Scoring!$B$46,IF(E138=Scoring!$A$45,Scoring!$B$45,IF(E138=\"\",0)))))))","v":60.04},{"$f":"IF(F138=Scoring!$A$50,Scoring!$B$50,IF(F138=Scoring!$A$49,Scoring!$B$49,IF(F138=Scoring!$A$48,Scoring!$B$48,IF(F138=Scoring!$A$47,Scoring!$B$47,IF(F138=Scoring!$A$46,Scoring!$B$46,IF(F138=Scoring!$A$45,Scoring!$B$45,IF(F138=\"\",0)))))))","v":80.03},{"$f":"IF(D138=Scoring!$A$50,Scoring!$C$50,IF(D138=Scoring!$A$49,Scoring!$C$49,IF(D138=Scoring!$A$48,Scoring!$C$48,IF(D138=Scoring!$A$47,Scoring!$C$47,IF(D138=Scoring!$A$46,Scoring!$C$46,IF(D138=Scoring!$A$45,Scoring!$C$45,IF(D138=\"\",0)))))))","v":1},{"$f":"IF(E138=Scoring!$A$50,Scoring!$C$50,IF(E138=Scoring!$A$49,Scoring!$C$49,IF(E138=Scoring!$A$48,Scoring!$C$48,IF(E138=Scoring!$A$47,Scoring!$C$47,IF(E138=Scoring!$A$46,Scoring!$C$46,IF(E138=Scoring!$A$45,Scoring!$C$45,IF(E138=\"\",0)))))))","v":1},{"$f":"IF(F138=Scoring!$A$50,Scoring!$C$50,IF(F138=Scoring!$A$49,Scoring!$C$49,IF(F138=Scoring!$A$48,Scoring!$C$48,IF(F138=Scoring!$A$47,Scoring!$C$47,IF(F138=Scoring!$A$46,Scoring!$C$46,IF(F138=Scoring!$A$45,Scoring!$C$45,IF(F138=\"\",0)))))))","v":1},{"$f":"AC138*AF138","v":80.03},{"$f":"AD138*AG138","v":60.04},{"$f":"AE138*AH138","v":80.03}]
["K","Tributaries - Lower Chena|Species composition",null,{"$f":"IF(B139=\"\",\"\",INDEX(KEADrop!E:E,MATCH(B139,KEADrop!D:D,0)))","v":"Good"},{"$f":"IF(B139=0,\"\",INDEX(KEADrop!F:F,MATCH(B139,KEADrop!D:D,0)))","v":"Good -"},"Good",null,null,null,null,null,null,null,null,null,null,null,null,null,null,null,null,null,null,null,null,null,null,{"$f":"IF(D139=Scoring!$A$50,Scoring!$B$50,IF(D139=Scoring!$A$49,Scoring!$B$49,IF(D139=Scoring!$A$48,Scoring!$B$48,IF(D139=Scoring!$A$47,Scoring!$B$47,IF(D139=Scoring!$A$46,Scoring!$B$46,IF(D139=Scoring!$A$45,Scoring!$B$45,IF(D139=\"\",0)))))))","v":80.03},{"$f":"IF(E139=Scoring!$A$50,Scoring!$B$50,IF(E139=Scoring!$A$49,Scoring!$B$49,IF(E139=Scoring!$A$48,Scoring!$B$48,IF(E139=Scoring!$A$47,Scoring!$B$47,IF(E139=Scoring!$A$46,Scoring!$B$46,IF(E139=Scoring!$A$45,Scoring!$B$45,IF(E139=\"\",0)))))))","v":60.04},{"$f":"IF(F139=Scoring!$A$50,Scoring!$B$50,IF(F139=Scoring!$A$49,Scoring!$B$49,IF(F139=Scoring!$A$48,Scoring!$B$48,IF(F139=Scoring!$A$47,Scoring!$B$47,IF(F139=Scoring!$A$46,Scoring!$B$46,IF(F139=Scoring!$A$45,Scoring!$B$45,IF(F139=\"\",0)))))))","v":80.03},{"$f":"IF(D139=Scoring!$A$50,Scoring!$C$50,IF(D139=Scoring!$A$49,Scoring!$C$49,IF(D139=Scoring!$A$48,Scoring!$C$48,IF(D139=Scoring!$A$47,Scoring!$C$47,IF(D139=Scoring!$A$46,Scoring!$C$46,IF(D139=Scoring!$A$45,Scoring!$C$45,IF(D139=\"\",0)))))))","v":1},{"$f":"IF(E139=Scoring!$A$50,Scoring!$C$50,IF(E139=Scoring!$A$49,Scoring!$C$49,IF(E139=Scoring!$A$48,Scoring!$C$48,IF(E139=Scoring!$A$47,Scoring!$C$47,IF(E139=Scoring!$A$46,Scoring!$C$46,IF(E139=Scoring!$A$45,Scoring!$C$45,IF(E139=\"\",0)))))))","v":1},{"$f":"IF(F139=Scoring!$A$50,Scoring!$C$50,IF(F139=Scoring!$A$49,Scoring!$C$49,IF(F139=Scoring!$A$48,Scoring!$C$48,IF(F139=Scoring!$A$47,Scoring!$C$47,IF(F139=Scoring!$A$46,Scoring!$C$46,IF(F139=Scoring!$A$45,Scoring!$C$45,IF(F139=\"\",0)))))))","v":1},{"$f":"AC139*AF139","v":80.03},{"$f":"AD139*AG139","v":60.04},{"$f":"AE139*AH139","v":80.03}]
["K","Sloughs and Wetlands - Upper Chena|Species composition",null,{"$f":"IF(B140=\"\",\"\",INDEX(KEADrop!E:E,MATCH(B140,KEADrop!D:D,0)))","v":"Good"},{"$f":"IF(B140=0,\"\",INDEX(KEADrop!F:F,MATCH(B140,KEADrop!D:D,0)))","v":"Good -"},"Good",null,null,null,null,null,null,null,null,null,null,null,null,null,null,null,null,null,null,null,null,null,null,{"$f":"IF(D140=Scoring!$A$50,Scoring!$B$50,IF(D140=Scoring!$A$49,Scoring!$B$49,IF(D140=Scoring!$A$48,Scoring!$B$48,IF(D140=Scoring!$A$47,Scoring!$B$47,IF(D140=Scoring!$A$46,Scoring!$B$46,IF(D140=Scoring!$A$45,Scoring!$B$45,IF(D140=\"\",0)))))))","v":80.03},{"$f":"IF(E140=Scoring!$A$50,Scoring!$B$50,IF(E140=Scoring!$A$49,Scoring!$B$49,IF(E140=Scoring!$A$48,Scoring!$B$48,IF(E140=Scoring!$A$47,Scoring!$B$47,IF(E140=Scoring!$A$46,Scoring!$B$46,IF(E140=Scoring!$A$45,Scoring!$B$45,IF(E140=\"\",0)))))))","v":60.04},{"$f":"IF(F140=Scoring!$A$50,Scoring!$B$50,IF(F140=Scoring!$A$49,Scoring!$B$49,IF(F140=Scoring!$A$48,Scoring!$B$48,IF(F140=Scoring!$A$47,Scoring!$B$47,IF(F140=Scoring!$A$46,Scoring!$B$46,IF(F140=Scoring!$A$45,Scoring!$B$45,IF(F140=\"\",0)))))))","v":80.03},{"$f":"IF(D140=Scoring!$A$50,Scoring!$C$50,IF(D140=Scoring!$A$49,Scoring!$C$49,IF(D140=Scoring!$A$48,Scoring!$C$48,IF(D140=Scoring!$A$47,Scoring!$C$47,IF(D140=Scoring!$A$46,Scoring!$C$46,IF(D140=Scoring!$A$45,Scoring!$C$45,IF(D140=\"\",0)))))))","v":1},{"$f":"IF(E140=Scoring!$A$50,Scoring!$C$50,IF(E140=Scoring!$A$49,Scoring!$C$49,IF(E140=Scoring!$A$48,Scoring!$C$48,IF(E140=Scoring!$A$47,Scoring!$C$47,IF(E140=Scoring!$A$46,Scoring!$C$46,IF(E140=Scoring!$A$45,Scoring!$C$45,IF(E140=\"\",0)))))))","v":1},{"$f":"IF(F140=Scoring!$A$50,Scoring!$C$50,IF(F140=Scoring!$A$49,Scoring!$C$49,IF(F140=Scoring!$A$48,Scoring!$C$48,IF(F140=Scoring!$A$47,Scoring!$C$47,IF(F140=Scoring!$A$46,Scoring!$C$46,IF(F140=Scoring!$A$45,Scoring!$C$45,IF(F140=\"\",0)))))))","v":1},{"$f":"AC140*AF140","v":80.03},{"$f":"AD140*AG140","v":60.04},{"$f":"AE140*AH140","v":80.03}]
["K","Sloughs and Wetlands - Lower Chena|Species composition",null,{"$f":"IF(B141=\"\",\"\",INDEX(KEADrop!E:E,MATCH(B141,KEADrop!D:D,0)))","v":"Fair"},{"$f":"IF(B141=0,\"\",INDEX(KEADrop!F:F,MATCH(B141,KEADrop!D:D,0)))","v":"Fair -"},"Fair",null,null,null,null,null,null,null,null,null,null,null,null,null,null,null,null,null,null,null,null,null,null,{"$f":"IF(D141=Scoring!$A$50,Scoring!$B$50,IF(D141=Scoring!$A$49,Scoring!$B$49,IF(D141=Scoring!$A$48,Scoring!$B$48,IF(D141=Scoring!$A$47,Scoring!$B$47,IF(D141=Scoring!$A$46,Scoring!$B$46,IF(D141=Scoring!$A$45,Scoring!$B$45,IF(D141=\"\",0)))))))","v":40.04},{"$f":"IF(E141=Scoring!$A$50,Scoring!$B$50,IF(E141=Scoring!$A$49,Scoring!$B$49,IF(E141=Scoring!$A$48,Scoring!$B$48,IF(E141=Scoring!$A$47,Scoring!$B$47,IF(E141=Scoring!$A$46,Scoring!$B$46,IF(E141=Scoring!$A$45,Scoring!$B$45,IF(E141=\"\",0)))))))","v":20.03},{"$f":"IF(F141=Scoring!$A$50,Scoring!$B$50,IF(F141=Scoring!$A$49,Scoring!$B$49,IF(F141=Scoring!$A$48,Scoring!$B$48,IF(F141=Scoring!$A$47,Scoring!$B$47,IF(F141=Scoring!$A$46,Scoring!$B$46,IF(F141=Scoring!$A$45,Scoring!$B$45,IF(F141=\"\",0)))))))","v":40.04},{"$f":"IF(D141=Scoring!$A$50,Scoring!$C$50,IF(D141=Scoring!$A$49,Scoring!$C$49,IF(D141=Scoring!$A$48,Scoring!$C$48,IF(D141=Scoring!$A$47,Scoring!$C$47,IF(D141=Scoring!$A$46,Scoring!$C$46,IF(D141=Scoring!$A$45,Scoring!$C$45,IF(D141=\"\",0)))))))","v":1},{"$f":"IF(E141=Scoring!$A$50,Scoring!$C$50,IF(E141=Scoring!$A$49,Scoring!$C$49,IF(E141=Scoring!$A$48,Scoring!$C$48,IF(E141=Scoring!$A$47,Scoring!$C$47,IF(E141=Scoring!$A$46,Scoring!$C$46,IF(E141=Scoring!$A$45,Scoring!$C$45,IF(E141=\"\",0)))))))","v":1},{"$f":"IF(F141=Scoring!$A$50,Scoring!$C$50,IF(F141=Scoring!$A$49,Scoring!$C$49,IF(F141=Scoring!$A$48,Scoring!$C$48,IF(F141=Scoring!$A$47,Scoring!$C$47,IF(F141=Scoring!$A$46,Scoring!$C$46,IF(F141=Scoring!$A$45,Scoring!$C$45,IF(F141=\"\",0)))))))","v":1},{"$f":"AC141*AF141","v":40.04},{"$f":"AD141*AG141","v":20.03},{"$f":"AE141*AH141","v":40.04}]
["K","Mainstem River & Major Forks - Upper Chena|Species composition",null,{"$f":"IF(B142=\"\",\"\",INDEX(KEADrop!E:E,MATCH(B142,KEADrop!D:D,0)))","v":"Good"},{"$f":"IF(B142=0,\"\",INDEX(KEADrop!F:F,MATCH(B142,KEADrop!D:D,0)))","v":"Good -"},"Good",null,null,null,null,null,null,null,null,null,null,null,null,null,null,null,null,null,null,null,null,null,null,{"$f":"IF(D142=Scoring!$A$50,Scoring!$B$50,IF(D142=Scoring!$A$49,Scoring!$B$49,IF(D142=Scoring!$A$48,Scoring!$B$48,IF(D142=Scoring!$A$47,Scoring!$B$47,IF(D142=Scoring!$A$46,Scoring!$B$46,IF(D142=Scoring!$A$45,Scoring!$B$45,IF(D142=\"\",0)))))))","v":80.03},{"$f":"IF(E142=Scoring!$A$50,Scoring!$B$50,IF(E142=Scoring!$A$49,Scoring!$B$49,IF(E142=Scoring!$A$48,Scoring!$B$48,IF(E142=Scoring!$A$47,Scoring!$B$47,IF(E142=Scoring!$A$46,Scoring!$B$46,IF(E142=Scoring!$A$45,Scoring!$B$45,IF(E142=\"\",0)))))))","v":60.04},{"$f":"IF(F142=Scoring!$A$50,Scoring!$B$50,IF(F142=Scoring!$A$49,Scoring!$B$49,IF(F142=Scoring!$A$48,Scoring!$B$48,IF(F142=Scoring!$A$47,Scoring!$B$47,IF(F142=Scoring!$A$46,Scoring!$B$46,IF(F142=Scoring!$A$45,Scoring!$B$45,IF(F142=\"\",0)))))))","v":80.03},{"$f":"IF(D142=Scoring!$A$50,Scoring!$C$50,IF(D142=Scoring!$A$49,Scoring!$C$49,IF(D142=Scoring!$A$48,Scoring!$C$48,IF(D142=Scoring!$A$47,Scoring!$C$47,IF(D142=Scoring!$A$46,Scoring!$C$46,IF(D142=Scoring!$A$45,Scoring!$C$45,IF(D142=\"\",0)))))))","v":1},{"$f":"IF(E142=Scoring!$A$50,Scoring!$C$50,IF(E142=Scoring!$A$49,Scoring!$C$49,IF(E142=Scoring!$A$48,Scoring!$C$48,IF(E142=Scoring!$A$47,Scoring!$C$47,IF(E142=Scoring!$A$46,Scoring!$C$46,IF(E142=Scoring!$A$45,Scoring!$C$45,IF(E142=\"\",0)))))))","v":1},{"$f":"IF(F142=Scoring!$A$50,Scoring!$C$50,IF(F142=Scoring!$A$49,Scoring!$C$49,IF(F142=Scoring!$A$48,Scoring!$C$48,IF(F142=Scoring!$A$47,Scoring!$C$47,IF(F142=Scoring!$A$46,Scoring!$C$46,IF(F142=Scoring!$A$45,Scoring!$C$45,IF(F142=\"\",0)))))))","v":1},{"$f":"AC142*AF142","v":80.03},{"$f":"AD142*AG142","v":60.04},{"$f":"AE142*AH142","v":80.03}]
["K","Mainstem River & Major Forks - Lower Chena|Species composition",null,{"$f":"IF(B143=\"\",\"\",INDEX(KEADrop!E:E,MATCH(B143,KEADrop!D:D,0)))","v":"Good -"},{"$f":"IF(B143=0,\"\",INDEX(KEADrop!F:F,MATCH(B143,KEADrop!D:D,0)))","v":"Fair -"},"Good -",null,null,null,null,null,null,null,null,null,null,null,null,null,null,null,null,null,null,null,null,null,null,{"$f":"IF(D143=Scoring!$A$50,Scoring!$B$50,IF(D143=Scoring!$A$49,Scoring!$B$49,IF(D143=Scoring!$A$48,Scoring!$B$48,IF(D143=Scoring!$A$47,Scoring!$B$47,IF(D143=Scoring!$A$46,Scoring!$B$46,IF(D143=Scoring!$A$45,Scoring!$B$45,IF(D143=\"\",0)))))))","v":60.04},{"$f":"IF(E143=Scoring!$A$50,Scoring!$B$50,IF(E143=Scoring!$A$49,Scoring!$B$49,IF(E143=Scoring!$A$48,Scoring!$B$48,IF(E143=Scoring!$A$47,Scoring!$B$47,IF(E143=Scoring!$A$46,Scoring!$B$46,IF(E143=Scoring!$A$45,Scoring!$B$45,IF(E143=\"\",0)))))))","v":20.03},{"$f":"IF(F143=Scoring!$A$50,Scoring!$B$50,IF(F143=Scoring!$A$49,Scoring!$B$49,IF(F143=Scoring!$A$48,Scoring!$B$48,IF(F143=Scoring!$A$47,Scoring!$B$47,IF(F143=Scoring!$A$46,Scoring!$B$46,IF(F143=Scoring!$A$45,Scoring!$B$45,IF(F143=\"\",0)))))))","v":60.04},{"$f":"IF(D143=Scoring!$A$50,Scoring!$C$50,IF(D143=Scoring!$A$49,Scoring!$C$49,IF(D143=Scoring!$A$48,Scoring!$C$48,IF(D143=Scoring!$A$47,Scoring!$C$47,IF(D143=Scoring!$A$46,Scoring!$C$46,IF(D143=Scoring!$A$45,Scoring!$C$45,IF(D143=\"\",0)))))))","v":1},{"$f":"IF(E143=Scoring!$A$50,Scoring!$C$50,IF(E143=Scoring!$A$49,Scoring!$C$49,IF(E143=Scoring!$A$48,Scoring!$C$48,IF(E143=Scoring!$A$47,Scoring!$C$47,IF(E143=Scoring!$A$46,Scoring!$C$46,IF(E143=Scoring!$A$45,Scoring!$C$45,IF(E143=\"\",0)))))))","v":1},{"$f":"IF(F143=Scoring!$A$50,Scoring!$C$50,IF(F143=Scoring!$A$49,Scoring!$C$49,IF(F143=Scoring!$A$48,Scoring!$C$48,IF(F143=Scoring!$A$47,Scoring!$C$47,IF(F143=Scoring!$A$46,Scoring!$C$46,IF(F143=Scoring!$A$45,Scoring!$C$45,IF(F143=\"\",0)))))))","v":1},{"$f":"AC143*AF143","v":60.04},{"$f":"AD143*AG143","v":20.03},{"$f":"AE143*AH143","v":60.04}]
["K","Confluence with Tanana|Species composition",null,{"$f":"IF(B144=\"\",\"\",INDEX(KEADrop!E:E,MATCH(B144,KEADrop!D:D,0)))","v":"Good"},{"$f":"IF(B144=0,\"\",INDEX(KEADrop!F:F,MATCH(B144,KEADrop!D:D,0)))","v":"Good -"},"Good",null,null,null,null,null,null,null,null,null,null,null,null,null,null,null,null,null,null,null,null,null,null,{"$f":"IF(D144=Scoring!$A$50,Scoring!$B$50,IF(D144=Scoring!$A$49,Scoring!$B$49,IF(D144=Scoring!$A$48,Scoring!$B$48,IF(D144=Scoring!$A$47,Scoring!$B$47,IF(D144=Scoring!$A$46,Scoring!$B$46,IF(D144=Scoring!$A$45,Scoring!$B$45,IF(D144=\"\",0)))))))","v":80.03},{"$f":"IF(E144=Scoring!$A$50,Scoring!$B$50,IF(E144=Scoring!$A$49,Scoring!$B$49,IF(E144=Scoring!$A$48,Scoring!$B$48,IF(E144=Scoring!$A$47,Scoring!$B$47,IF(E144=Scoring!$A$46,Scoring!$B$46,IF(E144=Scoring!$A$45,Scoring!$B$45,IF(E144=\"\",0)))))))","v":60.04},{"$f":"IF(F144=Scoring!$A$50,Scoring!$B$50,IF(F144=Scoring!$A$49,Scoring!$B$49,IF(F144=Scoring!$A$48,Scoring!$B$48,IF(F144=Scoring!$A$47,Scoring!$B$47,IF(F144=Scoring!$A$46,Scoring!$B$46,IF(F144=Scoring!$A$45,Scoring!$B$45,IF(F144=\"\",0)))))))","v":80.03},{"$f":"IF(D144=Scoring!$A$50,Scoring!$C$50,IF(D144=Scoring!$A$49,Scoring!$C$49,IF(D144=Scoring!$A$48,Scoring!$C$48,IF(D144=Scoring!$A$47,Scoring!$C$47,IF(D144=Scoring!$A$46,Scoring!$C$46,IF(D144=Scoring!$A$45,Scoring!$C$45,IF(D144=\"\",0)))))))","v":1},{"$f":"IF(E144=Scoring!$A$50,Scoring!$C$50,IF(E144=Scoring!$A$49,Scoring!$C$49,IF(E144=Scoring!$A$48,Scoring!$C$48,IF(E144=Scoring!$A$47,Scoring!$C$47,IF(E144=Scoring!$A$46,Scoring!$C$46,IF(E144=Scoring!$A$45,Scoring!$C$45,IF(E144=\"\",0)))))))","v":1},{"$f":"IF(F144=Scoring!$A$50,Scoring!$C$50,IF(F144=Scoring!$A$49,Scoring!$C$49,IF(F144=Scoring!$A$48,Scoring!$C$48,IF(F144=Scoring!$A$47,Scoring!$C$47,IF(F144=Scoring!$A$46,Scoring!$C$46,IF(F144=Scoring!$A$45,Scoring!$C$45,IF(F144=\"\",0)))))))","v":1},{"$f":"AC144*AF144","v":80.03},{"$f":"AD144*AG144","v":60.04},{"$f":"AE144*AH144","v":80.03}]
["L",null,null,null,null,null,null,null,null,null,null,null,null,null,null,null,null,null,null,null,null,null,null,null,null,null,null,null,null,null,null,null,null,null,{"$f":"SUM(INDEX(AI:AI,ROW()-10):INDEX(AI:AI,ROW()-1))","v":660.29},{"$f":"SUM(INDEX(AJ:AJ,ROW()-10):INDEX(AJ:AJ,ROW()-1))","v":460.34000000000009},{"$f":"SUM(INDEX(AK:AK,ROW()-10):INDEX(AK:AK,ROW()-1))","v":660.29},{"$f":"AK145-AJ145","v":199.94999999999987}]
["L","Strategic Actions                                                                                                                                              Enter Key, High-Level Strategies Needed to Achieve Objective",null,null,"Feasibility","Cost Estimate",null,null,null,null,null,null,null,null,null,null,null,null,null,null,null,null,null,null,null,null,"Cost",null,"Feasibility","Weight"]
["ST",null,null,null,null,50000,null,null,null,null,null,null,null,null,null,null,null,null,null,null,null,null,null,null,null,null,{"$f":"F147","v":50000},null,{"$f":"IF(E147=\"Very High\",Scoring!$B$54,IF(E147=\"High\",Scoring!$B$55,IF(E147=\"Medium\",Scoring!$B$56,IF(E147=\"Low\",Scoring!$B$57,IF(E147=\"Very Low\",Scoring!$B$58,IF(E147=\"\",0))))))","v":0},{"$f":"IF(E147=\"Very High\",Scoring!$C$54,IF(E147=\"High\",Scoring!$C$55,IF(E147=\"Medium\",Scoring!$C$56,IF(E147=\"Low\",Scoring!$C$57,IF(E147=\"Very Low\",Scoring!$C$58,IF(E147=\"\",0))))))","v":0},{"$f":"AC147*AD147","v":0}]
["L","Overall Feasibility & Overall Cost",null,null,{"$f":"IF(AF149>=Scoring!$B$54,\"Very High\",IF(AF149>=Scoring!$B$55,\"High\",IF(AF149>=Scoring!$B$56,\"Medium\",IF(AF149>=Scoring!$B$57,\"Low\",IF(AF149>0,\"Very Low\",\"\")))))","v":""},{"$f":"AA149","v":50000}]
["L",null,null,null,null,null,null,null,null,null,null,null,null,null,null,null,null,null,null,null,null,null,null,null,null,null,{"$f":"SUM(AA147:AA148)","v":50000},null,null,{"$f":"SUM(AD147:AD148)","v":0},{"$f":"SUM(AE147:AE148)","v":0},{"$f":"IFERROR(AE149/AD149,0)","v":0},"Weighted feasibility score"]
["L","Return on Investment",null,null,{"$f":"IF(ISERROR(INDEX(MatrixOverall,(MATCH(AL150,ROIRank,0)-1)*5+MATCH(AA150,ROIRank,0),MATCH(AF150,ROIRank,0))),\"-\",INDEX(MatrixOverall,(MATCH(AL150,ROIRank,0)-1)*5+MATCH(AA150,ROIRank,0),MATCH(AF150,ROIRank,0)))","v":"-"},null,null,null,null,null,null,null,null,null,null,null,null,null,null,null,null,null,null,null,null,null,{"$f":"IF(AA149>=Scoring!$C$92,\"Very High\",IF(AA149>=Scoring!$C$93,\"High\",IF(AA149>=Scoring!$C$94,\"Medium\",IF(AA149>=Scoring!$C$95,\"Low\",\"-\"))))","v":"Medium"},null,null,null,null,{"$f":"IF(AF149>=Scoring!$B$54,\"Very High\",IF(AF149>=Scoring!$B$55,\"High\",IF(AF149>=Scoring!$B$56,\"Medium\",IF(AF149>=Scoring!$B$57,\"Low\",IF(AF149>0,\"Very Low\",\"-\")))))","v":"-"},null,null,null,null,null,{"$f":"IF(AL145>=Scoring!$C$79,\"Very High\",IF(AL145>=Scoring!$C$80,\"High\",IF(AL145>=Scoring!$C$81,\"Medium\",IF(AL145>=Scoring!$C$82,\"Low\",\"-\"))))","v":"Very High"}]
["L"]
[]
["O8","Objective 8"]
["O","By 2025, the Lower Chena tributaries and sloughs will mostly mimic natural water levels, flows and fluctuations, thus likely to support juvenile salmon and grayling in most habitats."]
["L"]
["L","Targets/Key Attributes Benefited",null,"Current Rating","Projected Future Rating With No Action","Projected Future Rating If Objective Achieved",null,null,null,null,null,null,null,null,null,null,null,null,null,null,null,null,null,null,null,null,null,null,"Current Score","Score w No Action","Score w Strategies","Current Weight","Future Weight No Action","Future Weight w Action","Current Weighted Score","Future No Action Weighted Score","Future Action Weighted Score","Delta Benefit"]
["K","Sloughs and Wetlands - Lower Chena|Hydrologic regime",null,{"$f":"IF(B157=\"\",\"\",INDEX(KEADrop!E:E,MATCH(B157,KEADrop!D:D,0)))","v":"Fair"},{"$f":"IF(B157=0,\"\",INDEX(KEADrop!F:F,MATCH(B157,KEADrop!D:D,0)))","v":"Fair -"},"Good -",null,null,null,null,null,null,null,null,null,null,null,null,null,null,null,null,null,null,null,null,null,null,{"$f":"IF(D157=Scoring!$A$50,Scoring!$B$50,IF(D157=Scoring!$A$49,Scoring!$B$49,IF(D157=Scoring!$A$48,Scoring!$B$48,IF(D157=Scoring!$A$47,Scoring!$B$47,IF(D157=Scoring!$A$46,Scoring!$B$46,IF(D157=Scoring!$A$45,Scoring!$B$45,IF(D157=\"\",0)))))))","v":40.04},{"$f":"IF(E157=Scoring!$A$50,Scoring!$B$50,IF(E157=Scoring!$A$49,Scoring!$B$49,IF(E157=Scoring!$A$48,Scoring!$B$48,IF(E157=Scoring!$A$47,Scoring!$B$47,IF(E157=Scoring!$A$46,Scoring!$B$46,IF(E157=Scoring!$A$45,Scoring!$B$45,IF(E157=\"\",0)))))))","v":20.03},{"$f":"IF(F157=Scoring!$A$50,Scoring!$B$50,IF(F157=Scoring!$A$49,Scoring!$B$49,IF(F157=Scoring!$A$48,Scoring!$B$48,IF(F157=Scoring!$A$47,Scoring!$B$47,IF(F157=Scoring!$A$46,Scoring!$B$46,IF(F157=Scoring!$A$45,Scoring!$B$45,IF(F157=\"\",0)))))))","v":60.04},{"$f":"IF(D157=Scoring!$A$50,Scoring!$C$50,IF(D157=Scoring!$A$49,Scoring!$C$49,IF(D157=Scoring!$A$48,Scoring!$C$48,IF(D157=Scoring!$A$47,Scoring!$C$47,IF(D157=Scoring!$A$46,Scoring!$C$46,IF(D157=Scoring!$A$45,Scoring!$C$45,IF(D157=\"\",0)))))))","v":1},{"$f":"IF(E157=Scoring!$A$50,Scoring!$C$50,IF(E157=Scoring!$A$49,Scoring!$C$49,IF(E157=Scoring!$A$48,Scoring!$C$48,IF(E157=Scoring!$A$47,Scoring!$C$47,IF(E157=Scoring!$A$46,Scoring!$C$46,IF(E157=Scoring!$A$45,Scoring!$C$45,IF(E157=\"\",0)))))))","v":1},{"$f":"IF(F157=Scoring!$A$50,Scoring!$C$50,IF(F157=Scoring!$A$49,Scoring!$C$49,IF(F157=Scoring!$A$48,Scoring!$C$48,IF(F157=Scoring!$A$47,Scoring!$C$47,IF(F157=Scoring!$A$46,Scoring!$C$46,IF(F157=Scoring!$A$45,Scoring!$C$45,IF(F157=\"\",0)))))))","v":1},{"$f":"AC157*AF157","v":40.04},{"$f":"AD157*AG157","v":20.03},{"$f":"AE157*AH157","v":60.04}]
["K","Tributaries - Lower Chena|Hydrologic regime",null,{"$f":"IF(B158=\"\",\"\",INDEX(KEADrop!E:E,MATCH(B158,KEADrop!D:D,0)))","v":"Fair"},{"$f":"IF(B158=0,\"\",INDEX(KEADrop!F:F,MATCH(B158,KEADrop!D:D,0)))","v":"Fair -"},"Good -",null,null,null,null,null,null,null,null,null,null,null,null,null,null,null,null,null,null,null,null,null,null,{"$f":"IF(D158=Scoring!$A$50,Scoring!$B$50,IF(D158=Scoring!$A$49,Scoring!$B$49,IF(D158=Scoring!$A$48,Scoring!$B$48,IF(D158=Scoring!$A$47,Scoring!$B$47,IF(D158=Scoring!$A$46,Scoring!$B$46,IF(D158=Scoring!$A$45,Scoring!$B$45,IF(D158=\"\",0)))))))","v":40.04},{"$f":"IF(E158=Scoring!$A$50,Scoring!$B$50,IF(E158=Scoring!$A$49,Scoring!$B$49,IF(E158=Scoring!$A$48,Scoring!$B$48,IF(E158=Scoring!$A$47,Scoring!$B$47,IF(E158=Scoring!$A$46,Scoring!$B$46,IF(E158=Scoring!$A$45,Scoring!$B$45,IF(E158=\"\",0)))))))","v":20.03},{"$f":"IF(F158=Scoring!$A$50,Scoring!$B$50,IF(F158=Scoring!$A$49,Scoring!$B$49,IF(F158=Scoring!$A$48,Scoring!$B$48,IF(F158=Scoring!$A$47,Scoring!$B$47,IF(F158=Scoring!$A$46,Scoring!$B$46,IF(F158=Scoring!$A$45,Scoring!$B$45,IF(F158=\"\",0)))))))","v":60.04},{"$f":"IF(D158=Scoring!$A$50,Scoring!$C$50,IF(D158=Scoring!$A$49,Scoring!$C$49,IF(D158=Scoring!$A$48,Scoring!$C$48,IF(D158=Scoring!$A$47,Scoring!$C$47,IF(D158=Scoring!$A$46,Scoring!$C$46,IF(D158=Scoring!$A$45,Scoring!$C$45,IF(D158=\"\",0)))))))","v":1},{"$f":"IF(E158=Scoring!$A$50,Scoring!$C$50,IF(E158=Scoring!$A$49,Scoring!$C$49,IF(E158=Scoring!$A$48,Scoring!$C$48,IF(E158=Scoring!$A$47,Scoring!$C$47,IF(E158=Scoring!$A$46,Scoring!$C$46,IF(E158=Scoring!$A$45,Scoring!$C$45,IF(E158=\"\",0)))))))","v":1},{"$f":"IF(F158=Scoring!$A$50,Scoring!$C$50,IF(F158=Scoring!$A$49,Scoring!$C$49,IF(F158=Scoring!$A$48,Scoring!$C$48,IF(F158=Scoring!$A$47,Scoring!$C$47,IF(F158=Scoring!$A$46,Scoring!$C$46,IF(F158=Scoring!$A$45,Scoring!$C$45,IF(F158=\"\",0)))))))","v":1},{"$f":"AC158*AF158","v":40.04},{"$f":"AD158*AG158","v":20.03},{"$f":"AE158*AH158","v":60.04}]
["L",null,null,null,null,null,null,null,null,null,null,null,null,null,null,null,null,null,null,null,null,null,null,null,null,null,null,null,null,null,null,null,null,null,{"$f":"SUM(INDEX(AI:AI,ROW()-10):INDEX(AI:AI,ROW()-1))","v":80.08},{"$f":"SUM(INDEX(AJ:AJ,ROW()-10):INDEX(AJ:AJ,ROW()-1))","v":40.06},{"$f":"SUM(INDEX(AK:AK,ROW()-10):INDEX(AK:AK,ROW()-1))","v":120.08},{"$f":"AK159-AJ159","v":80.02}]
["L","Strategic Actions                                                                                                                                              Enter Key, High-Level Strategies Needed to Achieve Objective",null,null,"Feasibility","Cost Estimate",null,null,null,null,null,null,null,null,null,null,null,null,null,null,null,null,null,null,null,null,"Cost",null,"Feasibility","Weight"]
["ST",null,null,null,null,50000,null,null,null,null,null,null,null,null,null,null,null,null,null,null,null,null,null,null,null,null,{"$f":"F161","v":50000},null,{"$f":"IF(E161=\"Very High\",Scoring!$B$54,IF(E161=\"High\",Scoring!$B$55,IF(E161=\"Medium\",Scoring!$B$56,IF(E161=\"Low\",Scoring!$B$57,IF(E161=\"Very Low\",Scoring!$B$58,IF(E161=\"\",0))))))","v":0},{"$f":"IF(E161=\"Very High\",Scoring!$C$54,IF(E161=\"High\",Scoring!$C$55,IF(E161=\"Medium\",Scoring!$C$56,IF(E161=\"Low\",Scoring!$C$57,IF(E161=\"Very Low\",Scoring!$C$58,IF(E161=\"\",0))))))","v":0},{"$f":"AC161*AD161","v":0}]
["L","Overall Feasibility & Overall Cost",null,null,{"$f":"IF(AF163>=Scoring!$B$54,\"Very High\",IF(AF163>=Scoring!$B$55,\"High\",IF(AF163>=Scoring!$B$56,\"Medium\",IF(AF163>=Scoring!$B$57,\"Low\",IF(AF163>0,\"Very Low\",\"\")))))","v":""},{"$f":"AA163","v":50000}]
["L",null,null,null,null,null,null,null,null,null,null,null,null,null,null,null,null,null,null,null,null,null,null,null,null,null,{"$f":"SUM(AA161:AA162)","v":50000},null,null,{"$f":"SUM(AD161:AD162)","v":0},{"$f":"SUM(AE161:AE162)","v":0},{"$f":"IFERROR(AE163/AD163,0)","v":0},"Weighted feasibility score"]
["L","Return on Investment",null,null,{"$f":"IF(ISERROR(INDEX(MatrixOverall,(MATCH(AL164,ROIRank,0)-1)*5+MATCH(AA164,ROIRank,0),MATCH(AF164,ROIRank,0))),\"-\",INDEX(MatrixOverall,(MATCH(AL164,ROIRank,0)-1)*5+MATCH(AA164,ROIRank,0),MATCH(AF164,ROIRank,0)))","v":"-"},null,null,null,null,null,null,null,null,null,null,null,null,null,null,null,null,null,null,null,null,null,{"$f":"IF(AA163>=Scoring!$C$92,\"Very High\",IF(AA163>=Scoring!$C$93,\"High\",IF(AA163>=Scoring!$C$94,\"Medium\",IF(AA163>=Scoring!$C$95,\"Low\",\"-\"))))","v":"Medium"},null,null,null,null,{"$f":"IF(AF163>=Scoring!$B$54,\"Very High\",IF(AF163>=Scoring!$B$55,\"High\",IF(AF163>=Scoring!$B$56,\"Medium\",IF(AF163>=Scoring!$B$57,\"Low\",IF(AF163>0,\"Very Low\",\"-\")))))","v":"-"},null,null,null,null,null,{"$f":"IF(AL159>=Scoring!$C$79,\"Very High\",IF(AL159>=Scoring!$C$80,\"High\",IF(AL159>=Scoring!$C$81,\"Medium\",IF(AL159>=Scoring!$C$82,\"Low\",\"-\"))))","v":"High"}]
["L"]
["O9","Objective 9"]
["O","By 2020, assure that all mining activities in the upper and lower Chena do not adversely impact (i.e., maintain the current condition of) the substrate and banks in the tributaries, do not alter natural water flows, and meet permit requirements (e.g. ADEC water standards)."]
["L"]
["L","Targets/Key Attributes Benefited",null,"Current Rating","Projected Future Rating With No Action","Projected Future Rating If Objective Achieved",null,null,null,null,null,null,null,null,null,null,null,null,null,null,null,null,null,null,null,null,null,null,"Current Score","Score w No Action","Score w Strategies","Current Weight","Future Weight No Action","Future Weight w Action","Current Weighted Score","Future No Action Weighted Score","Future Action Weighted Score","Delta Benefit"]
["K","Tributaries - Upper Chena|Substrate and banks",null,{"$f":"IF(B170=\"\",\"\",INDEX(KEADrop!E:E,MATCH(B170,KEADrop!D:D,0)))","v":"Good"},{"$f":"IF(B170=0,\"\",INDEX(KEADrop!F:F,MATCH(B170,KEADrop!D:D,0)))","v":"Fair"},"Good",null,null,null,null,null,null,null,null,null,null,null,null,null,null,null,null,null,null,null,null,null,null,{"$f":"IF(D170=Scoring!$A$50,Scoring!$B$50,IF(D170=Scoring!$A$49,Scoring!$B$49,IF(D170=Scoring!$A$48,Scoring!$B$48,IF(D170=Scoring!$A$47,Scoring!$B$47,IF(D170=Scoring!$A$46,Scoring!$B$46,IF(D170=Scoring!$A$45,Scoring!$B$45,IF(D170=\"\",0)))))))","v":80.03},{"$f":"IF(E170=Scoring!$A$50,Scoring!$B$50,IF(E170=Scoring!$A$49,Scoring!$B$49,IF(E170=Scoring!$A$48,Scoring!$B$48,IF(E170=Scoring!$A$47,Scoring!$B$47,IF(E170=Scoring!$A$46,Scoring!$B$46,IF(E170=Scoring!$A$45,Scoring!$B$45,IF(E170=\"\",0)))))))","v":40.04},{"$f":"IF(F170=Scoring!$A$50,Scoring!$B$50,IF(F170=Scoring!$A$49,Scoring!$B$49,IF(F170=Scoring!$A$48,Scoring!$B$48,IF(F170=Scoring!$A$47,Scoring!$B$47,IF(F170=Scoring!$A$46,Scoring!$B$46,IF(F170=Scoring!$A$45,Scoring!$B$45,IF(F170=\"\",0)))))))","v":80.03},{"$f":"IF(D170=Scoring!$A$50,Scoring!$C$50,IF(D170=Scoring!$A$49,Scoring!$C$49,IF(D170=Scoring!$A$48,Scoring!$C$48,IF(D170=Scoring!$A$47,Scoring!$C$47,IF(D170=Scoring!$A$46,Scoring!$C$46,IF(D170=Scoring!$A$45,Scoring!$C$45,IF(D170=\"\",0)))))))","v":1},{"$f":"IF(E170=Scoring!$A$50,Scoring!$C$50,IF(E170=Scoring!$A$49,Scoring!$C$49,IF(E170=Scoring!$A$48,Scoring!$C$48,IF(E170=Scoring!$A$47,Scoring!$C$47,IF(E170=Scoring!$A$46,Scoring!$C$46,IF(E170=Scoring!$A$45,Scoring!$C$45,IF(E170=\"\",0)))))))","v":1},{"$f":"IF(F170=Scoring!$A$50,Scoring!$C$50,IF(F170=Scoring!$A$49,Scoring!$C$49,IF(F170=Scoring!$A$48,Scoring!$C$48,IF(F170=Scoring!$A$47,Scoring!$C$47,IF(F170=Scoring!$A$46,Scoring!$C$46,IF(F170=Scoring!$A$45,Scoring!$C$45,IF(F170=\"\",0)))))))","v":1},{"$f":"AC170*AF170","v":80.03},{"$f":"AD170*AG170","v":40.04},{"$f":"AE170*AH170","v":80.03}]
["K","Tributaries - Upper Chena|Hydrologic regime",null,{"$f":"IF(B171=\"\",\"\",INDEX(KEADrop!E:E,MATCH(B171,KEADrop!D:D,0)))","v":"Good"},{"$f":"IF(B171=0,\"\",INDEX(KEADrop!F:F,MATCH(B171,KEADrop!D:D,0)))","v":"Good -"},"Good",null,null,null,null,null,null,null,null,null,null,null,null,null,null,null,null,null,null,null,null,null,null,{"$f":"IF(D171=Scoring!$A$50,Scoring!$B$50,IF(D171=Scoring!$A$49,Scoring!$B$49,IF(D171=Scoring!$A$48,Scoring!$B$48,IF(D171=Scoring!$A$47,Scoring!$B$47,IF(D171=Scoring!$A$46,Scoring!$B$46,IF(D171=Scoring!$A$45,Scoring!$B$45,IF(D171=\"\",0)))))))","v":80.03},{"$f":"IF(E171=Scoring!$A$50,Scoring!$B$50,IF(E171=Scoring!$A$49,Scoring!$B$49,IF(E171=Scoring!$A$48,Scoring!$B$48,IF(E171=Scoring!$A$47,Scoring!$B$47,IF(E171=Scoring!$A$46,Scoring!$B$46,IF(E171=Scoring!$A$45,Scoring!$B$45,IF(E171=\"\",0)))))))","v":60.04},{"$f":"IF(F171=Scoring!$A$50,Scoring!$B$50,IF(F171=Scoring!$A$49,Scoring!$B$49,IF(F171=Scoring!$A$48,Scoring!$B$48,IF(F171=Scoring!$A$47,Scoring!$B$47,IF(F171=Scoring!$A$46,Scoring!$B$46,IF(F171=Scoring!$A$45,Scoring!$B$45,IF(F171=\"\",0)))))))","v":80.03},{"$f":"IF(D171=Scoring!$A$50,Scoring!$C$50,IF(D171=Scoring!$A$49,Scoring!$C$49,IF(D171=Scoring!$A$48,Scoring!$C$48,IF(D171=Scoring!$A$47,Scoring!$C$47,IF(D171=Scoring!$A$46,Scoring!$C$46,IF(D171=Scoring!$A$45,Scoring!$C$45,IF(D171=\"\",0)))))))","v":1},{"$f":"IF(E171=Scoring!$A$50,Scoring!$C$50,IF(E171=Scoring!$A$49,Scoring!$C$49,IF(E171=Scoring!$A$48,Scoring!$C$48,IF(E171=Scoring!$A$47,Scoring!$C$47,IF(E171=Scoring!$A$46,Scoring!$C$46,IF(E171=Scoring!$A$45,Scoring!$C$45,IF(E171=\"\",0)))))))","v":1},{"$f":"IF(F171=Scoring!$A$50,Scoring!$C$50,IF(F171=Scoring!$A$49,Scoring!$C$49,IF(F171=Scoring!$A$48,Scoring!$C$48,IF(F171=Scoring!$A$47,Scoring!$C$47,IF(F171=Scoring!$A$46,Scoring!$C$46,IF(F171=Scoring!$A$45,Scoring!$C$45,IF(F171=\"\",0)))))))","v":1},80.03,60.04,80.03]
["K","Tributaries - Upper Chena|Water quality",null,{"$f":"IF(B172=\"\",\"\",INDEX(KEADrop!E:E,MATCH(B172,KEADrop!D:D,0)))","v":"Good"},{"$f":"IF(B172=0,\"\",INDEX(KEADrop!F:F,MATCH(B172,KEADrop!D:D,0)))","v":"Fair"},"Good",null,null,null,null,null,null,null,null,null,null,null,null,null,null,null,null,null,null,null,null,null,null,{"$f":"IF(D172=Scoring!$A$50,Scoring!$B$50,IF(D172=Scoring!$A$49,Scoring!$B$49,IF(D172=Scoring!$A$48,Scoring!$B$48,IF(D172=Scoring!$A$47,Scoring!$B$47,IF(D172=Scoring!$A$46,Scoring!$B$46,IF(D172=Scoring!$A$45,Scoring!$B$45,IF(D172=\"\",0)))))))","v":80.03},{"$f":"IF(E172=Scoring!$A$50,Scoring!$B$50,IF(E172=Scoring!$A$49,Scoring!$B$49,IF(E172=Scoring!$A$48,Scoring!$B$48,IF(E172=Scoring!$A$47,Scoring!$B$47,IF(E172=Scoring!$A$46,Scoring!$B$46,IF(E172=Scoring!$A$45,Scoring!$B$45,IF(E172=\"\",0)))))))","v":40.04},{"$f":"IF(F172=Scoring!$A$50,Scoring!$B$50,IF(F172=Scoring!$A$49,Scoring!$B$49,IF(F172=Scoring!$A$48,Scoring!$B$48,IF(F172=Scoring!$A$47,Scoring!$B$47,IF(F172=Scoring!$A$46,Scoring!$B$46,IF(F172=Scoring!$A$45,Scoring!$B$45,IF(F172=\"\",0)))))))","v":80.03},{"$f":"IF(D172=Scoring!$A$50,Scoring!$C$50,IF(D172=Scoring!$A$49,Scoring!$C$49,IF(D172=Scoring!$A$48,Scoring!$C$48,IF(D172=Scoring!$A$47,Scoring!$C$47,IF(D172=Scoring!$A$46,Scoring!$C$46,IF(D172=Scoring!$A$45,Scoring!$C$45,IF(D172=\"\",0)))))))","v":1},{"$f":"IF(E172=Scoring!$A$50,Scoring!$C$50,IF(E172=Scoring!$A$49,Scoring!$C$49,IF(E172=Scoring!$A$48,Scoring!$C$48,IF(E172=Scoring!$A$47,Scoring!$C$47,IF(E172=Scoring!$A$46,Scoring!$C$46,IF(E172=Scoring!$A$45,Scoring!$C$45,IF(E172=\"\",0)))))))","v":1},{"$f":"IF(F172=Scoring!$A$50,Scoring!$C$50,IF(F172=Scoring!$A$49,Scoring!$C$49,IF(F172=Scoring!$A$48,Scoring!$C$48,IF(F172=Scoring!$A$47,Scoring!$C$47,IF(F172=Scoring!$A$46,Scoring!$C$46,IF(F172=Scoring!$A$45,Scoring!$C$45,IF(F172=\"\",0)))))))","v":1},{"$f":"AC172*AF172","v":80.03},{"$f":"AD172*AG172","v":40.04},{"$f":"AE172*AH172","v":80.03}]
["L",null,null,null,null,null,null,null,null,null,null,null,null,null,null,null,null,null,null,null,null,null,null,null,null,null,null,null,null,null,null,null,null,null,{"$f":"SUM(INDEX(AI:AI,ROW()-10):INDEX(AI:AI,ROW()-1))","v":240.09},{"$f":"SUM(INDEX(AJ:AJ,ROW()-10):INDEX(AJ:AJ,ROW()-1))","v":140.12},{"$f":"SUM(INDEX(AK:AK,ROW()-10):INDEX(AK:AK,ROW()-1))","v":240.09},{"$f":"AK173-AJ173","v":99.97}]
["L","Strategic Actions                                                                                                                                              Enter Key, High-Level Strategies Needed to Achieve Objective",null,null,"Feasibility","Cost Estimate",null,null,null,null,null,null,null,null,null,null,null,null,null,null,null,null,null,null,null,null,"Cost",null,"Feasibility","Weight"]
["ST","Enter strategic action here",null,null,null,50000,null,null,null,null,null,null,null,null,null,null,null,null,null,null,null,null,null,null,null,null,{"$f":"F175","v":50000},null,{"$f":"IF(E175=\"Very High\",Scoring!$B$54,IF(E175=\"High\",Scoring!$B$55,IF(E175=\"Medium\",Scoring!$B$56,IF(E175=\"Low\",Scoring!$B$57,IF(E175=\"Very Low\",Scoring!$B$58,IF(E175=\"\",0))))))","v":0},{"$f":"IF(E175=\"Very High\",Scoring!$C$54,IF(E175=\"High\",Scoring!$C$55,IF(E175=\"Medium\",Scoring!$C$56,IF(E175=\"Low\",Scoring!$C$57,IF(E175=\"Very Low\",Scoring!$C$58,IF(E175=\"\",0))))))","v":0},{"$f":"AC175*AD175","v":0}]
["L","Overall Feasibility & Overall Cost",null,null,{"$f":"IF(AF177>=Scoring!$B$54,\"Very High\",IF(AF177>=Scoring!$B$55,\"High\",IF(AF177>=Scoring!$B$56,\"Medium\",IF(AF177>=Scoring!$B$57,\"Low\",IF(AF177>0,\"Very Low\",\"\")))))","v":""},{"$f":"AA177","v":50000}]
["L",null,null,null,null,null,null,null,null,null,null,null,null,null,null,null,null,null,null,null,null,null,null,null,null,null,{"$f":"SUM(AA175:AA176)","v":50000},null,null,{"$f":"SUM(AD175:AD176)","v":0},{"$f":"SUM(AE175:AE176)","v":0},{"$f":"IFERROR(AE177/AD177,0)","v":0},"Weighted feasibility score"]
["L","Return on Investment",null,null,{"$f":"IF(ISERROR(INDEX(MatrixOverall,(MATCH(AL178,ROIRank,0)-1)*5+MATCH(AA178,ROIRank,0),MATCH(AF178,ROIRank,0))),\"-\",INDEX(MatrixOverall,(MATCH(AL178,ROIRank,0)-1)*5+MATCH(AA178,ROIRank,0),MATCH(AF178,ROIRank,0)))","v":"-"},null,null,null,null,null,null,null,null,null,null,null,null,null,null,null,null,null,null,null,null,null,{"$f":"IF(AA177>=Scoring!$C$92,\"Very High\",IF(AA177>=Scoring!$C$93,\"High\",IF(AA177>=Scoring!$C$94,\"Medium\",IF(AA177>=Scoring!$C$95,\"Low\",\"-\"))))","v":"Medium"},null,null,null,null,{"$f":"IF(AF177>=Scoring!$B$54,\"Very High\",IF(AF177>=Scoring!$B$55,\"High\",IF(AF177>=Scoring!$B$56,\"Medium\",IF(AF177>=Scoring!$B$57,\"Low\",IF(AF177>0,\"Very Low\",\"-\")))))","v":"-"},null,null,null,null,null,{"$f":"IF(AL173>=Scoring!$C$79,\"Very High\",IF(AL173>=Scoring!$C$80,\"High\",IF(AL173>=Scoring!$C$81,\"Medium\",IF(AL173>=Scoring!$C$82,\"Low\",\"-\"))))","v":"High"}]
["L"]
["O10","Objective 10"]
["O"]
["L"]
["L","Targets/Key Attributes Benefited",null,"Current Rating","Projected Future Rating With No Action","Projected Future Rating If Objective Achieved",null,null,null,null,null,null,null,null,null,null,null,null,null,null,null,null,null,null,null,null,null,null,"Current Score","Score w No Action","Score w Strategies","Current Weight","Future Weight No Action","Future Weight w Action","Current Weighted Score","Future No Action Weighted Score","Future Action Weighted Score","Delta Benefit"]
["K",null,null,{"$f":"IF(B184=\"\",\"\",INDEX(KEADrop!E:E,MATCH(B184,KEADrop!D:D,0)))","v":""},{"$f":"IF(B184=0,\"\",INDEX(KEADrop!F:F,MATCH(B184,KEADrop!D:D,0)))","v":""},null,null,null,null,null,null,null,null,null,null,null,null,null,null,null,null,null,null,null,null,null,null,null,{"$f":"IF(D184=Scoring!$A$50,Scoring!$B$50,IF(D184=Scoring!$A$49,Scoring!$B$49,IF(D184=Scoring!$A$48,Scoring!$B$48,IF(D184=Scoring!$A$47,Scoring!$B$47,IF(D184=Scoring!$A$46,Scoring!$B$46,IF(D184=Scoring!$A$45,Scoring!$B$45,IF(D184=\"\",0)))))))","v":0},{"$f":"IF(E184=Scoring!$A$50,Scoring!$B$50,IF(E184=Scoring!$A$49,Scoring!$B$49,IF(E184=Scoring!$A$48,Scoring!$B$48,IF(E184=Scoring!$A$47,Scoring!$B$47,IF(E184=Scoring!$A$46,Scoring!$B$46,IF(E184=Scoring!$A$45,Scoring!$B$45,IF(E184=\"\",0)))))))","v":0},{"$f":"IF(F184=Scoring!$A$50,Scoring!$B$50,IF(F184=Scoring!$A$49,Scoring!$B$49,IF(F184=Scoring!$A$48,Scoring!$B$48,IF(F184=Scoring!$A$47,Scoring!$B$47,IF(F184=Scoring!$A$46,Scoring!$B$46,IF(F184=Scoring!$A$45,Scoring!$B$45,IF(F184=\"\",0)))))))","v":0},{"$f":"IF(D184=Scoring!$A$50,Scoring!$C$50,IF(D184=Scoring!$A$49,Scoring!$C$49,IF(D184=Scoring!$A$48,Scoring!$C$48,IF(D184=Scoring!$A$47,Scoring!$C$47,IF(D184=Scoring!$A$46,Scoring!$C$46,IF(D184=Scoring!$A$45,Scoring!$C$45,IF(D184=\"\",0)))))))","v":0},{"$f":"IF(E184=Scoring!$A$50,Scoring!$C$50,IF(E184=Scoring!$A$49,Scoring!$C$49,IF(E184=Scoring!$A$48,Scoring!$C$48,IF(E184=Scoring!$A$47,Scoring!$C$47,IF(E184=Scoring!$A$46,Scoring!$C$46,IF(E184=Scoring!$A$45,Scoring!$C$45,IF(E184=\"\",0)))))))","v":0},{"$f":"IF(F184=Scoring!$A$50,Scoring!$C$50,IF(F184=Scoring!$A$49,Scoring!$C$49,IF(F184=Scoring!$A$48,Scoring!$C$48,IF(F184=Scoring!$A$47,Scoring!$C$47,IF(F184=Scoring!$A$46,Scoring!$C$46,IF(F184=Scoring!$A$45,Scoring!$C$45,IF(F184=\"\",0)))))))","v":0},{"$f":"AC184*AF184","v":0},{"$f":"AD184*AG184","v":0},{"$f":"AE184*AH184","v":0}]
["L",null,null,null,null,null,null,null,null,null,null,null,null,null,null,null,null,null,null,null,null,null,null,null,null,null,null,null,null,null,null,null,null,null,{"$f":"SUM(INDEX(AI:AI,ROW()-10):INDEX(AI:AI,ROW()-1))","v":0},{"$f":"SUM(INDEX(AJ:AJ,ROW()-10):INDEX(AJ:AJ,ROW()-1))","v":0},{"$f":"SUM(INDEX(AK:AK,ROW()-10):INDEX(AK:AK,ROW()-1))","v":0},{"$f":"AK185-AJ185","v":0}]
["L","Strategic Actions                                                                                                                                              Enter Key, High-Level Strategies Needed to Achieve Objective",null,null,"Feasibility","Cost Estimate",null,null,null,null,null,null,null,null,null,null,null,null,null,null,null,null,null,null,null,null,"Cost",null,"Feasibility","Weight"]
["ST","Enter strategic action here",null,null,null,null,null,null,null,null,null,null,null,null,null,null,null,null,null,null,null,null,null,null,null,null,{"$f":"F187","v":0},null,{"$f":"IF(E187=\"Very High\",Scoring!$B$54,IF(E187=\"High\",Scoring!$B$55,IF(E187=\"Medium\",Scoring!$B$56,IF(E187=\"Low\",Scoring!$B$57,IF(E187=\"Very Low\",Scoring!$B$58,IF(E187=\"\",0))))))","v":0},{"$f":"IF(E187=\"Very High\",Scoring!$C$54,IF(E187=\"High\",Scoring!$C$55,IF(E187=\"Medium\",Scoring!$C$56,IF(E187=\"Low\",Scoring!$C$57,IF(E187=\"Very Low\",Scoring!$C$58,IF(E187=\"\",0))))))","v":0},{"$f":"AC187*AD187","v":0}]
["L","Overall Feasibility & Overall Cost",null,null,{"$f":"IF(AF189>=Scoring!$B$54,\"Very High\",IF(AF189>=Scoring!$B$55,\"High\",IF(AF189>=Scoring!$B$56,\"Medium\",IF(AF189>=Scoring!$B$57,\"Low\",IF(AF189>0,\"Very Low\",\"\")))))","v":""},{"$f":"AA189","v":0}]
["L",null,null,null,null,null,null,null,null,null,null,null,null,null,null,null,null,null,null,null,null,null,null,null,null,null,{"$f":"SUM(AA187:AA188)","v":0},null,null,{"$f":"SUM(AD187:AD188)","v":0},{"$f":"SUM(AE187:AE188)","v":0},{"$f":"IFERROR(AE189/AD189,0)","v":0},"Weighted feasibility score"]
["L","Return on Investment",null,null,{"$f":"IF(ISERROR(INDEX(MatrixOverall,(MATCH(AL190,ROIRank,0)-1)*5+MATCH(AA190,ROIRank,0),MATCH(AF190,ROIRank,0))),\"-\",INDEX(MatrixOverall,(MATCH(AL190,ROIRank,0)-1)*5+MATCH(AA190,ROIRank,0),MATCH(AF190,ROIRank,0)))","v":"-"},null,null,null,null,null,null,null,null,null,null,null,null,null,null,null,null,null,null,null,null,null,{"$f":"IF(AA189>=Scoring!$C$92,\"Very High\",IF(AA189>=Scoring!$C$93,\"High\",IF(AA189>=Scoring!$C$94,\"Medium\",IF(AA189>=Scoring!$C$95,\"Low\",\"-\"))))","v":"-"},null,null,null,null,{"$f":"IF(AF189>=Scoring!$B$54,\"Very High\",IF(AF189>=Scoring!$B$55,\"High\",IF(AF189>=Scoring!$B$56,\"Medium\",IF(AF189>=Scoring!$B$57,\"Low\",IF(AF189>0,\"Very Low\",\"-\")))))","v":"-"},null,null,null,null,null,{"$f":"IF(AL185>=Scoring!$C$79,\"Very High\",IF(AL185>=Scoring!$C$80,\"High\",IF(AL185>=Scoring!$C$81,\"Medium\",IF(AL185>=Scoring!$C$82,\"Low\",\"-\"))))","v":"-"}]
["L"]

{"sheet":"ROI","index":22,"n_rows":15,"n_cols":43,"rows_kept":15,"cut":false,"hidden":false,"merged":[[1,34,1,35],[1,36,1,37],[1,38,1,39]]}
[null,"Return on Investment ",null,null,null,null,null,null,null,null,null,null,null,null,null,null,null,null,null,null,null,null,null,null,null,null,null,null,null,null,null,null,null,"Action","Benefit",null,"Feas",null,"Cost",null,"ROI Score","Converted to 0 -100","ROI per Matrix"]
[null,"Explanation",null,"Benefits",null,"Feasibility",null,"Cost",null,"ROI"]
[null,"Objective 10",{"$f":"IF(Strategies!B181=0,\"\",Strategies!B181)","v":""},{"$f":"AI3","v":0},{"$f":"AJ3","v":"-"},{"$f":"AK3","v":0},{"$f":"AL3","v":"-"},{"$f":"AM3","v":0},{"$f":"AN3","v":"-"},{"$f":"AP3","v":0},{"$f":"AQ3","v":"-"},null,null,null,null,null,null,null,null,null,null,null,null,null,null,null,null,null,null,null,null,null,null,10,{"$f":"Strategies!AL185","v":0},{"$f":"Strategies!AL190","v":"-"},{"$f":"Strategies!AF189/100","v":0},{"$f":"Strategies!AF190","v":"-"},{"$f":"Strategies!F188","v":0},{"$f":"Strategies!AA190","v":"-"},{"$f":"IFERROR((AI3*AK3/AM3)*Scoring!$B$67,0)","v":0},{"$f":"IFERROR((AO3-0)*100/$AO$15,\"\")","v":0},{"$f":"Strategies!E190","v":"-"}]
[null,"Objective 3",{"$f":"IF(Strategies!B56=0,\"\",Strategies!B56)","v":"By 2025, improve connectivity for fish passge in the Chena tributaries and sloughs: (1) all exisiting culverts will be “green” (based on ADFG inventory of barriers); (2) no new barriers will be erected after 2020; (3) remove other targeted barriers to reconnect passage"},{"$f":"AI4","v":200.03000000000006},"Very High",0.54545454545454553,"Medium",50000,"Medium",{"$f":"AP4","v":100},"Very High",null,null,null,null,null,null,null,null,null,null,null,null,null,null,null,null,null,null,null,null,null,null,3,{"$f":"Strategies!AL66","v":200.03000000000006},{"$f":"Strategies!AL77","v":"Very High"},{"$f":"Strategies!AF76/100","v":0.54545454545454553},{"$f":"Strategies!AF77","v":"Medium"},{"$f":"Strategies!F75","v":50000},{"$f":"Strategies!AA77","v":"Medium"},{"$f":"IFERROR((AI4*AK4/AM4)*Scoring!$B$67,0)","v":21.821454545454554},{"$f":"IFERROR((AO4-0)*100/$AO$15,\"\")","v":100},{"$f":"Strategies!E77","v":"Very High"}]
[null,"Objective 7",{"$f":"IF(Strategies!B133=0,\"\",Strategies!B133)","v":"By 2020, implement a program to control invasive species (terrestrial and aquatic) in the Chena River Watershed: (1) eradicate high priority invaders e.g. - elodea; (2) contain any established invasives to their existing areas - e.g. bird vetch; and (3) prevent the establishment of any new harmful invasives."},199.94999999999987,"Very High",0,"-",50000,"Medium",0,"-",null,null,null,null,null,null,null,null,null,null,null,null,null,null,null,null,null,null,null,null,null,null,7,{"$f":"Strategies!AL145","v":199.94999999999987},{"$f":"Strategies!AL150","v":"Very High"},{"$f":"Strategies!AF149/100","v":0},{"$f":"Strategies!AF150","v":"-"},{"$f":"Strategies!F148","v":50000},{"$f":"Strategies!AA150","v":"Medium"},{"$f":"IFERROR((AI5*AK5/AM5)*Scoring!$B$67,0)","v":0},0,{"$f":"Strategies!E150","v":"-"}]
[null,"Objective 1",{"$f":"IF(Strategies!B5=0,\"\",Strategies!B5)","v":"Beginning 2020, assure no net loss of currently native vegetated riparian area in the Lower Chena River mainstem and tributaries and sloughs, and by 2025 assure that 50% of the shoreline along all reaches has \"good\" native riparian vegetation (see interagency report)."},140.03000000000009,"Very High",0.56597222222222221,"Medium",50000,"Medium",72.637770422399612,"Very High",null,null,null,null,null,null,null,null,null,null,null,null,null,null,null,null,null,null,null,null,null,null,1,{"$f":"Strategies!AL17","v":140.03000000000009},{"$f":"Strategies!AL30","v":"Very High"},{"$f":"Strategies!AF29/100","v":0.56597222222222221},{"$f":"Strategies!AF30","v":"Medium"},{"$f":"Strategies!AA29","v":50000},{"$f":"Strategies!AA30","v":"Medium"},{"$f":"IFERROR((AI6*AK6/AM6)*Scoring!$B$67,0)","v":15.850618055555564},72.637770422399612,{"$f":"Strategies!E30","v":"Very High"}]
[null,"Objective 9",{"$f":"IF(Strategies!B167=0,\"\",Strategies!B167)","v":"By 2020, assure that all mining activities in the upper and lower Chena do not adversely impact (i.e., maintain the current condition of) the substrate and banks in the tributaries, do not alter natural water flows, and meet permit requirements (e.g. ADEC water standards)."},99.97,"High",0,"-",50000,"Medium",0,"-",null,null,null,null,null,null,null,null,null,null,null,null,null,null,null,null,null,null,null,null,null,null,9,{"$f":"Strategies!AL173","v":99.97},{"$f":"Strategies!AL178","v":"High"},{"$f":"Strategies!AF177/100","v":0},{"$f":"Strategies!AF178","v":"-"},{"$f":"Strategies!F176","v":50000},{"$f":"Strategies!AA178","v":"Medium"},{"$f":"IFERROR((AI7*AK7/AM7)*Scoring!$B$67,0)","v":0},0,{"$f":"Strategies!E178","v":"-"}]
[null,"Objective 8",{"$f":"IF(Strategies!B154=0,\"\",Strategies!B154)","v":"By 2025, the Lower Chena tributaries and sloughs will mostly mimic natural water levels, flows and fluctuations, thus likely to support juvenile salmon and grayling in most habitats."},80.02,"High",0,"-",50000,"Medium",0,"-",null,null,null,null,null,null,null,null,null,null,null,null,null,null,null,null,null,null,null,null,null,null,8,{"$f":"Strategies!AL159","v":80.02},{"$f":"Strategies!AL164","v":"High"},{"$f":"Strategies!AF163/100","v":0},{"$f":"Strategies!AF164","v":"-"},{"$f":"Strategies!F162","v":50000},{"$f":"Strategies!AA164","v":"Medium"},{"$f":"IFERROR((AI8*AK8/AM8)*Scoring!$B$67,0)","v":0},0,{"$f":"Strategies!E164","v":"-"}]
[null,"Objective 4",{"$f":"IF(Strategies!B81=0,\"\",Strategies!B81)","v":"By 2020, the Lower Chena river, tributaries and sloughs will meet DEC water quality standards* (* restoration plan in place - e.g., Noyes Slough).  Key sources are roads, development, stormwater."},100.02000000000001,"High",0.5625,"Medium",50000,"Medium",51.565077738339227,"High",null,null,null,null,null,null,null,null,null,null,null,null,null,null,null,null,null,null,null,null,null,null,4,{"$f":"Strategies!AL87","v":100.02000000000001},{"$f":"Strategies!AL98","v":"High"},{"$f":"Strategies!AF97/100","v":0.5625},{"$f":"Strategies!AF98","v":"Medium"},{"$f":"Strategies!F96","v":50000},{"$f":"Strategies!AA98","v":"Medium"},{"$f":"IFERROR((AI9*AK9/AM9)*Scoring!$B$67,0)","v":11.25225},51.565077738339227,{"$f":"Strategies!E98","v":"High"}]
[null,"Objective 5",{"$f":"IF(Strategies!B102=0,\"\",Strategies!B102)","v":"By 2025, future roads and residential development in the Upper and Lower Chena watershed boreal forests will minimize forest fragmentation and habitat loss, avoid adverse downstream impacts on water quality and flows, and avoid key fire prone areas (e.g. black spruce)."},60.029999999999973,"Medium",0,"-",50000,"Medium",0,"-",null,null,null,null,null,null,null,null,null,null,null,null,null,null,null,null,null,null,null,null,null,null,5,{"$f":"Strategies!AL110","v":60.029999999999973},{"$f":"Strategies!AL115","v":"Medium"},{"$f":"Strategies!AF114/100","v":0},{"$f":"Strategies!AF115","v":"-"},{"$f":"Strategies!F113","v":50000},{"$f":"Strategies!AA115","v":"Medium"},{"$f":"IFERROR((AI10*AK10/AM10)*Scoring!$B$67,0)","v":0},0,{"$f":"Strategies!E115","v":"-"}]
[null,"Objective 2",{"$f":"IF(Strategies!B34=0,\"\",Strategies!B34)","v":"Restore important fish habitat by reducing hardened banks in the lower Chena sloughs, tributaties and mainstem.  By 2025, assure that 50% of the banks and substrate within each reach provide “good” diversity and abundance of suitable substrates/shelter in most rearing habitat for fish -- through large woody debris, native vegetated banks or bioengineered banks.  Assure no additional hardening on public land and private land as of 2020. "},99.97999999999999,"High",0.52554744525547448,"Medium",50000,"Medium",48.158323696700947,"High",null,null,null,null,null,null,null,null,null,null,null,null,null,null,null,null,null,null,null,null,null,null,2,{"$f":"Strategies!AL40","v":99.97999999999999},{"$f":"Strategies!AL52","v":"High"},{"$f":"Strategies!AF51/100","v":0.52554744525547448},{"$f":"Strategies!AF52","v":"Medium"},{"$f":"Strategies!F50","v":50000},{"$f":"Strategies!AA52","v":"Medium"},{"$f":"IFERROR((AI11*AK11/AM11)*Scoring!$B$67,0)","v":10.508846715328467},48.158323696700947,{"$f":"Strategies!E52","v":"High"}]
[null,"Objective 6",{"$f":"IF(Strategies!B119=0,\"\",Strategies!B119)","v":"By 2020, assure no net loss of sloughs and wetlands in the upper and lower Chena - primarily occurring from filling and residential/commerical development.  "},{"$f":"AI12","v":39.989999999999995},{"$f":"AJ12","v":"Medium"},{"$f":"AK12","v":0},{"$f":"AL12","v":"-"},{"$f":"AM12","v":50000},{"$f":"AN12","v":"Medium"},{"$f":"AP12","v":0},{"$f":"AQ12","v":"-"},null,null,null,null,null,null,null,null,null,null,null,null,null,null,null,null,null,null,null,null,null,null,6,{"$f":"Strategies!AL124","v":39.989999999999995},{"$f":"Strategies!AL129","v":"Medium"},{"$f":"Strategies!AF128/100","v":0},{"$f":"Strategies!AF129","v":"-"},{"$f":"Strategies!F127","v":50000},{"$f":"Strategies!AA129","v":"Medium"},{"$f":"IFERROR((AI12*AK12/AM12)*Scoring!$B$67,0)","v":0},{"$f":"IFERROR((AO12-0)*100/$AO$15,\"\")","v":0},{"$f":"Strategies!E129","v":"-"}]
[]
[null,null,null,null,null,null,null,null,null,null,null,null,null,null,null,null,null,null,null,null,null,null,null,null,null,null,null,null,null,null,null,null,null,"min",null,null,null,null,null,null,{"$f":"MIN(AO3:AO12)","v":0}]
[null,null,null,null,null,null,null,null,null,null,null,null,null,null,null,null,null,null,null,null,null,null,null,null,null,null,null,null,null,null,null,null,null,"max",null,null,null,null,null,null,{"$f":"MAX(AO3:AO12)","v":21.821454545454554}]

{"sheet":"KEADrop","index":23,"n_rows":121,"n_cols":6,"rows_kept":121,"cut":false,"hidden":true,"merged":[]}
["UID","Key Attribute",null,null,"Current Rating","Projected Future Rating w No Action"]
[104,"Fire regime",null,"Alpine Tundra - Upper Chena|Fire regime","Good","Good"]
[105,"Habitat connectivity",null,"Alpine Tundra - Upper Chena|Habitat connectivity","Very Good","Very Good"]
[106,"Hydrologic regime",null,"Alpine Tundra - Upper Chena|Hydrologic regime","Very Good","Very Good"]
[107,"Characteristic native community",null,"Alpine Tundra - Upper Chena|Characteristic native community","Good","Fair"]
[108,"Vegetation composition & structure - mosaic",null,"Alpine Tundra - Upper Chena|Vegetation composition & structure - mosaic","Good","Good"]
[109,"Extent of area",null,"Alpine Tundra - Upper Chena|Extent of area","Very Good","Good"]
[110,null,null,"Alpine Tundra - Upper Chena|"]
[111,null,null,"Alpine Tundra - Upper Chena|"]
[112,null,null,"Alpine Tundra - Upper Chena|"]
[113,null,null,"Alpine Tundra - Upper Chena|"]
[204,"Fire regime",null,"Boreal Forests - Upper Chena|Fire regime","Good","Fair"]
[205,"Habitat connectivity",null,"Boreal Forests - Upper Chena|Habitat connectivity","Good","Good -"]
[206,"Hydrologic regime",null,"Boreal Forests - Upper Chena|Hydrologic regime","Good","Good -"]
[207,"Characteristic native community",null,"Boreal Forests - Upper Chena|Characteristic native community","Good","Good -"]
[208,"Vegetation composition & structure - mosaic",null,"Boreal Forests - Upper Chena|Vegetation composition & structure - mosaic","Good","Good -"]
[209,"Extent of area",null,"Boreal Forests - Upper Chena|Extent of area","Good","Good -"]
[210,null,null,"Boreal Forests - Upper Chena|"]
[211,null,null,"Boreal Forests - Upper Chena|"]
[212,null,null,"Boreal Forests - Upper Chena|"]
[213,null,null,"Boreal Forests - Upper Chena|"]
[304,"Fire regime",null,"Boreal Forests - Lower Chena|Fire regime","Fair","Fair"]
[305,"Habitat connectivity",null,"Boreal Forests - Lower Chena|Habitat connectivity","Fair","Fair -"]
[306,"Hydrologic regime",null,"Boreal Forests - Lower Chena|Hydrologic regime","Fair","Fair -"]
[307,"Characteristic native community",null,"Boreal Forests - Lower Chena|Characteristic native community","Good","Good -"]
[308,"Vegetation composition & structure - mosaic",null,"Boreal Forests - Lower Chena|Vegetation composition & structure - mosaic","Good","Good -"]
[309,"Extent of area",null,"Boreal Forests - Lower Chena|Extent of area","Fair","Fair -"]
[310,null,null,"Boreal Forests - Lower Chena|"]
[311,null,null,"Boreal Forests - Lower Chena|"]
[312,null,null,"Boreal Forests - Lower Chena|"]
[313,null,null,"Boreal Forests - Lower Chena|"]
[404,"Connectivity to tributaries and within mainstem",null,"Tributaries - Upper Chena|Connectivity to tributaries and within mainstem","Good","Good -"]
[405,"Hydrologic regime",null,"Tributaries - Upper Chena|Hydrologic regime","Good","Good -"]
[406,"Substrate and banks",null,"Tributaries - Upper Chena|Substrate and banks","Good","Fair"]
[407,"Characteristic native communities",null,"Tributaries - Upper Chena|Characteristic native communities","Good","Good -"]
[408,"Species composition",null,"Tributaries - Upper Chena|Species composition","Good","Good -"]
[409,"Water quality",null,"Tributaries - Upper Chena|Water quality","Good","Fair"]
[410,"Extent of area",null,"Tributaries - Upper Chena|Extent of area","Good","Good -"]
[411,null,null,"Tributaries - Upper Chena|"]
[412,null,null,"Tributaries - Upper Chena|"]
[413,null,null,"Tributaries - Upper Chena|"]
[504,"Connectivity to mainstem river and within tributaries",null,"Tributaries - Lower Chena|Connectivity to mainstem river and within tributaries","Fair","Fair -"]
[505,"Hydrologic regime",null,"Tributaries - Lower Chena|Hydrologic regime","Fair","Fair -"]
[506,"Substrate and banks",null,"Tributaries - Lower Chena|Substrate and banks","Fair","Fair"]
[507,"Characteristic native communities",null,"Tributaries - Lower Chena|Characteristic native communities","Good","Good -"]
[508,"Species composition",null,"Tributaries - Lower Chena|Species composition","Good","Good -"]
[509,"Water quality",null,"Tributaries - Lower Chena|Water quality","Fair","Fair -"]
[510,"Extent of area",null,"Tributaries - Lower Chena|Extent of area","Fair","Fair -"]
[511,null,null,"Tributaries - Lower Chena|"]
[512,null,null,"Tributaries - Lower Chena|"]
[513,null,null,"Tributaries - Lower Chena|"]
[604,"Connectivity to mainstem river and tributaries",null,"Sloughs and Wetlands - Upper Chena|Connectivity to mainstem river and tributaries","Fair","Fair -"]
[605,"Hydrologic regime",null,"Sloughs and Wetlands - Upper Chena|Hydrologic regime","Good","Good -"]
[606,"Substrate and banks",null,"Sloughs and Wetlands - Upper Chena|Substrate and banks","Good","Good -"]
[607,"Characteristic native communities",null,"Sloughs and Wetlands - Upper Chena|Characteristic native communities","Good","Good -"]
[608,"Species composition",null,"Sloughs and Wetlands - Upper Chena|Species composition","Good","Good -"]
[609,"Water quality",null,"Sloughs and Wetlands - Upper Chena|Water quality","Good","Good -"]
[610,"Extent of area",null,"Sloughs and Wetlands - Upper Chena|Extent of area","Good","Fair"]
[611,null,null,"Sloughs and Wetlands - Upper Chena|"]
[612,null,null,"Sloughs and Wetlands - Upper Chena|"]
[613,null,null,"Sloughs and Wetlands - Upper Chena|"]
[704,"Connectivity to mainstem river and tributaries",null,"Sloughs and Wetlands - Lower Chena|Connectivity to mainstem river and tributaries","Fair","Fair -"]
[705,"Hydrologic regime",null,"Sloughs and Wetlands - Lower Chena|Hydrologic regime","Fair","Fair -"]
[706,"Substrate and banks",null,"Sloughs and Wetlands - Lower Chena|Substrate and banks","Fair","Fair"]
[707,"Characteristic native communities",null,"Sloughs and Wetlands - Lower Chena|Characteristic native communities","Fair","Fair"]
[708,"Species composition",null,"Sloughs and Wetlands - Lower Chena|Species composition","Fair","Fair -"]
[709,"Water quality",null,"Sloughs and Wetlands - Lower Chena|Water quality","Fair","Fair"]
[710,"Extent of area",null,"Sloughs and Wetlands - Lower Chena|Extent of area","Fair","Fair"]
[711,null,null,"Sloughs and Wetlands - Lower Chena|"]
[712,null,null,"Sloughs and Wetlands - Lower Chena|"]
[713,null,null,"Sloughs and Wetlands - Lower Chena|"]
[804,"Connectivity to tributaries and within mainstem",null,"Mainstem River & Major Forks - Upper Chena|Connectivity to tributaries and within mainstem","Good","Good -"]
[805,"Hydrologic regime",null,"Mainstem River & Major Forks - Upper Chena|Hydrologic regime","Very Good","Very Good"]
[806,"Substrate and banks (in channel habitat?)",null,"Mainstem River & Major Forks - Upper Chena|Substrate and banks (in channel habitat?)","Good -","Fair"]
[807,"Characteristic native communities",null,"Mainstem River & Major Forks - Upper Chena|Characteristic native communities","Very Good","Very Good"]
[808,"Species composition",null,"Mainstem River & Major Forks - Upper Chena|Species composition","Good","Good -"]
[809,"Water quality",null,"Mainstem River & Major Forks - Upper Chena|Water quality","Good","Good"]
[810,"Extent of area",null,"Mainstem River & Major Forks - Upper Chena|Extent of area","Good","Good"]
[811,null,null,"Mainstem River & Major Forks - Upper Chena|"]
[812,null,null,"Mainstem River & Major Forks - Upper Chena|"]
[813,null,null,"Mainstem River & Major Forks - Upper Chena|"]
[904,"Connectivity to tributaries and within mainstem",null,"Mainstem River & Major Forks - Lower Chena|Connectivity to tributaries and within mainstem","Good","Good"]
[905,"Hydrologic regime",null,"Mainstem River & Major Forks - Lower Chena|Hydrologic regime","Good","Good"]
[906,"Substrate and banks (in channel habitat?)",null,"Mainstem River & Major Forks - Lower Chena|Substrate and banks (in channel habitat?)","Good -","Fair"]
[907,"Characteristic native communities",null,"Mainstem River & Major Forks - Lower Chena|Characteristic native communities","Good -","Fair"]
[908,"Species composition",null,"Mainstem River & Major Forks - Lower Chena|Species composition","Good -","Fair -"]
[909,"Water quality",null,"Mainstem River & Major Forks - Lower Chena|Water quality","Fair","Fair -"]
[910,"Extent of area",null,"Mainstem River & Major Forks - Lower Chena|Extent of area","Fair","Fair -"]
[911,null,null,"Mainstem River & Major Forks - Lower Chena|"]
[912,null,null,"Mainstem River & Major Forks - Lower Chena|"]
[913,null,null,"Mainstem River & Major Forks - Lower Chena|"]
[1004,"Delta dynamics",null,"Confluence with Tanana|Delta dynamics","Good","Good"]
[1005,"In channel habitat",null,"Confluence with Tanana|In channel habitat","Good","Good"]
[1006,"Charactersitic native community",null,"Confluence with Tanana|Charactersitic native community","Good","Good -"]
[1007,"Species composition",null,"Confluence with Tanana|Species composition","Good","Good -"]
[1008,"Water quality",null,"Confluence with Tanana|Water quality","Good","Good -"]
[1009,"Extent includes floodplain/riparian and river area",null,"Confluence with Tanana|Extent includes floodplain/riparian and river area","Good","Good -"]
[1010,null,null,"Confluence with Tanana|"]
[1011,null,null,"Confluence with Tanana|"]
[1012,null,null,"Confluence with Tanana|"]
[1013,null,null,"Confluence with Tanana|"]
[1104,null,null,"|"]
[1105,null,null,"|"]
[1106,null,null,"|"]
[1107,null,null,"|"]
[1108,null,null,"|"]
[1109,null,null,"|"]
[1110,null,null,"|"]
[1111,null,null,"|"]
[1112,null,null,"|"]
[1113,null,null,"|"]
[1204,null,null,"|"]
[1205,null,null,"|"]
[1206,null,null,"|"]
[1207,null,null,"|"]
[1208,null,null,"|"]
[1209,null,null,"|"]
[1210,null,null,"|"]
[1211,null,null,"|"]
[1212,null,null,"|"]
[1213,null,null,"|"]

{"sheet":"Outcomes","index":24,"n_rows":46,"n_cols":8,"rows_kept":46,"cut":false,"hidden":true,"merged":[]}
[null,"Strategies "]
["K","Tributaries - Lower Chena|Substrate and banks",null,"Fair","Fair","Good",2,506]
["K","Sloughs and Wetlands - Lower Chena|Substrate and banks",null,"Fair","Fair","Good",2,706]
["K","Tributaries - Upper Chena|Connectivity to tributaries and within mainstem",null,"Good","Good -","Good",2,404]
["K","Sloughs and Wetlands - Upper Chena|Hydrologic regime",null,"Good","Good -","Good",2,605]
["K","Sloughs and Wetlands - Upper Chena|Extent of area",null,"Good","Fair","Good",2,610]
["K","Boreal Forests - Upper Chena|Vegetation composition & structure - mosaic",null,"Good","Good -","Good",2,208]
["K","Boreal Forests - Lower Chena|Vegetation composition & structure - mosaic",null,"Good","Good -","Good",2,308]
["K","Tributaries - Upper Chena|Species composition",null,"Good","Good -","Good",2,408]
["K","Tributaries - Lower Chena|Species composition",null,"Good","Good -","Good",2,508]
["K","Sloughs and Wetlands - Upper Chena|Species composition",null,"Good","Good -","Good",2,608]
["K","Mainstem River & Major Forks - Upper Chena|Species composition",null,"Good","Good -","Good",2,808]
["K","Confluence with Tanana|Species composition",null,"Good","Good -","Good",2,1007]
["K","Tributaries - Upper Chena|Substrate and banks",null,"Good","Fair","Good",2,406]
["K","Tributaries - Upper Chena|Hydrologic regime",null,"Good","Good -","Good",2,405]
["K","Tributaries - Upper Chena|Water quality",null,"Good","Fair","Good",2,409]
["K","Tributaries - Lower Chena|Extent of area",null,"Fair","Fair -","Good -",3,510]
["K","Mainstem River & Major Forks - Lower Chena|Extent of area",null,"Fair","Fair -","Good -",3,910]
["K","Sloughs and Wetlands - Lower Chena|Extent of area",null,"Fair","Fair","Good -",3,710]
["K","Mainstem River & Major Forks - Lower Chena|Characteristic native communities",null,"Good -","Fair","Good -",3,907]
["K","Sloughs and Wetlands - Lower Chena|Characteristic native communities",null,"Fair","Fair","Good -",3,707]
["K","Tributaries - Lower Chena|Characteristic native communities",null,"Good","Good -","Good -",3,507]
["K","Sloughs and Wetlands - Upper Chena|Water quality",null,"Good","Good -","Good -",3,609]
["K","Mainstem River & Major Forks - Lower Chena|Substrate and banks (in channel habitat?)",null,"Good -","Fair","Good -",3,906]
["K","Tributaries - Lower Chena|Connectivity to mainstem river and within tributaries",null,"Fair","Fair -","Good -",3,504]
["K","Sloughs and Wetlands - Lower Chena|Connectivity to mainstem river and tributaries",null,"Fair","Fair -","Good -",3,704]
["K","Sloughs and Wetlands - Upper Chena|Connectivity to mainstem river and tributaries",null,"Fair","Fair -","Good -",3,604]
["K","Tributaries - Lower Chena|Water quality",null,"Fair","Fair -","Good -",3,509]
["K","Mainstem River & Major Forks - Lower Chena|Water quality",null,"Fair","Fair -","Good -",3,909]
["K","Sloughs and Wetlands - Lower Chena|Water quality",null,"Fair","Fair","Good -",3,709]
["K","Boreal Forests - Upper Chena|Habitat connectivity",null,"Good","Good -","Good -",3,205]
["K","Mainstem River & Major Forks - Lower Chena|Species composition",null,"Good -","Fair -","Good -",3,908]
["K","Sloughs and Wetlands - Lower Chena|Hydrologic regime",null,"Fair","Fair -","Good -",3,705]
["K","Tributaries - Lower Chena|Hydrologic regime",null,"Fair","Fair -","Good -",3,505]
["K","Tributaries - Lower Chena|Water quality",null,"Fair","Fair -","Fair",4,509]
["K","Mainstem River & Major Forks - Lower Chena|Water quality",null,"Fair","Fair -","Fair",4,909]
["K","Tributaries - Lower Chena|Hydrologic regime",null,"Fair","Fair -","Fair",4,505]
["K","Sloughs and Wetlands - Lower Chena|Hydrologic regime",null,"Fair","Fair -","Fair",4,705]
["K","Boreal Forests - Lower Chena|Hydrologic regime",null,"Fair","Fair -","Fair",4,306]
["K","Boreal Forests - Lower Chena|Extent of area",null,"Fair","Fair -","Fair",4,309]
["K","Tributaries - Lower Chena|Water quality",null,"Fair","Fair -","Fair",4,509]
["K","Sloughs and Wetlands - Lower Chena|Extent of area",null,"Fair","Fair","Fair",4,710]
["K","Sloughs and Wetlands - Lower Chena|Species composition",null,"Fair","Fair -","Fair",4,708]
["K","Boreal Forests - Lower Chena|Habitat connectivity",null,"Fair","Fair -","Fair -",5,305]
["K",null,null,"",""]
["L"]

{"sheet":"XRay","index":25,"n_rows":202,"n_cols":32,"rows_kept":202,"cut":false,"hidden":true,"merged":[[13,1,15,1],[4,2,4,7],[5,2,5,3],[9,2,9,3],[8,2,8,3],[5,5,5,7],[8,5,8,7],[6,5,6,7],[1,2,1,6],[10,1,12,1],[7,5,7,7],[9,5,9,7],[6,2,6,3],[7,2,7,3],[2,2,2,6],[3,2,3,6]]}
[null,"Strategic Assessment \"X-Ray\""]
[null,"Target #12",{"$f":"Targets!C61","v":0}]
[null,"Overall Current Health",{"$f":"HealthSum!AD15","v":""}]
[null,"Overall Future Threat ",{"$f":"HealthSum!AF15","v":{"$error":"#VALUE!"}}]
[null,"Strategic Guidance",{"$f":"HealthSum!AI15","v":""}]
[null,"Top Threats","Impervious surfaces",null,"severely affecting","Area"]
[]
[]
[null,"Top Restoration Needs","Species composition",null,"at least","test fair species"]
[null,null,"Area",null,"needs to be","test fair size"]
[null,"Attributes Needing Critical Attention (VH or H Stress; Poor or Fair- Current)",null,{"$f":"IF($E$200 =\"\",\"\",$E$200)","v":"Area"},{"$f":"IF($E$201=\"\",\"\",$E$201)","v":"Fire regime"},{"$f":"IF($E$202=\"\",\"\",$E$202)","v":"Species composition"},{"$f":"IF($E$203=\"\",\"\",$E$203)","v":""},{"$f":"IF($E$204=\"\",\"\",$E$204)","v":""}]
[null,null,"Current",{"$f":"IF($K$200 =\"\",\"\",$K$200)","v":"Fair -"},{"$f":"IF($K$201 =\"\",\"\",$K$201)","v":"Fair -"},{"$f":"IF($K$202 =\"\",\"\",$K$202)","v":"Poor"},{"$f":"IF($K$203 =\"\",\"\",$K$203)","v":""},{"$f":"IF($K$204 =\"\",\"\",$K$204)","v":""}]
[null,null,"Future",{"$f":"IF($L$200 =\"\",\"\",$L$200)","v":"Poor"},{"$f":"IF($L$201 =\"\",\"\",$L$201)","v":"Fair"},{"$f":"IF($L$202 =\"\",\"\",$L$202)","v":"Fair -"},{"$f":"IF($L$203 =\"\",\"\",$L$203)","v":""},{"$f":"IF($L$204 =\"\",\"\",$L$204)","v":""}]
[null,"Critical Threats (VH or H Contribution)","Impervious surfaces"]
[]
[]
[]
[]
[]
[]
[]
[]
[]
[]
[]
[]
[]
[]
[]
[]
[]
[]
[]
[]
[]
[]
[]
[]
[]
[]
[]
[]
[]
[]
[]
[]
[]
[]
[]
["UID"," ID","Target Name","Category","Key Attribute","Indicator","Poor","Fair","Good","Very Good","Current Rating","Projected Future Rating w No Action","Projected Future Rating w Strategies",null,null,null,null,null,null,null,null,null,null,null,null,null,"Current","Threat",null,"Threat Delta","Change","Concern Rank"]
[1206,12,"Test Target 12","Size","Area",null,"tiny bit left","test fair size",null,"what mother nature provided","Good -","Poor","Very Good",null,null,null,null,null,null,null,null,null,null,"Test Target 12|Area",null,null,60.04,0.01,null,60.03,"Extreme",1]
[107,1,"Alpine Tundra - Upper Chena","Condition","Characteristic native community","Presence and abundance of native species","Low abundance of native species in most habitats"," Some native species present and abundant in most habitats","Most native species present and abundant in most habitats"," All native species present - only limited within natural fluctuations*","Good","Fair","",null,null,null,null,null,null,null,null,null,null,"Alpine Tundra - Upper Chena|Characteristic native community",null,null,80.03,40.04,null,39.99,"Very Severe",1]
[204,2,"Boreal Forests - Upper Chena","Landscape Context","Fire regime","Frequency, size, type of fires, severity","Highly altered regime","Moderately altered regime","Mostly natural regime","Mother Nature","Good","Fair","",null,null,null,null,null,null,null,null,null,null,"Boreal Forests - Upper Chena|Fire regime",null,null,80.03,40.04,null,39.99,"Very Severe",1]
[404,4,"Tributaries - Upper Chena","Landscape Context","Connectivity to tributaries and within mainstem","Number, extent, & type of barriers","Many widespread or complete manmade or natural blockages, Where culverts exist % of red barriers based on ADFG fish passage inventory"," Some widespread or complete manmade or natural blockages, Where culverts exist % of red barriers based on ADFG fish passage inventory","Few widespread or complete manmade or natural blockages, Where culverts exist % of green barriers based on ADFG fish passage inventory"," No widespread or complete manmade or natural blockages,","Good","Fair","",null,null,null,null,null,null,null,null,null,null,"Tributaries - Upper Chena|Connectivity to tributaries and within mainstem",null,null,80.03,40.04,null,39.99,"Very Severe",1]
[406,4,"Tributaries - Upper Chena","Landscape Context","Substrate and banks","Amount, type, size, availability of, & distribution","Low diversity of and abundance of suitable substrates in most habitats"," Moderate diversity of abundance of suitable substrates/material in most habitats","Diversity and abundance of suitable substrates/ material in most habitat for aquatic species"," High diversity and abundance of suitable substrates/ material in most habitat for aquatic species","Good","Fair","",null,null,null,null,null,null,null,null,null,null,"Tributaries - Upper Chena|Substrate and banks",null,null,80.03,40.04,null,39.99,"Very Severe",1]
[409,4,"Tributaries - Upper Chena","Condition","Water quality","Sediment, temperature, DO, toxins, or litter/trash/residues","High % (TBD) not meeting most ADEC's standards "," Moderate habitats meet most ADEC’s standards","Most habitats are meeting most ADEC's standards","Majority to all habitats meet most ADEC’s standards","Good","Fair",null,null,null,null,null,null,null,null,null,null,null,"Tributaries - Upper Chena|Water quality",null,null,80.03,40.04,null,39.99,"Very Severe",1]
[610,6,"Sloughs and Wetlands - Upper Chena","Size","Extent of area","Acres of habitat types","Severe, mostly gone","Moderate to substantial loss","Minimal loss","Mother Nature","Good","Fair","",null,null,null,null,null,null,null,null,null,null,"Sloughs and Wetlands - Upper Chena|Extent of area",null,null,80.03,40.04,null,39.99,"Very Severe",1]
[1204,12,"Test Target 12","Landscape Context","Fire regime",null,"none",null,"large and infrequent","very large but infrequent","Good","Fair","Good",null,null,null,null,null,null,null,null,null,null,"Test Target 12|Fire regime",null,null,80.03,40.04,null,39.99,"Very Severe",1]
[305,3,"Boreal Forests - Lower Chena","Landscape Context","Habitat connectivity","Movement of species","Most species are isolated ","Some species are isolated"," Most species are mostly able to move freely among most habitats   "," Mother Nature","Fair","Fair -","Fair",null,null,null,null,null,null,null,null,null,null,"Boreal Forests - Lower Chena|Habitat connectivity",null,null,40.04,20.03,null,20.009999999999998,"High",3]
[306,3,"Boreal Forests - Lower Chena","Landscape Context","Hydrologic regime","Natural fluctuations of surface and ground water","Too low | too high water levels, not related to the precipitation*"," Water level in relationship to precipitation and ground water and sufficient to maintain nested targets in few habitats","Water level in relationship to precipitation and ground water and sufficient to maintain nested targets in most habitats"," Water level in relationship to precipitation and ground water and sufficient to maintain nested targets in all habitats","Fair","Fair -","",null,null,null,null,null,null,null,null,null,null,"Boreal Forests - Lower Chena|Hydrologic regime",null,null,40.04,20.03,null,20.009999999999998,"High",3]
[309,3,"Boreal Forests - Lower Chena","Size","Extent of area","Extent, patch size, distribution","Severe, mostly gone","Moderate to substantial loss","Minimal loss","Mother Nature","Fair","Fair -","",null,null,null,null,null,null,null,null,null,null,"Boreal Forests - Lower Chena|Extent of area",null,null,40.04,20.03,null,20.009999999999998,"High",3]
[504,5,"Tributaries - Lower Chena","Landscape Context","Connectivity to mainstem river and within tributaries","Number, extent, & type of barriers","Many widespread or complete manmade or natural blockages, Where culverts exist % of red barriers based on ADFG fish passage inventory"," Some widespread or complete manmade or natural blockages, Where culverts exist % of red barriers based on ADFG fish passage inventory","Few widespread or complete manmade or natural blockages, Where culverts exist % of green barriers based on ADFG fish passage inventory"," No widespread or complete manmade or natural blockages,","Fair","Fair -",null,null,null,null,null,null,null,null,null,null,null,"Tributaries - Lower Chena|Connectivity to mainstem river and within tributaries",null,null,40.04,20.03,null,20.009999999999998,"High",3]
[505,5,"Tributaries - Lower Chena","Landscape Context","Hydrologic regime","Natural fluctuations of surface and ground water","Too low | too high water levels, not related to the precipitation*"," Water level in relationship to precipitation and ground water and sufficient to maintain nested targets in few habitats","Water level in relationship to precipitation and ground water and sufficient to maintain nested targets in most habitats"," Water level in relationship to precipitation and ground water and sufficient to maintain nested targets in all habitats","Fair","Fair -","",null,null,null,null,null,null,null,null,null,null,"Tributaries - Lower Chena|Hydrologic regime",null,null,40.04,20.03,null,20.009999999999998,"High",3]
[509,5,"Tributaries - Lower Chena","Condition","Water quality","Sediment, temperature, DO, toxins, or litter/trash/residues","Most waters are not meeting most ADEC's standards ",null,null,null,"Fair","Fair -","Good -",null,null,null,null,null,null,null,null,null,null,"Tributaries - Lower Chena|Water quality",null,null,40.04,20.03,null,20.009999999999998,"High",3]
[510,5,"Tributaries - Lower Chena","Size","Extent of area","Riparian area and river length","Severe, mostly gone","Moderate to substantial loss","Minimal loss","Mother Nature","Fair","Fair -","Fair",null,null,null,null,null,null,null,null,null,null,"Tributaries - Lower Chena|Extent of area",null,null,40.04,20.03,null,20.009999999999998,"High",3]
[604,6,"Sloughs and Wetlands - Upper Chena","Landscape Context","Connectivity to mainstem river and tributaries","Number, extent, & type of barriers","Many widespread or complete manmade or natural blockages, Where culverts exist % of red barriers based on ADFG fish passage inventory"," Some widespread or complete manmade or natural blockages, Where culverts exist % of red barriers based on ADFG fish passage inventory","Few widespread or complete manmade or natural blockages, Where culverts exist % of green barriers based on ADFG fish passage inventory"," No widespread or complete manmade or natural blockages,","Fair","Fair -","",null,null,null,null,null,null,null,null,null,null,"Sloughs and Wetlands - Upper Chena|Connectivity to mainstem river and tributaries",null,null,40.04,20.03,null,20.009999999999998,"High",3]
[704,7,"Sloughs and Wetlands - Lower Chena","Landscape Context","Connectivity to mainstem river and tributaries","Number, extent, & type of barriers","Many widespread or complete manmade or natural blockages, Where culverts exist % of red barriers based on ADFG fish passage inventory"," Some widespread or complete manmade or natural blockages, Where culverts exist % of red barriers based on ADFG fish passage inventory","Few widespread or complete manmade or natural blockages, Where culverts exist % of green barriers based on ADFG fish passage inventory"," No widespread or complete manmade or natural blockages,","Fair","Fair -","Good -",null,null,null,null,null,null,null,null,null,null,"Sloughs and Wetlands - Lower Chena|Connectivity to mainstem river and tributaries",null,null,40.04,20.03,null,20.009999999999998,"High",3]
[705,7,"Sloughs and Wetlands - Lower Chena","Landscape Context","Hydrologic regime","Natural fluctuations of surface and ground water","Too low | too high water levels, not related to the precipitation*"," Water level in relationship to precipitation and ground water and sufficient to maintain nested targets in few habitats","Water level in relationship to precipitation and ground water and sufficient to maintain nested targets in most habitats"," Water level in relationship to precipitation and ground water and sufficient to maintain nested targets in all habitats","Fair","Fair -","",null,null,null,null,null,null,null,null,null,null,"Sloughs and Wetlands - Lower Chena|Hydrologic regime",null,null,40.04,20.03,null,20.009999999999998,"High",3]
[708,7,"Sloughs and Wetlands - Lower Chena","Condition","Species composition","Presence/absence, extent of invasive species"," High abundance of  invasive/non-native species in most habitats"," Moderate abundance of  invasive/non-native species in most habitats","Low presence of existing invasive/non-native species in most habitats with NO new invasive species  "," Mimimal to no abundance of  invasive/non-native species in most habitats","Fair","Fair -","",null,null,null,null,null,null,null,null,null,null,"Sloughs and Wetlands - Lower Chena|Species composition",null,null,40.04,20.03,null,20.009999999999998,"High",3]
[909,9,"Mainstem River & Major Forks - Lower Chena","Condition","Water quality","Sediment, temperature, DO, toxins, or litter/trash/residues","High % (TBD) not meeting most ADEC's standards "," Moderate habitats meet most ADEC’s standards","Most habitats are meeting most ADEC's standards","Majority to all habitats meet most ADEC’s standards","Fair","Fair -","Good -",null,null,null,null,null,null,null,null,null,null,"Mainstem River & Major Forks - Lower Chena|Water quality",null,null,40.04,20.03,null,20.009999999999998,"High",3]
[910,9,"Mainstem River & Major Forks - Lower Chena","Size","Extent of area","Riparian area and river length","Severe, mostly gone","Moderate to substantial loss","Minimal loss","Mother Nature","Fair","Fair -","Fair",null,null,null,null,null,null,null,null,null,null,"Mainstem River & Major Forks - Lower Chena|Extent of area",null,null,40.04,20.03,null,20.009999999999998,"High",3]
[1205,12,"Test Target 12","Condition","Species composition",null,"mostly invasive","test Fair species","diverse","diverse and abundant","Fair -","Fair -","Good",null,null,null,null,null,null,null,null,null,null,"Test Target 12|Species composition",null,null,20.03,20.03,null,0,"None",4]
[806,8,"Mainstem River & Major Forks - Upper Chena","Landscape Context","Substrate and banks (in channel habitat?)","Amount, type, size, availability of, & distribution, including woody debris","Low diversity of and abundance of suitable substrates and woody material in most habitats"," Moderate diversity of and abundance of suitable substrates and woody material in most habitats","Diversity and abundance of suitable substrates and woody debrus material in most habitat "," High diversity and abundance of suitable substrates and woody debrus material in most habitat","Good -","Fair","",null,null,null,null,null,null,null,null,null,null,"Mainstem River & Major Forks - Upper Chena|Substrate and banks (in channel habitat?)",null,null,60.04,40.04,null,20,"Moderate",6]
[906,9,"Mainstem River & Major Forks - Lower Chena","Landscape Context","Substrate and banks (in channel habitat?)","Amount, type, size, availability of, & distribution, including woody debris","Low diversity of and abundance of suitable substrates and woody material in most habitats"," Moderate diversity of and abundance of suitable substrates and woody material in most habitats","Diversity and abundance of suitable substrates and woody debrus material in most habitat "," High diversity and abundance of suitable substrates and woody debrus material in most habitat","Good -","Fair",null,null,null,null,null,null,null,null,null,null,null,"Mainstem River & Major Forks - Lower Chena|Substrate and banks (in channel habitat?)",null,null,60.04,40.04,null,20,"Moderate",6]
[907,9,"Mainstem River & Major Forks - Lower Chena","Condition","Characteristic native communities","Presence and abundance of native species","Low abundance of native species in most habitats"," Some native species present and abundant in most habitats","Most native species present and abundant in most habitats"," All native species present - only limited within natural fluctuations*","Good -","Fair","",null,null,null,null,null,null,null,null,null,null,"Mainstem River & Major Forks - Lower Chena|Characteristic native communities",null,null,60.04,40.04,null,20,"Moderate",6]
[908,9,"Mainstem River & Major Forks - Lower Chena","Condition","Species composition","Presence/absence, extent of invasive species"," High abundance of  invasive/non-native species in most habitats"," Moderate abundance of  invasive/non-native species in most habitats","Low presence of existing invasive/non-native species in most habitats with NO new invasive species  "," Mimimal to no abundance of  invasive/non-native species in most habitats","Good -","Fair","",null,null,null,null,null,null,null,null,null,null,"Mainstem River & Major Forks - Lower Chena|Species composition",null,null,60.04,40.04,null,20,"Moderate",6]
[205,2,"Boreal Forests - Upper Chena","Landscape Context","Habitat connectivity","Movement of species","Most species are isolated ","Some species are isolated"," Most species are mostly able to move freely among most habitats   "," Mother Nature","Good","Good -","",null,null,null,null,null,null,null,null,null,null,"Boreal Forests - Upper Chena|Habitat connectivity",null,null,80.03,60.04,null,19.990000000000002,"Moderate",6]
[206,2,"Boreal Forests - Upper Chena","Landscape Context","Hydrologic regime","Natural fluctuations of surface and ground water","Too low | too high water levels, not related to the precipitation*"," Water level in relationship to precipitation and ground water and sufficient to maintain nested targets in few habitats","Water level in relationship to precipitation and ground water and sufficient to maintain nested targets in most habitats"," Water level in relationship to precipitation and ground water and sufficient to maintain nested targets in all habitats","Good","Good -","",null,null,null,null,null,null,null,null,null,null,"Boreal Forests - Upper Chena|Hydrologic regime",null,null,80.03,60.04,null,19.990000000000002,"Moderate",6]
[207,2,"Boreal Forests - Upper Chena","Condition","Characteristic native community","Presence and abundance of native species","Low abundance of native species in most habitats"," Some native species present and abundant in most habitats","Most native species present and abundant in most habitats"," All native species present - only limited within natural fluctuations*","Good","Good -","",null,null,null,null,null,null,null,null,null,null,"Boreal Forests - Upper Chena|Characteristic native community",null,null,80.03,60.04,null,19.990000000000002,"Moderate",6]
[208,2,"Boreal Forests - Upper Chena","Condition","Vegetation composition & structure - mosaic","Diversity of species and age classes","Low diversity of species and age classes"," Moderate diversity of species and age classes","Good diversity of species and age classes","High diversity of species and age class","Good","Good -","",null,null,null,null,null,null,null,null,null,null,"Boreal Forests - Upper Chena|Vegetation composition & structure - mosaic",null,null,80.03,60.04,null,19.990000000000002,"Moderate",6]
[209,2,"Boreal Forests - Upper Chena","Size","Extent of area","Extent, patch size, and/or distribution","Severe, mostly gone","Moderate to substantial loss","Minimal loss","Mother Nature","Good","Good -","",null,null,null,null,null,null,null,null,null,null,"Boreal Forests - Upper Chena|Extent of area",null,null,80.03,60.04,null,19.990000000000002,"Moderate",6]
[307,3,"Boreal Forests - Lower Chena","Condition","Characteristic native community","Presence and abundance of native species","Low abundance of native species in most habitats"," Some native species present and abundant in most habitats","Most native species present and abundant in most habitats"," All native species present - only limited within natural fluctuations*","Good","Good -","",null,null,null,null,null,null,null,null,null,null,"Boreal Forests - Lower Chena|Characteristic native community",null,null,80.03,60.04,null,19.990000000000002,"Moderate",6]
[308,3,"Boreal Forests - Lower Chena","Condition","Vegetation composition & structure - mosaic","Diversity of species and age classes","Low diversity of species and age classes"," Moderate diversity of species and age classes","Good diversity of species and age classes","High diversity of species and age class","Good","Good -","",null,null,null,null,null,null,null,null,null,null,"Boreal Forests - Lower Chena|Vegetation composition & structure - mosaic",null,null,80.03,60.04,null,19.990000000000002,"Moderate",6]
[405,4,"Tributaries - Upper Chena","Landscape Context","Hydrologic regime","Natural fluctuations of surface and ground water","Too low | too high water levels, not related to the precipitation*"," Water level in relationship to precipitation and ground water and sufficient to maintain nested targets in few habitats","Water level in relationship to precipitation and ground water and sufficient to maintain nested targets in most habitats"," Water level in relationship to precipitation and ground water and sufficient to maintain nested targets in all habitats","Good","Good -",null,null,null,null,null,null,null,null,null,null,null,"Tributaries - Upper Chena|Hydrologic regime",null,null,80.03,60.04,null,19.990000000000002,"Moderate",6]
[407,4,"Tributaries - Upper Chena","Condition","Characteristic native communities","Presence and abundance of native species","Low abundance of native species in most habitats"," Some native species present and abundant in most habitats ","Most native species present and abundant in most habitats"," All native species present - only limited within natural fluctuations*","Good","Good -","",null,null,null,null,null,null,null,null,null,null,"Tributaries - Upper Chena|Characteristic native communities",null,null,80.03,60.04,null,19.990000000000002,"Moderate",6]
[408,4,"Tributaries - Upper Chena","Condition","Species composition","Presence/absence, extent of invasive species"," High abundance of  invasive/non-native species in most habitats"," Moderate abundance of  invasive/non-native species in most habitats","Low presence of existing invasive/non-native species in most habitats with NO new invasive species  "," Mimimal to no abundance of  invasive/non-native species in most habitats","Good","Good -","",null,null,null,null,null,null,null,null,null,null,"Tributaries - Upper Chena|Species composition",null,null,80.03,60.04,null,19.990000000000002,"Moderate",6]
[410,4,"Tributaries - Upper Chena","Size","Extent of area","Riparian area and river length","Severe, mostly gone","Moderate to substantial loss","Minimal loss","Mother Nature","Good","Good -","",null,null,null,null,null,null,null,null,null,null,"Tributaries - Upper Chena|Extent of area",null,null,80.03,60.04,null,19.990000000000002,"Moderate",6]
[507,5,"Tributaries - Lower Chena","Condition","Characteristic native communities","Presence and abundance of native species","Low abundance of native species in most habitats"," Some native species present and abundant in most habitats","Most native species present and abundant in most habitats"," All native species present - only limited within natural fluctuations*","Good","Good -","",null,null,null,null,null,null,null,null,null,null,"Tributaries - Lower Chena|Characteristic native communities",null,null,80.03,60.04,null,19.990000000000002,"Moderate",6]
[508,5,"Tributaries - Lower Chena","Condition","Species composition","Presence/absence, extent of invasive species","High abundance of  invasive/non-native species in most habitats"," Moderate abundance of  invasive/non-native species in most habitats","Low presence of existing invasive/non-native species in most habitats with NO new invasive species  "," Mimimal to no abundance of  invasive/non-native species in most habitats","Good","Good -","",null,null,null,null,null,null,null,null,null,null,"Tributaries - Lower Chena|Species composition",null,null,80.03,60.04,null,19.990000000000002,"Moderate",6]
[605,6,"Sloughs and Wetlands - Upper Chena","Landscape Context","Hydrologic regime","Natural fluctuations of surface and ground water","Too low | too high water levels, not related to the precipitation*"," Water level in relationship to precipitation and ground water and sufficient to maintain nested targets in few habitats","Water level in relationship to precipitation and ground water and sufficient to maintain nested targets in most habitats"," Water level in relationship to precipitation and ground water and sufficient to maintain nested targets in all habitats","Good","Good -","",null,null,null,null,null,null,null,null,null,null,"Sloughs and Wetlands - Upper Chena|Hydrologic regime",null,null,80.03,60.04,null,19.990000000000002,"Moderate",6]
[606,6,"Sloughs and Wetlands - Upper Chena","Landscape Context","Substrate and banks","Amount, type, size, availability of, & distribution","Low diversity of and abundance of suitable substrates in most habitats"," Moderate diversity of abundance of suitable substrates/material in most habitats","Diversity and abundance of suitable substrates/ material in most habitat for aquatic - "," High diversity and abundance of suitable substrates/ material in most habitat for aquatic species","Good","Good -","",null,null,null,null,null,null,null,null,null,null,"Sloughs and Wetlands - Upper Chena|Substrate and banks",null,null,80.03,60.04,null,19.990000000000002,"Moderate",6]
[607,6,"Sloughs and Wetlands - Upper Chena","Condition","Characteristic native communities","Presence and abundance of native species","Low abundance of native species in most habitats"," Some native species present and abundant in most habitats","Most native species present and abundant in most habitats"," All native species present - only limited within natural fluctuations*","Good","Good -","",null,null,null,null,null,null,null,null,null,null,"Sloughs and Wetlands - Upper Chena|Characteristic native communities",null,null,80.03,60.04,null,19.990000000000002,"Moderate",6]
[608,6,"Sloughs and Wetlands - Upper Chena","Condition","Species composition","Presence/absence, extent of invasive species"," High abundance of  invasive/non-native species in most habitats"," Moderate abundance of  invasive/non-native species in most habitats","Low presence of existing invasive/non-native species in most habitats with NO new invasive species  "," Mimimal to no abundance of  invasive/non-native species in most habitats","Good","Good -","",null,null,null,null,null,null,null,null,null,null,"Sloughs and Wetlands - Upper Chena|Species composition",null,null,80.03,60.04,null,19.990000000000002,"Moderate",6]
[609,6,"Sloughs and Wetlands - Upper Chena","Condition","Water quality","Temperature, DO, toxins, or litter/trash/residues","High % (TBD) not meeting most ADEC's standards "," Moderate habitats meet most ADEC’s standards","Most habitats are meeting most ADEC's standards","Majority to all habitats meet most ADEC’s standards","Good","Good -","",null,null,null,null,null,null,null,null,null,null,"Sloughs and Wetlands - Upper Chena|Water quality",null,null,80.03,60.04,null,19.990000000000002,"Moderate",6]
[804,8,"Mainstem River & Major Forks - Upper Chena","Landscape Context","Connectivity to tributaries and within mainstem","Number, extent, & type of barriers","Many widespread or complete manmade or natural blockages, Where culverts exist % of red barriers based on ADFG fish passage inventory"," Some widespread or complete manmade or natural blockages, Where culverts exist % of red barriers based on ADFG fish passage inventory","Few widespread or complete manmade or natural blockages, Where culverts exist % of green barriers based on ADFG fish passage inventory"," No widespread or complete manmade or natural blockages,","Good","Good -","",null,null,null,null,null,null,null,null,null,null,"Mainstem River & Major Forks - Upper Chena|Connectivity to tributaries and within mainstem",null,null,80.03,60.04,null,19.990000000000002,"Moderate",6]
[808,8,"Mainstem River & Major Forks - Upper Chena","Condition","Species composition","Presence/absence, extent of invasive species"," High abundance of  invasive/non-native species in most habitats"," Moderate abundance of  invasive/non-native species in most habitats","Low presence of existing invasive/non-native species in most habitats with NO new invasive species  "," Mimimal to no abundance of  invasive/non-native species in most habitats","Good","Good -","",null,null,null,null,null,null,null,null,null,null,"Mainstem River & Major Forks - Upper Chena|Species composition",null,null,80.03,60.04,null,19.990000000000002,"Moderate",6]
[1006,10,"Confluence with Tanana","Condition","Charactersitic native community","Presence and abundance of native species","Low abundance of native species in most habitat"," Some native species present and abundant in most habitats"," Most native species present and abundant in most habitat","All native species present - only limited within natural fluctuations*","Good","Good -","",null,null,null,null,null,null,null,null,null,null,"Confluence with Tanana|Charactersitic native community",null,null,80.03,60.04,null,19.990000000000002,"Moderate",6]
[1007,10,"Confluence with Tanana","Condition","Species composition","Presence/absence, extent of invasive species"," High abundance of  invasive/non-native species in most habitats"," Moderate abundance of  invasive/non-native species in most habitats","Low presence of existing invasive/non-native species in most habitats with NO new invasive species  "," Mimimal to no abundance of  invasive/non-native species in most habitats","Good","Good -","",null,null,null,null,null,null,null,null,null,null,"Confluence with Tanana|Species composition",null,null,80.03,60.04,null,19.990000000000002,"Moderate",6]
[1008,10,"Confluence with Tanana","Condition","Water quality","Temperature, DO, toxins, or litter/trash/residues","High TBD% not meeting most ADEC’s standards "," Moderate habitats meet most ADEC’s standards","Most habitats are meeting most ADEC's standards","Majority to all habitats meet most ADEC’s standards","Good","Good -",null,null,null,null,null,null,null,null,null,null,null,"Confluence with Tanana|Water quality",null,null,80.03,60.04,null,19.990000000000002,"Moderate",6]
[1009,10,"Confluence with Tanana","","Extent includes floodplain/riparian and river area","Acres","Severe loss","Moderate to substantial loss","Minimal loss","Mother Nature","Good","Good -","",null,null,null,null,null,null,null,null,null,null,"Confluence with Tanana|Extent includes floodplain/riparian and river area",null,null,80.03,60.04,null,19.990000000000002,"Moderate",6]
[109,1,"Alpine Tundra - Upper Chena","Size","Extent of area","Extent, patch size, and/or distribution","Severe, mostly gone","Moderate to substantial loss","Minimal loss","Mother Nature","Very Good","Good","",null,null,null,null,null,null,null,null,null,null,"Alpine Tundra - Upper Chena|Extent of area",null,null,100,80.03,null,19.97,"Moderate",6]
[304,3,"Boreal Forests - Lower Chena","Landscape Context","Fire regime","Frequency, size, type of fires, severity","Highly altered regime","Moderately altered regime","Mostly natural regime","Mother Nature","Fair","Fair","Fair",null,null,null,null,null,null,null,null,null,null,"Boreal Forests - Lower Chena|Fire regime",null,null,40.04,40.04,null,0,"None",7]
[506,5,"Tributaries - Lower Chena","Landscape Context","Substrate and banks","Amount, type, size, availability of, & distribution","Low diversity of and abundance of suitable substrates in most habitats"," Moderate diversity of abundance of suitable substrates/material in most habitats","Diversity and abundance of suitable substrates/ material in most habitat for aquatic - "," High diversity and abundance of suitable substrates/ material in most habitat for aquatic species","Fair","Fair","Good -",null,null,null,null,null,null,null,null,null,null,"Tributaries - Lower Chena|Substrate and banks",null,null,40.04,40.04,null,0,"None",7]
[706,7,"Sloughs and Wetlands - Lower Chena","Landscape Context","Substrate and banks","Amount, type, size, availability of, & distribution","Low diversity of and abundance of suitable substrates in most habitats"," Moderate diversity of abundance of suitable substrates/material in most habitats","Diversity and abundance of suitable substrates/ material in most habitat for aquatic - "," High diversity and abundance of suitable substrates/ material in most habitat for aquatic species","Fair","Fair","",null,null,null,null,null,null,null,null,null,null,"Sloughs and Wetlands - Lower Chena|Substrate and banks",null,null,40.04,40.04,null,0,"None",7]
[707,7,"Sloughs and Wetlands - Lower Chena","Condition","Characteristic native communities","Presence and abundance of native species","Low abundance of native species in most habitats"," Some native species present and abundant in most habitats","Most native species present and abundant in most habitats"," All native species present - only limited within natural fluctuations*","Fair","Fair","",null,null,null,null,null,null,null,null,null,null,"Sloughs and Wetlands - Lower Chena|Characteristic native communities",null,null,40.04,40.04,null,0,"None",7]
[709,7,"Sloughs and Wetlands - Lower Chena","Condition","Water quality","Temperature, DO, toxins, or litter/trash/residues","High % (TBD) not meeting most ADEC's standards "," Moderate habitats meet most ADEC’s standards","Most habitats are meeting most ADEC's standards","Majority to all habitats meet most ADEC’s standards","Fair","Fair","Good -",null,null,null,null,null,null,null,null,null,null,"Sloughs and Wetlands - Lower Chena|Water quality",null,null,40.04,40.04,null,0,"None",7]
[710,7,"Sloughs and Wetlands - Lower Chena","Size","Extent of area","Acres of habitat types","Severe, mostly gone","Moderate to substantial loss","Minimal loss","Mother Nature","Fair","Fair","",null,null,null,null,null,null,null,null,null,null,"Sloughs and Wetlands - Lower Chena|Extent of area",null,null,40.04,40.04,null,0,"None",7]
[1207,12,"Test Target 12","Condition","Not this one",null,null,null,null,null,"Fair","Fair","",null,null,null,null,null,null,null,null,null,null,"Test Target 12|Not this one",null,null,40.04,40.04,null,0,"None",7]
[104,1,"Alpine Tundra - Upper Chena","Landscape Context","Fire regime","Frequency, size, type of fires, severity","Highly altered regime","Moderately altered regime","Mostly natural regime","Mother Nature","Good","Good","",null,null,null,null,null,null,null,null,null,null,"Alpine Tundra - Upper Chena|Fire regime",null,null,80.03,80.03,null,0,"None",10]
[108,1,"Alpine Tundra - Upper Chena","Condition","Vegetation composition & structure - mosaic","Diversity of species and age classes","Low diversity of species and age classes"," Moderate diversity of species and age classes","Good diversity of species and age classes","High diversity of species and age class","Good","Good","",null,null,null,null,null,null,null,null,null,null,"Alpine Tundra - Upper Chena|Vegetation composition & structure - mosaic",null,null,80.03,80.03,null,0,"None",10]
[810,8,"Mainstem River & Major Forks - Upper Chena","Size","Extent of area","Riparian area and river length","Severe, mostly gone","Moderate to substantial loss","Minimal loss","Mother Nature","Good","Good","",null,null,null,null,null,null,null,null,null,null,"Mainstem River & Major Forks - Upper Chena|Extent of area",null,null,80.03,80.03,null,0,"None",10]
[904,9,"Mainstem River & Major Forks - Lower Chena","Landscape Context","Connectivity to tributaries and within mainstem","Number, extent, & type of barriers","Many widespread or complete manmade or natural blockages, Where culverts exist % of red barriers based on ADFG fish passage inventory"," Some widespread or complete manmade or natural blockages, Where culverts exist % of red barriers based on ADFG fish passage inventory","Few widespread or complete manmade or natural blockages, Where culverts exist % of green barriers based on ADFG fish passage inventory"," No widespread or complete manmade or natural blockages,","Good","Good","",null,null,null,null,null,null,null,null,null,null,"Mainstem River & Major Forks - Lower Chena|Connectivity to tributaries and within mainstem",null,null,80.03,80.03,null,0,"None",10]
[905,9,"Mainstem River & Major Forks - Lower Chena","Landscape Context","Hydrologic regime","Natural fluctuations of surface and ground water","Too low | too high water levels, not related to the precipitation*","  Water level in relationship to precipitation and ground water and sufficient to maintain nested targets in all habitats","Water level in relationship to precipitation and ground water and sufficient to maintain nested targets in most habitats","  Water level in relationship to precipitation and ground water and sufficient to maintain nested targets in all habitats","Good","Good","",null,null,null,null,null,null,null,null,null,null,"Mainstem River & Major Forks - Lower Chena|Hydrologic regime",null,null,80.03,80.03,null,0,"None",10]
[1004,10,"Confluence with Tanana","Landscape Context","Delta dynamics","Natural channel complexity","Confined | Unnatural Restricted Channel"," Some channels are confined or restricted","Unrestricted channel(s) "," Some channels are confined or restricted","Good","Good","",null,null,null,null,null,null,null,null,null,null,"Confluence with Tanana|Delta dynamics",null,null,80.03,80.03,null,0,"None",10]
[1005,10,"Confluence with Tanana","Landscape Context","In channel habitat","Amount, type, size, availability of, distribution, dynamic equilibrium (in)stability, large woody debris, substrate and banks","Low diversity of and abundance of suitable substrates/ material in most habitats"," Moderate diversity of abundance of suitable substrates/material in most habitats","Diversity and abundance of suitable substrates/ material in most habitat for aquatic - "," High diversity and abundance of suitable substrates/ material in most habitat for aquatic species","Good","Good","",null,null,null,null,null,null,null,null,null,null,"Confluence with Tanana|In channel habitat",null,null,80.03,80.03,null,0,"None",10]
[105,1,"Alpine Tundra - Upper Chena","Landscape Context","Habitat connectivity","Movement of species","Most species are isolated ","Some species are isolated"," Most species are mostly able to move freely among most habitats   "," Mother Nature","Very Good","Very Good","",null,null,null,null,null,null,null,null,null,null,"Alpine Tundra - Upper Chena|Habitat connectivity",null,null,100,100,null,0,"None",10]
[106,1,"Alpine Tundra - Upper Chena","Landscape Context","Hydrologic regime","Natural fluctuations of surface and ground water","Too low | too high water levels, not related to the precipitation*"," Water level in relationship to precipitation and ground water and sufficient to maintain nested targets in few habitats","Water level in relationship to precipitation and ground water and sufficient to maintain nested targets in most habitats"," Water level in relationship to precipitation and ground water and sufficient to maintain nested targets in all habitats","Very Good","Very Good","",null,null,null,null,null,null,null,null,null,null,"Alpine Tundra - Upper Chena|Hydrologic regime",null,null,100,100,null,0,"None",10]
[805,8,"Mainstem River & Major Forks - Upper Chena","Landscape Context","Hydrologic regime","Natural fluctuations of surface and ground water","Too low | too high water levels, not related to the precipitation*"," Water level in relationship to precipitation and ground water and sufficient to maintain nested targets in few habitats","Water level in relationship to precipitation and ground water and sufficient to maintain nested targets in most habitats","  Water level in relationship to precipitation and ground water and sufficient to maintain nested targets in all habitats","Very Good","Very Good","",null,null,null,null,null,null,null,null,null,null,"Mainstem River & Major Forks - Upper Chena|Hydrologic regime",null,null,100,100,null,0,"None",10]
[807,8,"Mainstem River & Major Forks - Upper Chena","Condition","Characteristic native communities","Presence and abundance of native species","Low abundance of native species in most habitats"," Some native species present and abundant in most habitats ","Most native species present and abundant in most habitats"," All native species present - only limited within natural fluctuations*","Very Good","Very Good","",null,null,null,null,null,null,null,null,null,null,"Mainstem River & Major Forks - Upper Chena|Characteristic native communities",null,null,100,100,null,0,"None",10]
[809,8,"Mainstem River & Major Forks - Upper Chena","Condition","Water quality","Sediment, temperature, DO, toxins, or litter/trash/residues","High % (TBD) not meeting most ADEC's standards "," Moderate habitats meet most ADEC’s standards","Most habitats are meeting most ADEC's standards","Majority to all habitats meet most ADEC’s standards","Very Good","Very Good","",null,null,null,null,null,null,null,null,null,null,"Mainstem River & Major Forks - Upper Chena|Water quality",null,null,100,100,null,0,"None",10]
[1104,11,"Test Target 11",null,"Test Target 1",null,null,null,null,null,"Very Good","Very Good","",null,null,null,null,null,null,null,null,null,null,"Test Target 11|Test Target 1",null,null,100,100,null,0,"None",10]
[]
[]
[]
[]
[]
[]
[]
[]
[]
[]
[]
[]
[]
[]
[]
[]
[]
[]
[]
[]
[]
[]
[]
[]
[]
[]
[]
[]
[]
[]
[]
[]
[]
[]
[]
[]
[]
[]
[]
[]
[]
[]
[]
[]
[]
[]
[]
[]
[]
[]
[]
[]
["Target 12 (temp) -Paste Value Transpose - Rows 176 through 187"]
[null,"Threats (Sources of Stress)         List Sources of stress below (max of 12 per target).  Enter Contribution of each source where applicable.",null,"Invasive terrestrial species",null,"Residential / commercial development",null,"Impervious surfaces"]
[null,"  Key Attribute >","Stress Rank>","Contribution","Threat Rank ","Contribution","Threat Rank ","Contribution","Threat Rank ","Contribution","Threat Rank ","Contribution","Threat Rank ","Contribution","Threat Rank ","Contribution","Threat Rank ","Contribution","Threat Rank ","Contribution","Threat Rank ","Contribution","Threat Rank ","Contribution","Threat Rank ","Contribution","Threat Rank "]
[null,"Fire regime","High","Medium","Medium","Very High","High",null,"",null,"",null,"",null,"",null,"",null,"",null,"",null,"",null,"",null,""]
[null,"Species composition","High","High","High","Low","Low",null,"",null,"",null,"",null,"",null,"",null,"",null,"",null,"",null,"",null,""]
[null,"Area","Very High",null,"",null,"","Very High","Very High",null,"",null,"",null,"",null,"",null,"",null,"",null,"",null,"",null,""]
[null,"Not this one","Medium",null,"",null,"","Very High","Medium",null,"",null,"",null,"",null,"",null,"",null,"",null,"",null,"",null,""]
[null,"","",null,"",null,"",null,"",null,"",null,"",null,"",null,"",null,"",null,"",null,"",null,"",null,""]
[null,"","",null,"",null,"",null,"",null,"",null,"",null,"",null,"",null,"",null,"",null,"",null,"",null,""]
[null,"","",null,"",null,"",null,"",null,"",null,"",null,"",null,"",null,"",null,"",null,"",null,"",null,""]
[null,"","",null,"",null,"",null,"",null,"",null,"",null,"",null,"",null,"",null,"",null,"",null,"",null,""]
[null,"","",null,"",null,"",null,"",null,"",null,"",null,"",null,"",null,"",null,"",null,"",null,"",null,""]
[null,"","",null,"",null,"",null,"",null,"",null,"",null,"",null,"",null,"",null,"",null,"",null,"",null,""]
[null,"Threat to Target Rank",null,"High",null,"High",null,"Very High",null,"-",null,"-",null,"-",null,"-",null,"-",null,"-",null,"-",null,"-",null,"-"]
[]
["Option 2 - Not Transposed"]
[null,"Threats (Sources of Stress)         List Sources of stress below (max of 12 per target).  Enter Contribution of each source where applicable.","  Key Attribute >","Fire regime","Species composition","Area","Not this one"]
[null,null,"Stress Rank>","High","High","Very High","Medium"]
[null,"Invasive terrestrial species","Contribution","Medium","High"]
[null,null,"Threat Rank ","Medium","High","",""]
[null,"Residential / commercial development","Contribution","Very High","Low"]
[null,null,"Threat Rank ","High","Low","",""]
[null,"Impervious surfaces","Contribution",null,null,"Very High","Very High"]
[null,null,"Threat Rank ","","","Very High","Medium"]
[]
[]
[1206,12,"Test Target 12","Size","Area",null,"tiny bit left","test fair size",null,"what mother nature provided","Fair -","Poor","Very Good",null,null,null,null,null,null,null,null,null,null,"Test Target 12|Area",null,null,60.04,0.01,null,60.03,"Extreme",1]
[1204,12,"Test Target 12","Landscape Context","Fire regime",null,"none","test fair fire","large and infrequent","very large but infrequent","Fair -","Fair","Good",null,null,null,null,null,null,null,null,null,null,"Test Target 12|Fire regime",null,null,80.03,40.04,null,39.99,"Very Severe",1]
[1205,12,"Test Target 12","Condition","Species composition",null,"mostly invasive","test fair species","diverse","diverse and abundant","Poor","Fair -","Good",null,null,null,null,null,null,null,null,null,null,"Test Target 12|Species composition",null,null,20.03,20.03,null,0,"None",4]

{"sheet":"ThreatNames","index":26,"n_rows":26,"n_cols":2,"rows_kept":26,"cut":false,"hidden":false,"merged":[]}
["Threat_Table","To Amend - type over any entry                                                                         To Add - Go to bottom of list and type in name below                            To Delete - Right click on any Row #, then Delete Row  "]
["Construction of ditches, dikes, drainage, dredging"]
["Culverts that impede fish passage"]
["Dumping of trash, debris, etc. "]
["Filling in sloughs or wetlands"]
["Fire suppression"]
["Hardening stream banks with rip rap, channelization, etc."]
["Impervious surfaces"]
["Inadequate road maintenance"]
["Inadequate wastewater treatment – septic systems, sewage systems"]
["Incompatible boating"]
["Incompatible dam operation for flows"]
["Incompatible mining (excluding roads)"]
["Incompatible motorized vehicle use off-roads/ATV/bulldozers (e.g. pioneering, etc.)"]
["Incompatible oil/gas/energy development"]
["Incompatible road design / maintenance"]
["Incompatible timber management practices"]
["Industrial discharge"]
["Invasive aquatic species/pests/pathogens"]
["Invasive terrestrial species/pests/pathogens"]
["Oil or hazardous material spill"]
["Removal of native vegetation from riparian zone"]
["Removal of woody debris at Moose Creek dam"]
["Residential / commercial development"]
["Stormwater"]
["Warmer climate with more frequent weather extremes"]

{"sheet":"Scoring","index":27,"n_rows":167,"n_cols":19,"rows_kept":167,"cut":false,"hidden":false,"merged":[[116,11,120,11],[116,12,120,12],[101,12,105,12],[106,11,110,11],[106,12,110,12],[111,11,115,11],[111,12,115,12],[3,0,9,0],[15,0,19,0],[101,1,105,1],[101,2,105,2],[101,11,105,11],[148,0,154,0],[106,1,110,1],[106,2,110,2],[111,1,115,1],[111,2,115,2],[116,1,120,1],[116,2,120,2]]}
["Stress Rank Matrix  "]
[null,null,"-----Projected Future Rating of Key Attribute-----"]
[null,null,"Very Good","Good","Good -","Fair","Fair -","Poor","-","Newly developed"]
["Current Rating of Key Attribute","Very Good","-","Medium","High","Very High","Very High","Very High","-"]
[null,"Good","-","-","Medium","High","Very High","Very High","-"]
[null,"Good -","-","-","Low","Medium","High","Very High"]
[null,"Fair","-","-","-","Medium","High","Very High","-"]
[null,"Fair -","-","-","-","Medium","High","Very High","-"]
[null,"Poor","-","-","-","Low","Medium","High","-"]
[null,"-","-","-","-","-","-","-","-"]
[]
[]
["Threat Rank Matrix  "]
[null,null,"<----------------  Source Contribution   ---------------->"]
[null,null,"Very High","High","Medium","Low","-",null,null,"From CAP workbook"]
["< Stress >","Very High","Very High","Very High","High","Medium","-"]
[null,"High","High","High","Medium","Low","-"]
[null,"Medium","Medium","Medium","Low","Low","-"]
[null,"Low","Low","Low","Low","-","-"]
[null,"-","-","-","-","-","-"]
[]
[]
["Threat Rank Scores ",null,"for Threat-to-Target calcs.  Based on thresholds below.  "]
["Very High",{"$f":"B25*C32","v":105}]
["High",{"$f":"B26*C33","v":35}]
["Medium",{"$f":"B27*C34","v":7}]
["Low",1]
["-",0]
[]
[]
["Threat-to-Target Thresholds"]
["Highs = Very High",null,3]
["Mediums = High",null,5]
["Lows = Medium",null,7]
[]
[]
["Threat Summary Thresholds (= to or >) - in ThreatAdd sheet",null,null,null,null,"Revised this to raise the bar a little and generally track CAP workbook"]
["Very High",{"$f":"B24*2","v":210},null,null,null,"2 Very High or 6 High"]
["High",{"$f":"B25*2","v":70},null,null,null,"2 High"]
["Medium",14,null,null,null,"2 Medium"]
["Low",1]
["-",0]
[]
["Health Ranking","Score","Weight","Delta",null,"Color Shade Threshold - if score is above…",null,null,null,null,null,null,0.9,"if set @ % of Score"]
["Very Good",100,0.85,null,null,{"$f":"M45","v":90},null,"Dark Green",null,null,null,null,{"$f":"B45*$M$44","v":90}]
["Good",80.03,1,{"$f":"B45-B46","v":19.97},null,{"$f":"M46","v":72.027000000000001},null,"Green",null,null,null,null,{"$f":"B46*$M$44","v":72.027000000000001},null,"Kenai 2-5-2 scored 63 Good"]
["Good -",60.04,1,{"$f":"B46-B47","v":19.990000000000002},null,54.036000000000001,null,"Light Green",null,null,null,null,54.036000000000001]
["Fair",40.04,1,{"$f":"B47-B48","v":20},null,36.036000000000001,null,"Yellow",null,null,null,null,36.036000000000001]
["Fair -",20.03,1,{"$f":"B48-B49","v":20.009999999999998},null,18.027000000000001,null,"Orange",null,null,null,null,18.027000000000001]
["Poor",0.01,2,{"$f":"B49-B50","v":20.02},null,0,null,"Red",null,null,null,null,9.0000000000000011E-3]
[null,null,"weight is used for overall target scores; minor fractions added for reporting marginal delta impacts"]
[]
["ROI Feasibility Rank & Weight (proxy for % probability of success)",null,null,null,null,"Color Shade Threshold - if score is above…",null,null,null,null,null,null,0.9,"if set @ % of Score"]
["Very High",100,0.85,null,null,{"$f":"M54","v":90},null,"Dark Green",null,null,null,null,{"$f":"B54*$M$53","v":90}]
["High",75,1,null,null,{"$f":"M55","v":67.5},null,"Green",null,null,null,null,{"$f":"B55*$M$53","v":67.5}]
["Medium",50,2,null,null,45,null,"Yellow",null,null,null,null,45]
["Low",25,5,null,null,22.5,null,"Orange",null,null,null,null,22.5]
["Very Low",1,10,null,null,0.9,null,"Red",null,null,null,null,0.9]
[]
[]
["Cost Range"]
[1000]
[10000]
[100000]
[1000000]
[]
["ROI Constant",10000]
[]
[]
["Threat To Target Thresholds",null,null,"Created this to better replicate CAP workbook rollup"]
["Very High",{"$f":"B24*2","v":210},null,"2x required"]
["High",{"$f":"B25*2","v":70}]
["Medium",14]
["Low",{"$f":"B27*2*0.01","v":0.02}]
["-",0]
[]
[]
[null,"Benefits","Equal to or greater than"]
[null,"Very High",{"$f":"(B46-B48)*3","v":119.97},null,"3 KEAs full steps"]
[null,"High",{"$f":"(B46-B48)*2","v":79.98},null,"2 KEAs full steps"]
[null,"Medium",{"$f":"(B46-B48)","v":39.99},null,"1 KEA full step"]
[null,"Low",4.95,null,"1 KEA half step (G to VG)"]
[]
[null,"Feasibility","Equal to or greater than",null,null,"see thresholds above"]
[null,"Very High",{"$f":"F54/100","v":0.9}]
[null,"High",{"$f":"F55/100","v":0.67500000000000004}]
[null,"Medium",0.45]
[null,"Low",0.22500000000000001]
[null,"Very Low",9.0000000000000011E-3]
[]
[null,"Cost",null,null,null,null,null,null,null,null,null,"Breakpoints for modified numerical test"]
[null,"Very High",1000000,null,null,null,null,null,null,null,null,"Very High",18.100000000000001,null,"tamp the cost curve for qualitative *2 vs *10"]
[null,"High",100000,null,null,null,null,null,null,null,null,"High",9.1,null,{"$f":"O94*2","v":8000}]
[null,"Medium",10000,null,null,null,null,null,null,null,null,"Medium",4.5999999999999996,null,{"$f":"O95*2","v":4000}]
[null,"Low",1,null,null,null,null,null,null,null,null,"Low",1,null,{"$f":"O96*2","v":2000}]
[null,null,null,null,null,null,null,null,null,null,null,"Very Low",0,null,{"$f":"A62","v":1000}]
[]
[null,"CAP v6 Workbook Strategy Ranking Matrix  - w Very Low feasibility added",null,null,null,null,null,null,null,null,null,"CAP-app Modified Numerical Test vs Matrix -- NOT USED "]
[null,"Overall Strategy Rank = f ( Benefits, Feasibility and Cost )",null,null,null,null,null,null,null,null,null,"Overall Strategy Rank = f ( Benefits, Feasibility and Cost )"]
["ROIRank",null,null,null,"<------------------ Feasibility ------------------>",null,null,null,"VL is new I CAP-app",null,null,null,null,null,"<------------------ Feasibility ------------------>"]
["Very High",null,null,"-","Very High","High","Medium","Low","Very Low","-",null,null,null,"-","Very High","High","Medium","Low","Very Low"]
["High","Benefits = Very High","< Cost >","Very High","Very High","High","High","Medium","Low","-",null,"Benefits = Very High","< Cost >","Very High",{"$f":"($C$79*$C$85)/($O93/1000)","v":13.496625},{"$f":"($C$79*$C$86)/($O93/1000)","v":10.122468750000001},{"$f":"($C$79*$C$87)/($O93/1000)","v":6.7483124999999999},{"$f":"($C$79*$C$88)/($O93/1000)","v":3.37415625},{"$f":"($C$79*$C$89)/($O93/1000)","v":0.13496625000000001}]
["Medium",null,null,"High","Very High","Very High","High","Medium","Low","-",null,null,null,"High",{"$f":"($C$79*$C$85)/($O94/1000)","v":26.99325},{"$f":"($C$79*$C$86)/($O94/1000)","v":20.244937500000002},{"$f":"($C$79*$C$87)/($O94/1000)","v":13.496625},{"$f":"($C$79*$C$88)/($O94/1000)","v":6.7483124999999999},{"$f":"($C$79*$C$89)/($O94/1000)","v":0.26993250000000002}]
["Low",null,null,"Medium","Very High","Very High","Very High","High","Medium","-",null,null,null,"Medium",{"$f":"($C$79*$C$85)/($O95/1000)","v":53.986499999999999},{"$f":"($C$79*$C$86)/($O95/1000)","v":40.489875000000005},{"$f":"($C$79*$C$87)/($O95/1000)","v":26.99325},{"$f":"($C$79*$C$88)/($O95/1000)","v":13.496625},{"$f":"($C$79*$C$89)/($O95/1000)","v":0.53986500000000004}]
["Very Low",null,null,"Low","Very High","Very High","Very High","Very High","Medium","-",null,null,null,"Low",{"$f":"($C$79*$C$85)/($O96/1000)","v":107.973},{"$f":"($C$79*$C$86)/($O96/1000)","v":80.97975000000001},{"$f":"($C$79*$C$87)/($O96/1000)","v":53.986499999999999},{"$f":"($C$79*$C$88)/($O96/1000)","v":26.99325},{"$f":"($C$79*$C$89)/($O96/1000)","v":1.0797300000000001}]
[null,null,null,"-","-","-","-","-","-","-",null,null,null,"-"]
[null,"Benefits = High","< Cost >","Very High","High","Medium","Medium","Low","Very Low","-",null,"Benefits = High","< Cost >","Very High",{"$f":"($C$80*$C$85)/($O93/1000)","v":8.9977499999999999},{"$f":"($C$80*$C$86)/($O93/1000)","v":6.7483125000000008},{"$f":"($C$80*$C$87)/($O93/1000)","v":4.498875},{"$f":"($C$80*$C$88)/($O93/1000)","v":2.2494375},{"$f":"($C$80*$C$89)/($O93/1000)","v":8.9977500000000016E-2}]
[null,null,null,"High","High","High","Medium","Low","Low","-",null,null,null,"High",{"$f":"($C$80*$C$85)/($O94/1000)","v":17.9955},{"$f":"($C$80*$C$86)/($O94/1000)","v":13.496625000000002},{"$f":"($C$80*$C$87)/($O94/1000)","v":8.9977499999999999},{"$f":"($C$80*$C$88)/($O94/1000)","v":4.498875},{"$f":"($C$80*$C$89)/($O94/1000)","v":0.17995500000000003}]
[null,null,null,"Medium","Very High","High","High","Medium","Low","-",null,null,null,"Medium",{"$f":"($C$80*$C$85)/($O95/1000)","v":35.991},{"$f":"($C$80*$C$86)/($O95/1000)","v":26.993250000000003},{"$f":"($C$80*$C$87)/($O95/1000)","v":17.9955},{"$f":"($C$80*$C$88)/($O95/1000)","v":8.9977499999999999},{"$f":"($C$80*$C$89)/($O95/1000)","v":0.35991000000000006}]
[null,null,null,"Low","Very High","Very High","High","High","Medium","-",null,null,null,"Low",{"$f":"($C$80*$C$85)/($O96/1000)","v":71.981999999999999},{"$f":"($C$80*$C$86)/($O96/1000)","v":53.986500000000007},{"$f":"($C$80*$C$87)/($O96/1000)","v":35.991},{"$f":"($C$80*$C$88)/($O96/1000)","v":17.9955},{"$f":"($C$80*$C$89)/($O96/1000)","v":0.71982000000000013}]
[null,null,null,"-","-","-","-","-","-","-",null,null,null,"-"]
[null,"Benefits = Medium","< Cost >","Very High","Medium","Low","Low","Low","Very Low","-",null,"Benefits = Medium","< Cost >","Very High",{"$f":"($C$81*$C$85)/($O93/1000)","v":4.498875},{"$f":"($C$81*$C$86)/($O93/1000)","v":3.3741562500000004},{"$f":"($C$81*$C$87)/($O93/1000)","v":2.2494375},{"$f":"($C$81*$C$88)/($O93/1000)","v":1.12471875},{"$f":"($C$81*$C$89)/($O93/1000)","v":4.4988750000000008E-2}]
[null,null,null,"High","Medium","Medium","Low","Low","Very Low","-",null,null,null,"High",{"$f":"($C$81*$C$85)/($O94/1000)","v":8.9977499999999999},{"$f":"($C$81*$C$86)/($O94/1000)","v":6.7483125000000008},{"$f":"($C$81*$C$87)/($O94/1000)","v":4.498875},{"$f":"($C$81*$C$88)/($O94/1000)","v":2.2494375},{"$f":"($C$81*$C$89)/($O94/1000)","v":8.9977500000000016E-2}]
[null,null,null,"Medium","High","Medium","Medium","Low","Low","-",null,null,null,"Medium",{"$f":"($C$81*$C$85)/($O95/1000)","v":17.9955},{"$f":"($C$81*$C$86)/($O95/1000)","v":13.496625000000002},{"$f":"($C$81*$C$87)/($O95/1000)","v":8.9977499999999999},{"$f":"($C$81*$C$88)/($O95/1000)","v":4.498875},{"$f":"($C$81*$C$89)/($O95/1000)","v":0.17995500000000003}]
[null,null,null,"Low","Very High","High","Medium","Medium","Low","-",null,null,null,"Low",{"$f":"($C$81*$C$85)/($O96/1000)","v":35.991},{"$f":"($C$81*$C$86)/($O96/1000)","v":26.993250000000003},{"$f":"($C$81*$C$87)/($O96/1000)","v":17.9955},{"$f":"($C$81*$C$88)/($O96/1000)","v":8.9977499999999999},{"$f":"($C$81*$C$89)/($O96/1000)","v":0.35991000000000006}]
[null,null,null,"-","-","-","-","-","-","-",null,null,null,"-"]
[null,"Benefits = Low","< Cost >","Very High","Low","Low","Low","Low","Very Low","-",null,"Benefits = Low","< Cost >","Very High",{"$f":"($C$82*$C$85)/($O93/1000)","v":0.55687500000000001},{"$f":"($C$82*$C$86)/($O93/1000)","v":0.41765625000000006},{"$f":"($C$82*$C$87)/($O93/1000)","v":0.2784375},{"$f":"($C$82*$C$88)/($O93/1000)","v":0.13921875},{"$f":"($C$82*$C$89)/($O93/1000)","v":5.5687500000000008E-3}]
[null,null,null,"High","Low","Low","Low","Low","Very Low","-",null,null,null,"High",{"$f":"($C$82*$C$85)/($O94/1000)","v":1.11375},{"$f":"($C$82*$C$86)/($O94/1000)","v":0.83531250000000012},{"$f":"($C$82*$C$87)/($O94/1000)","v":0.55687500000000001},{"$f":"($C$82*$C$88)/($O94/1000)","v":0.2784375},{"$f":"($C$82*$C$89)/($O94/1000)","v":1.1137500000000002E-2}]
[null,null,null,"Medium","Medium","Low","Low","Low","Very Low","-",null,null,null,"Medium",{"$f":"($C$82*$C$85)/($O95/1000)","v":2.2275},{"$f":"($C$82*$C$86)/($O95/1000)","v":1.6706250000000002},{"$f":"($C$82*$C$87)/($O95/1000)","v":1.11375},{"$f":"($C$82*$C$88)/($O95/1000)","v":0.55687500000000001},{"$f":"($C$82*$C$89)/($O95/1000)","v":2.2275000000000003E-2}]
[null,null,null,"Low","High","Medium","Low","Low","Very Low","-",null,null,null,"Low",{"$f":"($C$82*$C$85)/($O96/1000)","v":4.4550000000000001},{"$f":"($C$82*$C$86)/($O96/1000)","v":3.3412500000000005},{"$f":"($C$82*$C$87)/($O96/1000)","v":2.2275},{"$f":"($C$82*$C$88)/($O96/1000)","v":1.11375},{"$f":"($C$82*$C$89)/($O96/1000)","v":4.4550000000000006E-2}]
[null,null,null,"-","-","-","-","-","-","-",null,null,null,"-"]
[]
[]
[]
["Status","Threshold (less than or equal to)",null,null,"Rating"]
["Poor",{"$f":"$F$49","v":18.027000000000001},null,null,5]
["Fair -",{"$f":"$F$48","v":36.036000000000001},null,null,4]
["Fair",{"$f":"$F$47","v":54.036000000000001},null,null,3]
["Good -",{"$f":"$F$46","v":72.027000000000001},null,null,2]
["Good",{"$f":"$F$45","v":90},null,null,1]
["Very Good",100,null,null,0]
[]
["Change","delta greater than or"]
["Extreme",40]
["Very Severe",35]
["Severe",30]
["Very High",25]
["High",20]
["Moderate",15]
["Low-Moderate",10]
["Low",5]
["None",0]
["Negative",-1000000]
[]
["Strategic Action Ranking",null,"Note: 1 is highest need for action"]
[]
[null,null,"-----Projected Future Decline in Health (higher pts/%)-----"]
[null,null,{"$f":"A134","v":"Extreme"},{"$f":"A135","v":"Very Severe"},{"$f":"A136","v":"Severe"},{"$f":"A137","v":"Very High"},{"$f":"A138","v":"High"},{"$f":"A139","v":"Moderate"},{"$f":"A140","v":"Low-Moderate"},{"$f":"A141","v":"Low"},{"$f":"A142","v":"None"},{"$f":"A143","v":"Negative"},"-"]
["Current Health of Target","Very Good",2,2,2,2,2,6,6,9,10,10,"-"]
[null,"Good",2,2,2,5,5,6,6,9,10,10,"-"]
[null,"Good -",2,2,2,5,5,6,6,6,8,10,"-"]
[null,"Fair",1,1,1,3,3,3,3,7,7,10,"-"]
[null,"Fair -",1,1,1,3,3,3,3,4,4,4,"-"]
[null,"Poor",1,1,1,1,1,3,3,4,4,4,"-"]
[null,"-","-","-","-","-","-","-","-","-","-","-","-"]
[]
["StrategicActionScore","StategicAction"]
[1,"Abate Very High or High threats; improve any currently Poor attributes"]
[2,"Abate Very High or High threats"]
[3,"Abate High threats; improve any currently Poor or Fair- attributes"]
[4,"Improve currently Poor or Fair- attributes"]
[5,"Abate any High threats"]
[6,"Abate any High threats; consider addressing Medium threats or improving Fair attributes if low hanging fruit"]
[7,"Improve currently Fair- key attributes; consider improving Fair key attributes if low-hanging fruit"]
[8,"Consider improving currently Fair key attributes if low-hanging fruit"]
[9,"Consider addressing Medium threats if low hanging fruit"]
[10,"No action needed"]

{"sheet":"Lists","index":28,"n_rows":90,"n_cols":3,"rows_kept":90,"cut":false,"hidden":true,"merged":[]}
["Rank","used for Stress, Source Contribution, Threat Rank____"]
["Very High"]
["High"]
["Medium"]
["Low"]
["-"]
[]
["Rating","used for KEAs"]
["Very Good"]
["Good"]
["Good -"]
["Fair"]
["Fair -"]
["Poor"]
["-"]
[]
["User Override"]
["Very High"]
["High"]
["Medium"]
["Low"]
[]
[]
["Threat Names"]
["Invasive plant species"]
["Invasive aquatic species"]
["Introduced animal species"]
["Incompatible residential development"]
["Incompatible commercial/industrial development"]
["Incompatible road development"]
["Incompatible ultility/right of way development"]
["Incompatible timber management practices"]
["Incompatible oil/gas/energy development"]
["Incompatible mining"]
["Incompatible agricultural practices"]
["Incomaptible grazing practices"]
["Conversion of land to agriculture or silvaculture"]
["Incompatible recreational use"]
["Incompatible hunting/collecting"]
["Incompatible fishing practices"]
["Incompatible aquaculture"]
["Inadequate road maintenance"]
["Incompatible fire management practices"]
["Incompatible operation of dams or reservoirs"]
["Dam construction"]
["Construction of ditches, dikes, drainage "]
["Channelization of rivers or streams"]
["Water diversion"]
["Excessive groundwater withdrawal"]
["Oil or hazardous material spill"]
["Power plant emissions"]
["Inadequate wastewater treatment"]
["Industrial discharge"]
["Stormwater runoff"]
["Warmer/drier climate"]
[]
[]
[]
[]
[]
[]
["Category"]
["Landscape Context"]
["Condition"]
["Size"]
[]
[]
["Types of Targets",null,22]
["Terrestrial - Conifer Forest"]
["Terrestrial - Hardwood Forest"]
["Terrestrial - Savanna / Woodland"]
["Terrestrial - Grassland"]
["Terrestrial - Semidesert Shrubland"]
["Terrestrial - Desert Scrub"]
["Terrestrial - Alpine Tundra"]
["Terrestrial - Karst/Caves"]
["Freswater - River/Stream "]
["Freshwater - Lake"]
["Freshwater - Springs"]
["Freshwater Wetlands"]
["Coastal/Marine - Estuary"]
["Coastal/Marine - Salt Marsh"]
["Coastal/Marine - Seagrasses"]
["Coastal/Marine - Dunes"]
["Coastal/Marine - Coral Reef"]
["Migratory Birds (life stage)"]
["Migratory/Wide-ranging Mammals (life stage)"]
["Anadromous Fish (life stage)"]
["Freshwater Fish Assemblage"]
["Saltwater Fish Assemblage"]